{"text_format":"1","workbook":"xlsx","n_sheets":5,"sheets":["Справочники","Сотрудники на открытие счетов","Информация","dictionary_city","dictionary_branches"],"not_rendered":{"charts":0,"images":0,"macros":1,"external_links":1,"defined_names":21,"comments":0,"pivot_tables":0},"unopened":[],"bounds":{"document_bytes":16777216,"sheet_cells":100000,"rows_first":2000,"rows_last":500,"rows_between":2000,"halvings":0,"cell_chars":16384,"cell_head_chars":4096},"cells_cut":0,"cells_raw":0,"read":"whole","date_system":"1900"}

{"sheet":"Справочники","index":0,"n_rows":542,"n_cols":16,"rows_kept":542,"cut":false,"hidden":false,"merged":[[5,0,5,1],[14,0,14,1],[0,12,0,13],[0,14,0,15],[0,6,0,7],[0,9,0,10],[0,0,0,1],[0,3,0,4]]}
["Тип Документа (удостоверяющий личность)",null,null,"Код страны гражданства",null,null,"Код страны регистраци адреса",null,null,"Код региона (для адреса на территории РФ)",null,null,"Мнемоника "]
["Наименование","Код",null,"Наименование","Код",null,"Наименование","Код",null,"Наименование","Код",null,"Код","Наименование","Адрес","Город"]
["Иностранный паспорт","10",null,"АБХАЗИЯ(ГРУЗИЯ)","AB",null,"АБХАЗИЯ(ГРУЗИЯ)","AB",null,"ТЕРРИТОРИЯ НЕ ОПРЕДЕЛЕНА","00",null,"0739","ДО \"Абакан-Черногорский парк\"  ","655017, Республика Хакасия, г. Абакан, ул. Щетинкина, д. 63","Абакан"]
[null,null,null,"АВСТРАЛИЯ","AU",null,"АВСТРАЛИЯ","AU",null,"РЕСПУБЛИКА АДЫГЕЯ","01",null,"1821","ДО \"Азов-Центральный\"  ","346787, Ростовская область, г. Азов, ул. Мира, д. 45/64","Азов"]
[null,null,null,"АВСТРИЯ","AT",null,"АВСТРИЯ","AT",null,"РЕСПУБЛИКА БАШКОРТОСТАН","02",null,"1791","ДО \"Аксай-проспект Ленина\"  ","346720, Ростовская область, г. Аксай, пр-кт Ленина, д. 26","Аксай"]
["Код ДУП (для нерезидентов, Документ, Удостоверяющий право Пребывания)",null,null,"АЗЕРБАЙДЖАН","AZ",null,"АЗЕРБАЙДЖАН","AZ",null,"РЕСПУБЛИКА БУРЯТИЯ","03",null,"1666","ДО \"Алексин-улица Мира\"  ","301361, Тульская область, г. Алексин, ул. Мира, 20","Алексин"]
["Название документа","Код",null,"АЛБАНИЯ","AL",null,"АЛБАНИЯ","AL",null,"РЕСПУБЛИКА АЛТАЙ","04",null,"0953","ДО \"Альметьевск-улица Ленина\"  ","423452, Республика Татарстан, г. Альметьевск, ул. Ленина, 29","Альметьевск"]
["Вид на жительство","01",null,"АЛЖИР","DZ",null,"АЛЖИР","DZ",null,"РЕСПУБЛИКА ДАГЕСТАН","05",null,"1186","ДО \"Анапа-улица Крымская\"  ","353440, Краснодарский край, г.Анапа, ул. Крымская, д. 172","Анапа"]
["Разрешение на временное проживание","02",null,"АНГИЛЬЯ","AI",null,"АНГИЛЬЯ","AI",null,"ИНГУШСКАЯ РЕСПУБЛИКА","06",null,"0886","ДО \"Ангарск-Ленинградский проспект\" ","665824, Российская Федерация, Иркутская область, г. Ангарск, квартал 212, д. 15","Ангарск"]
["Виза","03",null,"АНГОЛА","AO",null,"АНГОЛА","AO",null,"КАБАРДИНО - БАЛКАРСКАЯ РЕСПУБЛИКА","07",null,"1656","ДО \"Анжеро-Судженск-ул. Ленина\"  ","652470, Кемеровская область, г. Анжеро-Судженск, ул. Ленина, д. 22","Анжеро-Судженск"]
["Уведомление о прибытии","05",null,"АНДОРРА","AD",null,"АНДОРРА","AD",null,"РЕСПУБЛИКА КАЛМЫКИЯ","08",null,"1811","ДО \"Апатиты-улица Ленина\"  ","184209, Мурманская область, г. Апатиты, ул. Ленина, д. 4","Апатиты"]
["Патент","14",null,"АНТАРКТИДА","AQ",null,"АНТАРКТИДА","AQ",null,"КАРАЧАЕВО - ЧЕРКЕССКАЯ РЕСПУБЛИКА","09",null,"1817","ДО \"Арзамас-проспект Ленина\"  ","607228, Нижегородская область, г. Арзамас, пр-кт Ленина, д. 198","Арзамас"]
["Разрешение на работу","15",null,"АНТИГУАИБАРБУДА","AG",null,"АНТИГУАИБАРБУДА","AG",null,"РЕСПУБЛИКА КАРЕЛИЯ","10",null,"1151","ДО \"Армавир-улица Ленина\"  ","352900, Краснодарский край, г. Армавир, ул. Ленина, д. 101а","Армавир"]
[null,null,null,"АНТИЛЬСКИЕОСТРОВА","AN",null,"АНТИЛЬСКИЕОСТРОВА","AN",null,"РЕСПУБЛИКА КОМИ","11",null,"1812","ДО \"Арсеньев-улица Калининская\"  ","692342, Приморский край, г.Арсеньев, ул. Калининская, д. 24","Арсеньев"]
["Тип МК (для нерезидентов)",null,null,"АОМЫНЬ(МАКАО)","MO",null,"АОМЫНЬ(МАКАО)","MO",null,"РЕСПУБЛИКА МАРИЙ ЭЛ","12",null,"1700","ДО \"Артем-улица Фрунзе\"  ","692760, Приморский край, г. Артем,ул. Фрунзе, д. 65","Артем"]
["Наименование","Код",null,"АРГЕНТИНА","AR",null,"АРГЕНТИНА","AR",null,"РЕСПУБЛИКА МОРДОВИЯ","13",null,"0876","ДО \"Архангельск-Воскресенский\"  ","163060 , г. Архангельск, ул.Воскресенская, д. 108","Архангельск"]
["Миграционная карта","01",null,"АРМЕНИЯ","AM",null,"АРМЕНИЯ","AM",null,"РЕСПУБЛИКА САХА (ЯКУТИЯ)","14",null,"1058","ДО \"Архангельск-Поморский\"  ","163000, Архангельская область, г. Архангельск, ул. Воскресенская, д. 6","Архангельск"]
[null,null,null,"АРУБА","AW",null,"АРУБА","AW",null,"РЕСПУБЛИКА СЕВЕРНАЯ ОСЕТИЯ","15",null,"1617","ДО \"Асбест-проспект Ленина\"  ","624272, Свердловская область, г. Асбест, пр-кт имени В.И. Ленина, д. 15","Асбест"]
[null,null,null,"АФГАНИСТАН","AF",null,"АФГАНИСТАН","AF",null,"РЕСПУБЛИКА ТАТАРСТАН (ТАТАРСТАН)","16",null,"1534","ДО \"Астрахань-Каспийский\"  ","414000, Астраханская область, г. Астрахань, ул. Кирова, д. 12/2","Астрахань"]
[null,null,null,"БАГАМСКИЕОСТРОВА","BS",null,"БАГАМСКИЕОСТРОВА","BS",null,"РЕСПУБЛИКА ТЫВА","17",null,"0686","ДО \"Ачинск-Чулым\"  ","662153, Красноярский край, гАчинск, ул. 28 квартал, дом 5,пом.30","Ачинск"]
[null,null,null,"БАНГЛАДЕШ","BD",null,"БАНГЛАДЕШ","BD",null,"УДМУРТСКАЯ РЕСПУБЛИКА","18",null,"1539","ДО \"Балаково-улица Трнавская\"  ","413860, Саратовская область, г.Балаково, ул. Трнавская, д. 23","Балаково"]
[null,null,null,"БАРБАДОС","BB",null,"БАРБАДОС","BB",null,"РЕСПУБЛИКА ХАКАСИЯ","19",null,"0620","ДО \"БАЛАШИХА\"  ","143912, Московская обл. г. Балашиха, ш. Энтузиастов, д.7/1","БАЛАШИХА"]
[null,null,null,"БАХРЕЙН","BH",null,"БАХРЕЙН","BH",null,"ЧЕЧЕНСКАЯ РЕСПУБЛИКА","20",null,"1181","ДО \"БАЛАШИХА-ЖЕЛЕЗНОДОРОЖНЫЙ\"  ","143980, Московская область, г. Балашиха, ул. Пролетарская, д. 2А","БАЛАШИХА"]
[null,null,null,"БЕЛИЗ","BZ",null,"БЕЛИЗ","BZ",null,"ЧУВАШСКАЯ РЕСПУБ. - ЧАВАШ РЕСПУБ.","21",null,"1608","ДО \"Балашов-улица Ленина\"  ","412309, Саратовская область, г. Балашов, ул. Ленина, д. 21Б","Балашов"]
[null,null,null,"БЕЛОРУССИЯ","BY",null,"БЕЛОРУССИЯ","BY",null,"АЛТАЙСКИЙ КРАЙ","22",null,"0692","ДО \"Барнаул-проспект Ленина\"  ","656011, Россия, Алтайский край, г.Барнаул, пр-кт Ленина, д. 106","Барнаул"]
[null,null,null,"БЕЛЬГИЯ","BE",null,"БЕЛЬГИЯ","BE",null,"КРАСНОДАРСКИЙ КРАЙ","23",null,"0859","ДО \"Барнаул-площадь Победы\"  ","656015 г. Барнаул, пр-тСоциалистический, д. 130","Барнаул"]
[null,null,null,"БЕНИН","BJ",null,"БЕНИН","BJ",null,"КРАСНОЯРСКИЙ КРАЙ","24",null,"0896","ДО \"Барнаул-площадь Советов\"  ","656038, г. Барнаул, пр-т Ленина, д.58","Барнаул"]
[null,null,null,"БЕРМУДСКИЕОСТРОВА(БРИТАНИЯ)","BM",null,"БЕРМУДСКИЕОСТРОВА(БРИТАНИЯ)","BM",null,"ПРИМОРСКИЙ КРАЙ","25",null,"1120","ДО \"Барнаул-Огни\"  ","656039, Алтайский край, г. Барнаул,ул. Антона Петрова, д. 219 Б","Барнаул"]
[null,null,null,"БОЛГАРИЯ","BG",null,"БОЛГАРИЯ","BG",null,"СТАВРОПОЛЬСКИЙ КРАЙ","26",null,"1155","ДО \"Барнаул-Лето\"  ","656057, Алтайский край, г. Барнаул,тракт Павловский, д. 251А","Барнаул"]
[null,null,null,"БОЛИВИЯ","BO",null,"БОЛИВИЯ","BO",null,"ХАБАРОВСКИЙ КРАЙ","27",null,"1173","ДО \"Батайск-улица Энгельса\"  ","346880, Ростовская область, г. Батайск, ул. Энгельса, д. 182","Батайск"]
[null,null,null,"БОСНИЯИГЕРЦЕГОВИНА","BA",null,"БОСНИЯИГЕРЦЕГОВИНА","BA",null,"АМУРСКАЯ ОБЛАСТЬ","28",null,"0957","ДО \"Белгород-проспект Славы\"  ","308000, г.Белгород, пр.Славы, д.68","Белгород"]
[null,null,null,"БОТСВАНА","BW",null,"БОТСВАНА","BW",null,"АРХАНГЕЛЬСКАЯ ОБЛАСТЬ","29",null,"1061","ДО \"Белгород-проспект Ватутина\"  ","308000, Российская Федерация. г.Белгород, проспект Ватутина, д. 9б","Белгород"]
[null,null,null,"БРАЗИЛИЯ","BR",null,"БРАЗИЛИЯ","BR",null,"АСТРАХАНСКАЯ ОБЛАСТЬ","30",null,"1123","ДО \"Белгород-улица Щорса\"  ","308027, Белгородская область г. Белгород, ул. Щорса, 8","Белгород"]
[null,null,null,"БРИТАНСКАЯТЕР-ЯВИНДИЙСКОМОКЕАНЕ","IO",null,"БРИТАНСКАЯТЕР-ЯВИНДИЙСКОМОКЕАНЕ","IO",null,"БЕЛГОРОДСКАЯ ОБЛАСТЬ","31",null,"1716","ДО \"Белебей-ул. Красная\"  ","452005, Республика Башкортостан, г.Белебей, ул. Красная, д. 134","Белебей"]
[null,null,null,"БРУНЕЙ","BN",null,"БРУНЕЙ","BN",null,"БРЯНСКАЯ ОБЛАСТЬ","32",null,"1734","ДО \"Белово-улица Юбилейная\"  ","652600, Кемеровская область, г. Белово, ул. Юбилейная, д. 8","Белово"]
[null,null,null,"БУВЕ","BV",null,"БУВЕ","BV",null,"ВЛАДИМИРСКАЯ ОБЛАСТЬ","33",null,"1744","ДО \"Белогорск-улица Кирова\"  ","676805, Амурская область, г. Белогорск, ул. Кирова, д. 119","Белогорск"]
[null,null,null,"БУРКИНА-ФАСО","BF",null,"БУРКИНА-ФАСО","BF",null,"ВОЛГОГРАДСКАЯ ОБЛАСТЬ","34",null,"1745","ДО \"Белорецк-улица Карла Маркса\"  ","453509, Республика Башкортостан, г.Белорецк, ул. Карла Маркса, д. 75","Белорецк"]
[null,null,null,"БУРУНДИ","BI",null,"БУРУНДИ","BI",null,"ВОЛОГОДСКАЯ ОБЛАСТЬ","35",null,"1615","ДО \"Белореченск-улица Ленина\"  ","352630, Краснодарский край, г. Белореченск, ул. Ленина, д. 145","Белореченск"]
[null,null,null,"БУТАН","BT",null,"БУТАН","BT",null,"ВОРОНЕЖСКАЯ ОБЛАСТЬ","36",null,"0722","ДО \"Бердск-Парковый\"  ","633010, Новосибирская область, г. Бердск, улица Ленина, 42","Бердск"]
[null,null,null,"ВАНУАТУ","VU",null,"ВАНУАТУ","VU",null,"ИВАНОВСКАЯ ОБЛАСТЬ","37",null,"1170","ДО \"Березники-ул. Пятилетки\"  ","618419, Пермский край, г. Березники, ул. Пятилетки, д. 50","Березники"]
[null,null,null,"ВАТИКАН","VA",null,"ВАТИКАН","VA",null,"ИРКУТСКАЯ ОБЛАСТЬ","38",null,"1713","ДО \"Березовский-улица Восточная\"  ","623700, Свердловская область, г. Березовский, ул. Восточная, д. 11а","Березовский"]
[null,null,null,"ВЕЛИКОБРИТАНИЯ","GB",null,"ВЕЛИКОБРИТАНИЯ","GB",null,"КАЛИНИНГРАДСКАЯ ОБЛАСТЬ","39",null,"0777","ДО \"Бийск-улица Васильева\"  ","659305, Алтайский край г.Бийск ул.Васильева дом, 57","Бийск"]
[null,null,null,"ВЕНГРИЯ","HU",null,"ВЕНГРИЯ","HU",null,"КАЛУЖСКАЯ ОБЛАСТЬ","40",null,"1606","ДО \"Биробиджан-Сквер Победы\"  ","679016, Еврейская автономная область, г. Биробиджан, ул. Шолом-Алейхема, зд. 8","Биробиджан"]
[null,null,null,"ВЕНЕСУЭЛА","VE",null,"ВЕНЕСУЭЛА","VE",null,"КАМЧАТСКАЯ ОБЛАСТЬ","41",null,"1178","ДО \"Благовещенск-Островского\"  ","675004, Амурская область, г. Благовещенск, ул. Островского, д. 12","Благовещенск"]
[null,null,null,"ВИРГИНСКИЕОСТРОВА(БРИТАНИЯ)","VG",null,"ВИРГИНСКИЕОСТРОВА(БРИТАНИЯ)","VG",null,"КЕМЕРОВСКАЯ ОБЛАСТЬ","42",null,"1671","ДО \"Большой Камень-Звезда\"  ","692806, Приморский край, г. БольшойКамень, ул. Карла Маркса, д. 13","Большой Камень"]
[null,null,null,"ВИРГИНСКИЕОСТРОВА(США)","VI",null,"ВИРГИНСКИЕОСТРОВА(США)","VI",null,"КИРОВСКАЯ ОБЛАСТЬ","43",null,"1631","ДО \"Бор-улица Ленина\"  ","606440, Нижегородская область, г. Бор, ул. Ленина, д. 129","Бор"]
[null,null,null,"ВОСТОЧНОЕСАМОА(США)","AS",null,"ВОСТОЧНОЕСАМОА(США)","AS",null,"КОСТРОМСКАЯ ОБЛАСТЬ","44",null,"1680","ДО \"Борисоглебск-улица Свободы\"  ","397160, Воронежская область, г. Борисоглебск, ул. Свободы, зд. 213/ул.Советская, д. 8","Борисоглебск"]
[null,null,null,"ВОСТОЧНЫЙТИМОР","TP",null,"ВОСТОЧНЫЙТИМОР","TP",null,"КУРГАНСКАЯ ОБЛАСТЬ","45",null,"1652","ДО \"Боровичи-улица Подбельского\"  ","174411, Новгородская область, г. Боровичи, ул. Подбельского, д. 36","Боровичи"]
[null,null,null,"ВЬЕТНАМ","VN",null,"ВЬЕТНАМ","VN",null,"КУРСКАЯ ОБЛАСТЬ","46",null,"1831","ДО \"Братск-улица Кирова\"  ","665708, Иркутская область, г. Братск, ул. Кирова, д. 18","Братск"]
[null,null,null,"ГАБОН","GA",null,"ГАБОН","GA",null,"ЛЕНИНГРАДСКАЯ ОБЛАСТЬ","47",null,"8003","ДО \"Нерюнгри-проспект Ленина\"  ","678967, Республика Саха (Якутия), г. Нерюнгри, пр-кт Ленина, д. 6","Братск"]
[null,null,null,"ГАИТИ","HT",null,"ГАИТИ","HT",null,"ЛИПЕЦКАЯ ОБЛАСТЬ","48",null,"1154","ДО \"Брянск-улица Красноармейская\"  ","241050, Брянская область, г. Брянск, ул. Красноармейская, д. 41","Брянск"]
[null,null,null,"ГАЙАНА","GY",null,"ГАЙАНА","GY",null,"МАГАДАНСКАЯ ОБЛАСТЬ","49",null,"1825","ДО \"Бугульма-Дом техники\"  ","423236, Республика Татарстан, г.Бугульма, ул. Газинура Гафиатуллина, д. 31","Бугульма"]
[null,null,null,"ГАМБИЯ","GM",null,"ГАМБИЯ","GM",null,"МОСКОВСКАЯ ОБЛАСТЬ","50",null,"1662","ДО \"Буденновск-улица Октябрьская\"  ","356800, Ставропольский край, г. Буденновск, ул. Октябрьская, д. 79","Буденновск"]
[null,null,null,"ГАНА","GH",null,"ГАНА","GH",null,"МУРМАНСКАЯ ОБЛАСТЬ","51",null,"0958","ДО \"Бузулук-ул. Комсомольская\"  ","461040, Оренбургская область, г. Бузулук, ул. Комсомольская, зд. 81","Бузулук"]
[null,null,null,"ГВАДЕЛУПА","GP",null,"ГВАДЕЛУПА","GP",null,"НИЖЕГОРОДСКАЯ ОБЛАСТЬ","52",null,"1175","ДО \"Великие Луки\"  ","182113, Псковская область, г. Великие Луки, проспект Ленина, д. 39","Великие Луки"]
[null,null,null,"ГВАТЕМАЛА","GT",null,"ГВАТЕМАЛА","GT",null,"НОВГОРОДСКАЯ ОБЛАСТЬ","53",null,"1157","ДО \"Великий Новгород-Волхов\"  ","173001, Новгородская область, г. Великий Новгород, ул. Большая Санкт-Петербургская, 13","Великий Новгород"]
[null,null,null,"ГВИАНА","GF",null,"ГВИАНА","GF",null,"НОВОСИБИРСКАЯ ОБЛАСТЬ","54",null,"1194","ДО \"Верхняя Пышма-Успенский пр-кт\" ","624090, Свердловская область, г. Верхняя Пышма, пр-кт Успенский, д. 20","Верхняя Пышма"]
[null,null,null,"ГВИНЕЯ","GN",null,"ГВИНЕЯ","GN",null,"ОМСКАЯ ОБЛАСТЬ","55",null,"1171","ДО \"ВИДНОЕ\"  ","142703, Московская область, г. Видное, ул. Школьная, 23","Видное"]
[null,null,null,"ГВИНЕЯ-БИСАУ","GW",null,"ГВИНЕЯ-БИСАУ","GW",null,"ОРЕНБУРГСКАЯ ОБЛАСТЬ","56",null,"0685","ДО \"Владивосток-Тихоокеанский\"  ","690002, Россия, Приморский край, г.Владивосток, пр-т Острякова, д. 5Г","Владивосток"]
[null,null,null,"ГЕРМАНИЯ","DE",null,"ГЕРМАНИЯ","DE",null,"ОРЛОВСКАЯ ОБЛАСТЬ","57",null,"0860","ДО \"Владивосток-Приморский\"  ","690091 г. Владивосток, ул АдмиралаФокина, д. 19","Владивосток"]
[null,null,null,"ГИБРАЛТАР","GI",null,"ГИБРАЛТАР","GI",null,"ПЕНЗЕНСКАЯ ОБЛАСТЬ","58",null,"0893","ДО \"Владивосток-пр-кт Столетия\"  ","690048 , Владивосток ,пр-кт 100 летВладивостока, 51","Владивосток"]
[null,null,null,"ГОНДУРАС","HN",null,"ГОНДУРАС","HN",null,"ПЕРМСКАЯ ОБЛАСТЬ","59",null,"1128","ДО \"Владивосток-Золотой Рог\"  ","690035, Приморский край, г. Владивосток, ул. Харьковская, д. 8","Владивосток"]
[null,null,null,"ГРЕНАДА","GD",null,"ГРЕНАДА","GD",null,"ПСКОВСКАЯ ОБЛАСТЬ","60",null,"1830","ДО \"Владикавказ-Центральный\"  ","362008, Республика Северная Осетия-Алания, г. Владикавказ, ул. Генерала Плиева, д. 10","Владикавказ"]
[null,null,null,"ГРЕНЛАНДИЯ","GL",null,"ГРЕНЛАНДИЯ","GL",null,"РОСТОВСКАЯ ОБЛАСТЬ","61",null,"0792","ДО \"Владимир-Золотые ворота\"  ","600015, Владимирская обл.,г. Владимир, ул. Ленина, д. 26, 26А","Владимир"]
[null,null,null,"ГРЕЦИЯ","GR",null,"ГРЕЦИЯ","GR",null,"РЯЗАНСКАЯ ОБЛАСТЬ","62",null,"0805","ДО \"Волгоград-Царицынский\"  ","400066, Россия, Волгоградскаяобласть, г. Волгоград, пр-кт им.В.И. Ленина, 2а","Волгоград"]
[null,null,null,"ГРУЗИЯ","GE",null,"ГРУЗИЯ","GE",null,"САМАРСКАЯ ОБЛАСТЬ","63",null,"0824","ДО \"Волгоград-Красноармейский\"  ","400112, Волгоградская обл., г. Волгоград, проспект им. Героев Сталинграда, д. 49","Волгоград"]
[null,null,null,"ГУАМ","GU",null,"ГУАМ","GU",null,"САРАТОВСКАЯ ОБЛАСТЬ","64",null,"0861","ДО \"Волгоград-Комсомольский\"  ","400066, Россия, Волгоградскаяобласть, г.Волгоград, ул.Комсомольская, 10","Волгоград"]
[null,null,null,"ДАНИЯ","DK",null,"ДАНИЯ","DK",null,"САХАЛИНСКАЯ ОБЛАСТЬ","65",null,"0864","ДО \"Волгоград-Спартановка\"  ","400121 Волгоградская область, г.Волгоград, ул. Николая Отрады, д. 6","Волгоград"]
[null,null,null,"ДЖИБУТИ","DJ",null,"ДЖИБУТИ","DJ",null,"СВЕРДЛОВСКАЯ ОБЛАСТЬ","66",null,"1121","ДО \"Волгоград-Семь Ветров\"  ","400117, Волгоградская область, г. Волгоград, ул. 8-й Воздушной Армии,д. 47а","Волгоград"]
[null,null,null,"ДОМИНИКА","DM",null,"ДОМИНИКА","DM",null,"СМОЛЕНСКАЯ ОБЛАСТЬ","67",null,"1196","ДО \"Волгодонск-пр-кт Строителей\"  ","347382, Ростовская область, г. Волгодонск, пр-кт Строителей, д. 21","Волгодонск"]
[null,null,null,"ДОМИНИКАНСКАЯРЕСПУБЛИКА","DO",null,"ДОМИНИКАНСКАЯРЕСПУБЛИКА","DO",null,"ТАМБОВСКАЯ ОБЛАСТЬ","68",null,"1702","ДО \"Волжск-улица Ленина\"  ","425000, Республика Марий Эл, г. Волжск, ул. Ленина, д. 56б","Волжск"]
[null,null,null,"ДУБАИ(ОБЪЕДИН.АРАБСКИЕЭМИРАТЫ)","XD",null,"ДУБАИ(ОБЪЕДИН.АРАБСКИЕЭМИРАТЫ)","XD",null,"ТВЕРСКАЯ ОБЛАСТЬ","69",null,"0863","ДО \"Волжский-улица Мира\"  ","404105 Волгоградская область, г.Волжский, ул. Мира, д. 74 А","Волжский"]
[null,null,null,"ДУБЛИН(ИРЛАНДИЯ)","XI",null,"ДУБЛИН(ИРЛАНДИЯ)","XI",null,"ТОМСКАЯ ОБЛАСТЬ","70",null,"1162","ДО \"Вологда-площадь Возрождения\"  ","160000, Россия, Вологодская область, г. Вологда, ул. Ленина, д. 5","Вологда"]
[null,null,null,"ЕГИПЕТ","EG",null,"ЕГИПЕТ","EG",null,"ТУЛЬСКАЯ ОБЛАСТЬ","71",null,"8001","ДО \"ВОЛОКОЛАМСК\"  ","143600, Московская область, г. Волоколамск, ул. Советская, д. 1/1","Волоколамск"]
[null,null,null,"ЗАИР","ZR",null,"ЗАИР","ZR",null,"ТЮМЕНСКАЯ ОБЛАСТЬ","72",null,"1642","ДО \"Вольск-пл. 10-летия Октября\"  ","412906, Саратовская область, г. Вольск, пл. 10-летия Октября, д. 4/1","Вольск"]
[null,null,null,"ЗАМБИЯ","ZM",null,"ЗАМБИЯ","ZM",null,"УЛЬЯНОВСКАЯ ОБЛАСТЬ","73",null,"0452","ДО \"Воронеж-улица Кольцовская\"  ","394030, Воронежская область, г. Воронеж, ул. Кольцовская, д. 31","Воронеж"]
[null,null,null,"ЗАПАДНАЯСАХАРА","EH",null,"ЗАПАДНАЯСАХАРА","EH",null,"ЧЕЛЯБИНСКАЯ ОБЛАСТЬ","74",null,"0733","ДО \"Воронеж-улица Кирова\"  ","394006, г. Воронеж, ул. Кирова, д.11","Воронеж"]
[null,null,null,"ЗАПАДНОЕСАМОА","WS",null,"ЗАПАДНОЕСАМОА","WS",null,"ЗАБАЙКАЛЬСКИЙ КРАЙ","75",null,"1050","ДО \"Воронеж-улица Лизюкова\"  ","394088, Россия, Воронежская область, г. Воронеж, ул. Генерала Лизюкова, д. 50","Воронеж"]
[null,null,null,"ЗИМБАБВЕ","ZW",null,"ЗИМБАБВЕ","ZW",null,"ЯРОСЛАВСКАЯ ОБЛАСТЬ","76",null,"1147","ДО \"Воронеж-Олимпийский квартал\"  ","394053, Воронежская область, г. Воронеж, ул. Загоровского, д. 1","Воронеж"]
[null,null,null,"ИЗРАИЛЬ","IL",null,"ИЗРАИЛЬ","IL",null,"Г. МОСКВА","77",null,"1169","Дополнительный офис \"Воронеж-Димитрова\"  ","394007, Воронежская область. г. Воронеж, Ленинский проспект, д. 116А","Воронеж"]
[null,null,null,"ИНДИЯ","IN",null,"ИНДИЯ","IN",null,"Г. САНКТ - ПЕТЕРБУРГ","78",null,"1806","ДО \"ВОСКРЕСЕНСК\"  ","140200, Московская область, г. Воскресенск, ул. Октябрьская, д. 2","Воскресенск"]
[null,null,null,"ИНДОНЕЗИЯ","ID",null,"ИНДОНЕЗИЯ","ID",null,"ЕВРЕЙСКАЯ АВТОНОМНАЯ ОБЛАСТЬ","79",null,"1728","ДО \"Воткинск-улица 1 мая\"  ","27433, Удмуртская Республика, г. Воткинск, ул. 1 Мая, д. 102","Воткинск"]
[null,null,null,"ИОРДАНИЯ","JO",null,"ИОРДАНИЯ","JO",null,"АГИНСКИЙ БУРЯТСКИЙ АВТОНОМНЫЙ ОКР.","80",null,"1804","ДО \"Всеволожск-Всеволожский пр-кт\" ","188640, Ленинградская область, г. Всеволожск, Всеволожский пр-кт, д. 29","Всеволожск"]
[null,null,null,"ИРАК","IQ",null,"ИРАК","IQ",null,"КОМИ - ПЕРМЯЦКИЙ АВТОНОМНЫЙ ОКРУГ","81",null,"1768","ДО \"Выборг-улица Вокзальная\"  ","188800, Ленинградская область, г. Выборг, ул. Вокзальная, д. 7","Выборг"]
[null,null,null,"ИРЛАНДИЯ","IE",null,"ИРЛАНДИЯ","IE",null,"КОРЯКСКИЙ АВТОНОМНЫЙ ОКРУГ","82",null,"1658","ДО \"Выкса-улица Островского\"  ","607061, Нижегородская область, г. Выкса, ул. Островского, зд. 33","Выкса"]
[null,null,null,"ИСЛАНДИЯ","IS",null,"ИСЛАНДИЯ","IS",null,"НЕНЕЦКИЙ АВТОНОМНЫЙ ОКРУГ","83",null,"1813","ДО \"В.Волочек-Казанский проспект\"  ","171163, Тверская область, г. ВышнийВолочек, пр-кт Казанский, д. 44","Вышний Волочек"]
[null,null,null,"ИСПАНИЯ","ES",null,"ИСПАНИЯ","ES",null,"ТАЙМЫР.(ДОЛГАН-НЕНЕЦК.) АВТ. ОКРУГ","84",null,"1654","ДО \"Вязьма-улица 25 Октября\"  ","215110, Смоленская область, г. Вязьма, ул. 25 Октября, д. 4","Вязьма"]
[null,null,null,"ИТАЛИЯ","IT",null,"ИТАЛИЯ","IT",null,"УСТЬ - ОРДЫНСКИЙ БУРЯТСКИЙ АВТ. ОКР.","85",null,"1754","ДО \"Гатчина-проспект 25 Октября\"  ","188300, Ленинградская область, г. Гатчина, пр-кт 25 Октября, д. 11/13","Гатчина"]
[null,null,null,"ЙЕМЕН","YE",null,"ЙЕМЕН","YE",null,"ХАНТЫ - МАНСИЙСКИЙ АВТ. ОКР.","86",null,"8034","ДО \"Геленджик-улица Херсонская\"  ","353460, Краснодарский край, г. Геленджик, ул. Херсонская, д. 23","Геленджик"]
[null,null,null,"КАБО-ВЕРДЕ","CV",null,"КАБО-ВЕРДЕ","CV",null,"ЧУКОТСКИЙ АВТОНОМНЫЙ ОКРУГ","87",null,"8028","ДО \"Георгиевск-улица Салогубова\"  ","357821, Ставропольский край, г. Георгиевск, ул. Салогубова, д. 16","Георгиевск"]
[null,null,null,"КАЗАХСТАН","KZ",null,"КАЗАХСТАН","KZ",null,"ЭВЕНКИЙСКИЙ АВТОНОМНЫЙ ОКРУГ","88",null,"0874","ДО \"Глазов-Чепецкий\"  ","427620 Удмуртская респ., г. Глазов,ул. Кирова, д. 13","Глазов"]
[null,null,null,"КАЙМАН","KY",null,"КАЙМАН","KY",null,"ЯМАЛО - НЕНЕЦКИЙ АВТОНОМНЫЙ ОКРУГ","89",null,"1616","ДО \"Горно-Алтайск-Родник\"  ","649000, Республика Алтай, г. Горно-Алтайск, пр-кт Коммунистический, д.27","Горно-Алтайск"]
[null,null,null,"КАМБОДЖА","KH",null,"КАМБОДЖА","KH",null,"ГОРОД И КОСМОДРОМ БАЙКОНУР","99",null,"1725","ДО \"Губкин-улица Кирова\"  ","309181, Белгородская область, г. Губкин, ул. Кирова, д. 53","Губкин"]
[null,null,null,"КАМЕРУН","CM",null,"КАМЕРУН","CM",null,"РЕСПУБЛИКА КРЫМ","91",null,"1762","ДО \"Гусь-Хрустальный-ул. Калинина\" ","601501, Владимирская область, г.Гусь-Хрустальный, ул. Калинина, д.30","Гусь-Хрустальный"]
[null,null,null,"КАНАДА","CA",null,"КАНАДА","CA",null,"Г.СЕВАСТОПОЛЬ","92",null,"0753","ДО \"Дзержинск-улица Гайдара\"  ","606029, Нижегородская область, г. Дзержинск, ул. Гайдара, д. 61","Дзержинск"]
[null,null,null,"КАНТОНЖЕНЕВА(ШВЕЙЦАРИЯ)","XJ",null,"КАНТОНЖЕНЕВА(ШВЕЙЦАРИЯ)","XJ",null,null,null,null,"1177","ДО \"Димитровград-Черемшан\"  ","433512, Ульяновская область, г. Димитровград, пр-кт. Ленина, зд. 39д","Димитровград"]
[null,null,null,"КАНТОННЕШЕТАЛЬ(НЕВШАТЕЛЬ)(ШВЕЙЦ)","XN",null,"КАНТОННЕШЕТАЛЬ(НЕВШАТЕЛЬ)(ШВЕЙЦ)","XN",null,null,null,null,"1739","ДО \"ДМИТРОВ\"  ","141800, Московская область, г. Дмитров, ул. Загорская, д. 24","Дмитров"]
[null,null,null,"КАНТОНФРИБУРГ(ШВЕЙЦАРИЯ)","XF",null,"КАНТОНФРИБУРГ(ШВЕЙЦАРИЯ)","XF",null,null,null,null,"1525","ДО \"ДОЛГОПРУДНЫЙ\"  ","141700, Московская область, г. Долгопрудный, Новый бульвар, д. 2","Долгопрудный"]
[null,null,null,"КАНТОНЦУГ(ШВЕЙЦАРИЯ)","XC",null,"КАНТОНЦУГ(ШВЕЙЦАРИЯ)","XC",null,null,null,null,"1527","ДО \"ДОМОДЕДОВО\"  ","142000, Московская область, г. Домодедово, Каширское шоссе, д. 51","Домодедово"]
[null,null,null,"КАТАР","QA",null,"КАТАР","QA",null,null,null,null,"8067","ДО \"Донецк-улица Горького\"  ","346330, Ростовская область, г. Донецк, ул. Максима Горького, д. 67","Донецк"]
[null,null,null,"КЕНИЯ","KE",null,"КЕНИЯ","KE",null,null,null,null,"1727","ДО \"Донской-улица Октябрьская\"  ","301764, Тульская область, г. Донской, ул. Октябрьская, д. 59а","Донской"]
[null,null,null,"КИПР","CY",null,"КИПР","CY",null,null,null,null,"1818","ДО \"ДУБНА\"  ","141986, Московская область, г. Дубна, пр-кт Боголюбова, д. 14А","Дубна"]
[null,null,null,"КИРГИЗИЯ","KG",null,"КИРГИЗИЯ","KG",null,null,null,null,"1669","ДО \"ЕГОРЬЕВСК\"  ","140301, Московская область, г. Егорьевск, ул. Советская, д. 82А","Егорьевск"]
[null,null,null,"КИРИБАТИ","KI",null,"КИРИБАТИ","KI",null,null,null,null,"0482","ДО \"Екатеринбург-улица 8 Марта\"  ","620014, г. Екатеринбург, ул. 8 Марта, д. 10/ ул. Малышева, д. 42 (литер А)","Екатеринбург"]
[null,null,null,"КИТАЙ","CN",null,"КИТАЙ","CN",null,null,null,null,"0684","ДО \"Екатеринбург-улица Уральская\"  ","620041, г. Екатеринбург ,ул.Уральская д 75","Екатеринбург"]
[null,null,null,"КОКОСОВЫЕОСТРОВА","CC",null,"КОКОСОВЫЕОСТРОВА","CC",null,null,null,null,"0818","ДО \"Екатеринбург-улица Южная\"  ","620144 г. Екатеринбург, ул. 8 марта, 194","Екатеринбург"]
[null,null,null,"КОЛУМБИЯ","CO",null,"КОЛУМБИЯ","CO",null,null,null,null,"0978","ДО \"Екатеринбург-ул. Белореченская\" ","620086, г. Екатеринбург ул. Белореченская   дом, 12а","Екатеринбург"]
[null,null,null,"КОМОРСКИЕОСТРОВА","KM",null,"КОМОРСКИЕОСТРОВА","KM",null,null,null,null,"0981","ДО \"Екатеринбург-улица Кузнецова\"  ","620000 , г. Екатеринбург, ул. Кузнецова , д. 2","Екатеринбург"]
[null,null,null,"КОНГО","CG",null,"КОНГО","CG",null,null,null,null,"0982","ДО \"Екатеринбург-проспект Ленина\"  ","620062, г. Екатеринбург, проспект Ленина, д. 60","Екатеринбург"]
[null,null,null,"КОНГО,ДЕМОКРАТИЧЕСКАЯРЕСПУБЛИКА","CD",null,"КОНГО,ДЕМОКРАТИЧЕСКАЯРЕСПУБЛИКА","CD",null,null,null,null,"0983","ДО \"Екатеринбург-Уралмаш\"  ","620012 Свердловская обл.,г.Екатеринбург, ул.Машиностроителей, д. 19","Екатеринбург"]
[null,null,null,"КОРЕЯ(РЕСПУБЛИКА)","KR",null,"КОРЕЯ(РЕСПУБЛИКА)","KR",null,null,null,null,"0984","ДО \"Екатеринбург-улица Родонитовая\" ","620089, Российская Федерация, г. Екатеринбург, ул. Родонитовая, д. 4","Екатеринбург"]
[null,null,null,"КОСТА-РИКА","CR",null,"КОСТА-РИКА","CR",null,null,null,null,"0986","ДО \"Екатеринбург-Морозовский\"  ","620000, г. Екатеринбург ул. Сони Морозовой   дом, 190","Екатеринбург"]
[null,null,null,"КОТ-Д'ИВУАР","CI",null,"КОТ-Д'ИВУАР","CI",null,null,null,null,"0998","ДО \"Екатеринбург-улица Горького\"  ","620000, Свердловская область, г. Екатеринбург, ул. Горького, стр. 7-а","Екатеринбург"]
[null,null,null,"КОТ-Д'ИВУАР","IC",null,"КОТ-Д'ИВУАР","IC",null,null,null,null,"1097","ДО \"Екатеринбург-улица Крауля\"  ","620109, г. Екатеринбург, ул. Крауля, 44","Екатеринбург"]
[null,null,null,"КУБА","CU",null,"КУБА","CU",null,null,null,null,"1163","ДО \"Екатеринбург-Академический\"  ","620105, Свердловская область, г.Екатеринбург, ул. Вильгельма деГеннина, д. 31","Екатеринбург"]
[null,null,null,"КУВЕЙТ","KW",null,"КУВЕЙТ","KW",null,null,null,null,"1682","ДО \"Елабуга-пр-кт Нефтяников\"  ","423603, Республика Татарстан, г. Елабуга, пр-кт Нефтяников, д. 17","Елабуга"]
[null,null,null,"ЛАОС","LA",null,"ЛАОС","LA",null,null,null,null,"1192","ДО \"Елец-улица Мира\"  ","399770, Липецкая область, г. Елец,улица Мира, д. 133","Елец"]
[null,null,null,"ЛАТВИЯ","LV",null,"ЛАТВИЯ","LV",null,null,null,null,"1624","ДО \"Ессентуки-Привокзальная площадь\"  ","357601, Ставропольский край, г. Ессентуки,  Привокзальная пл.","Ессентуки"]
[null,null,null,"ЛЕСОТО","LS",null,"ЛЕСОТО","LS",null,null,null,null,"0880","ДО \"Железногорск-Саяны\"  ","662971, Красноярский край, ЗАТО Железногорск, г. Железногорск, ул. Свердлова, дом 21","Железногорск"]
[null,null,null,"ЛИТВА","LT",null,"ЛИТВА","LT",null,null,null,null,"1672","ДО \"Железногорск-Юность\"  ","307179, Курская область, г. Железногорск, ул. Воинов-интернационалистов, д. 6","Железногорск"]
[null,null,null,"ЛИХТЕНШТЕЙН","LI",null,"ЛИХТЕНШТЕЙН","LI",null,null,null,null,"1529","ДО \"ЖУКОВСКИЙ\"  ","140184, Московская область, г. Жуковский, ул. Гагарина, д. 24","Жуковский"]
[null,null,null,"ЛЮКСЕМБУРГ","LU",null,"ЛЮКСЕМБУРГ","LU",null,null,null,null,"8015","ДО \"Заречный-улица Ленина\"  ","442963, Пензенская область, г. Заречный, ул. Ленина, д. 20А","Заречный"]
[null,null,null,"МАВРИКИЙ","MU",null,"МАВРИКИЙ","MU",null,null,null,null,"1696","ДО \"Зеленодольск-улица Ленина\"  ","422550, Республика Татарстан, г.Зеленодольск, ул. Ленина, д. 25","Зеленодольск"]
[null,null,null,"МАВРИТАНИЯ","MR",null,"МАВРИТАНИЯ","MR",null,null,null,null,"1005","ДО \"Златоуст-проспект Гагарина\"  ","456228, Челябинская область, г. Златоуст, пр. им. Ю.А. Гагарина, 3 м/р-н, д. 14-в","Златоуст"]
[null,null,null,"МАДАГАСКАР","MG",null,"МАДАГАСКАР","MG",null,null,null,null,"1146","ДО \"Иваново-Центральный\"  ","153000, г. Иваново, проспект Ленина, 11","Иваново"]
[null,null,null,"МАЙОТТА","YT",null,"МАЙОТТА","YT",null,null,null,null,"0736","ДО \"Ижевск-улица Пушкинская\"  ","426008, Удмуртская республика, г. Ижевск, ул. Пушкинская д. 216","Ижевск"]
[null,null,null,"МАКЕДОНИЯ","MK",null,"МАКЕДОНИЯ","MK",null,null,null,null,"0804","ДО \"Ижевск-Центральный\"  ","426004, Удмуртская республика, г. Ижевск, ул. Ленина, 21","Ижевск"]
[null,null,null,"МАЛАВИ","MW",null,"МАЛАВИ","MW",null,null,null,null,"0869","ДО \"Ижевск-Устиновский\"  ","426073 г. Ижевск, ул. Молодежная,д. 87","Ижевск"]
[null,null,null,"МАЛАЙЗИЯ","MY",null,"МАЛАЙЗИЯ","MY",null,null,null,null,"0741","ДО \"Иркутск-Лермонтовский\"  ","664074, Иркутская область, г. Иркутск  ул. Лермонтова, д. 63","Иркутск"]
[null,null,null,"МАЛИ","ML",null,"МАЛИ","ML",null,null,null,null,"0865","ДО \"Иркутск-Амурские ворота\"  ","664003, г. Иркутск ул. Ленина  дом,25","Иркутск"]
[null,null,null,"МАЛЫЕТИХООКЕАНСКИЕОСТРОВА","UM",null,"МАЛЫЕТИХООКЕАНСКИЕОСТРОВА","UM",null,null,null,null,"0891","ДО \"Иркутск-Байкал\"  ","664003,Иркутская область, г. Иркутск,  ул. Литвинова  д. 2","Иркутск"]
[null,null,null,"МАЛЬДИВЫ","MV",null,"МАЛЬДИВЫ","MV",null,null,null,null,"0991","ДО \"Иркутск-Ангара\"  ","664022, Иркутская область, г. Иркутск, ул. Кожова, д. 20","Иркутск"]
[null,null,null,"МАЛЬТА","MT",null,"МАЛЬТА","MT",null,null,null,null,"1633","ДО \"Искитим-улица Пушкина\"  ","633209, Новосибирская область, г. Искитим, ул. Пушкина, д. 40А","Искитим"]
[null,null,null,"МАРОККО","MA",null,"МАРОККО","MA",null,null,null,null,"8047","ДО \"ИСТРА\"  ","143500, Московская область, г. Истра, ул. Ленина, д. 75","Истра"]
[null,null,null,"МАРТИНИКА","MQ",null,"МАРТИНИКА","MQ",null,null,null,null,"1703","ДО \"Ишим-улица Карла Маркса\"  ","627754, Тюменская область, г. Ишим,ул. Карла Маркса, д. 77А","Ишим"]
[null,null,null,"МАРШАЛЛОВЫОСТРОВА","MH",null,"МАРШАЛЛОВЫОСТРОВА","MH",null,null,null,null,"1006","ДО \"Йошкар-Ола-Новопокровская\"  ","424008, Республика Марий Эл, г. Йошкар-Ола, ул. Первомайская, д. 164","Йошкар-Ола"]
[null,null,null,"МЕКСИКА","MX",null,"МЕКСИКА","MX",null,null,null,null,"0705","ДО \"Казань-улица Ершова\"  ","420061, Российская Федерация, Республика Татарстан, г. Казань, ул. Николая Ершова, д. 29 \"Б\"","Казань"]
[null,null,null,"МИКРОНЕЗИЯ","FM",null,"МИКРОНЕЗИЯ","FM",null,null,null,null,"0825","ДО \"Казань-улица Островского\"  ","420107, Республика Татарстан, г. Казань, ул. Островского, д. 103","Казань"]
[null,null,null,"МОЗАМБИК","MZ",null,"МОЗАМБИК","MZ",null,null,null,null,"0843","ДО \"Казань-Савиново\"  ","420126, Республика Татарстан, г. Казань, пр-т Ямашева, д. 82","Казань"]
[null,null,null,"МОЛДАВИЯ","MD",null,"МОЛДАВИЯ","MD",null,null,null,null,"0848","ДО \"Казань-улица Зорге\"  ","420110, Российская Федерация,Республика Татарстан, г. Казань,ул. Рихарда Зорге, д. 75","Казань"]
[null,null,null,"МОНАКО","MC",null,"МОНАКО","MC",null,null,null,null,"0885","ДО \"Казань-улица Декабристов\"  ","420080 г. Казань, ул. Декабристовд.129","Казань"]
[null,null,null,"МОНГОЛИЯ","MN",null,"МОНГОЛИЯ","MN",null,null,null,null,"1115","ДО \"Казань-улица Закиева\"  ","420100, Республика Татарстан, г. Казань, ул. Закиева, д. 1","Казань"]
[null,null,null,"МОНТСЕРРАТ","MS",null,"МОНТСЕРРАТ","MS",null,null,null,null,"0455","ДО \"Калининград-Янтарь\"  ","236022, Россия, Калининградская область, г. Калининград, площадь Победы, д. 4","Калининград"]
[null,null,null,"НАМИБИЯ","NA",null,"НАМИБИЯ","NA",null,null,null,null,"0732","ДО \"Калининград-Южный\"  ","236044, Калининградская обл., г. Калининград, б-р Л.Шевцовой, д. 1А","Калининград"]
[null,null,null,"НАУРУ","NR",null,"НАУРУ","NR",null,null,null,null,"0836","ДО \"Калининград-Плаза\"  ","236006, Калининградская обл, г Калининград, ул Шевченко, д. 11а","Калининград"]
[null,null,null,"НЕПАЛ","NP",null,"НЕПАЛ","NP",null,null,null,null,"1533","ДО \"Калининград-Академический\"  ","236041, Калининградская область, г.Калининград , ул. Куйбышева, д. 2","Калининград"]
[null,null,null,"НИГЕР","NE",null,"НИГЕР","NE",null,null,null,null,"0672","ДО \"Калуга-улица Кирова\"  ","248008, Российская Федерация, Калужская область, г. Калуга, ул. Кирова, д. 57","Калуга"]
[null,null,null,"НИГЕРИЯ","NG",null,"НИГЕРИЯ","NG",null,null,null,null,"1140","ДО \"Калуга-улица Плеханова\"  ","248001, Калужская область, г. Калуга, ул. Кирова, д. 14","Калуга"]
[null,null,null,"НИДЕРЛАНДЫ","NL",null,"НИДЕРЛАНДЫ","NL",null,null,null,null,"0990","ДО \"Каменск-Уральский-пр.Победы\"  ","623400, Свердловская обл., г. Каменск-Уральский, пр-кт Победы, д. 39а","Каменск-Уральский"]
[null,null,null,"НИКАРАГУА","NI",null,"НИКАРАГУА","NI",null,null,null,null,"1667","ДО Каменск-Шахтинский-пр-кт Марксав Каменск-Шахтинский ","347810, Ростовская область, г. Каменск-Шахтинский, пр-кт Карла Маркса,д. 73","Каменск-Шахтинский"]
[null,null,null,"НИУЭ","NU",null,"НИУЭ","NU",null,null,null,null,"1657","ДО \"Камышин-улица Пролетарская\"  ","403873, Волгоградская область, г. Камышин, ул. Пролетарская, д. 101","Камышин"]
[null,null,null,"НОВАЯЗЕЛАНДИЯ","NZ",null,"НОВАЯЗЕЛАНДИЯ","NZ",null,null,null,null,"1802","ДО \"Канск-ул. 40 лет Октября\"  ","663604, Красноярский край, г. Канск, ул. 40 лет Октября, зд. 62, стр.4","Канск"]
[null,null,null,"НОВАЯКАЛЕДОНИЯ","NC",null,"НОВАЯКАЛЕДОНИЯ","NC",null,null,null,null,"0838","ДО \"Кемерово-Кузбасс\"  ","650991, Кемеровская обл., г.Кемерово, пр-кт Советский, д. 32","Кемерово"]
[null,null,null,"НОРВЕГИЯ","NO",null,"НОРВЕГИЯ","NO",null,null,null,null,"0960","ДО \"Кемерово-Бульвар Строителей\"  ","650003, Российская Федерация,Кемеровская область, г. Кемерово,Ленинский район, бр. Строителей,","Кемерово"]
[null,null,null,"НОРМАНДСКИЕО-ВАГЕРНСИ,ДЖЕРСИ,САРК","XG",null,"НОРМАНДСКИЕО-ВАГЕРНСИ,ДЖЕРСИ,САРК","XG",null,null,null,null,"0999","ДО \"Кемерово-Центральный\"  ","650066, Кемеровская область - Кузбасс, г. Кемерово, пр-кт Ленина, д. 64а","Кемерово"]
[null,null,null,"НОРФОЛК","NF",null,"НОРФОЛК","NF",null,null,null,null,"1665","ДО \"Кинешма-улица Ленина\"  ","155800, Ивановская область, г. Кинешма, ул. им. Ленина, д. 6","Кинешма"]
[null,null,null,"О.КЕРГЕЛЕН(ФРАНЦИЯ)","XK",null,"О.КЕРГЕЛЕН(ФРАНЦИЯ)","XK",null,null,null,null,"8074","ДО \"Кириши-проспект Героев\"  ","187112, Ленинградская область, г. Кириши, пр-кт Героев, д. 2","Кириши"]
[null,null,null,"О.ЛАБУАН(МАЛАЙЗИЯ)","XL",null,"О.ЛАБУАН(МАЛАЙЗИЯ)","XL",null,null,null,null,"0763","ДО \"Киров-улица Карла Маркса\"  ","610027, Кировская обл., г. Киров,ул. Карла Маркса, д. 99","Киров"]
[null,null,null,"О.МАДЕЙРА(ПОРТУГАЛИЯ)","XM",null,"О.МАДЕЙРА(ПОРТУГАЛИЯ)","XM",null,null,null,null,"1635","ДО \"Кирово-Чепецк-проспект Мира\"  ","613050, Кировская область, г. Кирово-Чепецк, пр-кт Мира, д. 74","Кирово-Чепецк"]
[null,null,null,"О.МЭН(ВЕЛИКОБРИТАНИЯ)","IM",null,"О.МЭН(ВЕЛИКОБРИТАНИЯ)","IM",null,null,null,null,"1692","ДО \"Киселевск-улица Ленина\"  ","652700, Кемеровская область, г. Киселевск, ул. Ленина, д. 38","Киселевск"]
[null,null,null,"ОБЪЕДИНЕННЫЕАРАБСКИЕЭМИРАТЫ","AE",null,"ОБЪЕДИНЕННЫЕАРАБСКИЕЭМИРАТЫ","AE",null,null,null,null,"1612","ДО \"Кисловодск-улица Горького\"  ","357700, Ставропольский край, г. Кисловодск, ул. Горького, д. 17Б","Кисловодск"]
[null,null,null,"ОМАН","OM",null,"ОМАН","OM",null,null,null,null,"1659","ДО \"КЛИН\"  ","141607, Московская область, г. Клин, ул. К. Маркса, д. 4","Клин"]
[null,null,null,"ОСТРОВАКУКА","CK",null,"ОСТРОВАКУКА","CK",null,null,null,null,"1197","ДО \"Клинцы-проспект Ленина\"  ","243140, Брянская область, г. Клинцы, пр-кт Ленина, д. 21","Клинцы"]
[null,null,null,"ОСТРОВРОЖДЕСТВА","CX",null,"ОСТРОВРОЖДЕСТВА","CX",null,null,null,null,"1542","ДО \"Ковров-Дегтяревский\"  ","601900, Владимирская область, г. Ковров, проспект Ленина, д. 38","Ковров"]
[null,null,null,"ОСТРОВСВЯТОЙЕЛЕНЫ","SH",null,"ОСТРОВСВЯТОЙЕЛЕНЫ","SH",null,null,null,null,"1826","ДО \"Когалым-улица Ленинградская\"  ","628484, Ханты-Мансийский автономныйокруг-Югра, г. Когалым, ул. Ленинградская, д. 17","Когалым"]
[null,null,null,"ПАКИСТАН","PK",null,"ПАКИСТАН","PK",null,null,null,null,"1622","ДО \"КОЛОМНА\"  ","140408, Московская область, г. Коломна, пл. Восстания, д. 7","Коломна"]
[null,null,null,"ПАЛАУ","PW",null,"ПАЛАУ","PW",null,null,null,null,"1820","ДО \"Колпино-улица Тверская\"  ","96655, г. Санкт-Петербург, г. Колпино, ул. Тверская, д. 34, лит. А","Колпино"]
[null,null,null,"ПАНАМА","PA",null,"ПАНАМА","PA",null,null,null,null,"1729","ДО \"КОММУНАРКА\"  ","108801, г. Москва, пос. Коммунарка,ул. Липовый парк, д. 11","Коммунарка"]
[null,null,null,"ПАПУА-НОВАЯГВИНЕЯ","PG",null,"ПАПУА-НОВАЯГВИНЕЯ","PG",null,null,null,null,"0690","ДО \"Комсомольск нА-пр-т Ленина\"  ","681013, Хабаровский край, г. Комсомольск-на-Амуре, проспект. Ленина, д. 13, пом. 1002","Комсомольск-на-Амуре"]
[null,null,null,"ПАРАГВАЙ","PY",null,"ПАРАГВАЙ","PY",null,null,null,null,"1621","ДО \"Копейск-пр-кт Победы\"  ","456618, Челябинская область, г. Копейск, пр-кт Коммунистический, д. 28","Копейск"]
[null,null,null,"ПЕРУ","PE",null,"ПЕРУ","PE",null,null,null,null,"0613","ДО \"КОРОЛЕВ\"  ","141080, Московская обл., г. Королев, пр. Космонавтов, д.  27б","Королев"]
[null,null,null,"ПИТКЭРН","PN",null,"ПИТКЭРН","PN",null,null,null,null,"1165","ДО \"Кострома-Романовский\"  ","156000, Костромская область, г. Кострома, ул. Советская, д. 30","Кострома"]
[null,null,null,"ПОЛЬША","PL",null,"ПОЛЬША","PL",null,null,null,null,"8018","ДО \"КОТЕЛЬНИКИ\"  ","140056, Московская область, г. Котельники, ул. Сосновая, д. 2, корп. 4","Котельники"]
[null,null,null,"ПОРТУГАЛИЯ","PT",null,"ПОРТУГАЛИЯ","PT",null,null,null,null,"1634","ДО \"Котлас-улица Невского\"  ","165313, Архангельская область, г. Котлас, ул. Невского, д. 20","Котлас"]
[null,null,null,"ПРИДНЕСТРОВЬЕ(МОЛДАВИЯ)","RP",null,"ПРИДНЕСТРОВЬЕ(МОЛДАВИЯ)","RP",null,null,null,null,"0626","ДО \"КРАСНОГОРСК\"  ","143409, Московская обл., г. Красногорск, ул. Ленина д. 38Б","Красногорск"]
[null,null,null,"ПУЭРТО-РИКО","PR",null,"ПУЭРТО-РИКО","PR",null,null,null,null,"0480","ДО \"Краснодар-Театральная пл\"  ","350000, г. Краснодар, ул Красная, д. 124, литер `Б`","Краснодар"]
[null,null,null,"РЕСПУБЛИКА СЕРБИЯ","RS",null,"РЕСПУБЛИКА СЕРБИЯ","RS",null,null,null,null,"0688","ДО \"Краснодар-улица Селезнева\"  ","350075, Краснодарский край, г.Краснодар, ул.Селезнева, д.134","Краснодар"]
[null,null,null,"РЕСПУБЛИКА ЧЕРНОГОРИЯ","ME",null,"РЕСПУБЛИКА ЧЕРНОГОРИЯ","ME",null,null,null,null,"0725","ДО \"Краснодар-Центр города\"  ","350015, Россия, Краснодарский край,г. Краснодар, ул. Красная, д. 176/1","Краснодар"]
[null,null,null,"РЕЮНЬОН","RE",null,"РЕЮНЬОН","RE",null,null,null,null,"0807","ДО \"Краснодар-улица Тургенева\"  ","350049 г. Краснодар, Прикубанскийокруг,  ул. Тургенева, 107 лит А","Краснодар"]
[null,null,null,"РУАНДА","RW",null,"РОССИЯ","RU",null,null,null,null,"0808","ДО \"Краснодар-Вешняки\"  ","350001, Российская Федерация, Краснодарскийкрай, г. Краснодар, Центральный округ, ул. Ставропольская, дом","Краснодар"]
[null,null,null,"РУМЫНИЯ","RO",null,"РУАНДА","RW",null,null,null,null,"1052","ДО \"Краснодар-улица 1 Мая\"  ","350901,Краснодарский край, г. Краснодар, ул. 1 Мая, д. 158","Краснодар"]
[null,null,null,"САЛЬВАДОР","SV",null,"РУМЫНИЯ","RO",null,null,null,null,"1080","ДО \"Краснодар-улица Красных Партизан\"  ","350051, Российская Федерация,Краснодарский край, г. Краснодар,ул. Красных Партизан, д. 525","Краснодар"]
[null,null,null,"САН-МАРИНО","SM",null,"САЛЬВАДОР","SV",null,null,null,null,"1705","ДО \"Краснокаменск-пр-кт Шахтеров\"  ","674676, Забайкальский край, г. Краснокаменск, пр-кт Шахтеров, д. 4а","Краснокаменск"]
[null,null,null,"САН-ТОМЕИПРИНСИПИ","ST",null,"САН-МАРИНО","SM",null,null,null,null,"1623","ДО \"Краснокамск-пр-кт Мира\"  ","617060, Пермский край, г. Краснокамск, пр-кт Мира, д. 6","Краснокамск"]
[null,null,null,"САУДОВСКАЯАРАВИЯ","SA",null,"САН-ТОМЕИПРИНСИПИ","ST",null,null,null,null,"1792","ДО \"Краснотурьинск-улица Ленина\"  ","624440, Свердловская область, г. Краснотурьинск, ул. Ленина, д. 37","Краснотурьинск"]
[null,null,null,"СВАЗИЛЕНД","SZ",null,"САУДОВСКАЯАРАВИЯ","SA",null,null,null,null,"0456","ДО \"Красноярск-Енисей\"  ","660017, Красноярский край, г. Красноярск, ул. Горького, д. 10","Красноярск"]
[null,null,null,"СЕВЕРНЫЕМАРИАНСКИЕОСТРОВА","MP",null,"СВАЗИЛЕНД","SZ",null,null,null,null,"0776","ДО \"Красноярск-Красный Яр\"  ","660049, г. Красноярск, ул. Мира,дом 10","Красноярск"]
[null,null,null,"СЕЙШЕЛЬСКИЕОСТРОВА","SC",null,"СЕВЕРНЫЕМАРИАНСКИЕОСТРОВА","MP",null,null,null,null,"0862","ДО \"Красноярск-Бирюса\"  ","660037, Красноярск, проспект именигазеты \"Красноярский рабочий\", д.35","Красноярск"]
[null,null,null,"СЕНЕГАЛ","SN",null,"СЕЙШЕЛЬСКИЕОСТРОВА","SC",null,null,null,null,"0882","ДО \"Красноярск-Октябрьский\"  ","660041, Красноярский край, г. Красноярск ул. Высотная, д.1","Красноярск"]
[null,null,null,"СЕН-ПЬЕРИМИКЕЛОН","PM",null,"СЕНЕГАЛ","SN",null,null,null,null,"0887","ДО \"Красноярск-Монолит\"  ","г. Красноярск, ул. Взлётная, 18","Красноярск"]
[null,null,null,"СЕНТ-ВИНСЕНТИГРЕНАДИНЫ","VC",null,"СЕН-ПЬЕРИМИКЕЛОН","PM",null,null,null,null,"0889","ДО \"Красноярск-Правобережный\"  ","660077 г. Красноярск,  пр.Красноярский рабочий дом,199","Красноярск"]
[null,null,null,"СЕНТ-КИТСИНЕВИС","KN",null,"СЕНТ-ВИНСЕНТИГРЕНАДИНЫ","VC",null,null,null,null,"1139","ДО \"Красноярск-Западный\"  ","660001, Красноярский край, г. Красноярск, ул. Копылова, д. 66","Красноярск"]
[null,null,null,"СЕНТ-ЛЮСИЯ","LC",null,"СЕНТ-КИТСИНЕВИС","KN",null,null,null,null,"1540","ДО \"Кронштадт-проспект Ленина\"  ","197760, г. Санкт-Петербург, г. Кронштадт, пр-кт Ленина, д. 16, лит. А","Кронштадт"]
[null,null,null,"СИНГАПУР","SG",null,"СЕНТ-ЛЮСИЯ","LC",null,null,null,null,"1714","ДО \"Кропоткин-улица Красная\"  ","352380, Краснодарский край, г. Кропоткин, ул. Красная, д. 96","Кропоткин"]
[null,null,null,"СЛОВАКИЯ","SK",null,"СИНГАПУР","SG",null,null,null,null,"1723","ДО \"Крымск-улица Синева\"  ","353380, Краснодарский край, г. Крымск, ул. Синева, д. 9Б","Крымск"]
[null,null,null,"СЛОВЕНИЯ","SI",null,"СЛОВАКИЯ","SK",null,null,null,null,"1602","ДО \"Кстово-ул. 40 лет Октября\"  ","607651, Нижегородская область, г. Кстово, ул. 40 лет Октября, д. 4","Кстово"]
[null,null,null,"СОЕДИНЕННЫЕШТАТЫАМЕРИКИ","US",null,"СЛОВЕНИЯ","SI",null,null,null,null,"8022","ДО \"Кудрово-проспект Европейский\"  ","188693, Ленинградская область, г. Кудрово, Европейский пр-кт, д. 8","Кудрово"]
[null,null,null,"СОЛОМОНОВЫОСТРОВА","SB",null,"СОЕДИНЕННЫЕШТАТЫАМЕРИКИ","US",null,null,null,null,"1613","ДО \"Кузнецк-улица Белинского\"  ","442530, Пензенская область, г. Кузнецк, ул. Белинского, д. 127/1","Кузнецк"]
[null,null,null,"СУРИНАМ","SR",null,"СОЛОМОНОВЫОСТРОВА","SB",null,null,null,null,"1670","ДО \"Куйбышев-улица Краскома\"  ","632382, Новосибирская область, г. Куйбышев, 11 кв-л, д. 9","Куйбышев"]
[null,null,null,"СЬЕРРА-ЛЕОНЕ","SL",null,"СУРИНАМ","SR",null,null,null,null,"1685","ДО \"Кумертау-пл. Советов\"  ","453300, Республика Башкортостан, г.Кумертау, ул. Карла Маркса, д. 11","Кумертау"]
[null,null,null,"СЯНГАН(ГОНКОНГ)","HK",null,"СЬЕРРА-ЛЕОНЕ","SL",null,null,null,null,"1676","ДО \"Кунгур-улица Пугачева\"  ","617470, Пермский край, г. Кунгур, ул. Пугачева, д. 25","Кунгур"]
[null,null,null,"ТАДЖИКИСТАН","TJ",null,"СЯНГАН(ГОНКОНГ)","HK",null,null,null,null,"0694","ДО \"Курган-Выставочный центр\"  ","640002, г.Курган, ул. Гоголя, д.17/1","Курган"]
[null,null,null,"ТАИЛАНД","TH",null,"ТАДЖИКИСТАН","TJ",null,null,null,null,"0851","ДО \"Курган-Зауралье\"  ","640002, Российская Федерация, Курганская область, г. Курган, ул. Гоголя, дом №60, помещение 60/2","Курган"]
[null,null,null,"ТАЙВАНЬ","TW",null,"ТАИЛАНД","TH",null,null,null,null,"1042","ДО \"Курск-улица Никитская\"  ","305029, Россия, Курская область, г.Курск, ул. Никитская, д. 1-в","Курск"]
[null,null,null,"ТАНЗАНИЯ","TZ",null,"ТАЙВАНЬ","TW",null,null,null,null,"1130","ДО \"Курск-улица Ленина\"  ","305000, Курская область, г. Курск,ул. Ленина, д. 31, пом. 1б","Курск"]
[null,null,null,"ТЕРКСИКАЙКОС","TC",null,"ТАНЗАНИЯ","TZ",null,null,null,null,"1793","ДО \"Курчатов-улица Садовая\"  ","307250, Курская область, г. Курчатов, ул. Садовая, д. 11А","Курчатов"]
[null,null,null,"ТОГО","TG",null,"ТЕРКСИКАЙКОС","TC",null,null,null,null,"1794","ДО \"Лабинск-улица Халтурина\"  ","352500, Краснодарский край, г. Лабинск, ул. Халтурина, д. 18","Лабинск"]
[null,null,null,"ТОКЕЛАУ(ЮНИОН)","TK",null,"ТОГО","TG",null,null,null,null,"1822","ДО \"Лениногорск-пр-кт 50 лет Победы\"  ","423250, Республика Татарстан, г. Лениногорск, пр-кт 50 лет Победы, зд.11А","Лениногорск"]
[null,null,null,"ТОНГА","TO",null,"ТОКЕЛАУ(ЮНИОН)","TK",null,null,null,null,"1188","ДО \"Ленинск-Кузнецкий\"  ","652500, Кемеровская область, г. Ленинск-Кузнецкий, проспект Кирова, д.49","Ленинск-Кузнецкий"]
[null,null,null,"ТРИНИДАДИТОБАГО","TT",null,"ТОНГА","TO",null,null,null,null,"1810","ДО \"Лесосибирск-улица Мира\"  ","662547, Красноярский край, г. Лесосибирск, 5-й микрорайон, д. 26","Лесосибирск"]
[null,null,null,"ТУВАЛУ","TV",null,"ТРИНИДАДИТОБАГО","TT",null,null,null,null,"1619","ДО \"Ливны-улица Горького\"  ","303850, Орловская область, г. Ливны, ул. Максима Горького, д. 2","Ливны"]
[null,null,null,"ТУНИС","TN",null,"ТУВАЛУ","TV",null,null,null,null,"0798","ДО \"Липецк-Петровский\"  ","398059, г.Липецк, ул. Барышева д. 7","Липецк"]
[null,null,null,"ТУРКМЕНИЯ","TM",null,"ТУНИС","TN",null,null,null,null,"0841","ДО \"Липецк-проспект Победы\"  ","398024, г. Липецк, проспект Победы,д. 20","Липецк"]
[null,null,null,"ТУРЦИЯ","TR",null,"ТУРКМЕНИЯ","TM",null,null,null,null,"1127","ДО \"Липецк-Октябрьский\"  ","398046, Липецкая область, г. Липецк, ул. Им. Генерала Меркулова, д. 10А, пом.1","Липецк"]
[null,null,null,"УГАНДА","UG",null,"ТУРЦИЯ","TR",null,null,null,null,"8019","ДО \"Лиски-улица Коммунистическая\"  ","397901, Воронежская область, г. Лиски, ул. Коммунистическая, д. 36","Лиски"]
[null,null,null,"УЗБЕКИСТАН","UZ",null,"УГАНДА","UG",null,null,null,null,"1639","ДО \"ЛОБНЯ-УЛИЦА ЛЕНИНА\"  ","141730, Московская область, г. Лобня, ул. Ленина, д. 16","Лобня"]
[null,null,null,"УКРАИНА","UA",null,"УЗБЕКИСТАН","UZ",null,null,null,null,"1715","ДО \"Лысьва-улица Мира\"  ","618900, Пермский край, г. Лысьва, ул. Мира, д. 11","Лысьва"]
[null,null,null,"УОЛЛИСИФУТУНА","WF",null,"УКРАИНА","UA",null,null,null,null,"0639","ДО \"ЛЮБЕРЦЫ\"  ","140000, Московская обл., г. Люберцы, Октябрьский проспект, д.151/9","Люберцы"]
[null,null,null,"УРУГВАЙ","UY",null,"УОЛЛИСИФУТУНА","WF",null,null,null,null,"1638","ДО \"Магадан-сквер Победы\"  ","685000, Магаданская область, г. Магадан, пр-кт Карла Маркса, д. 36/20","Магадан"]
[null,null,null,"ФАРЕРСКИЕОСТРОВА","FO",null,"УРУГВАЙ","UY",null,null,null,null,"0961","ДО \"Магнитогорск-Металлург\"  ","455000, г. Магнитогорск, пр-ктЛенина, д. 51","Магнитогорск"]
[null,null,null,"ФИДЖИ","FJ",null,"ФАРЕРСКИЕОСТРОВА","FO",null,null,null,null,"0989","ДО \"Магнитогорск-Центральный\"  ","455037 Челябинская область, г. Магнитогорск, пр-т Ленина, д. 90","Магнитогорск"]
[null,null,null,"ФИЛИППИНЫ","PH",null,"ФИДЖИ","FJ",null,null,null,null,"1132","ДО \"Магнитогорск-проспект Маркса\"  ","455045, Челябинская область, г. Магнитогорск, пр. Карла Маркса, д.179а","Магнитогорск"]
[null,null,null,"ФИНЛЯНДИЯ","FI",null,"ФИЛИППИНЫ","PH",null,null,null,null,"1814","ДО \"Майкоп-улица Жуковского\"  ","385000, Республика Адыгея, г. Майкоп, ул. Жуковского, д. 20А/ ул. Советская, д. 199","Майкоп"]
[null,null,null,"ФОЛКЛЕНДСКИЕОСТРОВА","FK",null,"ФИНЛЯНДИЯ","FI",null,null,null,null,"1808","ДО \"Махачкала-Центральный\"  ","367026, Республика Дагестан, г. Махачкала, пр-кт Имама Шамиля, д. 36К","Махачкала"]
[null,null,null,"ФРАНЦИЯ","FR",null,"ФОЛКЛЕНДСКИЕОСТРОВА","FK",null,null,null,null,"0884","ДО \"Мегион-улица Нефтеразведочная\" ","628681, ХМАО, г. Мегион, ул.Нефтеразведочная, дом 2","Мегион"]
[null,null,null,"ФРАНЦУЗСКАЯПОЛИНЕЗИЯ","PF",null,"ФРАНЦИЯ","FR",null,null,null,null,"1636","ДО \"Междуреченск-улица Комарова\"  ","652870, Кемеровская область, г. Междуреченск, Коммунистический пр-кт,д. 18","Междуреченск"]
[null,null,null,"ФРАНЦУЗСКИЕЮЖНЫЕТЕРРИТОРИИ","TF",null,"ФРАНЦУЗСКАЯПОЛИНЕЗИЯ","PF",null,null,null,null,"0696","ДО \"Миасс-пр-кт Автозаводцев\"  ","456300, Челябинская область, г. Миасс, пр. Автозаводцев, дом 61 Б","Миасс"]
[null,null,null,"ХЕРДИМАКДОНАЛЬД","HM",null,"ФРАНЦУЗСКИЕЮЖНЫЕТЕРРИТОРИИ","TF",null,null,null,null,"1769","ДО \"Минеральные Воды-Вершина\"  ","357207, Ставропольский край, г. Минеральные Воды, пр-кт 22 Партсъезда,влд. 94/1","Минеральные Воды"]
[null,null,null,"ХОРВАТИЯ","HR",null,"ХЕРДИМАКДОНАЛЬД","HM",null,null,null,null,"1770","ДО \"Минусинск-ул. Абаканская\"  ","662606, Красноярский край, г. Минусинск, ул. Абаканская, д. 48","Минусинск"]
[null,null,null,"ЦЕНТРАЛЬНОАФРИКАНСКАЯРЕСПУБЛИКА","CF",null,"ХОРВАТИЯ","HR",null,null,null,null,"1628","ДО \"Михайловка-улица Обороны\"  ","403343, Волгоградская область, г. Михайловка, ул. Обороны, д. 44/53","Михайловка"]
[null,null,null,"ЧАД","TD",null,"ЦЕНТРАЛЬНОАФРИКАНСКАЯРЕСПУБЛИКА","CF",null,null,null,null,"1740","ДО \"Михайловск-улица Войкова\"  ","356240, Ставропольский край, г. Михайловск, ул. Войкова, д. 454/1","Михайловск"]
[null,null,null,"ЧЕХИЯ","CZ",null,"ЧАД","TD",null,null,null,null,"1620","ДО \"Мичуринск-улица Советская\"  ","393760, Тамбовская область, г. Мичуринск, ул. Советская, д. 323","Мичуринск"]
[null,null,null,"ЧИЛИ","CL",null,"ЧЕХИЯ","CZ",null,null,null,null,"0404","ДО \"НОВОГИРЕЕВО\"  ","111396, г. Москва, пр-кт Свободный, д. 20А","Москва"]
[null,null,null,"ШВЕЙЦАРИЯ","CH",null,"ЧИЛИ","CL",null,null,null,null,"0405","ДО \"ФРУНЗЕНСКИЙ\"  ","119021, г. Москва, пр-кт  Комсомольский, д. 24 , стр. 1","Москва"]
[null,null,null,"ШВЕЦИЯ","SE",null,"ШВЕЙЦАРИЯ","CH",null,null,null,null,"0410","ДО \"ПРЕСНЕНСКИЙ ВАЛ\"  ","123022, г. Москва, ул.ПресненскийВал, д.7, стр. 1","Москва"]
[null,null,null,"ШЕННОН(ИРЛАНДИЯ)","XH",null,"ШВЕЦИЯ","SE",null,null,null,null,"0414","ДО \"СОКОЛЬНИКИ\"  ","107113, г. Москва, ул.Русаковская,д.29","Москва"]
[null,null,null,"ШПИЦБЕРГЕНОСТРОВА","SJ",null,"ШЕННОН(ИРЛАНДИЯ)","XH",null,null,null,null,"0417","ДО \"КУЗНЕЦКИЙ МОСТ\"  ","107031, г. Москва, ул. Неглинная,д. 10","Москва"]
[null,null,null,"ШРИ-ЛАНКА","LK",null,"ШПИЦБЕРГЕНОСТРОВА","SJ",null,null,null,null,"0419","ДО \"БАУМАНСКАЯ\"  ","105066, г. Москва, ул. Нижняя Красносельская, д 45/17","Москва"]
[null,null,null,"ШТАТВАЙОМИНГ(США)","XV",null,"ШРИ-ЛАНКА","LK",null,null,null,null,"0420","ДО \"МЕНДЕЛЕЕВСКИЙ\"  ","127030, г. Москва,  ул. Новослободская, д. 23","Москва"]
[null,null,null,"ШТАТДЕЛАВЕР(США)","XE",null,"ШТАТВАЙОМИНГ(США)","XV",null,null,null,null,"0422","ДО \"АРБАТСКИЙ\"  ","119019, Москва, ул. Арбат, д. 4,стр. 1","Москва"]
[null,null,null,"ЭКВАДОР","EC",null,"ШТАТДЕЛАВЕР(США)","XE",null,null,null,null,"0423","ДО \"АЛЕКСЕЕВСКИЙ\"  ","129085, г. Москва, пр-т Мира, д. 91, корп. 2","Москва"]
[null,null,null,"ЭКВАТОРИАЛЬНАЯГВИНЕЯ","GQ",null,"ЭКВАДОР","EC",null,null,null,null,"0426","ДО \"ТРЕТЬЯКОВСКИЙ\" ","115035, г.Москва, ул. Большая Ордынка, д.21, стр.2","Москва"]
[null,null,null,"ЭСТОНИЯ","EE",null,"ЭКВАТОРИАЛЬНАЯГВИНЕЯ","GQ",null,null,null,null,"0427","ДО \"ОЛИМПИЙСКИЙ\"  ","129090, г. Москва, пр-кт. Мира, д.42","Москва"]
[null,null,null,"ЭФИОПИЯ","ET",null,"ЭСТОНИЯ","EE",null,null,null,null,"0428","ДО \"КУТУЗОВСКИЙ ПРОСПЕКТ\"  ","121165, г. Москва, Кутузовскийпроспект, дом 30/32","Москва"]
[null,null,null,"ЮЖ.ГЕОРГИЯИЮЖ.САНДВИЧЕВЫО-ВА","GS",null,"ЭФИОПИЯ","ET",null,null,null,null,"0433","ДО \"ВАРШАВСКИЙ\"  ","117556, г. Москва, ш. Варшавское.,д. 76, корп. 1","Москва"]
[null,null,null,"ЮЖНО-АФРИКАНСКАЯРЕСПУБЛИКА","ZA",null,"ЮЖ.ГЕОРГИЯИЮЖ.САНДВИЧЕВЫО-ВА","GS",null,null,null,null,"0436","ДО \"КУЗЬМИНКИ\"  ","109462, г. Москва, ул. Маршала Чуйкова, д. 3","Москва"]
[null,null,null,"ЯМАЙКА","JM",null,"ЮЖНО-АФРИКАНСКАЯРЕСПУБЛИКА","ZA",null,null,null,null,"0437","ДО \"ЛОМОНОСОВСКИЙ\"  ","119261, г. Москва, Ленинский проспект, д. 78","Москва"]
[null,null,null,"ЯПОНИЯ","JP",null,"ЯМАЙКА","JM",null,null,null,null,"0440","ДО \"КУРСКАЯ\"  ","105120, г.Москва, ул. Земляной Вал,д. 41, стр. 1","Москва"]
[null,null,null,"ЛИЦО БЕЗ ГРАЖДАНСТВА","NN",null,"ЯПОНИЯ","JP",null,null,null,null,"0444","ДО \"МАРЬИНО\"  ","109652, г. Москва, ул. Люблинская,д. 165, корп. 1","Москва"]
[null,null,null,null,null,null,"ЛИЦО БЕЗ ГРАЖДАНСТВА","NN",null,null,null,null,"0450","ДО \"БАЛТИЙСКИЙ\"  ","125315, г.Москва, пр-кт Ленинградский, д.74, к. 1","Москва"]
[null,null,null,null,null,null,null,null,null,null,null,null,"0600","ДО \"РЕЧНОЙ ВОКЗАЛ\"  ","125565, г. Москва, ул.Фестивальная,д.13, корп.1","Москва"]
[null,null,null,null,null,null,null,null,null,null,null,null,"0603","ДО \"ШУВАЛОВСКИЙ\"  ","119192, г. Москва, пр-кт  Мичуринский, д.7","Москва"]
[null,null,null,null,null,null,null,null,null,null,null,null,"0605","ДО \"МИТИНО\"  ","125430, г. Москва, ул. Митинская, д. 36, корп. 1","Москва"]
[null,null,null,null,null,null,null,null,null,null,null,null,"0610","ДО \"ЮГО-ЗАПАДНАЯ\"  ","119571, г. Москва, пр-кт Вернадского , д.119","Москва"]
[null,null,null,null,null,null,null,null,null,null,null,null,"0612","ДО \"БЕЛЯЕВО\"  ","117437, г. Москва, ул.Профсоюзная ,д.104","Москва"]
[null,null,null,null,null,null,null,null,null,null,null,null,"0616","ДО \"ДМИТРОВСКИЙ\"  ","127015, г. Москва, ул. Бутырская,д.89","Москва"]
[null,null,null,null,null,null,null,null,null,null,null,null,"0617","ДО \"КРЫЛАТСКОЕ\"  ","121609, г. Москва, Осенний бульвар,д. 7, корп. 1","Москва"]
[null,null,null,null,null,null,null,null,null,null,null,null,"0619","ДО \"УНИВЕРСИТЕТ\"  ","119311, г. Москва, пр-кт Ломоносовский, д.25 к.1","Москва"]
[null,null,null,null,null,null,null,null,null,null,null,null,"0621","ДО \"ХОРОШЕВСКИЙ\"  ","123007, г. Москва, ш.Хорошевское, д. 35, корп. 1","Москва"]
[null,null,null,null,null,null,null,null,null,null,null,null,"0623","ДО \"СЕМЕНОВСКИЙ\"  ","105318, г. Москва, ул.Вельяминовская, д. 6, стр. 2","Москва"]
[null,null,null,null,null,null,null,null,null,null,null,null,"0625","ДО \"ЩУКИНСКИЙ\"  ","123182, г. Москва, ул. Авиационная,д. 66","Москва"]
[null,null,null,null,null,null,null,null,null,null,null,null,"0627","ДО \"АЛТУФЬЕВО\"  ","127349 г. Москва, ул. Лескова д. 3Г","Москва"]
[null,null,null,null,null,null,null,null,null,null,null,null,"0628","ДО \"ПРОФСОЮЗНАЯ\"  ","117218, г. Москва, ул. Профсоюзная,д. 13/12","Москва"]
[null,null,null,null,null,null,null,null,null,null,null,null,"0630","ДО \"КОСИНО\"  ","109145, г. Москва, Лермонтовский проспект, д. 10, корп. 1","Москва"]
[null,null,null,null,null,null,null,null,null,null,null,null,"0633","ДО \"ЧЕРТАНОВСКИЙ\"  ","117639, г. Москва, ул. Чертановская, д.1В, корп. 1","Москва"]
[null,null,null,null,null,null,null,null,null,null,null,null,"0635","ДО \"СМОЛЕНСКАЯ\"  ","119121, г. Москва, пл. Смоленская-Сенная, д.27, стр.1","Москва"]
[null,null,null,null,null,null,null,null,null,null,null,null,"0636","ДО \"СХОДНЕНСКИЙ\"  ","125363, г. Москва, б-р Яна Райниса,д. 1","Москва"]
[null,null,null,null,null,null,null,null,null,null,null,null,"0637","ДО \"КОЛОМЕНСКИЙ\"  ","115470, г. Москва, ул. Новинки д.1","Москва"]
[null,null,null,null,null,null,null,null,null,null,null,null,"0638","ДО \"АВТОЗАВОДСКИЙ\"  ","115280, г. Москва, ул. Автозаводская, д. 5","Москва"]
[null,null,null,null,null,null,null,null,null,null,null,null,"0642","ДО \"ЦАРИЦЫНО\"  ","115516, г.Москва, ул.Луганская,д.10","Москва"]
[null,null,null,null,null,null,null,null,null,null,null,null,"0643","ДО \"ОТРАДНОЕ\"  ","127566, г. Москва, ул. Декабристов,д. 17","Москва"]
[null,null,null,null,null,null,null,null,null,null,null,null,"0644","ДО \"БУЛЬВАР ДМИТРИЯ ДОНСКОГО\"  ","117216, г. Москва, б-р Дмитрия Донского,д. 11","Москва"]
[null,null,null,null,null,null,null,null,null,null,null,null,"0645","ДО \"АННИНО\"  ","117405, г. Москва, ш. Варшавское, д. 160","Москва"]
[null,null,null,null,null,null,null,null,null,null,null,null,"0646","ДО \"ТИМИРЯЗЕВСКИЙ\"  ","127434, г. Москва, ш. Дмитровское,д. 15, корпус 1","Москва"]
[null,null,null,null,null,null,null,null,null,null,null,null,"0651","ДО \"ВОЙКОВСКИЙ\"  ","125171, г. Москва, ш. Ленинградское, д. 15","Москва"]
[null,null,null,null,null,null,null,null,null,null,null,null,"0654","ДО \"ПРОЛЕТАРСКИЙ\"  ","109044, г. Москва, 3-й Крутицкий переулок, д. 13","Москва"]
[null,null,null,null,null,null,null,null,null,null,null,null,"0655","ДО \"КИЕВСКОЕ ШОССЕ\"  ","108811, г. Москва, п Московский, ш.Киевское  22-й км, вл.4, стр.1","Москва"]
[null,null,null,null,null,null,null,null,null,null,null,null,"0660","ДО \"КОМСОМОЛЬСКАЯ\"  ","107078, г. Москва,  ул. Каланчевская, д.27","Москва"]
[null,null,null,null,null,null,null,null,null,null,null,null,"0661","ДО \"БРАТИСЛАВСКАЯ\"  ","109341, г. Москва, ул. Перерва, д.56/2","Москва"]
[null,null,null,null,null,null,null,null,null,null,null,null,"0663","ДО \"ПАВЕЛЕЦКИЙ\"  ","115054, г. Москва, ул. Валовая, д.6","Москва"]
[null,null,null,null,null,null,null,null,null,null,null,null,"0664","ДО \"СКОБЕЛЕВСКИЙ\"  ","117042, г.Москва, б-р Адмирала Ушакова, д.2","Москва"]
[null,null,null,null,null,null,null,null,null,null,null,null,"0669","ДО \"Щелковский\"","107241, г. Москва, ул. Уральская, д. 1","Москва"]
[null,null,null,null,null,null,null,null,null,null,null,null,"1187","ДО \"РАССКАЗОВКА\"  ","108849, г. Москва, пос. Внуковское,ул. Корнея Чуковского, д. 2","Москва"]
[null,null,null,null,null,null,null,null,null,null,null,null,"1504","ДО \"ЯСЕНЕВО\"  ","117588, г. Москва, пр-кт Новоясеневский, д. 7","Москва"]
[null,null,null,null,null,null,null,null,null,null,null,null,"1512","ДО \"МОЛОДЕЖНЫЙ\"  ","121552, г. Москва, ул. Ярцевская, д. 27, корп. 1","Москва"]
[null,null,null,null,null,null,null,null,null,null,null,null,"1513","ДО \"НЕКРАСОВКА\"  ","111674, г. Москва, ул. Покровская,д. 20","Москва"]
[null,null,null,null,null,null,null,null,null,null,null,null,"1515","ДО \"ПЕРВОМАЙСКИЙ\"  ","105043, г. Москва, ул. 9-я Парковая, д. 23","Москва"]
[null,null,null,null,null,null,null,null,null,null,null,null,"1516","ДО \"ВОРОТЫНСКИЙ\"  ","125466, г. Москва, ул. Воротынская,д. 2","Москва"]
[null,null,null,null,null,null,null,null,null,null,null,null,"1520","ДО \"ДОМОДЕДОВСКИЙ\"  ","115583, г. Москва, ул. Генерала Белова, д. 35","Москва"]
[null,null,null,null,null,null,null,null,null,null,null,null,"1521","ДО \"БАБУШКИНСКИЙ\"  ","129327, г. Москва, ул. Менжинского,д. 23 корп.1","Москва"]
[null,null,null,null,null,null,null,null,null,null,null,null,"1523","ДО \"МАЛАЯ БРОННАЯ\"  ","123104, г. Москва, ул. Малая Бронная д.15 Б","Москва"]
[null,null,null,null,null,null,null,null,null,null,null,null,"1537","ДО \"МАЯКОВСКАЯ\"  ","125375, г. Москва, ул. Тверская, д.28, корп. 1","Москва"]
[null,null,null,null,null,null,null,null,null,null,null,null,"1598","ДОПОЛНИТЕЛЬНЫЙ ОФИС \"АВИАПАРК\"  ","125252, г. Москва, ул. Авиаконструктора Микояна, д. 12","Москва"]
[null,null,null,null,null,null,null,null,null,null,null,null,"1599","ДО \"ПЛОЩАДЬ ИЛЬИЧА\"  ","109544, г. Москва, б-р Энтузиастов,д. 2","Москва"]
[null,null,null,null,null,null,null,null,null,null,null,null,"1609","ДО \"МЕДВЕДКОВСКИЙ\"  ","127282, г. Москва, ул. Грекова, д.3, корп. 3","Москва"]
[null,null,null,null,null,null,null,null,null,null,null,null,"1801","ДО \"УЛ. НАРОДНОГО ОПОЛЧЕНИЯ\"  ","123060, г. Москва, ул. Народного Ополчения, д. 45","Москва"]
[null,null,null,null,null,null,null,null,null,null,null,null,"1800","ДО \"Мурино-бульвар Менделеева\"  ","188677, Ленинградская область, г. Мурино, б-р Менделеева, д. 11, корп.1","Мурино"]
[null,null,null,null,null,null,null,null,null,null,null,null,"0445","ДО \"Мурманск-площадь Пять углов\"  ","183038, Мурманская область, г. Мурманск, пр-кт Ленина, д. 82","Мурманск"]
[null,null,null,null,null,null,null,null,null,null,null,null,"0823","ДО \"Мурманск-проспект Ленина\"  ","183038 г. Мурманск, проспектЛенина, д. 19А","Мурманск"]
[null,null,null,null,null,null,null,null,null,null,null,null,"1066","ДО \"Мурманск-Кольский проспект\"  ","183052, Мурманская область, город Мурманск, проспект Кольский, дом 158","Мурманск"]
[null,null,null,null,null,null,null,null,null,null,null,null,"1189","ДО \"Муром-Вознесенская площадь\"  ","602267, Владимирская область, г. Муром, ул. Московская, д. 47","Муром"]
[null,null,null,null,null,null,null,null,null,null,null,null,"0622","ДО \"МЫТИЩИ\"  ","141006, Московская обл., г. Мытищи,пр-кт Олимпийский, д.19, корп.1","Мытищи"]
[null,null,null,null,null,null,null,null,null,null,null,null,"0665","ДО \"МЫТИЩИ-АЙСБЕРГ\"  ","141008, Московская обл., г. Мытищи,ул. Мира, д. 26А","Мытищи"]
[null,null,null,null,null,null,null,null,null,null,null,null,"0749","ДО \"НАБЕРЕЖНЫЕ ЧЕЛНЫ-БОРОВЕЦКИЙ\" ","Республика Татарстан, г. НабережныеЧелны, просп. Хасана Туфана, д. 29б","Набережные Челны"]
[null,null,null,null,null,null,null,null,null,null,null,null,"0853","ДО \"Набережные Челны-Центральный\"  ","423812, респ. Татарстан, г.Набережные Челны, пр-кт Мира, д.24М","Набережные Челны"]
[null,null,null,null,null,null,null,null,null,null,null,null,"1632","ДО \"НАРО-ФОМИНСК\"  ","143300, Московская область, г. Наро-Фоминск, пл. Свободы, д. 2","Наро-Фоминск"]
[null,null,null,null,null,null,null,null,null,null,null,null,"0877","ДО \"Находка-Северный проспект\"  ","692914, Российская Федерация, Приморский край, г. Находка, проспект Северный, д.2, корпус 1","Находка"]
[null,null,null,null,null,null,null,null,null,null,null,null,"1198","ДО \"Невинномысск-ул. Гагарина\"  ","357100, Ставропольский край, г. Невинномысск, ул. Гагарина, д. 70Б","Невинномысск"]
[null,null,null,null,null,null,null,null,null,null,null,null,"1159","ДО \"Нефтекамск-улица Ленина\"  ","452680, Россия, Республика Башкортостан, г. Нефтекамск, улица Ленина,д. 19Е","Нефтекамск"]
[null,null,null,null,null,null,null,null,null,null,null,null,"1161","ДО \"Нефтеюганск-улица Нефтяников\"  ","628306, Ханты-Мансийский Автономныйокруг-Югра, г. Нефтеюганск, 15 микрорайон, 8б","Нефтеюганск"]
[null,null,null,null,null,null,null,null,null,null,null,null,"0465","ДО \"Нижневартовск-Центральный\"  ","628606, Тюменская обл.,Ханты-Мансийский автономный округ,г. Нижневартовск, пр-т Победы, 11","Нижневартовск"]
[null,null,null,null,null,null,null,null,null,null,null,null,"0708","ДО \"Нижневартовск-Космос\"  ","628611, Ханты-Мансийский автономныйокруг, Югра, г. Нижневартовск, ул.Ленина, д.17а","Нижневартовск"]
[null,null,null,null,null,null,null,null,null,null,null,null,"1149","ДО \"Нижнекамск-проспект Мира\"  ","423571, Республика Татарстан, г. Нижнекамск, пр-кт Мира, д. 61Г","Нижнекамск"]
[null,null,null,null,null,null,null,null,null,null,null,null,"0483","ДО \"Нижний Новгород-Центральный\"  ","603024, Нижегородская область, г. Нижний Новгород, ул. Белинского , д.61, корп.2","Нижний Новгород"]
[null,null,null,null,null,null,null,null,null,null,null,null,"0740","ДО \"Нижний Новгород-Мещерский\"  ","603002, Нижегородская область, г. Нижний Новгород, ул. Фильченкова, д.10","Нижний Новгород"]
[null,null,null,null,null,null,null,null,null,null,null,null,"0790","ДО \"Нижний Новгород-Заречье\"  ","603135, Нижегородская область, г. Нижний Новгород, Ленинский район, просп. Ленина, д. 45","Нижний Новгород"]
[null,null,null,null,null,null,null,null,null,null,null,null,"0831","ДО \"Нижний Новгород-Сормовский\"  ","603003, Нижегородская  область,  г.Нижний Новгород, Сормовский  район, ул. Коминтерна, д. 164, пом. П5.","Нижний Новгород"]
[null,null,null,null,null,null,null,null,null,null,null,null,"0835","ДО \"Нижний Новгород-Горьковский\"  ","603035, Российская Федерация, Нижегородская область, г. Нижний Новгород, Нижегородский район, ул. Горьког","Нижний Новгород"]
[null,null,null,null,null,null,null,null,null,null,null,null,"1117","ДО \"Нижний Новгород-ул.Веденяпина\" ","603004, Нижегородская обл., г. Нижний Новгород, Автозаводский район, пр-кт Ленина, д. 100Д, пом. П8","Нижний Новгород"]
[null,null,null,null,null,null,null,null,null,null,null,null,"0964","ДО \"Нижний Тагил-проспект Ленина\"  ","622034, Свердловская обл., г.Нижний Тагил, пр-кт Ленина, д. 69","Нижний Тагил"]
[null,null,null,null,null,null,null,null,null,null,null,null,"0969","ДО \"Нижний Тагил-Вагоностроительный\"  ","622007, Свердловская обл., г.Нижний Тагил, пр-ктВагоностроителей, д. 13","Нижний Тагил"]
[null,null,null,null,null,null,null,null,null,null,null,null,"1780","ДО \"Новоалтайск-ул. Октябрьская\"  ","658087, Алтайский край, г.Новоалтайск, ул. Октябрьская, д. 13","Новоалтайск"]
[null,null,null,null,null,null,null,null,null,null,null,null,"0693","ДО \"Новокузнецк-пр-кт Металлургов\" ","654007, Кемеровская область –Кузбасс, г. Новокузнецк, проспектМеталлургов, 32","Новокузнецк"]
[null,null,null,null,null,null,null,null,null,null,null,null,"0962","ДО \"Новокузнецк-улица Тольятти\"  ","654080, г. Новокузнецк, ул.Тольятти, д 44","Новокузнецк"]
[null,null,null,null,null,null,null,null,null,null,null,null,"1195","ДО \"Новокуйбышевск-ул. Миронова\"  ","446200, Самарская область, г. Новокуйбышевск, ул. Миронова, д. 3","Новокуйбышевск"]
[null,null,null,null,null,null,null,null,null,null,null,null,"1152","ДО \"Новомосковск-Городская пл\"  ","301650, Тульская область, Новомосковский р-н, г. Новомосковск, ул. Комсомольская/ул. Трудовые резервы, д.","Новомосковск"]
[null,null,null,null,null,null,null,null,null,null,null,null,"0883","ДО \"Новороссийск-улица Толстого\"  ","353905, Краснодарский край, г. Новороссийск, ул. Толстого, д. 2Г","Новороссийск"]
[null,null,null,null,null,null,null,null,null,null,null,null,"1110","ДО \"Новороссийск-Южный парк\"  ","353915, Краснодарский край, г. Новороссийск, просп. Дзержинского, д. 205 А","Новороссийск"]
[null,null,null,null,null,null,null,null,null,null,null,null,"0481","ДО \"Новосибирск-Сибирь\"  ","630004, г. Новосибирск,Железнодорожный район, ул. Ленинад. 52","Новосибирск"]
[null,null,null,null,null,null,null,null,null,null,null,null,"0727","ДО \"Новосибирск-площадь Калинина\"  ","630082, г. Новосибирск, улица ДусиКовальчук, 179/4","Новосибирск"]
[null,null,null,null,null,null,null,null,null,null,null,null,"0797","ДО \"Новосибирск-Горский\"  ","630073, г.Новосибирск, Ленинскийрайон, проспект Карла Маркса, дом55","Новосибирск"]
[null,null,null,null,null,null,null,null,null,null,null,null,"0811","ДО \"Новосибирск-Мичуринский\"  ","630099, г. Новосибирск, ул. Мичурина, д. 23.","Новосибирск"]
[null,null,null,null,null,null,null,null,null,null,null,null,"1099","ДО \"Новосибирск-площадь Ленина\"  ","630099, Российская Федерация, г.Новосибирск, ул. Орджоникидзе, дом23","Новосибирск"]
[null,null,null,null,null,null,null,null,null,null,null,null,"1102","ДО \"Новосибирск-площадь Маркса\"  ","630078, Новосибирская область, г. Новосибирск, пл. Карла Маркса, д. 5.","Новосибирск"]
[null,null,null,null,null,null,null,null,null,null,null,null,"1131","ДО \"Новосибирск-Золотая Нива\"  ","630089, Новосибирская область, г.Новосибирск, ул. Бориса Богаткова, д.201/1","Новосибирск"]
[null,null,null,null,null,null,null,null,null,null,null,null,"1137","ДО \"Новосибирск-Академгородок\"  ","630090, Россия, Новосибирская область, г. Новосибирск, ул. Ильича, д.6","Новосибирск"]
[null,null,null,null,null,null,null,null,null,null,null,null,"1145","ДО \"Новосибирск-улица Кирова\"  ","630102, г. Новосибирск, ул. Кирова,д. 46/1","Новосибирск"]
[null,null,null,null,null,null,null,null,null,null,null,null,"0828","ДО \"Новотроицк-Металлург\"  ","462353 Оренбургская обл., г.Новотроицк, ул. Советская, 52","Новотроицк"]
[null,null,null,null,null,null,null,null,null,null,null,null,"1653","ДО \"Новоуральск-ул. Комсомольская\" ","624132, Свердловская область, г. Новоуральск, ул. Комсомольская, зд. 6А","Новоуральск"]
[null,null,null,null,null,null,null,null,null,null,null,null,"1180","ДО \"Новочебоксарск-Восточный\"  ","429965, Чувашская Республика, г. Новочебоксарск, ул. Советская, д. 15","Новочебоксарск"]
[null,null,null,null,null,null,null,null,null,null,null,null,"0719","ДО \"Новочеркасск-площадь Платова\"  ","346400, Ростовская область,г.Новочеркасск, ул.Московская, 1/пр. Платовский, 90","Новочеркасск"]
[null,null,null,null,null,null,null,null,null,null,null,null,"1689","ДО \"Новошахтинск-пр-кт Ленина\"  ","346918, Ростовская область, г. Новошахтинск, пр-кт Ленина, д. 5а","Новошахтинск"]
[null,null,null,null,null,null,null,null,null,null,null,null,"1528","ДОПОЛНИТЕЛЬНЫЙ ОФИС \"НОГИНСК\"  ","142400, Московская область, г. Ногинск, ул. 3-го Интернационала, дом 62","Ногинск"]
[null,null,null,null,null,null,null,null,null,null,null,null,"1815","ДО \"Нягань-Парковый\"  ","628181, Ханты-Мансийский автономныйокруг-Югра, г. Нягань, мкр. 1-й, д.1","Нягань"]
[null,null,null,null,null,null,null,null,null,null,null,null,"1807","ДО \"Обнинск-проспект Маркса\"  ","249039, Калужская область, г. Обнинск, пр-кт Маркса, д. 50","Обнинск"]
[null,null,null,null,null,null,null,null,null,null,null,null,"0614","ДО \"ОДИНЦОВО\"  ","143005, Московская обл., Одинцовский р-н, г. Одинцово, ш. Можайское ,дом 76А","Одинцово"]
[null,null,null,null,null,null,null,null,null,null,null,null,"1160","ДО \"Октябрьский-пр-кт Ленина\"  ","452614, Республика Башкортостан, г.Октябрьский, проспект Ленина, д. 5","Октябрьский"]
[null,null,null,null,null,null,null,null,null,null,null,null,"0447","ДО \"Омск-Центральный\"  ","644024, Российская Федерация, Омская область, г. Омск, ул. Маршала Жукова угол ул. 10 Лет Октября, д. 25/","Омск"]
[null,null,null,null,null,null,null,null,null,null,null,null,"0720","ДО \"Омск-Парк культуры\"  ","644021, г.Омск, ул. БогданаХмельницкого, 162","Омск"]
[null,null,null,null,null,null,null,null,null,null,null,null,"0743","ДО \"Омск-Левобережный\"  ","644074, г.Омск, ул. 70 лет Октября,13/3","Омск"]
[null,null,null,null,null,null,null,null,null,null,null,null,"0778","ДО \"Омск-Красный путь\"  ","644043, г. Омск, ул. Красный Путь,д. 61","Омск"]
[null,null,null,null,null,null,null,null,null,null,null,null,"0815","ДО \"Омск-проспект Мира\"  ","644029, Омская область, г. Омск, проспект  Мира, д. 54","Омск"]
[null,null,null,null,null,null,null,null,null,null,null,null,"0873","ДО \"Омск-проспект Маркса\"  ","644010, г. Омск, проспект Маркса,д. 10","Омск"]
[null,null,null,null,null,null,null,null,null,null,null,null,"1164","ДО \"Орел-Комсомольская площадь\"  ","302026, Орловская область, г. Орел,ул. Комсомольская, д. 78","Орёл"]
[null,null,null,null,null,null,null,null,null,null,null,null,"0461","ДО \"Оренбург-Центральный\"  ","460024, Оренбургская область,г.Оренбург, ул.Маршала Жукова, 26","Оренбург"]
[null,null,null,null,null,null,null,null,null,null,null,null,"0791","ДО \"Оренбург-улица Чкалова\"  ","460058, Оренбургская область, г. Оренбург, ул. Чкалова, дом 35/1","Оренбург"]
[null,null,null,null,null,null,null,null,null,null,null,null,"1119","ДО \"Оренбург-улица Салмышская\"  ","460052, Оренбургская область, г.Оренбург, ул. Салмышская, д.37","Оренбург"]
[null,null,null,null,null,null,null,null,null,null,null,null,"1191","ДО \"ОРЕХОВО-ЗУЕВО\"  ","142600, Московская область, г. Орехово-Зуево, ул. Ленина, д. 53","Орехово-Зуево"]
[null,null,null,null,null,null,null,null,null,null,null,null,"0850","ДО \"Орск-проспект Ленина\"  ","462431, Оренбургская область, г. Орск, пр-кт Ленина, д. 78","Орск"]
[null,null,null,null,null,null,null,null,null,null,null,null,"1614","ДО \"Павлово-Центральный\"  ","606100, Нижегородская область, г. Павлово, ул. Красноармейская, д. 33,стр. 1","Павлово"]
[null,null,null,null,null,null,null,null,null,null,null,null,"1675","ДО \"ПАВЛОВСКИЙ ПОСАД\"  ","142500, Московская область, г. Павловский Посад, ул. Большая Покровская, д. 10","Павловский Посад"]
[null,null,null,null,null,null,null,null,null,null,null,null,"0746","ДО \"Пенза-Центральный\"  ","440000, г. Пенза, ул. Московская, д. 73","Пенза"]
[null,null,null,null,null,null,null,null,null,null,null,null,"1144","ДО  \"Пенза-Сура\"  ","440008, Пензенская область, г. Пенза, ул. Суворова, д. 139","Пенза"]
[null,null,null,null,null,null,null,null,null,null,null,null,"0970","ДО \"Первоуральск-улица Ватутина\"  ","623104, Свердловская область, г.Первоуральск, ул. Ватутина, д. 37","Первоуральск"]
[null,null,null,null,null,null,null,null,null,null,null,null,"0724","ДО \"Пермь-Балатовский\"  ","614066, Пермский край, город Пермь,улица Мира, дом 70","Пермь"]
[null,null,null,null,null,null,null,null,null,null,null,null,"0803","ДО \"Пермь-Кама\"  ","614000, Пермский край, город Пермь,ул. Ленина, дом 66","Пермь"]
[null,null,null,null,null,null,null,null,null,null,null,null,"0834","ДО \"Пермь-Парма\"  ","614051 г. Пермь, ул. Уинская, 9","Пермь"]
[null,null,null,null,null,null,null,null,null,null,null,null,"0845","ДО \"Пермь-Кристалл\"  ","614039, Пермский край, г. Пермь, Комсомольский проспект, 49","Пермь"]
[null,null,null,null,null,null,null,null,null,null,null,null,"0994","ДО \"Пермь-Дягилевский\"  ","614000, г.Пермь, ул.Советская, д.45","Пермь"]
[null,null,null,null,null,null,null,null,null,null,null,null,"1051","ДО \"Пермь-Закамск\"  ","614113, Российская Федерация, Пермский край, г. Пермь, ул. Автозаводская, д. 44а","Пермь"]
[null,null,null,null,null,null,null,null,null,null,null,null,"1706","ДО \"Петергоф-Николаевский\"  ","198510, г. Санкт-Петербург, г. Петергоф, пр-кт Санкт-Петербургский, д.29","Петергоф"]
[null,null,null,null,null,null,null,null,null,null,null,null,"0712","ДО \"Петрозаводск-проспект Ленина\"  ","185035, Россия, Республика Карелия,г. Петрозаводск, пр-т Ленина, д. 26","Петрозаводск"]
[null,null,null,null,null,null,null,null,null,null,null,null,"1073","ДО \"Петрозаводск-улица Ровио\"  ","185026, Российская Федерация,Республика Карелия, г.Петрозаводск, ул. Ровио, д. 18","Петрозаводск"]
[null,null,null,null,null,null,null,null,null,null,null,null,"1819","ДО \"П-Камчатский-Центральный\"  ","683024, Камчатский край, г. Петропавловск-Камчатский, пр-кт 50 лет Октября, д. 24а","Петропавловск-Камчатский"]
[null,null,null,null,null,null,null,null,null,null,null,null,"0624","ДО \"ПОДОЛЬСКИЙ\"  ","142100, Московская область, г. Подольск, ул. Рабочая, д. 4","Подольск"]
[null,null,null,null,null,null,null,null,null,null,null,null,"0687","ДО \"Прокопьевск-улица Шишкина\"  ","653039, Кемеровская область - Кузбасс, город Прокопьевск, улица Шишкина, дом 11","Прокопьевск"]
[null,null,null,null,null,null,null,null,null,null,null,null,"0689","ДО \"Псков-Центральный\"  ","180004, Российская Федерация,Псковская область, г. Псков, ул.Яна Фабрициуса, д. 27, пом. 1005","Псков"]
[null,null,null,null,null,null,null,null,null,null,null,null,"1065","ДО \"Псков-Рижский проспект\"  ","180007, Псковская область, г.Псков,пр-т Рижский, д.16","Псков"]
[null,null,null,null,null,null,null,null,null,null,null,null,"1733","ДО \"Пушкин-улица Ленинградская\"  ","196608, г. Санкт-Петербург, г. Пушкин, ул. Ленинградская, д. 29","Пушкин"]
[null,null,null,null,null,null,null,null,null,null,null,null,"1538","ДО \"ПУШКИНО\"  ","141207, Московская область, г. Пушкино, Московский проспект, д. 9/2","Пушкино"]
[null,null,null,null,null,null,null,null,null,null,null,null,"1172","ДО \"Пятигорск-улица Октябрьская\"  ","357500, Ставропольский край, г. Пятигорск, ул. Октябрьская, д. 1","Пятигорск"]
[null,null,null,null,null,null,null,null,null,null,null,null,"1182","ДО \"РАМЕНСКОЕ\"  ","140108, Московская область, г. Раменское, ул. Михалевича, д. 1а","Раменское"]
[null,null,null,null,null,null,null,null,null,null,null,null,"1795","ДО \"Ревда-улица Горького\"  ","623286, Свердловская область, г. Ревда, ул. Максима Горького, д. 30","Ревда"]
[null,null,null,null,null,null,null,null,null,null,null,null,"1827","ДО \"Ржев-улица Ленина\"  ","172390, Тверская область, г. Ржев,ул. Ленина, д. 7","Ржев"]
[null,null,null,null,null,null,null,null,null,null,null,null,"1604","ДО \"Россошь-проспект Труда\"  ","396658, Воронежская область, г. Россошь, пр-кт Труда, д. 4б","Россошь"]
[null,null,null,null,null,null,null,null,null,null,null,null,"0441","ДО \"Ростов нД-Донской\"  ","344002, Россия, Ростовская область,г. Ростов-на-Дону, ул. Темерницкая, д. 80/31/81","Ростов-на-Дону"]
[null,null,null,null,null,null,null,null,null,null,null,null,"0744","ДО \"Ростов нД-Нахичевань\"  ","344116, г.Ростов-на-Дону, Пролетарский р-н,ул. 20-я линия, д. 4/3/13","Ростов-на-Дону"]
[null,null,null,null,null,null,null,null,null,null,null,null,"0832","ДО \"Ростов нД-ул. Красноармейская\" ","344010 Ростовская областьг.Ростов-на-Дону ул.Красноармейскаяд.170","Ростов-на-Дону"]
[null,null,null,null,null,null,null,null,null,null,null,null,"0837","ДО \"Ростов нД-Западный\"  ","344091, Ростовская область,  г. Ростов-на-Дону, пр. Коммунистический,д.27","Ростов-на-Дону"]
[null,null,null,null,null,null,null,null,null,null,null,null,"0868","ДО \"Ростов нД-парк Горького\"  ","344002, Российская Федерация, Ростовская область, г. Ростов-на-Дону, пр. Буденновский, д.42/50","Ростов-на-Дону"]
[null,null,null,null,null,null,null,null,null,null,null,null,"1126","ДО \"Ростов нД-пр. Королева\" ","344113, Ростовская область, г. Ростов-на-Дону, пр-кт Королева, д. 14а","Ростов-на-Дону"]
[null,null,null,null,null,null,null,null,null,null,null,null,"1626","ДО \"Рубцовск-пр-кт Ленина\"  ","658210, Алтайский край, г. Рубцовск, пр-кт Ленина, д. 46","Рубцовск"]
[null,null,null,null,null,null,null,null,null,null,null,null,"1532","ДО \"Рыбинск-Авиационный\"  ","152903, Ярославская область, г. Рыбинск, ул. Кирова, д. 18","Рыбинск"]
[null,null,null,null,null,null,null,null,null,null,null,null,"0748","ДО \"Рязань-Театральная площадь\"  ","390023, г.Рязань, ул.Ленина, д.9","Рязань"]
[null,null,null,null,null,null,null,null,null,null,null,null,"1122","ДО \"Рязань-Первомайский пр-кт\"  ","390013, Рязанская область, г. Рязань, Первомайский пр-кт, д. 39/2","Рязань"]
[null,null,null,null,null,null,null,null,null,null,null,null,"1193","ДО \"Салават-б-р Космонавтов\"  ","453260, Республика Башкортостан, г.Салават, б-р Космонавтов, 13","Салават"]
[null,null,null,null,null,null,null,null,null,null,null,null,"1809","ДО \"Салехард-улица Мира\"  ","629004, Ямало-Ненецкий автономный округ, г. Салехард, ул. Мира, д. 2","Салехард"]
[null,null,null,null,null,null,null,null,null,null,null,null,"0471","ДО \"Самара-Центральный\"  ","443013, г. Самара, ул. Мичурина, 19В","Самара"]
[null,null,null,null,null,null,null,null,null,null,null,null,"0677","ДО \"Самара-Московское шоссе\"  ","443080, Россия, Самарская область,г. Самара, шоссе Московское, д. 47","Самара"]
[null,null,null,null,null,null,null,null,null,null,null,null,"0734","ДО \"Самара-Стара Загора\"  ","443087, Самарская область, г. Самара, пр-кт Кирова, д. 228, ул. Стара-Загора, д. 126","Самара"]
[null,null,null,null,null,null,null,null,null,null,null,null,"0742","ДО \"Самара-улица Победы\"  ","443009, Самарская область, г.Самара, ул. Победы д.101","Самара"]
[null,null,null,null,null,null,null,null,null,null,null,null,"0800","ДО \"Самара-улица Агибалова\"  ","443041,г. Самара, ул. Агибалова, д.76","Самара"]
[null,null,null,null,null,null,null,null,null,null,null,null,"0870","ДО \"Самара-улица Гагарина\"  ","443045, Россия, Самарская область,г. Самара, ул. Гагарина, д. 64","Самара"]
[null,null,null,null,null,null,null,null,null,null,null,null,"0473","ДО \"СПБ-Грибоедовский\"  ","191186, г. Санкт-Петербург,Б.Конюшенная улица, д.19/8. литА.24Н.25Н","Санкт-Петербург"]
[null,null,null,null,null,null,null,null,null,null,null,null,"0475","ДО \"СПБ-Новочеркасский\"  ","195196, г. Санкт-Петербург, Новочеркасский пр-т, 43/17","Санкт-Петербург"]
[null,null,null,null,null,null,null,null,null,null,null,null,"0476","ДО \"СПБ-Кировский\"  ","198097, г. Санкт-Петербург, пр-т Стачек, 47Е","Санкт-Петербург"]
[null,null,null,null,null,null,null,null,null,null,null,null,"0478","ДО \"СПБ-Лиговский проспект\"  ","191040, г. Санкт-Петербург, Лиговский пр-т, 73А","Санкт-Петербург"]
[null,null,null,null,null,null,null,null,null,null,null,null,"0678","ДО \"СПБ-Каменноостровский\"  ","197022, г. Санкт-Петербург, Каменноостровский проспект, д. 41, литераА","Санкт-Петербург"]
[null,null,null,null,null,null,null,null,null,null,null,null,"0679","ДО \"СПБ-Парк Победы\"  ","196070, г. Санкт-Петербург, Московский проспект, дом 192-194, пом. 19Н, лит. А","Санкт-Петербург"]
[null,null,null,null,null,null,null,null,null,null,null,null,"0681","ДО \"СПБ-улица Дыбенко\"  ","193232, г. Санкт-Петербург, пр-кт Большевиков, д. 21литерР","Санкт-Петербург"]
[null,null,null,null,null,null,null,null,null,null,null,null,"0710","ДО \"СПБ-Международный\"  ","192238, город Санкт-Петербург, ул.Бухарестская, д. 74, кор. 3, лит. А","Санкт-Петербург"]
[null,null,null,null,null,null,null,null,null,null,null,null,"0713","ДО \"СПБ-Таврический сад\"  ","191123 г.Санкт-Петербург, ул.Фурштатская, д. 40","Санкт-Петербург"]
[null,null,null,null,null,null,null,null,null,null,null,null,"0715","ДО \"СПБ-Ленинский проспект\"  ","198216, г. Санкт-Петербург, пр-т Ленинский, д. 130/6, литер А","Санкт-Петербург"]
[null,null,null,null,null,null,null,null,null,null,null,null,"0731","ДО \"СПБ-Проспект Большевиков\"  ","193231, Санкт-Петербург, пр-т Большевиков д.2","Санкт-Петербург"]
[null,null,null,null,null,null,null,null,null,null,null,null,"0735","ДО \"СПБ-Ломоносовский\"  ","192171, г. Санкт-Петербург, улица Полярников, дом 6, литера А, помещение 10-Н","Санкт-Петербург"]
[null,null,null,null,null,null,null,null,null,null,null,null,"0774","ДО \"СПБ-Пионерский\"  ","197348, г. Санкт-Петербург, Коломяжский проспект, дом 15, корпус 2, лит. А","Санкт-Петербург"]
[null,null,null,null,null,null,null,null,null,null,null,null,"0789","ДО \"СПБ-Купчино\"  ","192281, Российская Федерация, г.Санкт-Петербург, Дунайскийпроспект, д.31, корп. 1, литер А,","Санкт-Петербург"]
[null,null,null,null,null,null,null,null,null,null,null,null,"0795","ДО \"СПБ-Проспект Просвещения\"  ","194356, Россия, г. Санкт-Петербург,пр. Энгельса, д. 139/21, лит. А","Санкт-Петербург"]
[null,null,null,null,null,null,null,null,null,null,null,null,"0799","ДО \"СПБ-Московский\"  ","196066, г. Санкт-Петербург,Московский пр., д. 193, пом. 14Н,лит. А","Санкт-Петербург"]
[null,null,null,null,null,null,null,null,null,null,null,null,"0819","ДО \"СПБ-Гражданский проспект\"  ","195267, г. Санкт-Петербург,проспект Просвещения, д. 84 корпус1, Литер А, пом. 50Н","Санкт-Петербург"]
[null,null,null,null,null,null,null,null,null,null,null,null,"0866","ДО \"СПБ-Комендантский проспект\"  ","197371, г. Санкт-Петербург, проспект Комендантский, д. 13, корп. 1, лит. А","Санкт-Петербург"]
[null,null,null,null,null,null,null,null,null,null,null,null,"0890","ДО \"СПБ-Василеостровский\"  ","199004, г. Санкт-Петербург, В.О. 7-ая линия, д.54, Лит. А, пом. 3Н","Санкт-Петербург"]
[null,null,null,null,null,null,null,null,null,null,null,null,"0995","ДО \"СПБ-Лесной проспект\"  ","195009 г. Санкт-Петербург, ул.Академика Лебедева, д.31, корп. 2,лит. А","Санкт-Петербург"]
[null,null,null,null,null,null,null,null,null,null,null,null,"1009","ДО \"СПБ-Беговой\"  ","197374, Санкт-Петербург, ул. Савушкина, дом127","Санкт-Петербург"]
[null,null,null,null,null,null,null,null,null,null,null,null,"1056","ДО \"СПБ-Дачный проспект\"  ","197110, Санкт-Петербург, пр-кт Дачный, д.17, к. 3","Санкт-Петербург"]
[null,null,null,null,null,null,null,null,null,null,null,null,"1067","ДО \"СПБ-Академический\"  ","195256, г. Санкт-Петербург, пр-кт Науки, д. 14к1","Санкт-Петербург"]
[null,null,null,null,null,null,null,null,null,null,null,null,"1166","ДО \"СПБ-Площадь Мужества\"  ","194021, г. Санкт-Петербург, просп.Тореза, д. 9, литера А","Санкт-Петербург"]
[null,null,null,null,null,null,null,null,null,null,null,null,"1010","ДО \"Саранск-Ушаковский\"  ","430005, Республика Мордовия, г. Саранск, ул. Коммунистическая, дом 52","Саранск"]
[null,null,null,null,null,null,null,null,null,null,null,null,"1720","ДО \"Сарапул-улица Горького\"  ","427960, Удмуртская Республика, г. Сарапул, ул. Горького, д. 15а, стр.1","Сарапул"]
[null,null,null,null,null,null,null,null,null,null,null,null,"0829","ДО \"Саратов-Мирный переулок\"  ","410012, г. Саратов, ул. им. ВасилияЛюкшина, здание № 5","Саратов"]
[null,null,null,null,null,null,null,null,null,null,null,null,"1108","ДО \"Саратов-пр-кт Строителей\"  ","410041, Саратовская область, г. Саратов, пр-кт Строителей, д. 19","Саратов"]
[null,null,null,null,null,null,null,null,null,null,null,null,"0751","ДО \"Северодвинск-ул. Ломоносова\"  ","164504, Архангельская область, г. Северодвинск, ул. Ломоносова, д. 64","Северодвинск"]
[null,null,null,null,null,null,null,null,null,null,null,null,"1790","ДО \"Североморск-улица Сафонова\"  ","184604, Мурманская область, г. Североморск, ул. Сафонова, д. 13","Североморск"]
[null,null,null,null,null,null,null,null,null,null,null,null,"1760","ДО \"Северск-Коммунистический пр-кт\" ","636000, Томская область, г. Северск, пр-кт Коммунистический, д. 63","Северск"]
[null,null,null,null,null,null,null,null,null,null,null,null,"1526","ДО \"СЕРГИЕВ ПОСАД\"  ","141310, Московская область, г. Сергиев Посад, просп. Красной Армии, д.180","Сергиев Посад"]
[null,null,null,null,null,null,null,null,null,null,null,null,"1190","ДО \"Серов-улица Ленина\"  ","624992, Свердловская область, г. Серов, ул. Ленина, д. 161","Серов"]
[null,null,null,null,null,null,null,null,null,null,null,null,"1531","ДО \"СЕРПУХОВ\"  ","142203, Московская область, г. Серпухов, ул. Ворошилова, д. 127","Серпухов"]
[null,null,null,null,null,null,null,null,null,null,null,null,"8069","ДО \"Сибай-пр-кт Горняков\"  ","453833, Республика Башкортостан, г.Сибай, пр-кт Горняков, д. 22","Сибай"]
[null,null,null,null,null,null,null,null,null,null,null,null,"1695","ДО Славянск-на-Кубани-ул. Ковтюха  ","353560, Краснодарский край, г. Славянск-на-Кубани, ул. Ковтюха, д. 17","Славянск-на-Кубани"]
[null,null,null,null,null,null,null,null,null,null,null,null,"1158","ДО \"Смоленск-Днепровские ворота\"  ","214004, Смоленская область область,г. Смоленск, ул. Николаева, д. 8","Смоленск"]
[null,null,null,null,null,null,null,null,null,null,null,null,"1805","ДО \"Соликамск-площадь Революции\"  ","618554, Пермский край, г. Соликамск, ул. 20-летия Победы, д. 119","Соликамск"]
[null,null,null,null,null,null,null,null,null,null,null,null,"1678","ДО \"СОЛНЕЧНОГОРСК\"  ","141506, Московская область, г. Солнечногорск, ул. Почтовая, стр. 9/2","Солнечногорск"]
[null,null,null,null,null,null,null,null,null,null,null,null,"0758","ДО \"Сосновый Бор-улица Солнечная\"  ","188541, Ленинградская обл., г. Сосновый Бор, ул. Солнечная, д. 12","Сосновый Бор"]
[null,null,null,null,null,null,null,null,null,null,null,null,"0729","ДО \"Сочи-Центральный\"  ","354000, Краснодарский край, г.Сочи, ул. Конституции СССР, д.18","Сочи"]
[null,null,null,null,null,null,null,null,null,null,null,null,"1143","ДО \"Сочи-улица Северная\"  ","354000, Краснодарский край край, г.Сочи, ул. Северная, д. 6","Сочи"]
[null,null,null,null,null,null,null,null,null,null,null,null,"1179","ДО \"Адлер-Молокова\"  ","354340, Краснодарский край, г. Сочи, ул. Молокова, д. 18/78","Сочи"]
[null,null,null,null,null,null,null,null,null,null,null,null,"0779","ДО \"Ставрополь-улица Ленина\"  ","355029, Ставропольский край,   г.Ставрополь, ул.Ленина, д.299","Ставрополь"]
[null,null,null,null,null,null,null,null,null,null,null,null,"1138","ДО \"Ставрополь-Дзержинский\"  ","355035, Ставропольский край, г. Ставрополь, ул. Дзержинского, д. 114","Ставрополь"]
[null,null,null,null,null,null,null,null,null,null,null,null,"1607","ДО \"Ставрополь-парк Победы\"  ","355040, Ставропольский край, г. Ставрополь, ул. 50-лет ВЛКСМ, д. 11, к. 1","Ставрополь"]
[null,null,null,null,null,null,null,null,null,null,null,null,"1148","ДО \"Старый Оскол-улица Шухова\"  ","309512, Белгородская область, г. Старый Оскол, мкр. Жукова, д. 48, помещение 6","Старый Оскол"]
[null,null,null,null,null,null,null,null,null,null,null,null,"0756","ДО \"Стерлитамак-Центральный\"  ","453100, Республика Башкортостан, г.Стерлитамак, ул. Коммунистическая,д. 96","Стерлитамак"]
[null,null,null,null,null,null,null,null,null,null,null,null,"1803","ДО \"СТУПИНО\"  ","142802, Московская область, г. Ступино, ул. Андропова, д. 63","Ступино"]
[null,null,null,null,null,null,null,null,null,null,null,null,"0937","ДО \"Сургут-Центральный\"  ","628406 г. Сургут, ул. Каролинского, д. 13","Сургут"]
[null,null,null,null,null,null,null,null,null,null,null,null,"1094","ДО \"Сургут-проспект Ленина\"  ","628416, Российская Федерация,Ханты-Мансийский Автономный округ -Югра АО, г.Сургут, пр-т Ленина д.38","Сургут"]
[null,null,null,null,null,null,null,null,null,null,null,null,"1011","ДО \"Сызрань-улица Советская\"  ","446001, Самарская область, г. Сызрань, ул. Советская, д. 51","Сызрань"]
[null,null,null,null,null,null,null,null,null,null,null,null,"1637","ДО \"Сызрань-50 лет Октября\"  ","446031, Самарская область, г. Сызрань, ул. 50 лет Октября, д. 54А","Сызрань"]
[null,null,null,null,null,null,null,null,null,null,null,null,"1829","ДО \"Сыктывкар-ул. Коммунистическая\" ","167001, Республика Коми, г. Сыктывкар, ул. Коммунистическая, д. 46","Сыктывкар"]
[null,null,null,null,null,null,null,null,null,null,null,null,"0714","ДО \"Таганрог-площадь Восстания\"  ","347904, Ростовская область, г. Таганрог, ул.Дзержинского/ул.Фрунзе, д.1/100","Таганрог"]
[null,null,null,null,null,null,null,null,null,null,null,null,"1153","ДО \"Тамбов-улица Максима Горького\" ","392000, Тамбовская область, г. Тамбов, ул. Советская/Максима Горького,д. 104/14","Тамбов"]
[null,null,null,null,null,null,null,null,null,null,null,null,"0682","ДО \"Тверь-улица Трехсвятская\"  ","170100, Тверская область, г. Тверь,ул. Трехсвятская, д. 28","Тверь"]
[null,null,null,null,null,null,null,null,null,null,null,null,"1054","ДО \"Тверь-улица Желябова\"  ","170100, Российская Федерация, г. Тверь, ул. Желябова, д. 3","Тверь"]
[null,null,null,null,null,null,null,null,null,null,null,null,"1630","ДО \"Темрюк-улица Ленина\"  ","353500, Краснодарский край, г. Темрюк, ул. Ленина, д. 68","Темрюк"]
[null,null,null,null,null,null,null,null,null,null,null,null,"1694","ДО \"Тимашевск-улица Красная\"  ","352700, Краснодарский край, г. Тимашевск, ул. Красная, д. 106","Тимашевск"]
[null,null,null,null,null,null,null,null,null,null,null,null,"1751","ДО \"Тихвин-улица Карла Маркса\"  ","187553, Ленинградская область, г. Тихвин, ул. Карла Маркса, д. 50","Тихвин"]
[null,null,null,null,null,null,null,null,null,null,null,null,"1641","ДО \"Тихорецк-улица Энгельса\"  ","352120, Краснодарский край, г. Тихорецк, ул. Энгельса, д. 101","Тихорецк"]
[null,null,null,null,null,null,null,null,null,null,null,null,"1184","ДО \"Тобольск-проспект Менделеева\"  ","626158, Тюменская область, г. Тобольск, 9-й микрорайон, д. 1","Тобольск"]
[null,null,null,null,null,null,null,null,null,null,null,null,"0817","ДО \"Тольятти-ул. Революционная\"  ","445026, Самарская обл.,г. Тольятти,Автозаводской р-н, ул.Революционная, д.32","Тольятти"]
[null,null,null,null,null,null,null,null,null,null,null,null,"0847","ДО \"Тольятти-Гагаринский\"  ","445017, г. Тольятти, ул. Гагарина,14","Тольятти"]
[null,null,null,null,null,null,null,null,null,null,null,null,"1168","ДО \"Тольятти- Центральный\"  ","445031, Россия, Самарская область,г. Тольятти, ул. Тополиная, д. 8а","Тольятти"]
[null,null,null,null,null,null,null,null,null,null,null,null,"0439","ДО \"Томск-Красный Экспресс\"  ","634034, Российская Федерация, Томская область, город Томск, ул.Красноармейская, 101а","Томск"]
[null,null,null,null,null,null,null,null,null,null,null,null,"0716","ДО \"Томск-Магистрат\"  ","634009, Томская область, г. Томск,пер. 1905 года, д. 14а","Томск"]
[null,null,null,null,null,null,null,null,null,null,null,null,"1174","ДО \"Томск-Дом Книги\"  ","634061 г. Томск, пр. Комсомольскийд. 53","Томск"]
[null,null,null,null,null,null,null,null,null,null,null,null,"1648","ДО \"Троицк-сквер Памяти\"  ","457100, Челябинская область, г. Троицк, ул. им. Ю.А. Гагарина, д. 41","Троицк"]
[null,null,null,null,null,null,null,null,null,null,null,null,"1752","ДО \"ТРОИЦК\"  ","108842, г. Москва, г. Троицк, пл. Академическая, д. 5","Троицк"]
[null,null,null,null,null,null,null,null,null,null,null,null,"0898","ДО \"Туапсе-Площадь Ленина\"  ","352800, Краснодарский край,Туапсинский район, г. Туапсе, ул.С. Перовской, д. 2, пом. 21, 28-30","Туапсе"]
[null,null,null,null,null,null,null,null,null,null,null,null,"1823","ДО \"Туймазы-проспект Ленина\"  ","452750, Республика Башкортостан, г.Туймазы, пр-кт Ленина, д. 10","Туймазы"]
[null,null,null,null,null,null,null,null,null,null,null,null,"0407","ДО \"Тула-Красноармейский пр-кт\"  ","300034, Тульская область, г. Тула,пр-кт Красноармейский, дом 27","Тула"]
[null,null,null,null,null,null,null,null,null,null,null,null,"1129","ДО \"Тула-проспект Ленина\"  ","300041, Тульская область, г. Тула,просп. Ленина, д. 54а","Тула"]
[null,null,null,null,null,null,null,null,null,null,null,null,"1141","ДО \"Тула-улица Советская\"  ","300041, Тульская область, г. Тула,ул. Советская,  д. 10","Тула"]
[null,null,null,null,null,null,null,null,null,null,null,null,"0468","ДО \"Тюмень-улица Республики\"  ","625026, Тюменская область, г. Тюмень, ул. Республики, д. 155","Тюмень"]
[null,null,null,null,null,null,null,null,null,null,null,null,"0674","ДО \"Тюмень-улица Газовиков\"  ","625022, Тюменская обл., г. Тюмень,ул. Газовиков, д. 65","Тюмень"]
[null,null,null,null,null,null,null,null,null,null,null,null,"0675","ДО \"Тюмень-улица Пермякова\"  ","625051, Тюменская обл., г. Тюмень,ул. Пермякова, д. 23а","Тюмень"]
[null,null,null,null,null,null,null,null,null,null,null,null,"0812","ДО \"Тюмень-улица Ленина\"  ","625000, г. Тюмень, ул. Ленина д. 57/2","Тюмень"]
[null,null,null,null,null,null,null,null,null,null,null,null,"0966","ДО \"Тюмень-ул. 50 лет Октября\"  ","625048, Российская Федерация,Тюменская область, городской округТюмень, г. Тюмень, ул. 50 лет","Тюмень"]
[null,null,null,null,null,null,null,null,null,null,null,null,"0996","ДО \"Тюмень-Центральный\"  ","625000 Тюмень  ул. 8 марта, д. 2/13","Тюмень"]
[null,null,null,null,null,null,null,null,null,null,null,null,"1156","ДО \"Улан-Удэ-Селенга\"  ","670000, Республика Бурятия, г. Улан-Удэ, ул. Ленина, д. 35","Улан-Удэ"]
[null,null,null,null,null,null,null,null,null,null,null,null,"1833","ДО \"Улан-Удэ-улица Терешковой\"  ","670031, Республика Бурятия, г. Улан-Удэ, ул. Терешковой, д. 2","Улан-Удэ"]
[null,null,null,null,null,null,null,null,null,null,null,null,"0711","ДО \"Ульяновск-улица Гончарова\"  ","432011, Ульяновская область, г. Ульяновск, ул. Гончарова, д. 25","Ульяновск"]
[null,null,null,null,null,null,null,null,null,null,null,null,"1118","ДО \"Ульяновск-Заволжский\"  ","432067, Ульяновская область, г. Ульяновск, Ульяновский пр-т д.6","Ульяновск"]
[null,null,null,null,null,null,null,null,null,null,null,null,"1133","ДО \"Ульяновск-улица Герасимова\"  ","432045, Ульяновская область, г. Ульяновск, ул. Герасимова, д. 10","Ульяновск"]
[null,null,null,null,null,null,null,null,null,null,null,null,"0897","ДО \"Усолье-Сибирское-Центральный\"  ","665462, Иркутская область, г. Усолье-Сибирское, ул. Орджоникидзе, зд.40","Усолье-Сибирское"]
[null,null,null,null,null,null,null,null,null,null,null,null,"1048","ДО \"Уссурийск-улица Пушкина\"  ","692525, Россия, Приморский край, г.Уссурийск, ул. Пушкина  д.27","Уссурийск"]
[null,null,null,null,null,null,null,null,null,null,null,null,"1681","ДО \"Усть-Илимск-пр-кт Мира\"  ","Иркутская обл, г Усть-Илимск, пр-кт Мира, д.2","Усть-Илимск"]
[null,null,null,null,null,null,null,null,null,null,null,null,"8002","ДО \"Усть-Лабинск-улица Октябрьская\" ","352330, Краснодарский край, г. Усть-Лабинск, ул. Октябрьская, д. 99","Усть-Лабинск"]
[null,null,null,null,null,null,null,null,null,null,null,null,"0671","ДО \"Уфа-Идель\"  ","450075, Российская Федерация, Республика Башкортостан, г. Уфа, пр-кт.Октября, д. 107а","Уфа"]
[null,null,null,null,null,null,null,null,null,null,null,null,"0810","ДО \"Уфа-Центральный\"  ","450077, Республика Башкортостан, г.Уфа, ул. Ленина, дом 32/1","Уфа"]
[null,null,null,null,null,null,null,null,null,null,null,null,"0826","ДО \"Уфа-Сипайловский\"  ","450099 г. Уфа, ул. Жукова, 29","Уфа"]
[null,null,null,null,null,null,null,null,null,null,null,null,"0844","ДО \"Уфа-Черниковский\"  ","450044, Республика Башкортостан, г.Уфа, ул. Первомайская, д. 24","Уфа"]
[null,null,null,null,null,null,null,null,null,null,null,null,"0959","ДО \"Уфа-проспект Октября\"  ","450009, Республика Башкортостан, г.Уфа, проспект Октября, д.6","Уфа"]
[null,null,null,null,null,null,null,null,null,null,null,null,"1111","ДО \"Уфа-улица Менделеева\"  ","450106, Республика Башкортостан, г.Уфа, ул. Менделеева, д.130","Уфа"]
[null,null,null,null,null,null,null,null,null,null,null,null,"1796","ДО \"Ухта-проспект Ленина\"  ","169313, Республика Коми, г. Ухта, пр-кт Ленина, д. 27","Ухта"]
[null,null,null,null,null,null,null,null,null,null,null,null,"8076","ДО \"ФРЯЗИНО\"  ","141195, Московская область, г. Фрязино, пр-кт Мира, д. 8","Фрязино"]
[null,null,null,null,null,null,null,null,null,null,null,null,"0703","ДО \"Хабаровск-Амур\"  ","680000, г. Хабаровск, ул. Муравьева- Амурского, дом 36","Хабаровск"]
[null,null,null,null,null,null,null,null,null,null,null,null,"0773","ДО \"Хабаровск-Площадь Блюхера\"  ","680030, Хабаровский край, г.   Хабаровск  ул. Ленина, 43","Хабаровск"]
[null,null,null,null,null,null,null,null,null,null,null,null,"1019","ДО \"Хабаровск-Площадь Ленина\"  ","680000, Хабаровский край, г. Хабаровск, ул. Карла Маркса, д. 41, пом.1","Хабаровск"]
[null,null,null,null,null,null,null,null,null,null,null,null,"1183","ДО \"Хабаровск-микрорайон Южный\"  ","680051, Хабаровский край, г. Хабаровск, ул. Суворова, д. 32","Хабаровск"]
[null,null,null,null,null,null,null,null,null,null,null,null,"1176","ДО \"Ханты-Мансийск-Югра\"  ","628011, Ханты-Мансийский автономныйокруг-Югра, г. Ханты-Мансийск, ул.Энгельса, дом 3","Ханты-Мансийск"]
[null,null,null,null,null,null,null,null,null,null,null,null,"0608","ДО \"ХИМКИ\"  ","141501, Московская обл, г. Химки,пр-кт Мельникова, д.2Б","Химки"]
[null,null,null,null,null,null,null,null,null,null,null,null,"1724","ДО \"Чайковский-улица Мира\"  ","617760, Пермский край, г. Чайковский, ул. Мира, д. 19","Чайковский"]
[null,null,null,null,null,null,null,null,null,null,null,null,"1797","ДО \"Чапаевск-улица Запорожская\"  ","446103, Самарская область, г. Чапаевск, ул. Запорожская, д. 18А","Чапаевск"]
[null,null,null,null,null,null,null,null,null,null,null,null,"0718","ДО \"Чебоксары-улица К. Маркса\"  ","428000, Российская Федерация, Чувашская республика, г. Чебоксары, улица Карла Маркса, 51","Чебоксары"]
[null,null,null,null,null,null,null,null,null,null,null,null,"0899","ДО \"Чебоксары-Центральный\"  ","428003, Российская Федерация,Чувашская Республика, г. Чебоксары,ул. Ярославская, д. 27","Чебоксары"]
[null,null,null,null,null,null,null,null,null,null,null,null,"0435","ДО \"Челябинск-улица Кирова\"  ","454000, г. Челябинск, ул. Кирова,108","Челябинск"]
[null,null,null,null,null,null,null,null,null,null,null,null,"0821","ДО \"Челябинск-проспект Ленина\"  ","454080, Россия, Челябинская область, г. Челябинск, пр-т Ленина, д. 73-а","Челябинск"]
[null,null,null,null,null,null,null,null,null,null,null,null,"0822","ДО \"Челябинск-Курчатовский\"  ","454014, г.Челябинск, ул.Молодогвардейцев, д.32 А","Челябинск"]
[null,null,null,null,null,null,null,null,null,null,null,null,"0881","ДО \"Челябинск-Энергия\"  ","454048, г.Челябинскул. Доватора, 35","Челябинск"]
[null,null,null,null,null,null,null,null,null,null,null,null,"0968","ДО \"Челябинск-улица Чичерина\"  ","Российская Федерация, Челябинская обл., г. Челябинск, ул. Чичерина, д.38 В","Челябинск"]
[null,null,null,null,null,null,null,null,null,null,null,null,"0974","ДО \"Челябинск-Комсомольский\"  ","454008 г. Челябинск, Комсомольскийпр-т, д. 2а","Челябинск"]
[null,null,null,null,null,null,null,null,null,null,null,null,"0997","ДО \"Челябинск-улица Свободы\"  ","454091, г.Челябинск, ул.Свободы,д.82","Челябинск"]
[null,null,null,null,null,null,null,null,null,null,null,null,"1686","ДО \"Черемхово-ул. Первомайская\"  ","665412, Иркутская область, г. Черемхово, ул. Первомайская, д. 160/Б","Черемхово"]
[null,null,null,null,null,null,null,null,null,null,null,null,"1167","ДО \"Череповец-улица Ленина\"  ","162602, Вологодская область,  г. Череповец, ул. Ленина, д. 68","Череповец"]
[null,null,null,null,null,null,null,null,null,null,null,null,"1816","ДО \"Черногорск-улица Юбилейная\"  ","655158, Республика Хакасия, г. Черногорск, ул. Юбилейная, д. 16","Черногорск"]
[null,null,null,null,null,null,null,null,null,null,null,null,"1693","ДО \"Черняховск-улица Ленина\"  ","238150, Калининградская область, г.Черняховск, ул. Ленина, д. 39","Черняховск"]
[null,null,null,null,null,null,null,null,null,null,null,null,"1541","ДО \"ЧЕХОВ\"  ","142300, Московская область, г. Чехов, ул. Московская, вл. 96","Чехов"]
[null,null,null,null,null,null,null,null,null,null,null,null,"1758","ДО \"Чистополь-улица Ленина\"  ","422981, Республика Татарстан, г. Чистополь, ул. Ленина, д. 42Д","Чистополь"]
[null,null,null,null,null,null,null,null,null,null,null,null,"1832","ДО \"Чита-улица Хабаровская\"  ","672000, Забайкальский край, г. Чита, ул. Хабаровская, д. 6","Чита"]
[null,null,null,null,null,null,null,null,null,null,null,null,"1661","ДО \"Шадринск-улица Февральская\"  ","641870, Курганская область, г. Шадринск, ул. Февральская, д. 54","Шадринск"]
[null,null,null,null,null,null,null,null,null,null,null,null,"1150","ДО \"Шахты-площадь Победы\"  ","346500,  Ростовская область, г. Шахты, проспект Победы Революции, д. 126","Шахты"]
[null,null,null,null,null,null,null,null,null,null,null,null,"1781","ДО \"Шуя-улица Ленина\"  ","155900, Ивановская область, г. Шуя,ул. Ленина, д. 7, стр. 1","Шуя"]
[null,null,null,null,null,null,null,null,null,null,null,null,"1629","ДО \"Щекино-улица Советская\"  ","301245, Тульская область, г. Щекино, ул. Советская, д. 12Г","Щекино"]
[null,null,null,null,null,null,null,null,null,null,null,null,"1536","ДО \"ЩЕЛКОВО\"  ","141100, Московская область, г. Щелково, Пролетарский пр-т, д.9","Щелково"]
[null,null,null,null,null,null,null,null,null,null,null,null,"1824","ДО \"ЩЕРБИНКА-УЛ. 40 ЛЕТ ОКТЯБРЯ\"  ","108851, г. Москва, г. Щербинка, ул.40 лет Октября, д. 15/1","Щербинка"]
[null,null,null,null,null,null,null,null,null,null,null,null,"1530","ДО \"ЭЛЕКТРОСТАЛЬ\"  ","144000, Московская область, г. Электросталь, ул. Советская, д. 14","Электросталь"]
[null,null,null,null,null,null,null,null,null,null,null,null,"0747","ДО \"Энгельс-улица Тельмана\"  ","413100, Саратовская область, г. Энгельс, ул. Тельмана, д. 23","Энгельс"]
[null,null,null,null,null,null,null,null,null,null,null,null,"0846","ДО \"Южно-Сахалинск-Океанский\"  ","693020, Сахалинская область, г. Южно-Сахалинск, ул. Ленина, д. 218","Южно-Сахалинск"]
[null,null,null,null,null,null,null,null,null,null,null,null,"0963","ДО \"Юрга-улица Московская\"  ","652050, Кемеровская обл г. Юрга,ул. Московская, д 37","Юрга"]
[null,null,null,null,null,null,null,null,null,null,null,null,"0752","ДО \"Якутск-Центральный\"  ","677000, Республика Саха (Якутия), г. Якутск, пр-кт Ленина, д. 24","Якутск"]
[null,null,null,null,null,null,null,null,null,null,null,null,"0702","ДО \"Ярославль-площадь Юности\"  ","150000, г. Ярославль, ул. Свободы,29","Ярославль"]
[null,null,null,null,null,null,null,null,null,null,null,null,"0730","ДО \"Ярославль-Рождественский\"  ","150000, Ярославская область, г. Ярославль, ул. Свободы, д. 2","Ярославль"]
[null,null,null,null,null,null,null,null,null,null,null,null,"1125","ДО \"Ярославль-Парк Победы\"  ","150045, Ярославская область, г. Ярославль, Ленинградский пр-т, 52 А","Ярославль"]
[null,null,null,null,null,null,null,null,null,null,null,null,"1600","ДО \"Ярославль-пр-кт Московский\"  ","150030, Ярославская область, г. Ярославль, Московский пр-кт, д. 125","Ярославль"]
[null,null,null,null,null,null,null,null,null,null,null,null,"0698","ДО \"Ясный-Горный лен\"  ","462781, Оренбургская обл. г. Ясный,ул. Ленина д. 9","Ясный"]

{"sheet":"Сотрудники на открытие счетов","index":1,"n_rows":100,"n_cols":40,"rows_kept":100,"cut":false,"hidden":false,"merged":[]}
["Фамилия","Имя","Отчество","Дата рождения","Место рождения","Пол","Тип документа","Серия документа","Номер документа","Кем выдан документ","Дата выдачи документа","Дата окончания документа","Мобильный телефон","Страна гражданства","Страна регистрации","Код ДУП","Серия и Номер ДУП","Дата начала действия ДУП","Дата окончания действия ДУП","Тип МК","Номер МК","Дата начала пребывания","Дата окончания пребывания","Адрес регистрации: Код страны","Адрес регистрации: Код региона","Адрес регистрации: Город","Адрес регистрации: Наименование улицы","Адрес регистрации: Номер дома","Адрес регистрации: Номер корпуса/строения","Адрес регистрации: Номер квартиры/комнаты","Фактический Адрес: Код страны","Фактический Адрес: Код региона","Фактический Адрес: Город","Фактический Адрес: Наименование улицы","Фактический Адрес: Номер дома","Фактический Адрес: Номер корпуса/строения","Фактический Адрес: Номер квартиры/комнаты","Город Отделения доставки карты при получении сотрудником карты в Банке","Отделение доставки карт","Код отделения"]
[null,null,null,null,null,null,null,null,null,null,null,null,null,null,null,null,null,null,null,null,null,null,null,null,null,null,null,null,null,null,null,null,null,null,null,null,null,null,null,{"$f":"IFERROR(VLOOKUP(AM2,Отделения[отделение]:Отделения[Код],2,FALSE),\"\")","v":""}]
[null,null,null,null,null,null,null,null,null,null,null,null,null,null,null,null,null,null,null,null,null,null,null,null,null,null,null,null,null,null,null,null,null,null,null,null,null,null,null,{"$f":"IFERROR(VLOOKUP(AM3,Отделения[отделение]:Отделения[Код],2,FALSE),\"\")","v":""}]
[null,null,null,null,null,null,null,null,null,null,null,null,null,null,null,null,null,null,null,null,null,null,null,null,null,null,null,null,null,null,null,null,null,null,null,null,null,null,null,{"$f":"IFERROR(VLOOKUP(AM4,Отделения[отделение]:Отделения[Код],2,FALSE),\"\")","v":""}]
[null,null,null,null,null,null,null,null,null,null,null,null,null,null,null,null,null,null,null,null,null,null,null,null,null,null,null,null,null,null,null,null,null,null,null,null,null,null,null,{"$f":"IFERROR(VLOOKUP(AM5,Отделения[отделение]:Отделения[Код],2,FALSE),\"\")","v":""}]
[null,null,null,null,null,null,null,null,null,null,null,null,null,null,null,null,null,null,null,null,null,null,null,null,null,null,null,null,null,null,null,null,null,null,null,null,null,null,null,{"$f":"IFERROR(VLOOKUP(AM6,Отделения[отделение]:Отделения[Код],2,FALSE),\"\")","v":""}]
[null,null,null,null,null,null,null,null,null,null,null,null,null,null,null,null,null,null,null,null,null,null,null,null,null,null,null,null,null,null,null,null,null,null,null,null,null,null,null,{"$f":"IFERROR(VLOOKUP(AM7,Отделения[отделение]:Отделения[Код],2,FALSE),\"\")","v":""}]
[null,null,null,null,null,null,null,null,null,null,null,null,null,null,null,null,null,null,null,null,null,null,null,null,null,null,null,null,null,null,null,null,null,null,null,null,null,null,null,{"$f":"IFERROR(VLOOKUP(AM8,Отделения[отделение]:Отделения[Код],2,FALSE),\"\")","v":""}]
[null,null,null,null,null,null,null,null,null,null,null,null,null,null,null,null,null,null,null,null,null,null,null,null,null,null,null,null,null,null,null,null,null,null,null,null,null,null,null,{"$f":"IFERROR(VLOOKUP(AM9,Отделения[отделение]:Отделения[Код],2,FALSE),\"\")","v":""}]
[null,null,null,null,null,null,null,null,null,null,null,null,null,null,null,null,null,null,null,null,null,null,null,null,null,null,null,null,null,null,null,null,null,null,null,null,null,null,null,{"$f":"IFERROR(VLOOKUP(AM10,Отделения[отделение]:Отделения[Код],2,FALSE),\"\")","v":""}]
[null,null,null,null,null,null,null,null,null,null,null,null,null,null,null,null,null,null,null,null,null,null,null,null,null,null,null,null,null,null,null,null,null,null,null,null,null,null,null,{"$f":"IFERROR(VLOOKUP(AM11,Отделения[отделение]:Отделения[Код],2,FALSE),\"\")","v":""}]
[null,null,null,null,null,null,null,null,null,null,null,null,null,null,null,null,null,null,null,null,null,null,null,null,null,null,null,null,null,null,null,null,null,null,null,null,null,null,null,{"$f":"IFERROR(VLOOKUP(AM12,Отделения[отделение]:Отделения[Код],2,FALSE),\"\")","v":""}]
[null,null,null,null,null,null,null,null,null,null,null,null,null,null,null,null,null,null,null,null,null,null,null,null,null,null,null,null,null,null,null,null,null,null,null,null,null,null,null,{"$f":"IFERROR(VLOOKUP(AM13,Отделения[отделение]:Отделения[Код],2,FALSE),\"\")","v":""}]
[null,null,null,null,null,null,null,null,null,null,null,null,null,null,null,null,null,null,null,null,null,null,null,null,null,null,null,null,null,null,null,null,null,null,null,null,null,null,null,{"$f":"IFERROR(VLOOKUP(AM14,Отделения[отделение]:Отделения[Код],2,FALSE),\"\")","v":""}]
[null,null,null,null,null,null,null,null,null,null,null,null,null,null,null,null,null,null,null,null,null,null,null,null,null,null,null,null,null,null,null,null,null,null,null,null,null,null,null,{"$f":"IFERROR(VLOOKUP(AM15,Отделения[отделение]:Отделения[Код],2,FALSE),\"\")","v":""}]
[null,null,null,null,null,null,null,null,null,null,null,null,null,null,null,null,null,null,null,null,null,null,null,null,null,null,null,null,null,null,null,null,null,null,null,null,null,null,null,{"$f":"IFERROR(VLOOKUP(AM16,Отделения[отделение]:Отделения[Код],2,FALSE),\"\")","v":""}]
[null,null,null,null,null,null,null,null,null,null,null,null,null,null,null,null,null,null,null,null,null,null,null,null,null,null,null,null,null,null,null,null,null,null,null,null,null,null,null,{"$f":"IFERROR(VLOOKUP(AM17,Отделения[отделение]:Отделения[Код],2,FALSE),\"\")","v":""}]
[null,null,null,null,null,null,null,null,null,null,null,null,null,null,null,null,null,null,null,null,null,null,null,null,null,null,null,null,null,null,null,null,null,null,null,null,null,null,null,{"$f":"IFERROR(VLOOKUP(AM18,Отделения[отделение]:Отделения[Код],2,FALSE),\"\")","v":""}]
[null,null,null,null,null,null,null,null,null,null,null,null,null,null,null,null,null,null,null,null,null,null,null,null,null,null,null,null,null,null,null,null,null,null,null,null,null,null,null,{"$f":"IFERROR(VLOOKUP(AM19,Отделения[отделение]:Отделения[Код],2,FALSE),\"\")","v":""}]
[null,null,null,null,null,null,null,null,null,null,null,null,null,null,null,null,null,null,null,null,null,null,null,null,null,null,null,null,null,null,null,null,null,null,null,null,null,null,null,{"$f":"IFERROR(VLOOKUP(AM20,Отделения[отделение]:Отделения[Код],2,FALSE),\"\")","v":""}]
[null,null,null,null,null,null,null,null,null,null,null,null,null,null,null,null,null,null,null,null,null,null,null,null,null,null,null,null,null,null,null,null,null,null,null,null,null,null,null,{"$f":"IFERROR(VLOOKUP(AM21,Отделения[отделение]:Отделения[Код],2,FALSE),\"\")","v":""}]
[null,null,null,null,null,null,null,null,null,null,null,null,null,null,null,null,null,null,null,null,null,null,null,null,null,null,null,null,null,null,null,null,null,null,null,null,null,null,null,{"$f":"IFERROR(VLOOKUP(AM22,Отделения[отделение]:Отделения[Код],2,FALSE),\"\")","v":""}]
[null,null,null,null,null,null,null,null,null,null,null,null,null,null,null,null,null,null,null,null,null,null,null,null,null,null,null,null,null,null,null,null,null,null,null,null,null,null,null,{"$f":"IFERROR(VLOOKUP(AM23,Отделения[отделение]:Отделения[Код],2,FALSE),\"\")","v":""}]
[null,null,null,null,null,null,null,null,null,null,null,null,null,null,null,null,null,null,null,null,null,null,null,null,null,null,null,null,null,null,null,null,null,null,null,null,null,null,null,{"$f":"IFERROR(VLOOKUP(AM24,Отделения[отделение]:Отделения[Код],2,FALSE),\"\")","v":""}]
[null,null,null,null,null,null,null,null,null,null,null,null,null,null,null,null,null,null,null,null,null,null,null,null,null,null,null,null,null,null,null,null,null,null,null,null,null,null,null,{"$f":"IFERROR(VLOOKUP(AM25,Отделения[отделение]:Отделения[Код],2,FALSE),\"\")","v":""}]
[null,null,null,null,null,null,null,null,null,null,null,null,null,null,null,null,null,null,null,null,null,null,null,null,null,null,null,null,null,null,null,null,null,null,null,null,null,null,null,{"$f":"IFERROR(VLOOKUP(AM26,Отделения[отделение]:Отделения[Код],2,FALSE),\"\")","v":""}]
[null,null,null,null,null,null,null,null,null,null,null,null,null,null,null,null,null,null,null,null,null,null,null,null,null,null,null,null,null,null,null,null,null,null,null,null,null,null,null,{"$f":"IFERROR(VLOOKUP(AM27,Отделения[отделение]:Отделения[Код],2,FALSE),\"\")","v":""}]
[null,null,null,null,null,null,null,null,null,null,null,null,null,null,null,null,null,null,null,null,null,null,null,null,null,null,null,null,null,null,null,null,null,null,null,null,null,null,null,{"$f":"IFERROR(VLOOKUP(AM28,Отделения[отделение]:Отделения[Код],2,FALSE),\"\")","v":""}]
[null,null,null,null,null,null,null,null,null,null,null,null,null,null,null,null,null,null,null,null,null,null,null,null,null,null,null,null,null,null,null,null,null,null,null,null,null,null,null,{"$f":"IFERROR(VLOOKUP(AM29,Отделения[отделение]:Отделения[Код],2,FALSE),\"\")","v":""}]
[null,null,null,null,null,null,null,null,null,null,null,null,null,null,null,null,null,null,null,null,null,null,null,null,null,null,null,null,null,null,null,null,null,null,null,null,null,null,null,{"$f":"IFERROR(VLOOKUP(AM30,Отделения[отделение]:Отделения[Код],2,FALSE),\"\")","v":""}]
[null,null,null,null,null,null,null,null,null,null,null,null,null,null,null,null,null,null,null,null,null,null,null,null,null,null,null,null,null,null,null,null,null,null,null,null,null,null,null,{"$f":"IFERROR(VLOOKUP(AM31,Отделения[отделение]:Отделения[Код],2,FALSE),\"\")","v":""}]
[null,null,null,null,null,null,null,null,null,null,null,null,null,null,null,null,null,null,null,null,null,null,null,null,null,null,null,null,null,null,null,null,null,null,null,null,null,null,null,{"$f":"IFERROR(VLOOKUP(AM32,Отделения[отделение]:Отделения[Код],2,FALSE),\"\")","v":""}]
[null,null,null,null,null,null,null,null,null,null,null,null,null,null,null,null,null,null,null,null,null,null,null,null,null,null,null,null,null,null,null,null,null,null,null,null,null,null,null,{"$f":"IFERROR(VLOOKUP(AM33,Отделения[отделение]:Отделения[Код],2,FALSE),\"\")","v":""}]
[null,null,null,null,null,null,null,null,null,null,null,null,null,null,null,null,null,null,null,null,null,null,null,null,null,null,null,null,null,null,null,null,null,null,null,null,null,null,null,{"$f":"IFERROR(VLOOKUP(AM34,Отделения[отделение]:Отделения[Код],2,FALSE),\"\")","v":""}]
[null,null,null,null,null,null,null,null,null,null,null,null,null,null,null,null,null,null,null,null,null,null,null,null,null,null,null,null,null,null,null,null,null,null,null,null,null,null,null,{"$f":"IFERROR(VLOOKUP(AM35,Отделения[отделение]:Отделения[Код],2,FALSE),\"\")","v":""}]
[null,null,null,null,null,null,null,null,null,null,null,null,null,null,null,null,null,null,null,null,null,null,null,null,null,null,null,null,null,null,null,null,null,null,null,null,null,null,null,{"$f":"IFERROR(VLOOKUP(AM36,Отделения[отделение]:Отделения[Код],2,FALSE),\"\")","v":""}]
[null,null,null,null,null,null,null,null,null,null,null,null,null,null,null,null,null,null,null,null,null,null,null,null,null,null,null,null,null,null,null,null,null,null,null,null,null,null,null,{"$f":"IFERROR(VLOOKUP(AM37,Отделения[отделение]:Отделения[Код],2,FALSE),\"\")","v":""}]
[null,null,null,null,null,null,null,null,null,null,null,null,null,null,null,null,null,null,null,null,null,null,null,null,null,null,null,null,null,null,null,null,null,null,null,null,null,null,null,{"$f":"IFERROR(VLOOKUP(AM38,Отделения[отделение]:Отделения[Код],2,FALSE),\"\")","v":""}]
[null,null,null,null,null,null,null,null,null,null,null,null,null,null,null,null,null,null,null,null,null,null,null,null,null,null,null,null,null,null,null,null,null,null,null,null,null,null,null,{"$f":"IFERROR(VLOOKUP(AM39,Отделения[отделение]:Отделения[Код],2,FALSE),\"\")","v":""}]
[null,null,null,null,null,null,null,null,null,null,null,null,null,null,null,null,null,null,null,null,null,null,null,null,null,null,null,null,null,null,null,null,null,null,null,null,null,null,null,{"$f":"IFERROR(VLOOKUP(AM40,Отделения[отделение]:Отделения[Код],2,FALSE),\"\")","v":""}]
[null,null,null,null,null,null,null,null,null,null,null,null,null,null,null,null,null,null,null,null,null,null,null,null,null,null,null,null,null,null,null,null,null,null,null,null,null,null,null,{"$f":"IFERROR(VLOOKUP(AM41,Отделения[отделение]:Отделения[Код],2,FALSE),\"\")","v":""}]
[null,null,null,null,null,null,null,null,null,null,null,null,null,null,null,null,null,null,null,null,null,null,null,null,null,null,null,null,null,null,null,null,null,null,null,null,null,null,null,{"$f":"IFERROR(VLOOKUP(AM42,Отделения[отделение]:Отделения[Код],2,FALSE),\"\")","v":""}]
[null,null,null,null,null,null,null,null,null,null,null,null,null,null,null,null,null,null,null,null,null,null,null,null,null,null,null,null,null,null,null,null,null,null,null,null,null,null,null,{"$f":"IFERROR(VLOOKUP(AM43,Отделения[отделение]:Отделения[Код],2,FALSE),\"\")","v":""}]
[null,null,null,null,null,null,null,null,null,null,null,null,null,null,null,null,null,null,null,null,null,null,null,null,null,null,null,null,null,null,null,null,null,null,null,null,null,null,null,{"$f":"IFERROR(VLOOKUP(AM44,Отделения[отделение]:Отделения[Код],2,FALSE),\"\")","v":""}]
[null,null,null,null,null,null,null,null,null,null,null,null,null,null,null,null,null,null,null,null,null,null,null,null,null,null,null,null,null,null,null,null,null,null,null,null,null,null,null,{"$f":"IFERROR(VLOOKUP(AM45,Отделения[отделение]:Отделения[Код],2,FALSE),\"\")","v":""}]
[null,null,null,null,null,null,null,null,null,null,null,null,null,null,null,null,null,null,null,null,null,null,null,null,null,null,null,null,null,null,null,null,null,null,null,null,null,null,null,{"$f":"IFERROR(VLOOKUP(AM46,Отделения[отделение]:Отделения[Код],2,FALSE),\"\")","v":""}]
[null,null,null,null,null,null,null,null,null,null,null,null,null,null,null,null,null,null,null,null,null,null,null,null,null,null,null,null,null,null,null,null,null,null,null,null,null,null,null,{"$f":"IFERROR(VLOOKUP(AM47,Отделения[отделение]:Отделения[Код],2,FALSE),\"\")","v":""}]
[null,null,null,null,null,null,null,null,null,null,null,null,null,null,null,null,null,null,null,null,null,null,null,null,null,null,null,null,null,null,null,null,null,null,null,null,null,null,null,{"$f":"IFERROR(VLOOKUP(AM48,Отделения[отделение]:Отделения[Код],2,FALSE),\"\")","v":""}]
[null,null,null,null,null,null,null,null,null,null,null,null,null,null,null,null,null,null,null,null,null,null,null,null,null,null,null,null,null,null,null,null,null,null,null,null,null,null,null,{"$f":"IFERROR(VLOOKUP(AM49,Отделения[отделение]:Отделения[Код],2,FALSE),\"\")","v":""}]
[null,null,null,null,null,null,null,null,null,null,null,null,null,null,null,null,null,null,null,null,null,null,null,null,null,null,null,null,null,null,null,null,null,null,null,null,null,null,null,{"$f":"IFERROR(VLOOKUP(AM50,Отделения[отделение]:Отделения[Код],2,FALSE),\"\")","v":""}]
[null,null,null,null,null,null,null,null,null,null,null,null,null,null,null,null,null,null,null,null,null,null,null,null,null,null,null,null,null,null,null,null,null,null,null,null,null,null,null,{"$f":"IFERROR(VLOOKUP(AM51,Отделения[отделение]:Отделения[Код],2,FALSE),\"\")","v":""}]
[null,null,null,null,null,null,null,null,null,null,null,null,null,null,null,null,null,null,null,null,null,null,null,null,null,null,null,null,null,null,null,null,null,null,null,null,null,null,null,{"$f":"IFERROR(VLOOKUP(AM52,Отделения[отделение]:Отделения[Код],2,FALSE),\"\")","v":""}]
[null,null,null,null,null,null,null,null,null,null,null,null,null,null,null,null,null,null,null,null,null,null,null,null,null,null,null,null,null,null,null,null,null,null,null,null,null,null,null,{"$f":"IFERROR(VLOOKUP(AM53,Отделения[отделение]:Отделения[Код],2,FALSE),\"\")","v":""}]
[null,null,null,null,null,null,null,null,null,null,null,null,null,null,null,null,null,null,null,null,null,null,null,null,null,null,null,null,null,null,null,null,null,null,null,null,null,null,null,{"$f":"IFERROR(VLOOKUP(AM54,Отделения[отделение]:Отделения[Код],2,FALSE),\"\")","v":""}]
[null,null,null,null,null,null,null,null,null,null,null,null,null,null,null,null,null,null,null,null,null,null,null,null,null,null,null,null,null,null,null,null,null,null,null,null,null,null,null,{"$f":"IFERROR(VLOOKUP(AM55,Отделения[отделение]:Отделения[Код],2,FALSE),\"\")","v":""}]
[null,null,null,null,null,null,null,null,null,null,null,null,null,null,null,null,null,null,null,null,null,null,null,null,null,null,null,null,null,null,null,null,null,null,null,null,null,null,null,{"$f":"IFERROR(VLOOKUP(AM56,Отделения[отделение]:Отделения[Код],2,FALSE),\"\")","v":""}]
[null,null,null,null,null,null,null,null,null,null,null,null,null,null,null,null,null,null,null,null,null,null,null,null,null,null,null,null,null,null,null,null,null,null,null,null,null,null,null,{"$f":"IFERROR(VLOOKUP(AM57,Отделения[отделение]:Отделения[Код],2,FALSE),\"\")","v":""}]
[null,null,null,null,null,null,null,null,null,null,null,null,null,null,null,null,null,null,null,null,null,null,null,null,null,null,null,null,null,null,null,null,null,null,null,null,null,null,null,{"$f":"IFERROR(VLOOKUP(AM58,Отделения[отделение]:Отделения[Код],2,FALSE),\"\")","v":""}]
[null,null,null,null,null,null,null,null,null,null,null,null,null,null,null,null,null,null,null,null,null,null,null,null,null,null,null,null,null,null,null,null,null,null,null,null,null,null,null,{"$f":"IFERROR(VLOOKUP(AM59,Отделения[отделение]:Отделения[Код],2,FALSE),\"\")","v":""}]
[null,null,null,null,null,null,null,null,null,null,null,null,null,null,null,null,null,null,null,null,null,null,null,null,null,null,null,null,null,null,null,null,null,null,null,null,null,null,null,{"$f":"IFERROR(VLOOKUP(AM60,Отделения[отделение]:Отделения[Код],2,FALSE),\"\")","v":""}]
[null,null,null,null,null,null,null,null,null,null,null,null,null,null,null,null,null,null,null,null,null,null,null,null,null,null,null,null,null,null,null,null,null,null,null,null,null,null,null,{"$f":"IFERROR(VLOOKUP(AM61,Отделения[отделение]:Отделения[Код],2,FALSE),\"\")","v":""}]
[null,null,null,null,null,null,null,null,null,null,null,null,null,null,null,null,null,null,null,null,null,null,null,null,null,null,null,null,null,null,null,null,null,null,null,null,null,null,null,{"$f":"IFERROR(VLOOKUP(AM62,Отделения[отделение]:Отделения[Код],2,FALSE),\"\")","v":""}]
[null,null,null,null,null,null,null,null,null,null,null,null,null,null,null,null,null,null,null,null,null,null,null,null,null,null,null,null,null,null,null,null,null,null,null,null,null,null,null,{"$f":"IFERROR(VLOOKUP(AM63,Отделения[отделение]:Отделения[Код],2,FALSE),\"\")","v":""}]
[null,null,null,null,null,null,null,null,null,null,null,null,null,null,null,null,null,null,null,null,null,null,null,null,null,null,null,null,null,null,null,null,null,null,null,null,null,null,null,{"$f":"IFERROR(VLOOKUP(AM64,Отделения[отделение]:Отделения[Код],2,FALSE),\"\")","v":""}]
[null,null,null,null,null,null,null,null,null,null,null,null,null,null,null,null,null,null,null,null,null,null,null,null,null,null,null,null,null,null,null,null,null,null,null,null,null,null,null,{"$f":"IFERROR(VLOOKUP(AM65,Отделения[отделение]:Отделения[Код],2,FALSE),\"\")","v":""}]
[null,null,null,null,null,null,null,null,null,null,null,null,null,null,null,null,null,null,null,null,null,null,null,null,null,null,null,null,null,null,null,null,null,null,null,null,null,null,null,{"$f":"IFERROR(VLOOKUP(AM66,Отделения[отделение]:Отделения[Код],2,FALSE),\"\")","v":""}]
[null,null,null,null,null,null,null,null,null,null,null,null,null,null,null,null,null,null,null,null,null,null,null,null,null,null,null,null,null,null,null,null,null,null,null,null,null,null,null,{"$f":"IFERROR(VLOOKUP(AM67,Отделения[отделение]:Отделения[Код],2,FALSE),\"\")","v":""}]
[null,null,null,null,null,null,null,null,null,null,null,null,null,null,null,null,null,null,null,null,null,null,null,null,null,null,null,null,null,null,null,null,null,null,null,null,null,null,null,{"$f":"IFERROR(VLOOKUP(AM68,Отделения[отделение]:Отделения[Код],2,FALSE),\"\")","v":""}]
[null,null,null,null,null,null,null,null,null,null,null,null,null,null,null,null,null,null,null,null,null,null,null,null,null,null,null,null,null,null,null,null,null,null,null,null,null,null,null,{"$f":"IFERROR(VLOOKUP(AM69,Отделения[отделение]:Отделения[Код],2,FALSE),\"\")","v":""}]
[null,null,null,null,null,null,null,null,null,null,null,null,null,null,null,null,null,null,null,null,null,null,null,null,null,null,null,null,null,null,null,null,null,null,null,null,null,null,null,{"$f":"IFERROR(VLOOKUP(AM70,Отделения[отделение]:Отделения[Код],2,FALSE),\"\")","v":""}]
[null,null,null,null,null,null,null,null,null,null,null,null,null,null,null,null,null,null,null,null,null,null,null,null,null,null,null,null,null,null,null,null,null,null,null,null,null,null,null,{"$f":"IFERROR(VLOOKUP(AM71,Отделения[отделение]:Отделения[Код],2,FALSE),\"\")","v":""}]
[null,null,null,null,null,null,null,null,null,null,null,null,null,null,null,null,null,null,null,null,null,null,null,null,null,null,null,null,null,null,null,null,null,null,null,null,null,null,null,{"$f":"IFERROR(VLOOKUP(AM72,Отделения[отделение]:Отделения[Код],2,FALSE),\"\")","v":""}]
[null,null,null,null,null,null,null,null,null,null,null,null,null,null,null,null,null,null,null,null,null,null,null,null,null,null,null,null,null,null,null,null,null,null,null,null,null,null,null,{"$f":"IFERROR(VLOOKUP(AM73,Отделения[отделение]:Отделения[Код],2,FALSE),\"\")","v":""}]
[null,null,null,null,null,null,null,null,null,null,null,null,null,null,null,null,null,null,null,null,null,null,null,null,null,null,null,null,null,null,null,null,null,null,null,null,null,null,null,{"$f":"IFERROR(VLOOKUP(AM74,Отделения[отделение]:Отделения[Код],2,FALSE),\"\")","v":""}]
[null,null,null,null,null,null,null,null,null,null,null,null,null,null,null,null,null,null,null,null,null,null,null,null,null,null,null,null,null,null,null,null,null,null,null,null,null,null,null,{"$f":"IFERROR(VLOOKUP(AM75,Отделения[отделение]:Отделения[Код],2,FALSE),\"\")","v":""}]
[null,null,null,null,null,null,null,null,null,null,null,null,null,null,null,null,null,null,null,null,null,null,null,null,null,null,null,null,null,null,null,null,null,null,null,null,null,null,null,{"$f":"IFERROR(VLOOKUP(AM76,Отделения[отделение]:Отделения[Код],2,FALSE),\"\")","v":""}]
[null,null,null,null,null,null,null,null,null,null,null,null,null,null,null,null,null,null,null,null,null,null,null,null,null,null,null,null,null,null,null,null,null,null,null,null,null,null,null,{"$f":"IFERROR(VLOOKUP(AM77,Отделения[отделение]:Отделения[Код],2,FALSE),\"\")","v":""}]
[null,null,null,null,null,null,null,null,null,null,null,null,null,null,null,null,null,null,null,null,null,null,null,null,null,null,null,null,null,null,null,null,null,null,null,null,null,null,null,{"$f":"IFERROR(VLOOKUP(AM78,Отделения[отделение]:Отделения[Код],2,FALSE),\"\")","v":""}]
[null,null,null,null,null,null,null,null,null,null,null,null,null,null,null,null,null,null,null,null,null,null,null,null,null,null,null,null,null,null,null,null,null,null,null,null,null,null,null,{"$f":"IFERROR(VLOOKUP(AM79,Отделения[отделение]:Отделения[Код],2,FALSE),\"\")","v":""}]
[null,null,null,null,null,null,null,null,null,null,null,null,null,null,null,null,null,null,null,null,null,null,null,null,null,null,null,null,null,null,null,null,null,null,null,null,null,null,null,{"$f":"IFERROR(VLOOKUP(AM80,Отделения[отделение]:Отделения[Код],2,FALSE),\"\")","v":""}]
[null,null,null,null,null,null,null,null,null,null,null,null,null,null,null,null,null,null,null,null,null,null,null,null,null,null,null,null,null,null,null,null,null,null,null,null,null,null,null,{"$f":"IFERROR(VLOOKUP(AM81,Отделения[отделение]:Отделения[Код],2,FALSE),\"\")","v":""}]
[null,null,null,null,null,null,null,null,null,null,null,null,null,null,null,null,null,null,null,null,null,null,null,null,null,null,null,null,null,null,null,null,null,null,null,null,null,null,null,{"$f":"IFERROR(VLOOKUP(AM82,Отделения[отделение]:Отделения[Код],2,FALSE),\"\")","v":""}]
[null,null,null,null,null,null,null,null,null,null,null,null,null,null,null,null,null,null,null,null,null,null,null,null,null,null,null,null,null,null,null,null,null,null,null,null,null,null,null,{"$f":"IFERROR(VLOOKUP(AM83,Отделения[отделение]:Отделения[Код],2,FALSE),\"\")","v":""}]
[null,null,null,null,null,null,null,null,null,null,null,null,null,null,null,null,null,null,null,null,null,null,null,null,null,null,null,null,null,null,null,null,null,null,null,null,null,null,null,{"$f":"IFERROR(VLOOKUP(AM84,Отделения[отделение]:Отделения[Код],2,FALSE),\"\")","v":""}]
[null,null,null,null,null,null,null,null,null,null,null,null,null,null,null,null,null,null,null,null,null,null,null,null,null,null,null,null,null,null,null,null,null,null,null,null,null,null,null,{"$f":"IFERROR(VLOOKUP(AM85,Отделения[отделение]:Отделения[Код],2,FALSE),\"\")","v":""}]
[null,null,null,null,null,null,null,null,null,null,null,null,null,null,null,null,null,null,null,null,null,null,null,null,null,null,null,null,null,null,null,null,null,null,null,null,null,null,null,{"$f":"IFERROR(VLOOKUP(AM86,Отделения[отделение]:Отделения[Код],2,FALSE),\"\")","v":""}]
[null,null,null,null,null,null,null,null,null,null,null,null,null,null,null,null,null,null,null,null,null,null,null,null,null,null,null,null,null,null,null,null,null,null,null,null,null,null,null,{"$f":"IFERROR(VLOOKUP(AM87,Отделения[отделение]:Отделения[Код],2,FALSE),\"\")","v":""}]
[null,null,null,null,null,null,null,null,null,null,null,null,null,null,null,null,null,null,null,null,null,null,null,null,null,null,null,null,null,null,null,null,null,null,null,null,null,null,null,{"$f":"IFERROR(VLOOKUP(AM88,Отделения[отделение]:Отделения[Код],2,FALSE),\"\")","v":""}]
[null,null,null,null,null,null,null,null,null,null,null,null,null,null,null,null,null,null,null,null,null,null,null,null,null,null,null,null,null,null,null,null,null,null,null,null,null,null,null,{"$f":"IFERROR(VLOOKUP(AM89,Отделения[отделение]:Отделения[Код],2,FALSE),\"\")","v":""}]
[null,null,null,null,null,null,null,null,null,null,null,null,null,null,null,null,null,null,null,null,null,null,null,null,null,null,null,null,null,null,null,null,null,null,null,null,null,null,null,{"$f":"IFERROR(VLOOKUP(AM90,Отделения[отделение]:Отделения[Код],2,FALSE),\"\")","v":""}]
[null,null,null,null,null,null,null,null,null,null,null,null,null,null,null,null,null,null,null,null,null,null,null,null,null,null,null,null,null,null,null,null,null,null,null,null,null,null,null,{"$f":"IFERROR(VLOOKUP(AM91,Отделения[отделение]:Отделения[Код],2,FALSE),\"\")","v":""}]
[]
[null,null,null,null,null,null,null,null,null,null,null,null,null,null,null,null,null,null,null,null,null,null,null,null,null,null,null,null,null,null,null,null,null,null,null,null,null,null,null,{"$f":"IFERROR(VLOOKUP(AM93,Отделения[отделение]:Отделения[Код],2,FALSE),\"\")","v":""}]
[null,null,null,null,null,null,null,null,null,null,null,null,null,null,null,null,null,null,null,null,null,null,null,null,null,null,null,null,null,null,null,null,null,null,null,null,null,null,null,{"$f":"IFERROR(VLOOKUP(AM94,Отделения[отделение]:Отделения[Код],2,FALSE),\"\")","v":""}]
[null,null,null,null,null,null,null,null,null,null,null,null,null,null,null,null,null,null,null,null,null,null,null,null,null,null,null,null,null,null,null,null,null,null,null,null,null,null,null,{"$f":"IFERROR(VLOOKUP(AM95,Отделения[отделение]:Отделения[Код],2,FALSE),\"\")","v":""}]
[null,null,null,null,null,null,null,null,null,null,null,null,null,null,null,null,null,null,null,null,null,null,null,null,null,null,null,null,null,null,null,null,null,null,null,null,null,null,null,{"$f":"IFERROR(VLOOKUP(AM96,Отделения[отделение]:Отделения[Код],2,FALSE),\"\")","v":""}]
[null,null,null,null,null,null,null,null,null,null,null,null,null,null,null,null,null,null,null,null,null,null,null,null,null,null,null,null,null,null,null,null,null,null,null,null,null,null,null,{"$f":"IFERROR(VLOOKUP(AM97,Отделения[отделение]:Отделения[Код],2,FALSE),\"\")","v":""}]
[null,null,null,null,null,null,null,null,null,null,null,null,null,null,null,null,null,null,null,null,null,null,null,null,null,null,null,null,null,null,null,null,null,null,null,null,null,null,null,{"$f":"IFERROR(VLOOKUP(AM98,Отделения[отделение]:Отделения[Код],2,FALSE),\"\")","v":""}]
[null,null,null,null,null,null,null,null,null,null,null,null,null,null,null,null,null,null,null,null,null,null,null,null,null,null,null,null,null,null,null,null,null,null,null,null,null,null,null,{"$f":"IFERROR(VLOOKUP(AM99,Отделения[отделение]:Отделения[Код],2,FALSE),\"\")","v":""}]
[null,null,null,null,null,null,null,null,null,null,null,null,null,null,null,null,null,null,null,null,null,null,null,null,null,null,null,null,null,null,null,null,null,null,null,null,null,null,null,{"$f":"IFERROR(VLOOKUP(AM100,Отделения[отделение]:Отделения[Код],2,FALSE),\"\")","v":""}]

{"sheet":"Информация","index":2,"n_rows":3,"n_cols":1,"rows_kept":3,"cut":false,"hidden":false,"merged":[]}
["Наименование компании"]
["ИНН компании"]
["Зарплатный проект"]

{"sheet":"dictionary_city","index":3,"n_rows":301,"n_cols":1,"rows_kept":301,"cut":false,"hidden":true,"merged":[]}
["Наименование"]
["Москва"]
["Санкт-Петербург"]
["Абакан"]
["Азов"]
["Аксай"]
["Алексин"]
["Альметьевск"]
["Анапа"]
["Ангарск"]
["Анжеро-Судженск"]
["Апатиты"]
["Арзамас"]
["Армавир"]
["Арсеньев"]
["Артем"]
["Архангельск"]
["Асбест"]
["Астрахань"]
["Ачинск"]
["Балаково"]
["БАЛАШИХА"]
["Балашов"]
["Барнаул"]
["Батайск"]
["Белгород"]
["Белебей"]
["Белово"]
["Белогорск"]
["Белорецк"]
["Белореченск"]
["Бердск"]
["Березники"]
["Березовский"]
["Бийск"]
["Биробиджан"]
["Благовещенск"]
["Большой Камень"]
["Бор"]
["Борисоглебск"]
["Боровичи"]
["Братск"]
["Брянск"]
["Бугульма"]
["Буденновск"]
["Бузулук"]
["Великие Луки"]
["Великий Новгород"]
["Верхняя Пышма"]
["Видное"]
["Владивосток"]
["Владикавказ"]
["Владимир"]
["Волгоград"]
["Волгодонск"]
["Волжск"]
["Волжский"]
["Вологда"]
["Волоколамск"]
["Вольск"]
["Воронеж"]
["Воскресенск"]
["Воткинск"]
["Всеволожск"]
["Выборг"]
["Выкса"]
["Вышний Волочек"]
["Вязьма"]
["Гатчина"]
["Геленджик"]
["Георгиевск"]
["Глазов"]
["Горно-Алтайск"]
["Губкин"]
["Гусь-Хрустальный"]
["Дзержинск"]
["Димитровград"]
["Дмитров"]
["Долгопрудный"]
["Домодедово"]
["Донецк"]
["Донской"]
["Дубна"]
["Егорьевск"]
["Екатеринбург"]
["Елабуга"]
["Елец"]
["Ессентуки"]
["Железногорск"]
["Жуковский"]
["Заречный"]
["Зеленодольск"]
["Златоуст"]
["Иваново"]
["Ижевск"]
["Иркутск"]
["Искитим"]
["Истра"]
["Ишим"]
["Йошкар-Ола"]
["Казань"]
["Калининград"]
["Калуга"]
["Каменск-Уральский"]
["Каменск-Шахтинский"]
["Камышин"]
["Канск"]
["Кемерово"]
["Кинешма"]
["Кириши"]
["Киров"]
["Кирово-Чепецк"]
["Киселевск"]
["Кисловодск"]
["Клин"]
["Клинцы"]
["Ковров"]
["Когалым"]
["Коломна"]
["Колпино"]
["Коммунарка"]
["Комсомольск-на-Амуре"]
["Копейск"]
["Королев"]
["Кострома"]
["Котельники"]
["Котлас"]
["Красногорск"]
["Краснодар"]
["Краснокаменск"]
["Краснокамск"]
["Краснотурьинск"]
["Красноярск"]
["Кронштадт"]
["Кропоткин"]
["Крымск"]
["Кстово"]
["Кудрово"]
["Кузнецк"]
["Куйбышев"]
["Кумертау"]
["Кунгур"]
["Курган"]
["Курск"]
["Курчатов"]
["Лабинск"]
["Лениногорск"]
["Ленинск-Кузнецкий"]
["Лесосибирск"]
["Ливны"]
["Липецк"]
["Лиски"]
["Лобня"]
["Лысьва"]
["Люберцы"]
["Магадан"]
["Магнитогорск"]
["Майкоп"]
["Махачкала"]
["Мегион"]
["Междуреченск"]
["Миасс"]
["Минеральные Воды"]
["Минусинск"]
["Михайловка"]
["Михайловск"]
["Мичуринск"]
["Мурино"]
["Мурманск"]
["Муром"]
["Мытищи"]
["Набережные Челны"]
["Наро-Фоминск"]
["Находка"]
["Невинномысск"]
["Нефтекамск"]
["Нефтеюганск"]
["Нижневартовск"]
["Нижнекамск"]
["Нижний Новгород"]
["Нижний Тагил"]
["Новоалтайск"]
["Новокузнецк"]
["Новокуйбышевск"]
["Новомосковск"]
["Новороссийск"]
["Новосибирск"]
["Новотроицк"]
["Новоуральск"]
["Новочебоксарск"]
["Новочеркасск"]
["Новошахтинск"]
["Ногинск"]
["Нягань"]
["Обнинск"]
["Одинцово"]
["Октябрьский"]
["Омск"]
["Орёл"]
["Оренбург"]
["Орехово-Зуево"]
["Орск"]
["Павлово"]
["Павловский Посад"]
["Пенза"]
["Первоуральск"]
["Пермь"]
["Петергоф"]
["Петрозаводск"]
["Петропавловск-Камчатский"]
["Подольск"]
["Прокопьевск"]
["Псков"]
["Пушкин"]
["Пушкино"]
["Пятигорск"]
["Раменское"]
["Ревда"]
["Ржев"]
["Россошь"]
["Ростов-на-Дону"]
["Рубцовск"]
["Рыбинск"]
["Рязань"]
["Салават"]
["Салехард"]
["Самара"]
["Саранск"]
["Сарапул"]
["Саратов"]
["Северодвинск"]
["Североморск"]
["Северск"]
["Сергиев Посад"]
["Серов"]
["Серпухов"]
["Сибай"]
["Славянск-на-Кубани"]
["Смоленск"]
["Соликамск"]
["Солнечногорск"]
["Сосновый Бор"]
["Сочи"]
["Ставрополь"]
["Старый Оскол"]
["Стерлитамак"]
["Ступино"]
["Сургут"]
["Сызрань"]
["Сыктывкар"]
["Таганрог"]
["Тамбов"]
["Тверь"]
["Темрюк"]
["Тимашевск"]
["Тихвин"]
["Тихорецк"]
["Тобольск"]
["Тольятти"]
["Томск"]
["Троицк"]
["Туапсе"]
["Туймазы"]
["Тула"]
["Тюмень"]
["Улан-Удэ"]
["Ульяновск"]
["Усолье-Сибирское"]
["Уссурийск"]
["Усть-Илимск"]
["Усть-Лабинск"]
["Уфа"]
["Ухта"]
["Фрязино"]
["Хабаровск"]
["Ханты-Мансийск"]
["Химки"]
["Чайковский"]
["Чапаевск"]
["Чебоксары"]
["Челябинск"]
["Черемхово"]
["Череповец"]
["Черногорск"]
["Черняховск"]
["Чехов"]
["Чистополь"]
["Чита"]
["Шадринск"]
["Шахты"]
["Шуя"]
["Щекино"]
["Щелково"]
["Щербинка"]
["Электросталь"]
["Энгельс"]
["Южно-Сахалинск"]
["Юрга"]
["Якутск"]
["Ярославль"]
["Ясный"]

{"sheet":"dictionary_branches","index":4,"n_rows":541,"n_cols":106,"rows_kept":541,"cut":false,"hidden":true,"merged":[]}
["Город","отделение","Код","Мнемоника",null,null,{"$f":"'Сотрудники на открытие счетов'!AL2","v":0},{"$f":"'Сотрудники на открытие счетов'!AL3","v":0},{"$f":"'Сотрудники на открытие счетов'!AL4","v":0},{"$f":"'Сотрудники на открытие счетов'!AL5","v":0},{"$f":"'Сотрудники на открытие счетов'!AL6","v":0},{"$f":"'Сотрудники на открытие счетов'!AL7","v":0},{"$f":"'Сотрудники на открытие счетов'!AL8","v":0},{"$f":"'Сотрудники на открытие счетов'!AL9","v":0},{"$f":"'Сотрудники на открытие счетов'!AL10","v":0},{"$f":"'Сотрудники на открытие счетов'!AL11","v":0},{"$f":"'Сотрудники на открытие счетов'!AL12","v":0},{"$f":"'Сотрудники на открытие счетов'!AL13","v":0},{"$f":"'Сотрудники на открытие счетов'!AL14","v":0},{"$f":"'Сотрудники на открытие счетов'!AL15","v":0},{"$f":"'Сотрудники на открытие счетов'!AL16","v":0},{"$f":"'Сотрудники на открытие счетов'!AL17","v":0},{"$f":"'Сотрудники на открытие счетов'!AL18","v":0},{"$f":"'Сотрудники на открытие счетов'!AL19","v":0},{"$f":"'Сотрудники на открытие счетов'!AL20","v":0},{"$f":"'Сотрудники на открытие счетов'!AL21","v":0},{"$f":"'Сотрудники на открытие счетов'!AL22","v":0},{"$f":"'Сотрудники на открытие счетов'!AL23","v":0},{"$f":"'Сотрудники на открытие счетов'!AL24","v":0},{"$f":"'Сотрудники на открытие счетов'!AL25","v":0},{"$f":"'Сотрудники на открытие счетов'!AL26","v":0},{"$f":"'Сотрудники на открытие счетов'!AL27","v":0},{"$f":"'Сотрудники на открытие счетов'!AL28","v":0},{"$f":"'Сотрудники на открытие счетов'!AL29","v":0},{"$f":"'Сотрудники на открытие счетов'!AL30","v":0},{"$f":"'Сотрудники на открытие счетов'!AL31","v":0},{"$f":"'Сотрудники на открытие счетов'!AL32","v":0},{"$f":"'Сотрудники на открытие счетов'!AL33","v":0},{"$f":"'Сотрудники на открытие счетов'!AL34","v":0},{"$f":"'Сотрудники на открытие счетов'!AL35","v":0},{"$f":"'Сотрудники на открытие счетов'!AL36","v":0},{"$f":"'Сотрудники на открытие счетов'!AL37","v":0},{"$f":"'Сотрудники на открытие счетов'!AL38","v":0},{"$f":"'Сотрудники на открытие счетов'!AL39","v":0},{"$f":"'Сотрудники на открытие счетов'!AL40","v":0},{"$f":"'Сотрудники на открытие счетов'!AL41","v":0},{"$f":"'Сотрудники на открытие счетов'!AL42","v":0},{"$f":"'Сотрудники на открытие счетов'!AL43","v":0},{"$f":"'Сотрудники на открытие счетов'!AL44","v":0},{"$f":"'Сотрудники на открытие счетов'!AL45","v":0},{"$f":"'Сотрудники на открытие счетов'!AL46","v":0},{"$f":"'Сотрудники на открытие счетов'!AL47","v":0},{"$f":"'Сотрудники на открытие счетов'!AL48","v":0},{"$f":"'Сотрудники на открытие счетов'!AL49","v":0},{"$f":"'Сотрудники на открытие счетов'!AL50","v":0},{"$f":"'Сотрудники на открытие счетов'!AL51","v":0},{"$f":"'Сотрудники на открытие счетов'!AL52","v":0},{"$f":"'Сотрудники на открытие счетов'!AL53","v":0},{"$f":"'Сотрудники на открытие счетов'!AL54","v":0},{"$f":"'Сотрудники на открытие счетов'!AL55","v":0},{"$f":"'Сотрудники на открытие счетов'!AL56","v":0},{"$f":"'Сотрудники на открытие счетов'!AL57","v":0},{"$f":"'Сотрудники на открытие счетов'!AL58","v":0},{"$f":"'Сотрудники на открытие счетов'!AL59","v":0},{"$f":"'Сотрудники на открытие счетов'!AL60","v":0},{"$f":"'Сотрудники на открытие счетов'!AL61","v":0},{"$f":"'Сотрудники на открытие счетов'!AL62","v":0},{"$f":"'Сотрудники на открытие счетов'!AL63","v":0},{"$f":"'Сотрудники на открытие счетов'!AL64","v":0},{"$f":"'Сотрудники на открытие счетов'!AL65","v":0},{"$f":"'Сотрудники на открытие счетов'!AL66","v":0},{"$f":"'Сотрудники на открытие счетов'!AL67","v":0},{"$f":"'Сотрудники на открытие счетов'!AL68","v":0},{"$f":"'Сотрудники на открытие счетов'!AL69","v":0},{"$f":"'Сотрудники на открытие счетов'!AL70","v":0},{"$f":"'Сотрудники на открытие счетов'!AL71","v":0},{"$f":"'Сотрудники на открытие счетов'!AL72","v":0},{"$f":"'Сотрудники на открытие счетов'!AL73","v":0},{"$f":"'Сотрудники на открытие счетов'!AL74","v":0},{"$f":"'Сотрудники на открытие счетов'!AL75","v":0},{"$f":"'Сотрудники на открытие счетов'!AL76","v":0},{"$f":"'Сотрудники на открытие счетов'!AL77","v":0},{"$f":"'Сотрудники на открытие счетов'!AL78","v":0},{"$f":"'Сотрудники на открытие счетов'!AL79","v":0},{"$f":"'Сотрудники на открытие счетов'!AL80","v":0},{"$f":"'Сотрудники на открытие счетов'!AL81","v":0},{"$f":"'Сотрудники на открытие счетов'!AL82","v":0},{"$f":"'Сотрудники на открытие счетов'!AL83","v":0},{"$f":"'Сотрудники на открытие счетов'!AL84","v":0},{"$f":"'Сотрудники на открытие счетов'!AL85","v":0},{"$f":"'Сотрудники на открытие счетов'!AL86","v":0},{"$f":"'Сотрудники на открытие счетов'!AL87","v":0},{"$f":"'Сотрудники на открытие счетов'!AL88","v":0},{"$f":"'Сотрудники на открытие счетов'!AL89","v":0},{"$f":"'Сотрудники на открытие счетов'!AL90","v":0},{"$f":"'Сотрудники на открытие счетов'!AL91","v":0},{"$f":"'Сотрудники на открытие счетов'!AL92","v":0},{"$f":"'Сотрудники на открытие счетов'!AL93","v":0},{"$f":"'Сотрудники на открытие счетов'!AL94","v":0},{"$f":"'Сотрудники на открытие счетов'!AL95","v":0},{"$f":"'Сотрудники на открытие счетов'!AL96","v":0},{"$f":"'Сотрудники на открытие счетов'!AL97","v":0},{"$f":"'Сотрудники на открытие счетов'!AL98","v":0},{"$f":"'Сотрудники на открытие счетов'!AL99","v":0},{"$f":"'Сотрудники на открытие счетов'!AL100","v":0},{"$f":"'Сотрудники на открытие счетов'!AL101","v":0}]
["Москва","ДО \"НОВОГИРЕЕВО\" , 111396, г. Москва, пр-кт Свободный, д. 20А","0404","MOOG",null,null,{"$f":"IFERROR(INDEX(Отделения[отделение],SMALL(IF(Отделения[Город]=$G$1,ROW(Отделения[Город])-1),ROW(A2)-ROW($A$2)+1)),\"\")","v":""},{"$f":"IFERROR(INDEX(Отделения[отделение],SMALL(IF(Отделения[Город]=$H$1,ROW(Отделения[Город])-1),ROW(A2)-ROW($A$2)+1)),\"\")","v":""},{"$f":"IFERROR(INDEX(Отделения[отделение],SMALL(IF(Отделения[Город]=$I$1,ROW(Отделения[Город])-1),ROW(A2)-ROW($A$2)+1)),\"\")","v":""},{"$f":"IFERROR(INDEX(Отделения[отделение],SMALL(IF(Отделения[Город]=$J$1,ROW(Отделения[Город])-1),ROW(A2)-ROW($A$2)+1)),\"\")","v":""},{"$f":"IFERROR(INDEX(Отделения[отделение],SMALL(IF(Отделения[Город]=$K$1,ROW(Отделения[Город])-1),ROW(A2)-ROW($A$2)+1)),\"\")","v":""},{"$f":"IFERROR(INDEX(Отделения[отделение],SMALL(IF(Отделения[Город]=$L$1,ROW(Отделения[Город])-1),ROW(A2)-ROW($A$2)+1)),\"\")","v":""},{"$f":"IFERROR(INDEX(Отделения[отделение],SMALL(IF(Отделения[Город]=$M$1,ROW(Отделения[Город])-1),ROW(B2)-ROW($A$2)+1)),\"\")","v":""},{"$f":"IFERROR(INDEX(Отделения[отделение],SMALL(IF(Отделения[Город]=$N$1,ROW(Отделения[Город])-1),ROW(#REF!)-ROW($A$2)+1)),\"\")","v":""},{"$f":"IFERROR(INDEX(Отделения[отделение],SMALL(IF(Отделения[Город]=$O$1,ROW(Отделения[Город])-1),ROW(C2)-ROW($A$2)+1)),\"\")","v":""},{"$f":"IFERROR(INDEX(Отделения[отделение],SMALL(IF(Отделения[Город]=$P$1,ROW(Отделения[Город])-1),ROW(D2)-ROW($A$2)+1)),\"\")","v":""},{"$f":"IFERROR(INDEX(Отделения[отделение],SMALL(IF(Отделения[Город]=$Q$1,ROW(Отделения[Город])-1),ROW(F2)-ROW($A$2)+1)),\"\")","v":""},{"$f":"IFERROR(INDEX(Отделения[отделение],SMALL(IF(Отделения[Город]=$R$1,ROW(Отделения[Город])-1),ROW(#REF!)-ROW($A$2)+1)),\"\")","v":""},{"$f":"IFERROR(INDEX(Отделения[отделение],SMALL(IF(Отделения[Город]=$S$1,ROW(Отделения[Город])-1),ROW(G2)-ROW($A$2)+1)),\"\")","v":""},{"$f":"IFERROR(INDEX(Отделения[отделение],SMALL(IF(Отделения[Город]=$T$1,ROW(Отделения[Город])-1),ROW(H2)-ROW($A$2)+1)),\"\")","v":""},{"$f":"IFERROR(INDEX(Отделения[отделение],SMALL(IF(Отделения[Город]=$U$1,ROW(Отделения[Город])-1),ROW(I2)-ROW($A$2)+1)),\"\")","v":""},{"$f":"IFERROR(INDEX(Отделения[отделение],SMALL(IF(Отделения[Город]=$V$1,ROW(Отделения[Город])-1),ROW(J2)-ROW($A$2)+1)),\"\")","v":""},{"$f":"IFERROR(INDEX(Отделения[отделение],SMALL(IF(Отделения[Город]=$W$1,ROW(Отделения[Город])-1),ROW(K2)-ROW($A$2)+1)),\"\")","v":""},{"$f":"IFERROR(INDEX(Отделения[отделение],SMALL(IF(Отделения[Город]=$X$1,ROW(Отделения[Город])-1),ROW(L2)-ROW($A$2)+1)),\"\")","v":""},{"$f":"IFERROR(INDEX(Отделения[отделение],SMALL(IF(Отделения[Город]=$Y$1,ROW(Отделения[Город])-1),ROW(M2)-ROW($A$2)+1)),\"\")","v":""},{"$f":"IFERROR(INDEX(Отделения[отделение],SMALL(IF(Отделения[Город]=$Z$1,ROW(Отделения[Город])-1),ROW(N2)-ROW($A$2)+1)),\"\")","v":""},{"$f":"IFERROR(INDEX(Отделения[отделение],SMALL(IF(Отделения[Город]=$AA$1,ROW(Отделения[Город])-1),ROW(O2)-ROW($A$2)+1)),\"\")","v":""},{"$f":"IFERROR(INDEX(Отделения[отделение],SMALL(IF(Отделения[Город]=$AB$1,ROW(Отделения[Город])-1),ROW(P2)-ROW($A$2)+1)),\"\")","v":""},{"$f":"IFERROR(INDEX(Отделения[отделение],SMALL(IF(Отделения[Город]=$AC$1,ROW(Отделения[Город])-1),ROW(Q2)-ROW($A$2)+1)),\"\")","v":""},{"$f":"IFERROR(INDEX(Отделения[отделение],SMALL(IF(Отделения[Город]=$AD$1,ROW(Отделения[Город])-1),ROW(R2)-ROW($A$2)+1)),\"\")","v":""},{"$f":"IFERROR(INDEX(Отделения[отделение],SMALL(IF(Отделения[Город]=$AE$1,ROW(Отделения[Город])-1),ROW(S2)-ROW($A$2)+1)),\"\")","v":""},{"$f":"IFERROR(INDEX(Отделения[отделение],SMALL(IF(Отделения[Город]=$AF$1,ROW(Отделения[Город])-1),ROW(T2)-ROW($A$2)+1)),\"\")","v":""},{"$f":"IFERROR(INDEX(Отделения[отделение],SMALL(IF(Отделения[Город]=$AG$1,ROW(Отделения[Город])-1),ROW(U2)-ROW($A$2)+1)),\"\")","v":""},{"$f":"IFERROR(INDEX(Отделения[отделение],SMALL(IF(Отделения[Город]=$AH$1,ROW(Отделения[Город])-1),ROW(V2)-ROW($A$2)+1)),\"\")","v":""},{"$f":"IFERROR(INDEX(Отделения[отделение],SMALL(IF(Отделения[Город]=$AI$1,ROW(Отделения[Город])-1),ROW(AB2)-ROW($A$2)+1)),\"\")","v":""},{"$f":"IFERROR(INDEX(Отделения[отделение],SMALL(IF(Отделения[Город]=$AJ$1,ROW(Отделения[Город])-1),ROW(AB2)-ROW($A$2)+1)),\"\")","v":""},{"$f":"IFERROR(INDEX(Отделения[отделение],SMALL(IF(Отделения[Город]=$AK$1,ROW(Отделения[Город])-1),ROW(AB2)-ROW($A$2)+1)),\"\")","v":""},{"$f":"IFERROR(INDEX(Отделения[отделение],SMALL(IF(Отделения[Город]=$AL$1,ROW(Отделения[Город])-1),ROW(AB2)-ROW($A$2)+1)),\"\")","v":""},{"$f":"IFERROR(INDEX(Отделения[отделение],SMALL(IF(Отделения[Город]=$AM$1,ROW(Отделения[Город])-1),ROW(AB2)-ROW($A$2)+1)),\"\")","v":""},{"$f":"IFERROR(INDEX(Отделения[отделение],SMALL(IF(Отделения[Город]=$AN$1,ROW(Отделения[Город])-1),ROW(AB2)-ROW($A$2)+1)),\"\")","v":""},{"$f":"IFERROR(INDEX(Отделения[отделение],SMALL(IF(Отделения[Город]=$AO$1,ROW(Отделения[Город])-1),ROW(AB2)-ROW($A$2)+1)),\"\")","v":""},{"$f":"IFERROR(INDEX(Отделения[отделение],SMALL(IF(Отделения[Город]=$AP$1,ROW(Отделения[Город])-1),ROW(AB2)-ROW($A$2)+1)),\"\")","v":""},{"$f":"IFERROR(INDEX(Отделения[отделение],SMALL(IF(Отделения[Город]=$AQ$1,ROW(Отделения[Город])-1),ROW(AB2)-ROW($A$2)+1)),\"\")","v":""},{"$f":"IFERROR(INDEX(Отделения[отделение],SMALL(IF(Отделения[Город]=$AR$1,ROW(Отделения[Город])-1),ROW(AB2)-ROW($A$2)+1)),\"\")","v":""},{"$f":"IFERROR(INDEX(Отделения[отделение],SMALL(IF(Отделения[Город]=$AS$1,ROW(Отделения[Город])-1),ROW(AB2)-ROW($A$2)+1)),\"\")","v":""},{"$f":"IFERROR(INDEX(Отделения[отделение],SMALL(IF(Отделения[Город]=$AT$1,ROW(Отделения[Город])-1),ROW(AB2)-ROW($A$2)+1)),\"\")","v":""},{"$f":"IFERROR(INDEX(Отделения[отделение],SMALL(IF(Отделения[Город]=$AU$1,ROW(Отделения[Город])-1),ROW(AB2)-ROW($A$2)+1)),\"\")","v":""},{"$f":"IFERROR(INDEX(Отделения[отделение],SMALL(IF(Отделения[Город]=$AV$1,ROW(Отделения[Город])-1),ROW(AB2)-ROW($A$2)+1)),\"\")","v":""},{"$f":"IFERROR(INDEX(Отделения[отделение],SMALL(IF(Отделения[Город]=$AW$1,ROW(Отделения[Город])-1),ROW(AB2)-ROW($A$2)+1)),\"\")","v":""},{"$f":"IFERROR(INDEX(Отделения[отделение],SMALL(IF(Отделения[Город]=$AX$1,ROW(Отделения[Город])-1),ROW(AB2)-ROW($A$2)+1)),\"\")","v":""},{"$f":"IFERROR(INDEX(Отделения[отделение],SMALL(IF(Отделения[Город]=$AY$1,ROW(Отделения[Город])-1),ROW(AB2)-ROW($A$2)+1)),\"\")","v":""},{"$f":"IFERROR(INDEX(Отделения[отделение],SMALL(IF(Отделения[Город]=$AZ$1,ROW(Отделения[Город])-1),ROW(AB2)-ROW($A$2)+1)),\"\")","v":""},{"$f":"IFERROR(INDEX(Отделения[отделение],SMALL(IF(Отделения[Город]=$BA$1,ROW(Отделения[Город])-1),ROW(AB2)-ROW($A$2)+1)),\"\")","v":""},{"$f":"IFERROR(INDEX(Отделения[отделение],SMALL(IF(Отделения[Город]=$BB$1,ROW(Отделения[Город])-1),ROW(AB2)-ROW($A$2)+1)),\"\")","v":""},{"$f":"IFERROR(INDEX(Отделения[отделение],SMALL(IF(Отделения[Город]=$BC$1,ROW(Отделения[Город])-1),ROW(AC2)-ROW($A$2)+1)),\"\")","v":""},{"$f":"IFERROR(INDEX(Отделения[отделение],SMALL(IF(Отделения[Город]=$BD$1,ROW(Отделения[Город])-1),ROW(AD2)-ROW($A$2)+1)),\"\")","v":""},{"$f":"IFERROR(INDEX(Отделения[отделение],SMALL(IF(Отделения[Город]=$BE$1,ROW(Отделения[Город])-1),ROW(AE2)-ROW($A$2)+1)),\"\")","v":""},{"$f":"IFERROR(INDEX(Отделения[отделение],SMALL(IF(Отделения[Город]=$BF$1,ROW(Отделения[Город])-1),ROW(AF2)-ROW($A$2)+1)),\"\")","v":""},{"$f":"IFERROR(INDEX(Отделения[отделение],SMALL(IF(Отделения[Город]=$BG$1,ROW(Отделения[Город])-1),ROW(AG2)-ROW($A$2)+1)),\"\")","v":""},{"$f":"IFERROR(INDEX(Отделения[отделение],SMALL(IF(Отделения[Город]=$BH$1,ROW(Отделения[Город])-1),ROW(AH2)-ROW($A$2)+1)),\"\")","v":""},{"$f":"IFERROR(INDEX(Отделения[отделение],SMALL(IF(Отделения[Город]=$BI$1,ROW(Отделения[Город])-1),ROW(AI2)-ROW($A$2)+1)),\"\")","v":""},{"$f":"IFERROR(INDEX(Отделения[отделение],SMALL(IF(Отделения[Город]=$BJ$1,ROW(Отделения[Город])-1),ROW(AJ2)-ROW($A$2)+1)),\"\")","v":""},{"$f":"IFERROR(INDEX(Отделения[отделение],SMALL(IF(Отделения[Город]=$BK$1,ROW(Отделения[Город])-1),ROW(AK2)-ROW($A$2)+1)),\"\")","v":""},{"$f":"IFERROR(INDEX(Отделения[отделение],SMALL(IF(Отделения[Город]=$BL$1,ROW(Отделения[Город])-1),ROW(AL2)-ROW($A$2)+1)),\"\")","v":""},{"$f":"IFERROR(INDEX(Отделения[отделение],SMALL(IF(Отделения[Город]=$BM$1,ROW(Отделения[Город])-1),ROW(AM2)-ROW($A$2)+1)),\"\")","v":""},{"$f":"IFERROR(INDEX(Отделения[отделение],SMALL(IF(Отделения[Город]=$BN$1,ROW(Отделения[Город])-1),ROW(AN2)-ROW($A$2)+1)),\"\")","v":""},{"$f":"IFERROR(INDEX(Отделения[отделение],SMALL(IF(Отделения[Город]=$BO$1,ROW(Отделения[Город])-1),ROW(AO2)-ROW($A$2)+1)),\"\")","v":""},{"$f":"IFERROR(INDEX(Отделения[отделение],SMALL(IF(Отделения[Город]=$BP$1,ROW(Отделения[Город])-1),ROW(AP2)-ROW($A$2)+1)),\"\")","v":""},{"$f":"IFERROR(INDEX(Отделения[отделение],SMALL(IF(Отделения[Город]=$BQ$1,ROW(Отделения[Город])-1),ROW(AQ2)-ROW($A$2)+1)),\"\")","v":""},{"$f":"IFERROR(INDEX(Отделения[отделение],SMALL(IF(Отделения[Город]=$BR$1,ROW(Отделения[Город])-1),ROW(AR2)-ROW($A$2)+1)),\"\")","v":""},{"$f":"IFERROR(INDEX(Отделения[отделение],SMALL(IF(Отделения[Город]=$BS$1,ROW(Отделения[Город])-1),ROW(AS2)-ROW($A$2)+1)),\"\")","v":""},{"$f":"IFERROR(INDEX(Отделения[отделение],SMALL(IF(Отделения[Город]=$BT$1,ROW(Отделения[Город])-1),ROW(AT2)-ROW($A$2)+1)),\"\")","v":""},{"$f":"IFERROR(INDEX(Отделения[отделение],SMALL(IF(Отделения[Город]=$BU$1,ROW(Отделения[Город])-1),ROW(AU2)-ROW($A$2)+1)),\"\")","v":""},{"$f":"IFERROR(INDEX(Отделения[отделение],SMALL(IF(Отделения[Город]=$BV$1,ROW(Отделения[Город])-1),ROW(AV2)-ROW($A$2)+1)),\"\")","v":""},{"$f":"IFERROR(INDEX(Отделения[отделение],SMALL(IF(Отделения[Город]=$BW$1,ROW(Отделения[Город])-1),ROW(AV2)-ROW($A$2)+1)),\"\")","v":""},{"$f":"IFERROR(INDEX(Отделения[отделение],SMALL(IF(Отделения[Город]=$BX$1,ROW(Отделения[Город])-1),ROW(AV2)-ROW($A$2)+1)),\"\")","v":""},{"$f":"IFERROR(INDEX(Отделения[отделение],SMALL(IF(Отделения[Город]=$BY$1,ROW(Отделения[Город])-1),ROW(AV2)-ROW($A$2)+1)),\"\")","v":""},{"$f":"IFERROR(INDEX(Отделения[отделение],SMALL(IF(Отделения[Город]=$BZ$1,ROW(Отделения[Город])-1),ROW(AV2)-ROW($A$2)+1)),\"\")","v":""},{"$f":"IFERROR(INDEX(Отделения[отделение],SMALL(IF(Отделения[Город]=$CA$1,ROW(Отделения[Город])-1),ROW(AV2)-ROW($A$2)+1)),\"\")","v":""},{"$f":"IFERROR(INDEX(Отделения[отделение],SMALL(IF(Отделения[Город]=$CB$1,ROW(Отделения[Город])-1),ROW(AV2)-ROW($A$2)+1)),\"\")","v":""},{"$f":"IFERROR(INDEX(Отделения[отделение],SMALL(IF(Отделения[Город]=$CC$1,ROW(Отделения[Город])-1),ROW(AV2)-ROW($A$2)+1)),\"\")","v":""},{"$f":"IFERROR(INDEX(Отделения[отделение],SMALL(IF(Отделения[Город]=$CD$1,ROW(Отделения[Город])-1),ROW(AV2)-ROW($A$2)+1)),\"\")","v":""},{"$f":"IFERROR(INDEX(Отделения[отделение],SMALL(IF(Отделения[Город]=$CE$1,ROW(Отделения[Город])-1),ROW(AV2)-ROW($A$2)+1)),\"\")","v":""},{"$f":"IFERROR(INDEX(Отделения[отделение],SMALL(IF(Отделения[Город]=$CF$1,ROW(Отделения[Город])-1),ROW(AV2)-ROW($A$2)+1)),\"\")","v":""},{"$f":"IFERROR(INDEX(Отделения[отделение],SMALL(IF(Отделения[Город]=$CG$1,ROW(Отделения[Город])-1),ROW(AV2)-ROW($A$2)+1)),\"\")","v":""},{"$f":"IFERROR(INDEX(Отделения[отделение],SMALL(IF(Отделения[Город]=$CH$1,ROW(Отделения[Город])-1),ROW(AW2)-ROW($A$2)+1)),\"\")","v":""},{"$f":"IFERROR(INDEX(Отделения[отделение],SMALL(IF(Отделения[Город]=$CI$1,ROW(Отделения[Город])-1),ROW(AX2)-ROW($A$2)+1)),\"\")","v":""},{"$f":"IFERROR(INDEX(Отделения[отделение],SMALL(IF(Отделения[Город]=$CJ$1,ROW(Отделения[Город])-1),ROW(AY2)-ROW($A$2)+1)),\"\")","v":""},{"$f":"IFERROR(INDEX(Отделения[отделение],SMALL(IF(Отделения[Город]=$CK$1,ROW(Отделения[Город])-1),ROW(AZ2)-ROW($A$2)+1)),\"\")","v":""},{"$f":"IFERROR(INDEX(Отделения[отделение],SMALL(IF(Отделения[Город]=$CL$1,ROW(Отделения[Город])-1),ROW(BA2)-ROW($A$2)+1)),\"\")","v":""},{"$f":"IFERROR(INDEX(Отделения[отделение],SMALL(IF(Отделения[Город]=$CM$1,ROW(Отделения[Город])-1),ROW(BB2)-ROW($A$2)+1)),\"\")","v":""},{"$f":"IFERROR(INDEX(Отделения[отделение],SMALL(IF(Отделения[Город]=$CN$1,ROW(Отделения[Город])-1),ROW(BC2)-ROW($A$2)+1)),\"\")","v":""},{"$f":"IFERROR(INDEX(Отделения[отделение],SMALL(IF(Отделения[Город]=$CO$1,ROW(Отделения[Город])-1),ROW(BD2)-ROW($A$2)+1)),\"\")","v":""},{"$f":"IFERROR(INDEX(Отделения[отделение],SMALL(IF(Отделения[Город]=$CP$1,ROW(Отделения[Город])-1),ROW(BE2)-ROW($A$2)+1)),\"\")","v":""},{"$f":"IFERROR(INDEX(Отделения[отделение],SMALL(IF(Отделения[Город]=$CQ$1,ROW(Отделения[Город])-1),ROW(BF2)-ROW($A$2)+1)),\"\")","v":""},{"$f":"IFERROR(INDEX(Отделения[отделение],SMALL(IF(Отделения[Город]=$CR$1,ROW(Отделения[Город])-1),ROW(BG2)-ROW($A$2)+1)),\"\")","v":""},{"$f":"IFERROR(INDEX(Отделения[отделение],SMALL(IF(Отделения[Город]=$CS$1,ROW(Отделения[Город])-1),ROW(BH2)-ROW($A$2)+1)),\"\")","v":""},{"$f":"IFERROR(INDEX(Отделения[отделение],SMALL(IF(Отделения[Город]=$CT$1,ROW(Отделения[Город])-1),ROW(BI2)-ROW($A$2)+1)),\"\")","v":""},{"$f":"IFERROR(INDEX(Отделения[отделение],SMALL(IF(Отделения[Город]=$CU$1,ROW(Отделения[Город])-1),ROW(BJ2)-ROW($A$2)+1)),\"\")","v":""},{"$f":"IFERROR(INDEX(Отделения[отделение],SMALL(IF(Отделения[Город]=$CV$1,ROW(Отделения[Город])-1),ROW(BK2)-ROW($A$2)+1)),\"\")","v":""},{"$f":"IFERROR(INDEX(Отделения[отделение],SMALL(IF(Отделения[Город]=$CW$1,ROW(Отделения[Город])-1),ROW(BL2)-ROW($A$2)+1)),\"\")","v":""},{"$f":"IFERROR(INDEX(Отделения[отделение],SMALL(IF(Отделения[Город]=$CX$1,ROW(Отделения[Город])-1),ROW(BM2)-ROW($A$2)+1)),\"\")","v":""},{"$f":"IFERROR(INDEX(Отделения[отделение],SMALL(IF(Отделения[Город]=$CY$1,ROW(Отделения[Город])-1),ROW(BM2)-ROW($A$2)+1)),\"\")","v":""},{"$f":"IFERROR(INDEX(Отделения[отделение],SMALL(IF(Отделения[Город]=$CZ$1,ROW(Отделения[Город])-1),ROW(BM2)-ROW($A$2)+1)),\"\")","v":""},{"$f":"IFERROR(INDEX(Отделения[отделение],SMALL(IF(Отделения[Город]=$DA$1,ROW(Отделения[Город])-1),ROW(BM2)-ROW($A$2)+1)),\"\")","v":""},{"$f":"IFERROR(INDEX(Отделения[отделение],SMALL(IF(Отделения[Город]=$DB$1,ROW(Отделения[Город])-1),ROW(BM2)-ROW($A$2)+1)),\"\")","v":""}]
["Москва","ДО \"ФРУНЗЕНСКИЙ\" , 119021, г. Москва, пр-кт Комсомольский, д. 24 , стр. 1","0405","MOMS",null,null,{"$f":"IFERROR(INDEX(Отделения[отделение],SMALL(IF(Отделения[Город]=$G$1,ROW(Отделения[Город])-1),ROW(A3)-ROW($A$2)+1)),\"\")","v":""},{"$f":"IFERROR(INDEX(Отделения[отделение],SMALL(IF(Отделения[Город]=$H$1,ROW(Отделения[Город])-1),ROW(A3)-ROW($A$2)+1)),\"\")","v":""},{"$f":"IFERROR(INDEX(Отделения[отделение],SMALL(IF(Отделения[Город]=$I$1,ROW(Отделения[Город])-1),ROW(A3)-ROW($A$2)+1)),\"\")","v":""},{"$f":"IFERROR(INDEX(Отделения[отделение],SMALL(IF(Отделения[Город]=$J$1,ROW(Отделения[Город])-1),ROW(A3)-ROW($A$2)+1)),\"\")","v":""},{"$f":"IFERROR(INDEX(Отделения[отделение],SMALL(IF(Отделения[Город]=$K$1,ROW(Отделения[Город])-1),ROW(A3)-ROW($A$2)+1)),\"\")","v":""},{"$f":"IFERROR(INDEX(Отделения[отделение],SMALL(IF(Отделения[Город]=$L$1,ROW(Отделения[Город])-1),ROW(A3)-ROW($A$2)+1)),\"\")","v":""},{"$f":"IFERROR(INDEX(Отделения[отделение],SMALL(IF(Отделения[Город]=$M$1,ROW(Отделения[Город])-1),ROW(B3)-ROW($A$2)+1)),\"\")","v":""},{"$f":"IFERROR(INDEX(Отделения[отделение],SMALL(IF(Отделения[Город]=$N$1,ROW(Отделения[Город])-1),ROW(#REF!)-ROW($A$2)+1)),\"\")","v":""},{"$f":"IFERROR(INDEX(Отделения[отделение],SMALL(IF(Отделения[Город]=$O$1,ROW(Отделения[Город])-1),ROW(C3)-ROW($A$2)+1)),\"\")","v":""},{"$f":"IFERROR(INDEX(Отделения[отделение],SMALL(IF(Отделения[Город]=$P$1,ROW(Отделения[Город])-1),ROW(D3)-ROW($A$2)+1)),\"\")","v":""},{"$f":"IFERROR(INDEX(Отделения[отделение],SMALL(IF(Отделения[Город]=$Q$1,ROW(Отделения[Город])-1),ROW(F3)-ROW($A$2)+1)),\"\")","v":""},{"$f":"IFERROR(INDEX(Отделения[отделение],SMALL(IF(Отделения[Город]=$R$1,ROW(Отделения[Город])-1),ROW(#REF!)-ROW($A$2)+1)),\"\")","v":""},{"$f":"IFERROR(INDEX(Отделения[отделение],SMALL(IF(Отделения[Город]=$S$1,ROW(Отделения[Город])-1),ROW(G3)-ROW($A$2)+1)),\"\")","v":""},{"$f":"IFERROR(INDEX(Отделения[отделение],SMALL(IF(Отделения[Город]=$T$1,ROW(Отделения[Город])-1),ROW(H3)-ROW($A$2)+1)),\"\")","v":""},{"$f":"IFERROR(INDEX(Отделения[отделение],SMALL(IF(Отделения[Город]=$U$1,ROW(Отделения[Город])-1),ROW(I3)-ROW($A$2)+1)),\"\")","v":""},{"$f":"IFERROR(INDEX(Отделения[отделение],SMALL(IF(Отделения[Город]=$V$1,ROW(Отделения[Город])-1),ROW(J3)-ROW($A$2)+1)),\"\")","v":""},{"$f":"IFERROR(INDEX(Отделения[отделение],SMALL(IF(Отделения[Город]=$W$1,ROW(Отделения[Город])-1),ROW(K3)-ROW($A$2)+1)),\"\")","v":""},{"$f":"IFERROR(INDEX(Отделения[отделение],SMALL(IF(Отделения[Город]=$X$1,ROW(Отделения[Город])-1),ROW(L3)-ROW($A$2)+1)),\"\")","v":""},{"$f":"IFERROR(INDEX(Отделения[отделение],SMALL(IF(Отделения[Город]=$Y$1,ROW(Отделения[Город])-1),ROW(M3)-ROW($A$2)+1)),\"\")","v":""},{"$f":"IFERROR(INDEX(Отделения[отделение],SMALL(IF(Отделения[Город]=$Z$1,ROW(Отделения[Город])-1),ROW(N3)-ROW($A$2)+1)),\"\")","v":""},{"$f":"IFERROR(INDEX(Отделения[отделение],SMALL(IF(Отделения[Город]=$AA$1,ROW(Отделения[Город])-1),ROW(O3)-ROW($A$2)+1)),\"\")","v":""},{"$f":"IFERROR(INDEX(Отделения[отделение],SMALL(IF(Отделения[Город]=$AB$1,ROW(Отделения[Город])-1),ROW(P3)-ROW($A$2)+1)),\"\")","v":""},{"$f":"IFERROR(INDEX(Отделения[отделение],SMALL(IF(Отделения[Город]=$AC$1,ROW(Отделения[Город])-1),ROW(Q3)-ROW($A$2)+1)),\"\")","v":""},{"$f":"IFERROR(INDEX(Отделения[отделение],SMALL(IF(Отделения[Город]=$AD$1,ROW(Отделения[Город])-1),ROW(R3)-ROW($A$2)+1)),\"\")","v":""},{"$f":"IFERROR(INDEX(Отделения[отделение],SMALL(IF(Отделения[Город]=$AE$1,ROW(Отделения[Город])-1),ROW(S3)-ROW($A$2)+1)),\"\")","v":""},{"$f":"IFERROR(INDEX(Отделения[отделение],SMALL(IF(Отделения[Город]=$AF$1,ROW(Отделения[Город])-1),ROW(T3)-ROW($A$2)+1)),\"\")","v":""},{"$f":"IFERROR(INDEX(Отделения[отделение],SMALL(IF(Отделения[Город]=$AG$1,ROW(Отделения[Город])-1),ROW(U3)-ROW($A$2)+1)),\"\")","v":""},{"$f":"IFERROR(INDEX(Отделения[отделение],SMALL(IF(Отделения[Город]=$AH$1,ROW(Отделения[Город])-1),ROW(V3)-ROW($A$2)+1)),\"\")","v":""},{"$f":"IFERROR(INDEX(Отделения[отделение],SMALL(IF(Отделения[Город]=$AI$1,ROW(Отделения[Город])-1),ROW(AB3)-ROW($A$2)+1)),\"\")","v":""},{"$f":"IFERROR(INDEX(Отделения[отделение],SMALL(IF(Отделения[Город]=$AJ$1,ROW(Отделения[Город])-1),ROW(AB3)-ROW($A$2)+1)),\"\")","v":""},{"$f":"IFERROR(INDEX(Отделения[отделение],SMALL(IF(Отделения[Город]=$AK$1,ROW(Отделения[Город])-1),ROW(AB3)-ROW($A$2)+1)),\"\")","v":""},{"$f":"IFERROR(INDEX(Отделения[отделение],SMALL(IF(Отделения[Город]=$AL$1,ROW(Отделения[Город])-1),ROW(AB3)-ROW($A$2)+1)),\"\")","v":""},{"$f":"IFERROR(INDEX(Отделения[отделение],SMALL(IF(Отделения[Город]=$AM$1,ROW(Отделения[Город])-1),ROW(AB3)-ROW($A$2)+1)),\"\")","v":""},{"$f":"IFERROR(INDEX(Отделения[отделение],SMALL(IF(Отделения[Город]=$AN$1,ROW(Отделения[Город])-1),ROW(AB3)-ROW($A$2)+1)),\"\")","v":""},{"$f":"IFERROR(INDEX(Отделения[отделение],SMALL(IF(Отделения[Город]=$AO$1,ROW(Отделения[Город])-1),ROW(AB3)-ROW($A$2)+1)),\"\")","v":""},{"$f":"IFERROR(INDEX(Отделения[отделение],SMALL(IF(Отделения[Город]=$AP$1,ROW(Отделения[Город])-1),ROW(AB3)-ROW($A$2)+1)),\"\")","v":""},{"$f":"IFERROR(INDEX(Отделения[отделение],SMALL(IF(Отделения[Город]=$AQ$1,ROW(Отделения[Город])-1),ROW(AB3)-ROW($A$2)+1)),\"\")","v":""},{"$f":"IFERROR(INDEX(Отделения[отделение],SMALL(IF(Отделения[Город]=$AR$1,ROW(Отделения[Город])-1),ROW(AB3)-ROW($A$2)+1)),\"\")","v":""},{"$f":"IFERROR(INDEX(Отделения[отделение],SMALL(IF(Отделения[Город]=$AS$1,ROW(Отделения[Город])-1),ROW(AB3)-ROW($A$2)+1)),\"\")","v":""},{"$f":"IFERROR(INDEX(Отделения[отделение],SMALL(IF(Отделения[Город]=$AT$1,ROW(Отделения[Город])-1),ROW(AB3)-ROW($A$2)+1)),\"\")","v":""},{"$f":"IFERROR(INDEX(Отделения[отделение],SMALL(IF(Отделения[Город]=$AU$1,ROW(Отделения[Город])-1),ROW(AB3)-ROW($A$2)+1)),\"\")","v":""},{"$f":"IFERROR(INDEX(Отделения[отделение],SMALL(IF(Отделения[Город]=$AV$1,ROW(Отделения[Город])-1),ROW(AB3)-ROW($A$2)+1)),\"\")","v":""},{"$f":"IFERROR(INDEX(Отделения[отделение],SMALL(IF(Отделения[Город]=$AW$1,ROW(Отделения[Город])-1),ROW(AB3)-ROW($A$2)+1)),\"\")","v":""},{"$f":"IFERROR(INDEX(Отделения[отделение],SMALL(IF(Отделения[Город]=$AX$1,ROW(Отделения[Город])-1),ROW(AB3)-ROW($A$2)+1)),\"\")","v":""},{"$f":"IFERROR(INDEX(Отделения[отделение],SMALL(IF(Отделения[Город]=$AY$1,ROW(Отделения[Город])-1),ROW(AB3)-ROW($A$2)+1)),\"\")","v":""},{"$f":"IFERROR(INDEX(Отделения[отделение],SMALL(IF(Отделения[Город]=$AZ$1,ROW(Отделения[Город])-1),ROW(AB3)-ROW($A$2)+1)),\"\")","v":""},{"$f":"IFERROR(INDEX(Отделения[отделение],SMALL(IF(Отделения[Город]=$BA$1,ROW(Отделения[Город])-1),ROW(AB3)-ROW($A$2)+1)),\"\")","v":""},{"$f":"IFERROR(INDEX(Отделения[отделение],SMALL(IF(Отделения[Город]=$BB$1,ROW(Отделения[Город])-1),ROW(AB3)-ROW($A$2)+1)),\"\")","v":""},{"$f":"IFERROR(INDEX(Отделения[отделение],SMALL(IF(Отделения[Город]=$BC$1,ROW(Отделения[Город])-1),ROW(AC3)-ROW($A$2)+1)),\"\")","v":""},{"$f":"IFERROR(INDEX(Отделения[отделение],SMALL(IF(Отделения[Город]=$BD$1,ROW(Отделения[Город])-1),ROW(AD3)-ROW($A$2)+1)),\"\")","v":""},{"$f":"IFERROR(INDEX(Отделения[отделение],SMALL(IF(Отделения[Город]=$BE$1,ROW(Отделения[Город])-1),ROW(AE3)-ROW($A$2)+1)),\"\")","v":""},{"$f":"IFERROR(INDEX(Отделения[отделение],SMALL(IF(Отделения[Город]=$BF$1,ROW(Отделения[Город])-1),ROW(AF3)-ROW($A$2)+1)),\"\")","v":""},{"$f":"IFERROR(INDEX(Отделения[отделение],SMALL(IF(Отделения[Город]=$BG$1,ROW(Отделения[Город])-1),ROW(AG3)-ROW($A$2)+1)),\"\")","v":""},{"$f":"IFERROR(INDEX(Отделения[отделение],SMALL(IF(Отделения[Город]=$BH$1,ROW(Отделения[Город])-1),ROW(AH3)-ROW($A$2)+1)),\"\")","v":""},{"$f":"IFERROR(INDEX(Отделения[отделение],SMALL(IF(Отделения[Город]=$BI$1,ROW(Отделения[Город])-1),ROW(AI3)-ROW($A$2)+1)),\"\")","v":""},{"$f":"IFERROR(INDEX(Отделения[отделение],SMALL(IF(Отделения[Город]=$BJ$1,ROW(Отделения[Город])-1),ROW(AJ3)-ROW($A$2)+1)),\"\")","v":""},{"$f":"IFERROR(INDEX(Отделения[отделение],SMALL(IF(Отделения[Город]=$BK$1,ROW(Отделения[Город])-1),ROW(AK3)-ROW($A$2)+1)),\"\")","v":""},{"$f":"IFERROR(INDEX(Отделения[отделение],SMALL(IF(Отделения[Город]=$BL$1,ROW(Отделения[Город])-1),ROW(AL3)-ROW($A$2)+1)),\"\")","v":""},{"$f":"IFERROR(INDEX(Отделения[отделение],SMALL(IF(Отделения[Город]=$BM$1,ROW(Отделения[Город])-1),ROW(AM3)-ROW($A$2)+1)),\"\")","v":""},{"$f":"IFERROR(INDEX(Отделения[отделение],SMALL(IF(Отделения[Город]=$BN$1,ROW(Отделения[Город])-1),ROW(AN3)-ROW($A$2)+1)),\"\")","v":""},{"$f":"IFERROR(INDEX(Отделения[отделение],SMALL(IF(Отделения[Город]=$BO$1,ROW(Отделения[Город])-1),ROW(AO3)-ROW($A$2)+1)),\"\")","v":""},{"$f":"IFERROR(INDEX(Отделения[отделение],SMALL(IF(Отделения[Город]=$BP$1,ROW(Отделения[Город])-1),ROW(AP3)-ROW($A$2)+1)),\"\")","v":""},{"$f":"IFERROR(INDEX(Отделения[отделение],SMALL(IF(Отделения[Город]=$BQ$1,ROW(Отделения[Город])-1),ROW(AQ3)-ROW($A$2)+1)),\"\")","v":""},{"$f":"IFERROR(INDEX(Отделения[отделение],SMALL(IF(Отделения[Город]=$BR$1,ROW(Отделения[Город])-1),ROW(AR3)-ROW($A$2)+1)),\"\")","v":""},{"$f":"IFERROR(INDEX(Отделения[отделение],SMALL(IF(Отделения[Город]=$BS$1,ROW(Отделения[Город])-1),ROW(AS3)-ROW($A$2)+1)),\"\")","v":""},{"$f":"IFERROR(INDEX(Отделения[отделение],SMALL(IF(Отделения[Город]=$BT$1,ROW(Отделения[Город])-1),ROW(AT3)-ROW($A$2)+1)),\"\")","v":""},{"$f":"IFERROR(INDEX(Отделения[отделение],SMALL(IF(Отделения[Город]=$BU$1,ROW(Отделения[Город])-1),ROW(AU3)-ROW($A$2)+1)),\"\")","v":""},{"$f":"IFERROR(INDEX(Отделения[отделение],SMALL(IF(Отделения[Город]=$BV$1,ROW(Отделения[Город])-1),ROW(AV3)-ROW($A$2)+1)),\"\")","v":""},{"$f":"IFERROR(INDEX(Отделения[отделение],SMALL(IF(Отделения[Город]=$BW$1,ROW(Отделения[Город])-1),ROW(AV3)-ROW($A$2)+1)),\"\")","v":""},{"$f":"IFERROR(INDEX(Отделения[отделение],SMALL(IF(Отделения[Город]=$BX$1,ROW(Отделения[Город])-1),ROW(AV3)-ROW($A$2)+1)),\"\")","v":""},{"$f":"IFERROR(INDEX(Отделения[отделение],SMALL(IF(Отделения[Город]=$BY$1,ROW(Отделения[Город])-1),ROW(AV3)-ROW($A$2)+1)),\"\")","v":""},{"$f":"IFERROR(INDEX(Отделения[отделение],SMALL(IF(Отделения[Город]=$BZ$1,ROW(Отделения[Город])-1),ROW(AV3)-ROW($A$2)+1)),\"\")","v":""},{"$f":"IFERROR(INDEX(Отделения[отделение],SMALL(IF(Отделения[Город]=$CA$1,ROW(Отделения[Город])-1),ROW(AV3)-ROW($A$2)+1)),\"\")","v":""},{"$f":"IFERROR(INDEX(Отделения[отделение],SMALL(IF(Отделения[Город]=$CB$1,ROW(Отделения[Город])-1),ROW(AV3)-ROW($A$2)+1)),\"\")","v":""},{"$f":"IFERROR(INDEX(Отделения[отделение],SMALL(IF(Отделения[Город]=$CC$1,ROW(Отделения[Город])-1),ROW(AV3)-ROW($A$2)+1)),\"\")","v":""},{"$f":"IFERROR(INDEX(Отделения[отделение],SMALL(IF(Отделения[Город]=$CD$1,ROW(Отделения[Город])-1),ROW(AV3)-ROW($A$2)+1)),\"\")","v":""},{"$f":"IFERROR(INDEX(Отделения[отделение],SMALL(IF(Отделения[Город]=$CE$1,ROW(Отделения[Город])-1),ROW(AV3)-ROW($A$2)+1)),\"\")","v":""},{"$f":"IFERROR(INDEX(Отделения[отделение],SMALL(IF(Отделения[Город]=$CF$1,ROW(Отделения[Город])-1),ROW(AV3)-ROW($A$2)+1)),\"\")","v":""},{"$f":"IFERROR(INDEX(Отделения[отделение],SMALL(IF(Отделения[Город]=$CG$1,ROW(Отделения[Город])-1),ROW(AV3)-ROW($A$2)+1)),\"\")","v":""},{"$f":"IFERROR(INDEX(Отделения[отделение],SMALL(IF(Отделения[Город]=$CH$1,ROW(Отделения[Город])-1),ROW(AW3)-ROW($A$2)+1)),\"\")","v":""},{"$f":"IFERROR(INDEX(Отделения[отделение],SMALL(IF(Отделения[Город]=$CI$1,ROW(Отделения[Город])-1),ROW(AX3)-ROW($A$2)+1)),\"\")","v":""},{"$f":"IFERROR(INDEX(Отделения[отделение],SMALL(IF(Отделения[Город]=$CJ$1,ROW(Отделения[Город])-1),ROW(AY3)-ROW($A$2)+1)),\"\")","v":""},{"$f":"IFERROR(INDEX(Отделения[отделение],SMALL(IF(Отделения[Город]=$CK$1,ROW(Отделения[Город])-1),ROW(AZ3)-ROW($A$2)+1)),\"\")","v":""},{"$f":"IFERROR(INDEX(Отделения[отделение],SMALL(IF(Отделения[Город]=$CL$1,ROW(Отделения[Город])-1),ROW(BA3)-ROW($A$2)+1)),\"\")","v":""},{"$f":"IFERROR(INDEX(Отделения[отделение],SMALL(IF(Отделения[Город]=$CM$1,ROW(Отделения[Город])-1),ROW(BB3)-ROW($A$2)+1)),\"\")","v":""},{"$f":"IFERROR(INDEX(Отделения[отделение],SMALL(IF(Отделения[Город]=$CN$1,ROW(Отделения[Город])-1),ROW(BC3)-ROW($A$2)+1)),\"\")","v":""},{"$f":"IFERROR(INDEX(Отделения[отделение],SMALL(IF(Отделения[Город]=$CO$1,ROW(Отделения[Город])-1),ROW(BD3)-ROW($A$2)+1)),\"\")","v":""},{"$f":"IFERROR(INDEX(Отделения[отделение],SMALL(IF(Отделения[Город]=$CP$1,ROW(Отделения[Город])-1),ROW(BE3)-ROW($A$2)+1)),\"\")","v":""},{"$f":"IFERROR(INDEX(Отделения[отделение],SMALL(IF(Отделения[Город]=$CQ$1,ROW(Отделения[Город])-1),ROW(BF3)-ROW($A$2)+1)),\"\")","v":""},{"$f":"IFERROR(INDEX(Отделения[отделение],SMALL(IF(Отделения[Город]=$CR$1,ROW(Отделения[Город])-1),ROW(BG3)-ROW($A$2)+1)),\"\")","v":""},{"$f":"IFERROR(INDEX(Отделения[отделение],SMALL(IF(Отделения[Город]=$CS$1,ROW(Отделения[Город])-1),ROW(BH3)-ROW($A$2)+1)),\"\")","v":""},{"$f":"IFERROR(INDEX(Отделения[отделение],SMALL(IF(Отделения[Город]=$CT$1,ROW(Отделения[Город])-1),ROW(BI3)-ROW($A$2)+1)),\"\")","v":""},{"$f":"IFERROR(INDEX(Отделения[отделение],SMALL(IF(Отделения[Город]=$CU$1,ROW(Отделения[Город])-1),ROW(BJ3)-ROW($A$2)+1)),\"\")","v":""},{"$f":"IFERROR(INDEX(Отделения[отделение],SMALL(IF(Отделения[Город]=$CV$1,ROW(Отделения[Город])-1),ROW(BK3)-ROW($A$2)+1)),\"\")","v":""},{"$f":"IFERROR(INDEX(Отделения[отделение],SMALL(IF(Отделения[Город]=$CW$1,ROW(Отделения[Город])-1),ROW(BL3)-ROW($A$2)+1)),\"\")","v":""},{"$f":"IFERROR(INDEX(Отделения[отделение],SMALL(IF(Отделения[Город]=$CX$1,ROW(Отделения[Город])-1),ROW(BM3)-ROW($A$2)+1)),\"\")","v":""},{"$f":"IFERROR(INDEX(Отделения[отделение],SMALL(IF(Отделения[Город]=$CY$1,ROW(Отделения[Город])-1),ROW(BM3)-ROW($A$2)+1)),\"\")","v":""},{"$f":"IFERROR(INDEX(Отделения[отделение],SMALL(IF(Отделения[Город]=$CZ$1,ROW(Отделения[Город])-1),ROW(BM3)-ROW($A$2)+1)),\"\")","v":""},{"$f":"IFERROR(INDEX(Отделения[отделение],SMALL(IF(Отделения[Город]=$DA$1,ROW(Отделения[Город])-1),ROW(BM3)-ROW($A$2)+1)),\"\")","v":""},{"$f":"IFERROR(INDEX(Отделения[отделение],SMALL(IF(Отделения[Город]=$DB$1,ROW(Отделения[Город])-1),ROW(BM3)-ROW($A$2)+1)),\"\")","v":""}]
["Тула","ДО \"Тула-Красноармейский пр-кт\" , 300034, Тульская область, г. Тула,пр-кт Красноармейский, дом 27","0407","MOCK",null,null,{"$f":"IFERROR(INDEX(Отделения[отделение],SMALL(IF(Отделения[Город]=$G$1,ROW(Отделения[Город])-1),ROW(A4)-ROW($A$2)+1)),\"\")","v":""},{"$f":"IFERROR(INDEX(Отделения[отделение],SMALL(IF(Отделения[Город]=$H$1,ROW(Отделения[Город])-1),ROW(A4)-ROW($A$2)+1)),\"\")","v":""},{"$f":"IFERROR(INDEX(Отделения[отделение],SMALL(IF(Отделения[Город]=$I$1,ROW(Отделения[Город])-1),ROW(A4)-ROW($A$2)+1)),\"\")","v":""},{"$f":"IFERROR(INDEX(Отделения[отделение],SMALL(IF(Отделения[Город]=$J$1,ROW(Отделения[Город])-1),ROW(A4)-ROW($A$2)+1)),\"\")","v":""},{"$f":"IFERROR(INDEX(Отделения[отделение],SMALL(IF(Отделения[Город]=$K$1,ROW(Отделения[Город])-1),ROW(A4)-ROW($A$2)+1)),\"\")","v":""},{"$f":"IFERROR(INDEX(Отделения[отделение],SMALL(IF(Отделения[Город]=$L$1,ROW(Отделения[Город])-1),ROW(A4)-ROW($A$2)+1)),\"\")","v":""},{"$f":"IFERROR(INDEX(Отделения[отделение],SMALL(IF(Отделения[Город]=$M$1,ROW(Отделения[Город])-1),ROW(B4)-ROW($A$2)+1)),\"\")","v":""},{"$f":"IFERROR(INDEX(Отделения[отделение],SMALL(IF(Отделения[Город]=$N$1,ROW(Отделения[Город])-1),ROW(#REF!)-ROW($A$2)+1)),\"\")","v":""},{"$f":"IFERROR(INDEX(Отделения[отделение],SMALL(IF(Отделения[Город]=$O$1,ROW(Отделения[Город])-1),ROW(C4)-ROW($A$2)+1)),\"\")","v":""},{"$f":"IFERROR(INDEX(Отделения[отделение],SMALL(IF(Отделения[Город]=$P$1,ROW(Отделения[Город])-1),ROW(D4)-ROW($A$2)+1)),\"\")","v":""},{"$f":"IFERROR(INDEX(Отделения[отделение],SMALL(IF(Отделения[Город]=$Q$1,ROW(Отделения[Город])-1),ROW(F4)-ROW($A$2)+1)),\"\")","v":""},{"$f":"IFERROR(INDEX(Отделения[отделение],SMALL(IF(Отделения[Город]=$R$1,ROW(Отделения[Город])-1),ROW(#REF!)-ROW($A$2)+1)),\"\")","v":""},{"$f":"IFERROR(INDEX(Отделения[отделение],SMALL(IF(Отделения[Город]=$S$1,ROW(Отделения[Город])-1),ROW(G4)-ROW($A$2)+1)),\"\")","v":""},{"$f":"IFERROR(INDEX(Отделения[отделение],SMALL(IF(Отделения[Город]=$T$1,ROW(Отделения[Город])-1),ROW(H4)-ROW($A$2)+1)),\"\")","v":""},{"$f":"IFERROR(INDEX(Отделения[отделение],SMALL(IF(Отделения[Город]=$U$1,ROW(Отделения[Город])-1),ROW(I4)-ROW($A$2)+1)),\"\")","v":""},{"$f":"IFERROR(INDEX(Отделения[отделение],SMALL(IF(Отделения[Город]=$V$1,ROW(Отделения[Город])-1),ROW(J4)-ROW($A$2)+1)),\"\")","v":""},{"$f":"IFERROR(INDEX(Отделения[отделение],SMALL(IF(Отделения[Город]=$W$1,ROW(Отделения[Город])-1),ROW(K4)-ROW($A$2)+1)),\"\")","v":""},{"$f":"IFERROR(INDEX(Отделения[отделение],SMALL(IF(Отделения[Город]=$X$1,ROW(Отделения[Город])-1),ROW(L4)-ROW($A$2)+1)),\"\")","v":""},{"$f":"IFERROR(INDEX(Отделения[отделение],SMALL(IF(Отделения[Город]=$Y$1,ROW(Отделения[Город])-1),ROW(M4)-ROW($A$2)+1)),\"\")","v":""},{"$f":"IFERROR(INDEX(Отделения[отделение],SMALL(IF(Отделения[Город]=$Z$1,ROW(Отделения[Город])-1),ROW(N4)-ROW($A$2)+1)),\"\")","v":""},{"$f":"IFERROR(INDEX(Отделения[отделение],SMALL(IF(Отделения[Город]=$AA$1,ROW(Отделения[Город])-1),ROW(O4)-ROW($A$2)+1)),\"\")","v":""},{"$f":"IFERROR(INDEX(Отделения[отделение],SMALL(IF(Отделения[Город]=$AB$1,ROW(Отделения[Город])-1),ROW(P4)-ROW($A$2)+1)),\"\")","v":""},{"$f":"IFERROR(INDEX(Отделения[отделение],SMALL(IF(Отделения[Город]=$AC$1,ROW(Отделения[Город])-1),ROW(Q4)-ROW($A$2)+1)),\"\")","v":""},{"$f":"IFERROR(INDEX(Отделения[отделение],SMALL(IF(Отделения[Город]=$AD$1,ROW(Отделения[Город])-1),ROW(R4)-ROW($A$2)+1)),\"\")","v":""},{"$f":"IFERROR(INDEX(Отделения[отделение],SMALL(IF(Отделения[Город]=$AE$1,ROW(Отделения[Город])-1),ROW(S4)-ROW($A$2)+1)),\"\")","v":""},{"$f":"IFERROR(INDEX(Отделения[отделение],SMALL(IF(Отделения[Город]=$AF$1,ROW(Отделения[Город])-1),ROW(T4)-ROW($A$2)+1)),\"\")","v":""},{"$f":"IFERROR(INDEX(Отделения[отделение],SMALL(IF(Отделения[Город]=$AG$1,ROW(Отделения[Город])-1),ROW(U4)-ROW($A$2)+1)),\"\")","v":""},{"$f":"IFERROR(INDEX(Отделения[отделение],SMALL(IF(Отделения[Город]=$AH$1,ROW(Отделения[Город])-1),ROW(V4)-ROW($A$2)+1)),\"\")","v":""},{"$f":"IFERROR(INDEX(Отделения[отделение],SMALL(IF(Отделения[Город]=$AI$1,ROW(Отделения[Город])-1),ROW(AB4)-ROW($A$2)+1)),\"\")","v":""},{"$f":"IFERROR(INDEX(Отделения[отделение],SMALL(IF(Отделения[Город]=$AJ$1,ROW(Отделения[Город])-1),ROW(AB4)-ROW($A$2)+1)),\"\")","v":""},{"$f":"IFERROR(INDEX(Отделения[отделение],SMALL(IF(Отделения[Город]=$AK$1,ROW(Отделения[Город])-1),ROW(AB4)-ROW($A$2)+1)),\"\")","v":""},{"$f":"IFERROR(INDEX(Отделения[отделение],SMALL(IF(Отделения[Город]=$AL$1,ROW(Отделения[Город])-1),ROW(AB4)-ROW($A$2)+1)),\"\")","v":""},{"$f":"IFERROR(INDEX(Отделения[отделение],SMALL(IF(Отделения[Город]=$AM$1,ROW(Отделения[Город])-1),ROW(AB4)-ROW($A$2)+1)),\"\")","v":""},{"$f":"IFERROR(INDEX(Отделения[отделение],SMALL(IF(Отделения[Город]=$AN$1,ROW(Отделения[Город])-1),ROW(AB4)-ROW($A$2)+1)),\"\")","v":""},{"$f":"IFERROR(INDEX(Отделения[отделение],SMALL(IF(Отделения[Город]=$AO$1,ROW(Отделения[Город])-1),ROW(AB4)-ROW($A$2)+1)),\"\")","v":""},{"$f":"IFERROR(INDEX(Отделения[отделение],SMALL(IF(Отделения[Город]=$AP$1,ROW(Отделения[Город])-1),ROW(AB4)-ROW($A$2)+1)),\"\")","v":""},{"$f":"IFERROR(INDEX(Отделения[отделение],SMALL(IF(Отделения[Город]=$AQ$1,ROW(Отделения[Город])-1),ROW(AB4)-ROW($A$2)+1)),\"\")","v":""},{"$f":"IFERROR(INDEX(Отделения[отделение],SMALL(IF(Отделения[Город]=$AR$1,ROW(Отделения[Город])-1),ROW(AB4)-ROW($A$2)+1)),\"\")","v":""},{"$f":"IFERROR(INDEX(Отделения[отделение],SMALL(IF(Отделения[Город]=$AS$1,ROW(Отделения[Город])-1),ROW(AB4)-ROW($A$2)+1)),\"\")","v":""},{"$f":"IFERROR(INDEX(Отделения[отделение],SMALL(IF(Отделения[Город]=$AT$1,ROW(Отделения[Город])-1),ROW(AB4)-ROW($A$2)+1)),\"\")","v":""},{"$f":"IFERROR(INDEX(Отделения[отделение],SMALL(IF(Отделения[Город]=$AU$1,ROW(Отделения[Город])-1),ROW(AB4)-ROW($A$2)+1)),\"\")","v":""},{"$f":"IFERROR(INDEX(Отделения[отделение],SMALL(IF(Отделения[Город]=$AV$1,ROW(Отделения[Город])-1),ROW(AB4)-ROW($A$2)+1)),\"\")","v":""},{"$f":"IFERROR(INDEX(Отделения[отделение],SMALL(IF(Отделения[Город]=$AW$1,ROW(Отделения[Город])-1),ROW(AB4)-ROW($A$2)+1)),\"\")","v":""},{"$f":"IFERROR(INDEX(Отделения[отделение],SMALL(IF(Отделения[Город]=$AX$1,ROW(Отделения[Город])-1),ROW(AB4)-ROW($A$2)+1)),\"\")","v":""},{"$f":"IFERROR(INDEX(Отделения[отделение],SMALL(IF(Отделения[Город]=$AY$1,ROW(Отделения[Город])-1),ROW(AB4)-ROW($A$2)+1)),\"\")","v":""},{"$f":"IFERROR(INDEX(Отделения[отделение],SMALL(IF(Отделения[Город]=$AZ$1,ROW(Отделения[Город])-1),ROW(AB4)-ROW($A$2)+1)),\"\")","v":""},{"$f":"IFERROR(INDEX(Отделения[отделение],SMALL(IF(Отделения[Город]=$BA$1,ROW(Отделения[Город])-1),ROW(AB4)-ROW($A$2)+1)),\"\")","v":""},{"$f":"IFERROR(INDEX(Отделения[отделение],SMALL(IF(Отделения[Город]=$BB$1,ROW(Отделения[Город])-1),ROW(AB4)-ROW($A$2)+1)),\"\")","v":""},{"$f":"IFERROR(INDEX(Отделения[отделение],SMALL(IF(Отделения[Город]=$BC$1,ROW(Отделения[Город])-1),ROW(AC4)-ROW($A$2)+1)),\"\")","v":""},{"$f":"IFERROR(INDEX(Отделения[отделение],SMALL(IF(Отделения[Город]=$BD$1,ROW(Отделения[Город])-1),ROW(AD4)-ROW($A$2)+1)),\"\")","v":""},{"$f":"IFERROR(INDEX(Отделения[отделение],SMALL(IF(Отделения[Город]=$BE$1,ROW(Отделения[Город])-1),ROW(AE4)-ROW($A$2)+1)),\"\")","v":""},{"$f":"IFERROR(INDEX(Отделения[отделение],SMALL(IF(Отделения[Город]=$BF$1,ROW(Отделения[Город])-1),ROW(AF4)-ROW($A$2)+1)),\"\")","v":""},{"$f":"IFERROR(INDEX(Отделения[отделение],SMALL(IF(Отделения[Город]=$BG$1,ROW(Отделения[Город])-1),ROW(AG4)-ROW($A$2)+1)),\"\")","v":""},{"$f":"IFERROR(INDEX(Отделения[отделение],SMALL(IF(Отделения[Город]=$BH$1,ROW(Отделения[Город])-1),ROW(AH4)-ROW($A$2)+1)),\"\")","v":""},{"$f":"IFERROR(INDEX(Отделения[отделение],SMALL(IF(Отделения[Город]=$BI$1,ROW(Отделения[Город])-1),ROW(AI4)-ROW($A$2)+1)),\"\")","v":""},{"$f":"IFERROR(INDEX(Отделения[отделение],SMALL(IF(Отделения[Город]=$BJ$1,ROW(Отделения[Город])-1),ROW(AJ4)-ROW($A$2)+1)),\"\")","v":""},{"$f":"IFERROR(INDEX(Отделения[отделение],SMALL(IF(Отделения[Город]=$BK$1,ROW(Отделения[Город])-1),ROW(AK4)-ROW($A$2)+1)),\"\")","v":""},{"$f":"IFERROR(INDEX(Отделения[отделение],SMALL(IF(Отделения[Город]=$BL$1,ROW(Отделения[Город])-1),ROW(AL4)-ROW($A$2)+1)),\"\")","v":""},{"$f":"IFERROR(INDEX(Отделения[отделение],SMALL(IF(Отделения[Город]=$BM$1,ROW(Отделения[Город])-1),ROW(AM4)-ROW($A$2)+1)),\"\")","v":""},{"$f":"IFERROR(INDEX(Отделения[отделение],SMALL(IF(Отделения[Город]=$BN$1,ROW(Отделения[Город])-1),ROW(AN4)-ROW($A$2)+1)),\"\")","v":""},{"$f":"IFERROR(INDEX(Отделения[отделение],SMALL(IF(Отделения[Город]=$BO$1,ROW(Отделения[Город])-1),ROW(AO4)-ROW($A$2)+1)),\"\")","v":""},{"$f":"IFERROR(INDEX(Отделения[отделение],SMALL(IF(Отделения[Город]=$BP$1,ROW(Отделения[Город])-1),ROW(AP4)-ROW($A$2)+1)),\"\")","v":""},{"$f":"IFERROR(INDEX(Отделения[отделение],SMALL(IF(Отделения[Город]=$BQ$1,ROW(Отделения[Город])-1),ROW(AQ4)-ROW($A$2)+1)),\"\")","v":""},{"$f":"IFERROR(INDEX(Отделения[отделение],SMALL(IF(Отделения[Город]=$BR$1,ROW(Отделения[Город])-1),ROW(AR4)-ROW($A$2)+1)),\"\")","v":""},{"$f":"IFERROR(INDEX(Отделения[отделение],SMALL(IF(Отделения[Город]=$BS$1,ROW(Отделения[Город])-1),ROW(AS4)-ROW($A$2)+1)),\"\")","v":""},{"$f":"IFERROR(INDEX(Отделения[отделение],SMALL(IF(Отделения[Город]=$BT$1,ROW(Отделения[Город])-1),ROW(AT4)-ROW($A$2)+1)),\"\")","v":""},{"$f":"IFERROR(INDEX(Отделения[отделение],SMALL(IF(Отделения[Город]=$BU$1,ROW(Отделения[Город])-1),ROW(AU4)-ROW($A$2)+1)),\"\")","v":""},{"$f":"IFERROR(INDEX(Отделения[отделение],SMALL(IF(Отделения[Город]=$BV$1,ROW(Отделения[Город])-1),ROW(AV4)-ROW($A$2)+1)),\"\")","v":""},{"$f":"IFERROR(INDEX(Отделения[отделение],SMALL(IF(Отделения[Город]=$BW$1,ROW(Отделения[Город])-1),ROW(AV4)-ROW($A$2)+1)),\"\")","v":""},{"$f":"IFERROR(INDEX(Отделения[отделение],SMALL(IF(Отделения[Город]=$BX$1,ROW(Отделения[Город])-1),ROW(AV4)-ROW($A$2)+1)),\"\")","v":""},{"$f":"IFERROR(INDEX(Отделения[отделение],SMALL(IF(Отделения[Город]=$BY$1,ROW(Отделения[Город])-1),ROW(AV4)-ROW($A$2)+1)),\"\")","v":""},{"$f":"IFERROR(INDEX(Отделения[отделение],SMALL(IF(Отделения[Город]=$BZ$1,ROW(Отделения[Город])-1),ROW(AV4)-ROW($A$2)+1)),\"\")","v":""},{"$f":"IFERROR(INDEX(Отделения[отделение],SMALL(IF(Отделения[Город]=$CA$1,ROW(Отделения[Город])-1),ROW(AV4)-ROW($A$2)+1)),\"\")","v":""},{"$f":"IFERROR(INDEX(Отделения[отделение],SMALL(IF(Отделения[Город]=$CB$1,ROW(Отделения[Город])-1),ROW(AV4)-ROW($A$2)+1)),\"\")","v":""},{"$f":"IFERROR(INDEX(Отделения[отделение],SMALL(IF(Отделения[Город]=$CC$1,ROW(Отделения[Город])-1),ROW(AV4)-ROW($A$2)+1)),\"\")","v":""},{"$f":"IFERROR(INDEX(Отделения[отделение],SMALL(IF(Отделения[Город]=$CD$1,ROW(Отделения[Город])-1),ROW(AV4)-ROW($A$2)+1)),\"\")","v":""},{"$f":"IFERROR(INDEX(Отделения[отделение],SMALL(IF(Отделения[Город]=$CE$1,ROW(Отделения[Город])-1),ROW(AV4)-ROW($A$2)+1)),\"\")","v":""},{"$f":"IFERROR(INDEX(Отделения[отделение],SMALL(IF(Отделения[Город]=$CF$1,ROW(Отделения[Город])-1),ROW(AV4)-ROW($A$2)+1)),\"\")","v":""},{"$f":"IFERROR(INDEX(Отделения[отделение],SMALL(IF(Отделения[Город]=$CG$1,ROW(Отделения[Город])-1),ROW(AV4)-ROW($A$2)+1)),\"\")","v":""},{"$f":"IFERROR(INDEX(Отделения[отделение],SMALL(IF(Отделения[Город]=$CH$1,ROW(Отделения[Город])-1),ROW(AW4)-ROW($A$2)+1)),\"\")","v":""},{"$f":"IFERROR(INDEX(Отделения[отделение],SMALL(IF(Отделения[Город]=$CI$1,ROW(Отделения[Город])-1),ROW(AX4)-ROW($A$2)+1)),\"\")","v":""},{"$f":"IFERROR(INDEX(Отделения[отделение],SMALL(IF(Отделения[Город]=$CJ$1,ROW(Отделения[Город])-1),ROW(AY4)-ROW($A$2)+1)),\"\")","v":""},{"$f":"IFERROR(INDEX(Отделения[отделение],SMALL(IF(Отделения[Город]=$CK$1,ROW(Отделения[Город])-1),ROW(AZ4)-ROW($A$2)+1)),\"\")","v":""},{"$f":"IFERROR(INDEX(Отделения[отделение],SMALL(IF(Отделения[Город]=$CL$1,ROW(Отделения[Город])-1),ROW(BA4)-ROW($A$2)+1)),\"\")","v":""},{"$f":"IFERROR(INDEX(Отделения[отделение],SMALL(IF(Отделения[Город]=$CM$1,ROW(Отделения[Город])-1),ROW(BB4)-ROW($A$2)+1)),\"\")","v":""},{"$f":"IFERROR(INDEX(Отделения[отделение],SMALL(IF(Отделения[Город]=$CN$1,ROW(Отделения[Город])-1),ROW(BC4)-ROW($A$2)+1)),\"\")","v":""},{"$f":"IFERROR(INDEX(Отделения[отделение],SMALL(IF(Отделения[Город]=$CO$1,ROW(Отделения[Город])-1),ROW(BD4)-ROW($A$2)+1)),\"\")","v":""},{"$f":"IFERROR(INDEX(Отделения[отделение],SMALL(IF(Отделения[Город]=$CP$1,ROW(Отделения[Город])-1),ROW(BE4)-ROW($A$2)+1)),\"\")","v":""},{"$f":"IFERROR(INDEX(Отделения[отделение],SMALL(IF(Отделения[Город]=$CQ$1,ROW(Отделения[Город])-1),ROW(BF4)-ROW($A$2)+1)),\"\")","v":""},{"$f":"IFERROR(INDEX(Отделения[отделение],SMALL(IF(Отделения[Город]=$CR$1,ROW(Отделения[Город])-1),ROW(BG4)-ROW($A$2)+1)),\"\")","v":""},{"$f":"IFERROR(INDEX(Отделения[отделение],SMALL(IF(Отделения[Город]=$CS$1,ROW(Отделения[Город])-1),ROW(BH4)-ROW($A$2)+1)),\"\")","v":""},{"$f":"IFERROR(INDEX(Отделения[отделение],SMALL(IF(Отделения[Город]=$CT$1,ROW(Отделения[Город])-1),ROW(BI4)-ROW($A$2)+1)),\"\")","v":""},{"$f":"IFERROR(INDEX(Отделения[отделение],SMALL(IF(Отделения[Город]=$CU$1,ROW(Отделения[Город])-1),ROW(BJ4)-ROW($A$2)+1)),\"\")","v":""},{"$f":"IFERROR(INDEX(Отделения[отделение],SMALL(IF(Отделения[Город]=$CV$1,ROW(Отделения[Город])-1),ROW(BK4)-ROW($A$2)+1)),\"\")","v":""},{"$f":"IFERROR(INDEX(Отделения[отделение],SMALL(IF(Отделения[Город]=$CW$1,ROW(Отделения[Город])-1),ROW(BL4)-ROW($A$2)+1)),\"\")","v":""},{"$f":"IFERROR(INDEX(Отделения[отделение],SMALL(IF(Отделения[Город]=$CX$1,ROW(Отделения[Город])-1),ROW(BM4)-ROW($A$2)+1)),\"\")","v":""},{"$f":"IFERROR(INDEX(Отделения[отделение],SMALL(IF(Отделения[Город]=$CY$1,ROW(Отделения[Город])-1),ROW(BM4)-ROW($A$2)+1)),\"\")","v":""},{"$f":"IFERROR(INDEX(Отделения[отделение],SMALL(IF(Отделения[Город]=$CZ$1,ROW(Отделения[Город])-1),ROW(BM4)-ROW($A$2)+1)),\"\")","v":""},{"$f":"IFERROR(INDEX(Отделения[отделение],SMALL(IF(Отделения[Город]=$DA$1,ROW(Отделения[Город])-1),ROW(BM4)-ROW($A$2)+1)),\"\")","v":""},{"$f":"IFERROR(INDEX(Отделения[отделение],SMALL(IF(Отделения[Город]=$DB$1,ROW(Отделения[Город])-1),ROW(BM4)-ROW($A$2)+1)),\"\")","v":""}]
["Москва","ДО \"ПРЕСНЕНСКИЙ ВАЛ\" , 123022, г. Москва, ул.ПресненскийВал, д.7, стр. 1","0410","MOPV",null,null,{"$f":"IFERROR(INDEX(Отделения[отделение],SMALL(IF(Отделения[Город]=$G$1,ROW(Отделения[Город])-1),ROW(A5)-ROW($A$2)+1)),\"\")","v":""},{"$f":"IFERROR(INDEX(Отделения[отделение],SMALL(IF(Отделения[Город]=$H$1,ROW(Отделения[Город])-1),ROW(A5)-ROW($A$2)+1)),\"\")","v":""},{"$f":"IFERROR(INDEX(Отделения[отделение],SMALL(IF(Отделения[Город]=$I$1,ROW(Отделения[Город])-1),ROW(A5)-ROW($A$2)+1)),\"\")","v":""},{"$f":"IFERROR(INDEX(Отделения[отделение],SMALL(IF(Отделения[Город]=$J$1,ROW(Отделения[Город])-1),ROW(A5)-ROW($A$2)+1)),\"\")","v":""},{"$f":"IFERROR(INDEX(Отделения[отделение],SMALL(IF(Отделения[Город]=$K$1,ROW(Отделения[Город])-1),ROW(A5)-ROW($A$2)+1)),\"\")","v":""},{"$f":"IFERROR(INDEX(Отделения[отделение],SMALL(IF(Отделения[Город]=$L$1,ROW(Отделения[Город])-1),ROW(A5)-ROW($A$2)+1)),\"\")","v":""},{"$f":"IFERROR(INDEX(Отделения[отделение],SMALL(IF(Отделения[Город]=$M$1,ROW(Отделения[Город])-1),ROW(B5)-ROW($A$2)+1)),\"\")","v":""},{"$f":"IFERROR(INDEX(Отделения[отделение],SMALL(IF(Отделения[Город]=$N$1,ROW(Отделения[Город])-1),ROW(#REF!)-ROW($A$2)+1)),\"\")","v":""},{"$f":"IFERROR(INDEX(Отделения[отделение],SMALL(IF(Отделения[Город]=$O$1,ROW(Отделения[Город])-1),ROW(C5)-ROW($A$2)+1)),\"\")","v":""},{"$f":"IFERROR(INDEX(Отделения[отделение],SMALL(IF(Отделения[Город]=$P$1,ROW(Отделения[Город])-1),ROW(D5)-ROW($A$2)+1)),\"\")","v":""},{"$f":"IFERROR(INDEX(Отделения[отделение],SMALL(IF(Отделения[Город]=$Q$1,ROW(Отделения[Город])-1),ROW(F5)-ROW($A$2)+1)),\"\")","v":""},{"$f":"IFERROR(INDEX(Отделения[отделение],SMALL(IF(Отделения[Город]=$R$1,ROW(Отделения[Город])-1),ROW(#REF!)-ROW($A$2)+1)),\"\")","v":""},{"$f":"IFERROR(INDEX(Отделения[отделение],SMALL(IF(Отделения[Город]=$S$1,ROW(Отделения[Город])-1),ROW(G5)-ROW($A$2)+1)),\"\")","v":""},{"$f":"IFERROR(INDEX(Отделения[отделение],SMALL(IF(Отделения[Город]=$T$1,ROW(Отделения[Город])-1),ROW(H5)-ROW($A$2)+1)),\"\")","v":""},{"$f":"IFERROR(INDEX(Отделения[отделение],SMALL(IF(Отделения[Город]=$U$1,ROW(Отделения[Город])-1),ROW(I5)-ROW($A$2)+1)),\"\")","v":""},{"$f":"IFERROR(INDEX(Отделения[отделение],SMALL(IF(Отделения[Город]=$V$1,ROW(Отделения[Город])-1),ROW(J5)-ROW($A$2)+1)),\"\")","v":""},{"$f":"IFERROR(INDEX(Отделения[отделение],SMALL(IF(Отделения[Город]=$W$1,ROW(Отделения[Город])-1),ROW(K5)-ROW($A$2)+1)),\"\")","v":""},{"$f":"IFERROR(INDEX(Отделения[отделение],SMALL(IF(Отделения[Город]=$X$1,ROW(Отделения[Город])-1),ROW(L5)-ROW($A$2)+1)),\"\")","v":""},{"$f":"IFERROR(INDEX(Отделения[отделение],SMALL(IF(Отделения[Город]=$Y$1,ROW(Отделения[Город])-1),ROW(M5)-ROW($A$2)+1)),\"\")","v":""},{"$f":"IFERROR(INDEX(Отделения[отделение],SMALL(IF(Отделения[Город]=$Z$1,ROW(Отделения[Город])-1),ROW(N5)-ROW($A$2)+1)),\"\")","v":""},{"$f":"IFERROR(INDEX(Отделения[отделение],SMALL(IF(Отделения[Город]=$AA$1,ROW(Отделения[Город])-1),ROW(O5)-ROW($A$2)+1)),\"\")","v":""},{"$f":"IFERROR(INDEX(Отделения[отделение],SMALL(IF(Отделения[Город]=$AB$1,ROW(Отделения[Город])-1),ROW(P5)-ROW($A$2)+1)),\"\")","v":""},{"$f":"IFERROR(INDEX(Отделения[отделение],SMALL(IF(Отделения[Город]=$AC$1,ROW(Отделения[Город])-1),ROW(Q5)-ROW($A$2)+1)),\"\")","v":""},{"$f":"IFERROR(INDEX(Отделения[отделение],SMALL(IF(Отделения[Город]=$AD$1,ROW(Отделения[Город])-1),ROW(R5)-ROW($A$2)+1)),\"\")","v":""},{"$f":"IFERROR(INDEX(Отделения[отделение],SMALL(IF(Отделения[Город]=$AE$1,ROW(Отделения[Город])-1),ROW(S5)-ROW($A$2)+1)),\"\")","v":""},{"$f":"IFERROR(INDEX(Отделения[отделение],SMALL(IF(Отделения[Город]=$AF$1,ROW(Отделения[Город])-1),ROW(T5)-ROW($A$2)+1)),\"\")","v":""},{"$f":"IFERROR(INDEX(Отделения[отделение],SMALL(IF(Отделения[Город]=$AG$1,ROW(Отделения[Город])-1),ROW(U5)-ROW($A$2)+1)),\"\")","v":""},{"$f":"IFERROR(INDEX(Отделения[отделение],SMALL(IF(Отделения[Город]=$AH$1,ROW(Отделения[Город])-1),ROW(V5)-ROW($A$2)+1)),\"\")","v":""},{"$f":"IFERROR(INDEX(Отделения[отделение],SMALL(IF(Отделения[Город]=$AI$1,ROW(Отделения[Город])-1),ROW(AB5)-ROW($A$2)+1)),\"\")","v":""},{"$f":"IFERROR(INDEX(Отделения[отделение],SMALL(IF(Отделения[Город]=$AJ$1,ROW(Отделения[Город])-1),ROW(AB5)-ROW($A$2)+1)),\"\")","v":""},{"$f":"IFERROR(INDEX(Отделения[отделение],SMALL(IF(Отделения[Город]=$AK$1,ROW(Отделения[Город])-1),ROW(AB5)-ROW($A$2)+1)),\"\")","v":""},{"$f":"IFERROR(INDEX(Отделения[отделение],SMALL(IF(Отделения[Город]=$AL$1,ROW(Отделения[Город])-1),ROW(AB5)-ROW($A$2)+1)),\"\")","v":""},{"$f":"IFERROR(INDEX(Отделения[отделение],SMALL(IF(Отделения[Город]=$AM$1,ROW(Отделения[Город])-1),ROW(AB5)-ROW($A$2)+1)),\"\")","v":""},{"$f":"IFERROR(INDEX(Отделения[отделение],SMALL(IF(Отделения[Город]=$AN$1,ROW(Отделения[Город])-1),ROW(AB5)-ROW($A$2)+1)),\"\")","v":""},{"$f":"IFERROR(INDEX(Отделения[отделение],SMALL(IF(Отделения[Город]=$AO$1,ROW(Отделения[Город])-1),ROW(AB5)-ROW($A$2)+1)),\"\")","v":""},{"$f":"IFERROR(INDEX(Отделения[отделение],SMALL(IF(Отделения[Город]=$AP$1,ROW(Отделения[Город])-1),ROW(AB5)-ROW($A$2)+1)),\"\")","v":""},{"$f":"IFERROR(INDEX(Отделения[отделение],SMALL(IF(Отделения[Город]=$AQ$1,ROW(Отделения[Город])-1),ROW(AB5)-ROW($A$2)+1)),\"\")","v":""},{"$f":"IFERROR(INDEX(Отделения[отделение],SMALL(IF(Отделения[Город]=$AR$1,ROW(Отделения[Город])-1),ROW(AB5)-ROW($A$2)+1)),\"\")","v":""},{"$f":"IFERROR(INDEX(Отделения[отделение],SMALL(IF(Отделения[Город]=$AS$1,ROW(Отделения[Город])-1),ROW(AB5)-ROW($A$2)+1)),\"\")","v":""},{"$f":"IFERROR(INDEX(Отделения[отделение],SMALL(IF(Отделения[Город]=$AT$1,ROW(Отделения[Город])-1),ROW(AB5)-ROW($A$2)+1)),\"\")","v":""},{"$f":"IFERROR(INDEX(Отделения[отделение],SMALL(IF(Отделения[Город]=$AU$1,ROW(Отделения[Город])-1),ROW(AB5)-ROW($A$2)+1)),\"\")","v":""},{"$f":"IFERROR(INDEX(Отделения[отделение],SMALL(IF(Отделения[Город]=$AV$1,ROW(Отделения[Город])-1),ROW(AB5)-ROW($A$2)+1)),\"\")","v":""},{"$f":"IFERROR(INDEX(Отделения[отделение],SMALL(IF(Отделения[Город]=$AW$1,ROW(Отделения[Город])-1),ROW(AB5)-ROW($A$2)+1)),\"\")","v":""},{"$f":"IFERROR(INDEX(Отделения[отделение],SMALL(IF(Отделения[Город]=$AX$1,ROW(Отделения[Город])-1),ROW(AB5)-ROW($A$2)+1)),\"\")","v":""},{"$f":"IFERROR(INDEX(Отделения[отделение],SMALL(IF(Отделения[Город]=$AY$1,ROW(Отделения[Город])-1),ROW(AB5)-ROW($A$2)+1)),\"\")","v":""},{"$f":"IFERROR(INDEX(Отделения[отделение],SMALL(IF(Отделения[Город]=$AZ$1,ROW(Отделения[Город])-1),ROW(AB5)-ROW($A$2)+1)),\"\")","v":""},{"$f":"IFERROR(INDEX(Отделения[отделение],SMALL(IF(Отделения[Город]=$BA$1,ROW(Отделения[Город])-1),ROW(AB5)-ROW($A$2)+1)),\"\")","v":""},{"$f":"IFERROR(INDEX(Отделения[отделение],SMALL(IF(Отделения[Город]=$BB$1,ROW(Отделения[Город])-1),ROW(AB5)-ROW($A$2)+1)),\"\")","v":""},{"$f":"IFERROR(INDEX(Отделения[отделение],SMALL(IF(Отделения[Город]=$BC$1,ROW(Отделения[Город])-1),ROW(AC5)-ROW($A$2)+1)),\"\")","v":""},{"$f":"IFERROR(INDEX(Отделения[отделение],SMALL(IF(Отделения[Город]=$BD$1,ROW(Отделения[Город])-1),ROW(AD5)-ROW($A$2)+1)),\"\")","v":""},{"$f":"IFERROR(INDEX(Отделения[отделение],SMALL(IF(Отделения[Город]=$BE$1,ROW(Отделения[Город])-1),ROW(AE5)-ROW($A$2)+1)),\"\")","v":""},{"$f":"IFERROR(INDEX(Отделения[отделение],SMALL(IF(Отделения[Город]=$BF$1,ROW(Отделения[Город])-1),ROW(AF5)-ROW($A$2)+1)),\"\")","v":""},{"$f":"IFERROR(INDEX(Отделения[отделение],SMALL(IF(Отделения[Город]=$BG$1,ROW(Отделения[Город])-1),ROW(AG5)-ROW($A$2)+1)),\"\")","v":""},{"$f":"IFERROR(INDEX(Отделения[отделение],SMALL(IF(Отделения[Город]=$BH$1,ROW(Отделения[Город])-1),ROW(AH5)-ROW($A$2)+1)),\"\")","v":""},{"$f":"IFERROR(INDEX(Отделения[отделение],SMALL(IF(Отделения[Город]=$BI$1,ROW(Отделения[Город])-1),ROW(AI5)-ROW($A$2)+1)),\"\")","v":""},{"$f":"IFERROR(INDEX(Отделения[отделение],SMALL(IF(Отделения[Город]=$BJ$1,ROW(Отделения[Город])-1),ROW(AJ5)-ROW($A$2)+1)),\"\")","v":""},{"$f":"IFERROR(INDEX(Отделения[отделение],SMALL(IF(Отделения[Город]=$BK$1,ROW(Отделения[Город])-1),ROW(AK5)-ROW($A$2)+1)),\"\")","v":""},{"$f":"IFERROR(INDEX(Отделения[отделение],SMALL(IF(Отделения[Город]=$BL$1,ROW(Отделения[Город])-1),ROW(AL5)-ROW($A$2)+1)),\"\")","v":""},{"$f":"IFERROR(INDEX(Отделения[отделение],SMALL(IF(Отделения[Город]=$BM$1,ROW(Отделения[Город])-1),ROW(AM5)-ROW($A$2)+1)),\"\")","v":""},{"$f":"IFERROR(INDEX(Отделения[отделение],SMALL(IF(Отделения[Город]=$BN$1,ROW(Отделения[Город])-1),ROW(AN5)-ROW($A$2)+1)),\"\")","v":""},{"$f":"IFERROR(INDEX(Отделения[отделение],SMALL(IF(Отделения[Город]=$BO$1,ROW(Отделения[Город])-1),ROW(AO5)-ROW($A$2)+1)),\"\")","v":""},{"$f":"IFERROR(INDEX(Отделения[отделение],SMALL(IF(Отделения[Город]=$BP$1,ROW(Отделения[Город])-1),ROW(AP5)-ROW($A$2)+1)),\"\")","v":""},{"$f":"IFERROR(INDEX(Отделения[отделение],SMALL(IF(Отделения[Город]=$BQ$1,ROW(Отделения[Город])-1),ROW(AQ5)-ROW($A$2)+1)),\"\")","v":""},{"$f":"IFERROR(INDEX(Отделения[отделение],SMALL(IF(Отделения[Город]=$BR$1,ROW(Отделения[Город])-1),ROW(AR5)-ROW($A$2)+1)),\"\")","v":""},{"$f":"IFERROR(INDEX(Отделения[отделение],SMALL(IF(Отделения[Город]=$BS$1,ROW(Отделения[Город])-1),ROW(AS5)-ROW($A$2)+1)),\"\")","v":""},{"$f":"IFERROR(INDEX(Отделения[отделение],SMALL(IF(Отделения[Город]=$BT$1,ROW(Отделения[Город])-1),ROW(AT5)-ROW($A$2)+1)),\"\")","v":""},{"$f":"IFERROR(INDEX(Отделения[отделение],SMALL(IF(Отделения[Город]=$BU$1,ROW(Отделения[Город])-1),ROW(AU5)-ROW($A$2)+1)),\"\")","v":""},{"$f":"IFERROR(INDEX(Отделения[отделение],SMALL(IF(Отделения[Город]=$BV$1,ROW(Отделения[Город])-1),ROW(AV5)-ROW($A$2)+1)),\"\")","v":""},{"$f":"IFERROR(INDEX(Отделения[отделение],SMALL(IF(Отделения[Город]=$BW$1,ROW(Отделения[Город])-1),ROW(AV5)-ROW($A$2)+1)),\"\")","v":""},{"$f":"IFERROR(INDEX(Отделения[отделение],SMALL(IF(Отделения[Город]=$BX$1,ROW(Отделения[Город])-1),ROW(AV5)-ROW($A$2)+1)),\"\")","v":""},{"$f":"IFERROR(INDEX(Отделения[отделение],SMALL(IF(Отделения[Город]=$BY$1,ROW(Отделения[Город])-1),ROW(AV5)-ROW($A$2)+1)),\"\")","v":""},{"$f":"IFERROR(INDEX(Отделения[отделение],SMALL(IF(Отделения[Город]=$BZ$1,ROW(Отделения[Город])-1),ROW(AV5)-ROW($A$2)+1)),\"\")","v":""},{"$f":"IFERROR(INDEX(Отделения[отделение],SMALL(IF(Отделения[Город]=$CA$1,ROW(Отделения[Город])-1),ROW(AV5)-ROW($A$2)+1)),\"\")","v":""},{"$f":"IFERROR(INDEX(Отделения[отделение],SMALL(IF(Отделения[Город]=$CB$1,ROW(Отделения[Город])-1),ROW(AV5)-ROW($A$2)+1)),\"\")","v":""},{"$f":"IFERROR(INDEX(Отделения[отделение],SMALL(IF(Отделения[Город]=$CC$1,ROW(Отделения[Город])-1),ROW(AV5)-ROW($A$2)+1)),\"\")","v":""},{"$f":"IFERROR(INDEX(Отделения[отделение],SMALL(IF(Отделения[Город]=$CD$1,ROW(Отделения[Город])-1),ROW(AV5)-ROW($A$2)+1)),\"\")","v":""},{"$f":"IFERROR(INDEX(Отделения[отделение],SMALL(IF(Отделения[Город]=$CE$1,ROW(Отделения[Город])-1),ROW(AV5)-ROW($A$2)+1)),\"\")","v":""},{"$f":"IFERROR(INDEX(Отделения[отделение],SMALL(IF(Отделения[Город]=$CF$1,ROW(Отделения[Город])-1),ROW(AV5)-ROW($A$2)+1)),\"\")","v":""},{"$f":"IFERROR(INDEX(Отделения[отделение],SMALL(IF(Отделения[Город]=$CG$1,ROW(Отделения[Город])-1),ROW(AV5)-ROW($A$2)+1)),\"\")","v":""},{"$f":"IFERROR(INDEX(Отделения[отделение],SMALL(IF(Отделения[Город]=$CH$1,ROW(Отделения[Город])-1),ROW(AW5)-ROW($A$2)+1)),\"\")","v":""},{"$f":"IFERROR(INDEX(Отделения[отделение],SMALL(IF(Отделения[Город]=$CI$1,ROW(Отделения[Город])-1),ROW(AX5)-ROW($A$2)+1)),\"\")","v":""},{"$f":"IFERROR(INDEX(Отделения[отделение],SMALL(IF(Отделения[Город]=$CJ$1,ROW(Отделения[Город])-1),ROW(AY5)-ROW($A$2)+1)),\"\")","v":""},{"$f":"IFERROR(INDEX(Отделения[отделение],SMALL(IF(Отделения[Город]=$CK$1,ROW(Отделения[Город])-1),ROW(AZ5)-ROW($A$2)+1)),\"\")","v":""},{"$f":"IFERROR(INDEX(Отделения[отделение],SMALL(IF(Отделения[Город]=$CL$1,ROW(Отделения[Город])-1),ROW(BA5)-ROW($A$2)+1)),\"\")","v":""},{"$f":"IFERROR(INDEX(Отделения[отделение],SMALL(IF(Отделения[Город]=$CM$1,ROW(Отделения[Город])-1),ROW(BB5)-ROW($A$2)+1)),\"\")","v":""},{"$f":"IFERROR(INDEX(Отделения[отделение],SMALL(IF(Отделения[Город]=$CN$1,ROW(Отделения[Город])-1),ROW(BC5)-ROW($A$2)+1)),\"\")","v":""},{"$f":"IFERROR(INDEX(Отделения[отделение],SMALL(IF(Отделения[Город]=$CO$1,ROW(Отделения[Город])-1),ROW(BD5)-ROW($A$2)+1)),\"\")","v":""},{"$f":"IFERROR(INDEX(Отделения[отделение],SMALL(IF(Отделения[Город]=$CP$1,ROW(Отделения[Город])-1),ROW(BE5)-ROW($A$2)+1)),\"\")","v":""},{"$f":"IFERROR(INDEX(Отделения[отделение],SMALL(IF(Отделения[Город]=$CQ$1,ROW(Отделения[Город])-1),ROW(BF5)-ROW($A$2)+1)),\"\")","v":""},{"$f":"IFERROR(INDEX(Отделения[отделение],SMALL(IF(Отделения[Город]=$CR$1,ROW(Отделения[Город])-1),ROW(BG5)-ROW($A$2)+1)),\"\")","v":""},{"$f":"IFERROR(INDEX(Отделения[отделение],SMALL(IF(Отделения[Город]=$CS$1,ROW(Отделения[Город])-1),ROW(BH5)-ROW($A$2)+1)),\"\")","v":""},{"$f":"IFERROR(INDEX(Отделения[отделение],SMALL(IF(Отделения[Город]=$CT$1,ROW(Отделения[Город])-1),ROW(BI5)-ROW($A$2)+1)),\"\")","v":""},{"$f":"IFERROR(INDEX(Отделения[отделение],SMALL(IF(Отделения[Город]=$CU$1,ROW(Отделения[Город])-1),ROW(BJ5)-ROW($A$2)+1)),\"\")","v":""},{"$f":"IFERROR(INDEX(Отделения[отделение],SMALL(IF(Отделения[Город]=$CV$1,ROW(Отделения[Город])-1),ROW(BK5)-ROW($A$2)+1)),\"\")","v":""},{"$f":"IFERROR(INDEX(Отделения[отделение],SMALL(IF(Отделения[Город]=$CW$1,ROW(Отделения[Город])-1),ROW(BL5)-ROW($A$2)+1)),\"\")","v":""},{"$f":"IFERROR(INDEX(Отделения[отделение],SMALL(IF(Отделения[Город]=$CX$1,ROW(Отделения[Город])-1),ROW(BM5)-ROW($A$2)+1)),\"\")","v":""},{"$f":"IFERROR(INDEX(Отделения[отделение],SMALL(IF(Отделения[Город]=$CY$1,ROW(Отделения[Город])-1),ROW(BM5)-ROW($A$2)+1)),\"\")","v":""},{"$f":"IFERROR(INDEX(Отделения[отделение],SMALL(IF(Отделения[Город]=$CZ$1,ROW(Отделения[Город])-1),ROW(BM5)-ROW($A$2)+1)),\"\")","v":""},{"$f":"IFERROR(INDEX(Отделения[отделение],SMALL(IF(Отделения[Город]=$DA$1,ROW(Отделения[Город])-1),ROW(BM5)-ROW($A$2)+1)),\"\")","v":""},{"$f":"IFERROR(INDEX(Отделения[отделение],SMALL(IF(Отделения[Город]=$DB$1,ROW(Отделения[Город])-1),ROW(BM5)-ROW($A$2)+1)),\"\")","v":""}]
["Москва","ДО \"СОКОЛЬНИКИ\" , 107113, г. Москва, ул.Русаковская,д.29","0414","MOSK",null,null,{"$f":"IFERROR(INDEX(Отделения[отделение],SMALL(IF(Отделения[Город]=$G$1,ROW(Отделения[Город])-1),ROW(A6)-ROW($A$2)+1)),\"\")","v":""},{"$f":"IFERROR(INDEX(Отделения[отделение],SMALL(IF(Отделения[Город]=$H$1,ROW(Отделения[Город])-1),ROW(A6)-ROW($A$2)+1)),\"\")","v":""},{"$f":"IFERROR(INDEX(Отделения[отделение],SMALL(IF(Отделения[Город]=$I$1,ROW(Отделения[Город])-1),ROW(A6)-ROW($A$2)+1)),\"\")","v":""},{"$f":"IFERROR(INDEX(Отделения[отделение],SMALL(IF(Отделения[Город]=$J$1,ROW(Отделения[Город])-1),ROW(A6)-ROW($A$2)+1)),\"\")","v":""},{"$f":"IFERROR(INDEX(Отделения[отделение],SMALL(IF(Отделения[Город]=$K$1,ROW(Отделения[Город])-1),ROW(A6)-ROW($A$2)+1)),\"\")","v":""},{"$f":"IFERROR(INDEX(Отделения[отделение],SMALL(IF(Отделения[Город]=$L$1,ROW(Отделения[Город])-1),ROW(A6)-ROW($A$2)+1)),\"\")","v":""},{"$f":"IFERROR(INDEX(Отделения[отделение],SMALL(IF(Отделения[Город]=$M$1,ROW(Отделения[Город])-1),ROW(B6)-ROW($A$2)+1)),\"\")","v":""},{"$f":"IFERROR(INDEX(Отделения[отделение],SMALL(IF(Отделения[Город]=$N$1,ROW(Отделения[Город])-1),ROW(#REF!)-ROW($A$2)+1)),\"\")","v":""},{"$f":"IFERROR(INDEX(Отделения[отделение],SMALL(IF(Отделения[Город]=$O$1,ROW(Отделения[Город])-1),ROW(C6)-ROW($A$2)+1)),\"\")","v":""},{"$f":"IFERROR(INDEX(Отделения[отделение],SMALL(IF(Отделения[Город]=$P$1,ROW(Отделения[Город])-1),ROW(D6)-ROW($A$2)+1)),\"\")","v":""},{"$f":"IFERROR(INDEX(Отделения[отделение],SMALL(IF(Отделения[Город]=$Q$1,ROW(Отделения[Город])-1),ROW(F6)-ROW($A$2)+1)),\"\")","v":""},{"$f":"IFERROR(INDEX(Отделения[отделение],SMALL(IF(Отделения[Город]=$R$1,ROW(Отделения[Город])-1),ROW(#REF!)-ROW($A$2)+1)),\"\")","v":""},{"$f":"IFERROR(INDEX(Отделения[отделение],SMALL(IF(Отделения[Город]=$S$1,ROW(Отделения[Город])-1),ROW(G6)-ROW($A$2)+1)),\"\")","v":""},{"$f":"IFERROR(INDEX(Отделения[отделение],SMALL(IF(Отделения[Город]=$T$1,ROW(Отделения[Город])-1),ROW(H6)-ROW($A$2)+1)),\"\")","v":""},{"$f":"IFERROR(INDEX(Отделения[отделение],SMALL(IF(Отделения[Город]=$U$1,ROW(Отделения[Город])-1),ROW(I6)-ROW($A$2)+1)),\"\")","v":""},{"$f":"IFERROR(INDEX(Отделения[отделение],SMALL(IF(Отделения[Город]=$V$1,ROW(Отделения[Город])-1),ROW(J6)-ROW($A$2)+1)),\"\")","v":""},{"$f":"IFERROR(INDEX(Отделения[отделение],SMALL(IF(Отделения[Город]=$W$1,ROW(Отделения[Город])-1),ROW(K6)-ROW($A$2)+1)),\"\")","v":""},{"$f":"IFERROR(INDEX(Отделения[отделение],SMALL(IF(Отделения[Город]=$X$1,ROW(Отделения[Город])-1),ROW(L6)-ROW($A$2)+1)),\"\")","v":""},{"$f":"IFERROR(INDEX(Отделения[отделение],SMALL(IF(Отделения[Город]=$Y$1,ROW(Отделения[Город])-1),ROW(M6)-ROW($A$2)+1)),\"\")","v":""},{"$f":"IFERROR(INDEX(Отделения[отделение],SMALL(IF(Отделения[Город]=$Z$1,ROW(Отделения[Город])-1),ROW(N6)-ROW($A$2)+1)),\"\")","v":""},{"$f":"IFERROR(INDEX(Отделения[отделение],SMALL(IF(Отделения[Город]=$AA$1,ROW(Отделения[Город])-1),ROW(O6)-ROW($A$2)+1)),\"\")","v":""},{"$f":"IFERROR(INDEX(Отделения[отделение],SMALL(IF(Отделения[Город]=$AB$1,ROW(Отделения[Город])-1),ROW(P6)-ROW($A$2)+1)),\"\")","v":""},{"$f":"IFERROR(INDEX(Отделения[отделение],SMALL(IF(Отделения[Город]=$AC$1,ROW(Отделения[Город])-1),ROW(Q6)-ROW($A$2)+1)),\"\")","v":""},{"$f":"IFERROR(INDEX(Отделения[отделение],SMALL(IF(Отделения[Город]=$AD$1,ROW(Отделения[Город])-1),ROW(R6)-ROW($A$2)+1)),\"\")","v":""},{"$f":"IFERROR(INDEX(Отделения[отделение],SMALL(IF(Отделения[Город]=$AE$1,ROW(Отделения[Город])-1),ROW(S6)-ROW($A$2)+1)),\"\")","v":""},{"$f":"IFERROR(INDEX(Отделения[отделение],SMALL(IF(Отделения[Город]=$AF$1,ROW(Отделения[Город])-1),ROW(T6)-ROW($A$2)+1)),\"\")","v":""},{"$f":"IFERROR(INDEX(Отделения[отделение],SMALL(IF(Отделения[Город]=$AG$1,ROW(Отделения[Город])-1),ROW(U6)-ROW($A$2)+1)),\"\")","v":""},{"$f":"IFERROR(INDEX(Отделения[отделение],SMALL(IF(Отделения[Город]=$AH$1,ROW(Отделения[Город])-1),ROW(V6)-ROW($A$2)+1)),\"\")","v":""},{"$f":"IFERROR(INDEX(Отделения[отделение],SMALL(IF(Отделения[Город]=$AI$1,ROW(Отделения[Город])-1),ROW(AB6)-ROW($A$2)+1)),\"\")","v":""},{"$f":"IFERROR(INDEX(Отделения[отделение],SMALL(IF(Отделения[Город]=$AJ$1,ROW(Отделения[Город])-1),ROW(AB6)-ROW($A$2)+1)),\"\")","v":""},{"$f":"IFERROR(INDEX(Отделения[отделение],SMALL(IF(Отделения[Город]=$AK$1,ROW(Отделения[Город])-1),ROW(AB6)-ROW($A$2)+1)),\"\")","v":""},{"$f":"IFERROR(INDEX(Отделения[отделение],SMALL(IF(Отделения[Город]=$AL$1,ROW(Отделения[Город])-1),ROW(AB6)-ROW($A$2)+1)),\"\")","v":""},{"$f":"IFERROR(INDEX(Отделения[отделение],SMALL(IF(Отделения[Город]=$AM$1,ROW(Отделения[Город])-1),ROW(AB6)-ROW($A$2)+1)),\"\")","v":""},{"$f":"IFERROR(INDEX(Отделения[отделение],SMALL(IF(Отделения[Город]=$AN$1,ROW(Отделения[Город])-1),ROW(AB6)-ROW($A$2)+1)),\"\")","v":""},{"$f":"IFERROR(INDEX(Отделения[отделение],SMALL(IF(Отделения[Город]=$AO$1,ROW(Отделения[Город])-1),ROW(AB6)-ROW($A$2)+1)),\"\")","v":""},{"$f":"IFERROR(INDEX(Отделения[отделение],SMALL(IF(Отделения[Город]=$AP$1,ROW(Отделения[Город])-1),ROW(AB6)-ROW($A$2)+1)),\"\")","v":""},{"$f":"IFERROR(INDEX(Отделения[отделение],SMALL(IF(Отделения[Город]=$AQ$1,ROW(Отделения[Город])-1),ROW(AB6)-ROW($A$2)+1)),\"\")","v":""},{"$f":"IFERROR(INDEX(Отделения[отделение],SMALL(IF(Отделения[Город]=$AR$1,ROW(Отделения[Город])-1),ROW(AB6)-ROW($A$2)+1)),\"\")","v":""},{"$f":"IFERROR(INDEX(Отделения[отделение],SMALL(IF(Отделения[Город]=$AS$1,ROW(Отделения[Город])-1),ROW(AB6)-ROW($A$2)+1)),\"\")","v":""},{"$f":"IFERROR(INDEX(Отделения[отделение],SMALL(IF(Отделения[Город]=$AT$1,ROW(Отделения[Город])-1),ROW(AB6)-ROW($A$2)+1)),\"\")","v":""},{"$f":"IFERROR(INDEX(Отделения[отделение],SMALL(IF(Отделения[Город]=$AU$1,ROW(Отделения[Город])-1),ROW(AB6)-ROW($A$2)+1)),\"\")","v":""},{"$f":"IFERROR(INDEX(Отделения[отделение],SMALL(IF(Отделения[Город]=$AV$1,ROW(Отделения[Город])-1),ROW(AB6)-ROW($A$2)+1)),\"\")","v":""},{"$f":"IFERROR(INDEX(Отделения[отделение],SMALL(IF(Отделения[Город]=$AW$1,ROW(Отделения[Город])-1),ROW(AB6)-ROW($A$2)+1)),\"\")","v":""},{"$f":"IFERROR(INDEX(Отделения[отделение],SMALL(IF(Отделения[Город]=$AX$1,ROW(Отделения[Город])-1),ROW(AB6)-ROW($A$2)+1)),\"\")","v":""},{"$f":"IFERROR(INDEX(Отделения[отделение],SMALL(IF(Отделения[Город]=$AY$1,ROW(Отделения[Город])-1),ROW(AB6)-ROW($A$2)+1)),\"\")","v":""},{"$f":"IFERROR(INDEX(Отделения[отделение],SMALL(IF(Отделения[Город]=$AZ$1,ROW(Отделения[Город])-1),ROW(AB6)-ROW($A$2)+1)),\"\")","v":""},{"$f":"IFERROR(INDEX(Отделения[отделение],SMALL(IF(Отделения[Город]=$BA$1,ROW(Отделения[Город])-1),ROW(AB6)-ROW($A$2)+1)),\"\")","v":""},{"$f":"IFERROR(INDEX(Отделения[отделение],SMALL(IF(Отделения[Город]=$BB$1,ROW(Отделения[Город])-1),ROW(AB6)-ROW($A$2)+1)),\"\")","v":""},{"$f":"IFERROR(INDEX(Отделения[отделение],SMALL(IF(Отделения[Город]=$BC$1,ROW(Отделения[Город])-1),ROW(AC6)-ROW($A$2)+1)),\"\")","v":""},{"$f":"IFERROR(INDEX(Отделения[отделение],SMALL(IF(Отделения[Город]=$BD$1,ROW(Отделения[Город])-1),ROW(AD6)-ROW($A$2)+1)),\"\")","v":""},{"$f":"IFERROR(INDEX(Отделения[отделение],SMALL(IF(Отделения[Город]=$BE$1,ROW(Отделения[Город])-1),ROW(AE6)-ROW($A$2)+1)),\"\")","v":""},{"$f":"IFERROR(INDEX(Отделения[отделение],SMALL(IF(Отделения[Город]=$BF$1,ROW(Отделения[Город])-1),ROW(AF6)-ROW($A$2)+1)),\"\")","v":""},{"$f":"IFERROR(INDEX(Отделения[отделение],SMALL(IF(Отделения[Город]=$BG$1,ROW(Отделения[Город])-1),ROW(AG6)-ROW($A$2)+1)),\"\")","v":""},{"$f":"IFERROR(INDEX(Отделения[отделение],SMALL(IF(Отделения[Город]=$BH$1,ROW(Отделения[Город])-1),ROW(AH6)-ROW($A$2)+1)),\"\")","v":""},{"$f":"IFERROR(INDEX(Отделения[отделение],SMALL(IF(Отделения[Город]=$BI$1,ROW(Отделения[Город])-1),ROW(AI6)-ROW($A$2)+1)),\"\")","v":""},{"$f":"IFERROR(INDEX(Отделения[отделение],SMALL(IF(Отделения[Город]=$BJ$1,ROW(Отделения[Город])-1),ROW(AJ6)-ROW($A$2)+1)),\"\")","v":""},{"$f":"IFERROR(INDEX(Отделения[отделение],SMALL(IF(Отделения[Город]=$BK$1,ROW(Отделения[Город])-1),ROW(AK6)-ROW($A$2)+1)),\"\")","v":""},{"$f":"IFERROR(INDEX(Отделения[отделение],SMALL(IF(Отделения[Город]=$BL$1,ROW(Отделения[Город])-1),ROW(AL6)-ROW($A$2)+1)),\"\")","v":""},{"$f":"IFERROR(INDEX(Отделения[отделение],SMALL(IF(Отделения[Город]=$BM$1,ROW(Отделения[Город])-1),ROW(AM6)-ROW($A$2)+1)),\"\")","v":""},{"$f":"IFERROR(INDEX(Отделения[отделение],SMALL(IF(Отделения[Город]=$BN$1,ROW(Отделения[Город])-1),ROW(AN6)-ROW($A$2)+1)),\"\")","v":""},{"$f":"IFERROR(INDEX(Отделения[отделение],SMALL(IF(Отделения[Город]=$BO$1,ROW(Отделения[Город])-1),ROW(AO6)-ROW($A$2)+1)),\"\")","v":""},{"$f":"IFERROR(INDEX(Отделения[отделение],SMALL(IF(Отделения[Город]=$BP$1,ROW(Отделения[Город])-1),ROW(AP6)-ROW($A$2)+1)),\"\")","v":""},{"$f":"IFERROR(INDEX(Отделения[отделение],SMALL(IF(Отделения[Город]=$BQ$1,ROW(Отделения[Город])-1),ROW(AQ6)-ROW($A$2)+1)),\"\")","v":""},{"$f":"IFERROR(INDEX(Отделения[отделение],SMALL(IF(Отделения[Город]=$BR$1,ROW(Отделения[Город])-1),ROW(AR6)-ROW($A$2)+1)),\"\")","v":""},{"$f":"IFERROR(INDEX(Отделения[отделение],SMALL(IF(Отделения[Город]=$BS$1,ROW(Отделения[Город])-1),ROW(AS6)-ROW($A$2)+1)),\"\")","v":""},{"$f":"IFERROR(INDEX(Отделения[отделение],SMALL(IF(Отделения[Город]=$BT$1,ROW(Отделения[Город])-1),ROW(AT6)-ROW($A$2)+1)),\"\")","v":""},{"$f":"IFERROR(INDEX(Отделения[отделение],SMALL(IF(Отделения[Город]=$BU$1,ROW(Отделения[Город])-1),ROW(AU6)-ROW($A$2)+1)),\"\")","v":""},{"$f":"IFERROR(INDEX(Отделения[отделение],SMALL(IF(Отделения[Город]=$BV$1,ROW(Отделения[Город])-1),ROW(AV6)-ROW($A$2)+1)),\"\")","v":""},{"$f":"IFERROR(INDEX(Отделения[отделение],SMALL(IF(Отделения[Город]=$BW$1,ROW(Отделения[Город])-1),ROW(AV6)-ROW($A$2)+1)),\"\")","v":""},{"$f":"IFERROR(INDEX(Отделения[отделение],SMALL(IF(Отделения[Город]=$BX$1,ROW(Отделения[Город])-1),ROW(AV6)-ROW($A$2)+1)),\"\")","v":""},{"$f":"IFERROR(INDEX(Отделения[отделение],SMALL(IF(Отделения[Город]=$BY$1,ROW(Отделения[Город])-1),ROW(AV6)-ROW($A$2)+1)),\"\")","v":""},{"$f":"IFERROR(INDEX(Отделения[отделение],SMALL(IF(Отделения[Город]=$BZ$1,ROW(Отделения[Город])-1),ROW(AV6)-ROW($A$2)+1)),\"\")","v":""},{"$f":"IFERROR(INDEX(Отделения[отделение],SMALL(IF(Отделения[Город]=$CA$1,ROW(Отделения[Город])-1),ROW(AV6)-ROW($A$2)+1)),\"\")","v":""},{"$f":"IFERROR(INDEX(Отделения[отделение],SMALL(IF(Отделения[Город]=$CB$1,ROW(Отделения[Город])-1),ROW(AV6)-ROW($A$2)+1)),\"\")","v":""},{"$f":"IFERROR(INDEX(Отделения[отделение],SMALL(IF(Отделения[Город]=$CC$1,ROW(Отделения[Город])-1),ROW(AV6)-ROW($A$2)+1)),\"\")","v":""},{"$f":"IFERROR(INDEX(Отделения[отделение],SMALL(IF(Отделения[Город]=$CD$1,ROW(Отделения[Город])-1),ROW(AV6)-ROW($A$2)+1)),\"\")","v":""},{"$f":"IFERROR(INDEX(Отделения[отделение],SMALL(IF(Отделения[Город]=$CE$1,ROW(Отделения[Город])-1),ROW(AV6)-ROW($A$2)+1)),\"\")","v":""},{"$f":"IFERROR(INDEX(Отделения[отделение],SMALL(IF(Отделения[Город]=$CF$1,ROW(Отделения[Город])-1),ROW(AV6)-ROW($A$2)+1)),\"\")","v":""},{"$f":"IFERROR(INDEX(Отделения[отделение],SMALL(IF(Отделения[Город]=$CG$1,ROW(Отделения[Город])-1),ROW(AV6)-ROW($A$2)+1)),\"\")","v":""},{"$f":"IFERROR(INDEX(Отделения[отделение],SMALL(IF(Отделения[Город]=$CH$1,ROW(Отделения[Город])-1),ROW(AW6)-ROW($A$2)+1)),\"\")","v":""},{"$f":"IFERROR(INDEX(Отделения[отделение],SMALL(IF(Отделения[Город]=$CI$1,ROW(Отделения[Город])-1),ROW(AX6)-ROW($A$2)+1)),\"\")","v":""},{"$f":"IFERROR(INDEX(Отделения[отделение],SMALL(IF(Отделения[Город]=$CJ$1,ROW(Отделения[Город])-1),ROW(AY6)-ROW($A$2)+1)),\"\")","v":""},{"$f":"IFERROR(INDEX(Отделения[отделение],SMALL(IF(Отделения[Город]=$CK$1,ROW(Отделения[Город])-1),ROW(AZ6)-ROW($A$2)+1)),\"\")","v":""},{"$f":"IFERROR(INDEX(Отделения[отделение],SMALL(IF(Отделения[Город]=$CL$1,ROW(Отделения[Город])-1),ROW(BA6)-ROW($A$2)+1)),\"\")","v":""},{"$f":"IFERROR(INDEX(Отделения[отделение],SMALL(IF(Отделения[Город]=$CM$1,ROW(Отделения[Город])-1),ROW(BB6)-ROW($A$2)+1)),\"\")","v":""},{"$f":"IFERROR(INDEX(Отделения[отделение],SMALL(IF(Отделения[Город]=$CN$1,ROW(Отделения[Город])-1),ROW(BC6)-ROW($A$2)+1)),\"\")","v":""},{"$f":"IFERROR(INDEX(Отделения[отделение],SMALL(IF(Отделения[Город]=$CO$1,ROW(Отделения[Город])-1),ROW(BD6)-ROW($A$2)+1)),\"\")","v":""},{"$f":"IFERROR(INDEX(Отделения[отделение],SMALL(IF(Отделения[Город]=$CP$1,ROW(Отделения[Город])-1),ROW(BE6)-ROW($A$2)+1)),\"\")","v":""},{"$f":"IFERROR(INDEX(Отделения[отделение],SMALL(IF(Отделения[Город]=$CQ$1,ROW(Отделения[Город])-1),ROW(BF6)-ROW($A$2)+1)),\"\")","v":""},{"$f":"IFERROR(INDEX(Отделения[отделение],SMALL(IF(Отделения[Город]=$CR$1,ROW(Отделения[Город])-1),ROW(BG6)-ROW($A$2)+1)),\"\")","v":""},{"$f":"IFERROR(INDEX(Отделения[отделение],SMALL(IF(Отделения[Город]=$CS$1,ROW(Отделения[Город])-1),ROW(BH6)-ROW($A$2)+1)),\"\")","v":""},{"$f":"IFERROR(INDEX(Отделения[отделение],SMALL(IF(Отделения[Город]=$CT$1,ROW(Отделения[Город])-1),ROW(BI6)-ROW($A$2)+1)),\"\")","v":""},{"$f":"IFERROR(INDEX(Отделения[отделение],SMALL(IF(Отделения[Город]=$CU$1,ROW(Отделения[Город])-1),ROW(BJ6)-ROW($A$2)+1)),\"\")","v":""},{"$f":"IFERROR(INDEX(Отделения[отделение],SMALL(IF(Отделения[Город]=$CV$1,ROW(Отделения[Город])-1),ROW(BK6)-ROW($A$2)+1)),\"\")","v":""},{"$f":"IFERROR(INDEX(Отделения[отделение],SMALL(IF(Отделения[Город]=$CW$1,ROW(Отделения[Город])-1),ROW(BL6)-ROW($A$2)+1)),\"\")","v":""},{"$f":"IFERROR(INDEX(Отделения[отделение],SMALL(IF(Отделения[Город]=$CX$1,ROW(Отделения[Город])-1),ROW(BM6)-ROW($A$2)+1)),\"\")","v":""},{"$f":"IFERROR(INDEX(Отделения[отделение],SMALL(IF(Отделения[Город]=$CY$1,ROW(Отделения[Город])-1),ROW(BM6)-ROW($A$2)+1)),\"\")","v":""},{"$f":"IFERROR(INDEX(Отделения[отделение],SMALL(IF(Отделения[Город]=$CZ$1,ROW(Отделения[Город])-1),ROW(BM6)-ROW($A$2)+1)),\"\")","v":""},{"$f":"IFERROR(INDEX(Отделения[отделение],SMALL(IF(Отделения[Город]=$DA$1,ROW(Отделения[Город])-1),ROW(BM6)-ROW($A$2)+1)),\"\")","v":""},{"$f":"IFERROR(INDEX(Отделения[отделение],SMALL(IF(Отделения[Город]=$DB$1,ROW(Отделения[Город])-1),ROW(BM6)-ROW($A$2)+1)),\"\")","v":""}]
["Москва","ДО \"КУЗНЕЦКИЙ МОСТ\" , 107031, г. Москва, ул. Неглинная,д. 10","0417","MOKN",null,null,{"$f":"IFERROR(INDEX(Отделения[отделение],SMALL(IF(Отделения[Город]=$G$1,ROW(Отделения[Город])-1),ROW(A7)-ROW($A$2)+1)),\"\")","v":""},{"$f":"IFERROR(INDEX(Отделения[отделение],SMALL(IF(Отделения[Город]=$H$1,ROW(Отделения[Город])-1),ROW(A7)-ROW($A$2)+1)),\"\")","v":""},{"$f":"IFERROR(INDEX(Отделения[отделение],SMALL(IF(Отделения[Город]=$I$1,ROW(Отделения[Город])-1),ROW(A7)-ROW($A$2)+1)),\"\")","v":""},{"$f":"IFERROR(INDEX(Отделения[отделение],SMALL(IF(Отделения[Город]=$J$1,ROW(Отделения[Город])-1),ROW(A7)-ROW($A$2)+1)),\"\")","v":""},{"$f":"IFERROR(INDEX(Отделения[отделение],SMALL(IF(Отделения[Город]=$K$1,ROW(Отделения[Город])-1),ROW(A7)-ROW($A$2)+1)),\"\")","v":""},{"$f":"IFERROR(INDEX(Отделения[отделение],SMALL(IF(Отделения[Город]=$L$1,ROW(Отделения[Город])-1),ROW(A7)-ROW($A$2)+1)),\"\")","v":""},{"$f":"IFERROR(INDEX(Отделения[отделение],SMALL(IF(Отделения[Город]=$M$1,ROW(Отделения[Город])-1),ROW(B7)-ROW($A$2)+1)),\"\")","v":""},{"$f":"IFERROR(INDEX(Отделения[отделение],SMALL(IF(Отделения[Город]=$N$1,ROW(Отделения[Город])-1),ROW(#REF!)-ROW($A$2)+1)),\"\")","v":""},{"$f":"IFERROR(INDEX(Отделения[отделение],SMALL(IF(Отделения[Город]=$O$1,ROW(Отделения[Город])-1),ROW(C7)-ROW($A$2)+1)),\"\")","v":""},{"$f":"IFERROR(INDEX(Отделения[отделение],SMALL(IF(Отделения[Город]=$P$1,ROW(Отделения[Город])-1),ROW(D7)-ROW($A$2)+1)),\"\")","v":""},{"$f":"IFERROR(INDEX(Отделения[отделение],SMALL(IF(Отделения[Город]=$Q$1,ROW(Отделения[Город])-1),ROW(F7)-ROW($A$2)+1)),\"\")","v":""},{"$f":"IFERROR(INDEX(Отделения[отделение],SMALL(IF(Отделения[Город]=$R$1,ROW(Отделения[Город])-1),ROW(#REF!)-ROW($A$2)+1)),\"\")","v":""},{"$f":"IFERROR(INDEX(Отделения[отделение],SMALL(IF(Отделения[Город]=$S$1,ROW(Отделения[Город])-1),ROW(G7)-ROW($A$2)+1)),\"\")","v":""},{"$f":"IFERROR(INDEX(Отделения[отделение],SMALL(IF(Отделения[Город]=$T$1,ROW(Отделения[Город])-1),ROW(H7)-ROW($A$2)+1)),\"\")","v":""},{"$f":"IFERROR(INDEX(Отделения[отделение],SMALL(IF(Отделения[Город]=$U$1,ROW(Отделения[Город])-1),ROW(I7)-ROW($A$2)+1)),\"\")","v":""},{"$f":"IFERROR(INDEX(Отделения[отделение],SMALL(IF(Отделения[Город]=$V$1,ROW(Отделения[Город])-1),ROW(J7)-ROW($A$2)+1)),\"\")","v":""},{"$f":"IFERROR(INDEX(Отделения[отделение],SMALL(IF(Отделения[Город]=$W$1,ROW(Отделения[Город])-1),ROW(K7)-ROW($A$2)+1)),\"\")","v":""},{"$f":"IFERROR(INDEX(Отделения[отделение],SMALL(IF(Отделения[Город]=$X$1,ROW(Отделения[Город])-1),ROW(L7)-ROW($A$2)+1)),\"\")","v":""},{"$f":"IFERROR(INDEX(Отделения[отделение],SMALL(IF(Отделения[Город]=$Y$1,ROW(Отделения[Город])-1),ROW(M7)-ROW($A$2)+1)),\"\")","v":""},{"$f":"IFERROR(INDEX(Отделения[отделение],SMALL(IF(Отделения[Город]=$Z$1,ROW(Отделения[Город])-1),ROW(N7)-ROW($A$2)+1)),\"\")","v":""},{"$f":"IFERROR(INDEX(Отделения[отделение],SMALL(IF(Отделения[Город]=$AA$1,ROW(Отделения[Город])-1),ROW(O7)-ROW($A$2)+1)),\"\")","v":""},{"$f":"IFERROR(INDEX(Отделения[отделение],SMALL(IF(Отделения[Город]=$AB$1,ROW(Отделения[Город])-1),ROW(P7)-ROW($A$2)+1)),\"\")","v":""},{"$f":"IFERROR(INDEX(Отделения[отделение],SMALL(IF(Отделения[Город]=$AC$1,ROW(Отделения[Город])-1),ROW(Q7)-ROW($A$2)+1)),\"\")","v":""},{"$f":"IFERROR(INDEX(Отделения[отделение],SMALL(IF(Отделения[Город]=$AD$1,ROW(Отделения[Город])-1),ROW(R7)-ROW($A$2)+1)),\"\")","v":""},{"$f":"IFERROR(INDEX(Отделения[отделение],SMALL(IF(Отделения[Город]=$AE$1,ROW(Отделения[Город])-1),ROW(S7)-ROW($A$2)+1)),\"\")","v":""},{"$f":"IFERROR(INDEX(Отделения[отделение],SMALL(IF(Отделения[Город]=$AF$1,ROW(Отделения[Город])-1),ROW(T7)-ROW($A$2)+1)),\"\")","v":""},{"$f":"IFERROR(INDEX(Отделения[отделение],SMALL(IF(Отделения[Город]=$AG$1,ROW(Отделения[Город])-1),ROW(U7)-ROW($A$2)+1)),\"\")","v":""},{"$f":"IFERROR(INDEX(Отделения[отделение],SMALL(IF(Отделения[Город]=$AH$1,ROW(Отделения[Город])-1),ROW(V7)-ROW($A$2)+1)),\"\")","v":""},{"$f":"IFERROR(INDEX(Отделения[отделение],SMALL(IF(Отделения[Город]=$AI$1,ROW(Отделения[Город])-1),ROW(AB7)-ROW($A$2)+1)),\"\")","v":""},{"$f":"IFERROR(INDEX(Отделения[отделение],SMALL(IF(Отделения[Город]=$AJ$1,ROW(Отделения[Город])-1),ROW(AB7)-ROW($A$2)+1)),\"\")","v":""},{"$f":"IFERROR(INDEX(Отделения[отделение],SMALL(IF(Отделения[Город]=$AK$1,ROW(Отделения[Город])-1),ROW(AB7)-ROW($A$2)+1)),\"\")","v":""},{"$f":"IFERROR(INDEX(Отделения[отделение],SMALL(IF(Отделения[Город]=$AL$1,ROW(Отделения[Город])-1),ROW(AB7)-ROW($A$2)+1)),\"\")","v":""},{"$f":"IFERROR(INDEX(Отделения[отделение],SMALL(IF(Отделения[Город]=$AM$1,ROW(Отделения[Город])-1),ROW(AB7)-ROW($A$2)+1)),\"\")","v":""},{"$f":"IFERROR(INDEX(Отделения[отделение],SMALL(IF(Отделения[Город]=$AN$1,ROW(Отделения[Город])-1),ROW(AB7)-ROW($A$2)+1)),\"\")","v":""},{"$f":"IFERROR(INDEX(Отделения[отделение],SMALL(IF(Отделения[Город]=$AO$1,ROW(Отделения[Город])-1),ROW(AB7)-ROW($A$2)+1)),\"\")","v":""},{"$f":"IFERROR(INDEX(Отделения[отделение],SMALL(IF(Отделения[Город]=$AP$1,ROW(Отделения[Город])-1),ROW(AB7)-ROW($A$2)+1)),\"\")","v":""},{"$f":"IFERROR(INDEX(Отделения[отделение],SMALL(IF(Отделения[Город]=$AQ$1,ROW(Отделения[Город])-1),ROW(AB7)-ROW($A$2)+1)),\"\")","v":""},{"$f":"IFERROR(INDEX(Отделения[отделение],SMALL(IF(Отделения[Город]=$AR$1,ROW(Отделения[Город])-1),ROW(AB7)-ROW($A$2)+1)),\"\")","v":""},{"$f":"IFERROR(INDEX(Отделения[отделение],SMALL(IF(Отделения[Город]=$AS$1,ROW(Отделения[Город])-1),ROW(AB7)-ROW($A$2)+1)),\"\")","v":""},{"$f":"IFERROR(INDEX(Отделения[отделение],SMALL(IF(Отделения[Город]=$AT$1,ROW(Отделения[Город])-1),ROW(AB7)-ROW($A$2)+1)),\"\")","v":""},{"$f":"IFERROR(INDEX(Отделения[отделение],SMALL(IF(Отделения[Город]=$AU$1,ROW(Отделения[Город])-1),ROW(AB7)-ROW($A$2)+1)),\"\")","v":""},{"$f":"IFERROR(INDEX(Отделения[отделение],SMALL(IF(Отделения[Город]=$AV$1,ROW(Отделения[Город])-1),ROW(AB7)-ROW($A$2)+1)),\"\")","v":""},{"$f":"IFERROR(INDEX(Отделения[отделение],SMALL(IF(Отделения[Город]=$AW$1,ROW(Отделения[Город])-1),ROW(AB7)-ROW($A$2)+1)),\"\")","v":""},{"$f":"IFERROR(INDEX(Отделения[отделение],SMALL(IF(Отделения[Город]=$AX$1,ROW(Отделения[Город])-1),ROW(AB7)-ROW($A$2)+1)),\"\")","v":""},{"$f":"IFERROR(INDEX(Отделения[отделение],SMALL(IF(Отделения[Город]=$AY$1,ROW(Отделения[Город])-1),ROW(AB7)-ROW($A$2)+1)),\"\")","v":""},{"$f":"IFERROR(INDEX(Отделения[отделение],SMALL(IF(Отделения[Город]=$AZ$1,ROW(Отделения[Город])-1),ROW(AB7)-ROW($A$2)+1)),\"\")","v":""},{"$f":"IFERROR(INDEX(Отделения[отделение],SMALL(IF(Отделения[Город]=$BA$1,ROW(Отделения[Город])-1),ROW(AB7)-ROW($A$2)+1)),\"\")","v":""},{"$f":"IFERROR(INDEX(Отделения[отделение],SMALL(IF(Отделения[Город]=$BB$1,ROW(Отделения[Город])-1),ROW(AB7)-ROW($A$2)+1)),\"\")","v":""},{"$f":"IFERROR(INDEX(Отделения[отделение],SMALL(IF(Отделения[Город]=$BC$1,ROW(Отделения[Город])-1),ROW(AC7)-ROW($A$2)+1)),\"\")","v":""},{"$f":"IFERROR(INDEX(Отделения[отделение],SMALL(IF(Отделения[Город]=$BD$1,ROW(Отделения[Город])-1),ROW(AD7)-ROW($A$2)+1)),\"\")","v":""},{"$f":"IFERROR(INDEX(Отделения[отделение],SMALL(IF(Отделения[Город]=$BE$1,ROW(Отделения[Город])-1),ROW(AE7)-ROW($A$2)+1)),\"\")","v":""},{"$f":"IFERROR(INDEX(Отделения[отделение],SMALL(IF(Отделения[Город]=$BF$1,ROW(Отделения[Город])-1),ROW(AF7)-ROW($A$2)+1)),\"\")","v":""},{"$f":"IFERROR(INDEX(Отделения[отделение],SMALL(IF(Отделения[Город]=$BG$1,ROW(Отделения[Город])-1),ROW(AG7)-ROW($A$2)+1)),\"\")","v":""},{"$f":"IFERROR(INDEX(Отделения[отделение],SMALL(IF(Отделения[Город]=$BH$1,ROW(Отделения[Город])-1),ROW(AH7)-ROW($A$2)+1)),\"\")","v":""},{"$f":"IFERROR(INDEX(Отделения[отделение],SMALL(IF(Отделения[Город]=$BI$1,ROW(Отделения[Город])-1),ROW(AI7)-ROW($A$2)+1)),\"\")","v":""},{"$f":"IFERROR(INDEX(Отделения[отделение],SMALL(IF(Отделения[Город]=$BJ$1,ROW(Отделения[Город])-1),ROW(AJ7)-ROW($A$2)+1)),\"\")","v":""},{"$f":"IFERROR(INDEX(Отделения[отделение],SMALL(IF(Отделения[Город]=$BK$1,ROW(Отделения[Город])-1),ROW(AK7)-ROW($A$2)+1)),\"\")","v":""},{"$f":"IFERROR(INDEX(Отделения[отделение],SMALL(IF(Отделения[Город]=$BL$1,ROW(Отделения[Город])-1),ROW(AL7)-ROW($A$2)+1)),\"\")","v":""},{"$f":"IFERROR(INDEX(Отделения[отделение],SMALL(IF(Отделения[Город]=$BM$1,ROW(Отделения[Город])-1),ROW(AM7)-ROW($A$2)+1)),\"\")","v":""},{"$f":"IFERROR(INDEX(Отделения[отделение],SMALL(IF(Отделения[Город]=$BN$1,ROW(Отделения[Город])-1),ROW(AN7)-ROW($A$2)+1)),\"\")","v":""},{"$f":"IFERROR(INDEX(Отделения[отделение],SMALL(IF(Отделения[Город]=$BO$1,ROW(Отделения[Город])-1),ROW(AO7)-ROW($A$2)+1)),\"\")","v":""},{"$f":"IFERROR(INDEX(Отделения[отделение],SMALL(IF(Отделения[Город]=$BP$1,ROW(Отделения[Город])-1),ROW(AP7)-ROW($A$2)+1)),\"\")","v":""},{"$f":"IFERROR(INDEX(Отделения[отделение],SMALL(IF(Отделения[Город]=$BQ$1,ROW(Отделения[Город])-1),ROW(AQ7)-ROW($A$2)+1)),\"\")","v":""},{"$f":"IFERROR(INDEX(Отделения[отделение],SMALL(IF(Отделения[Город]=$BR$1,ROW(Отделения[Город])-1),ROW(AR7)-ROW($A$2)+1)),\"\")","v":""},{"$f":"IFERROR(INDEX(Отделения[отделение],SMALL(IF(Отделения[Город]=$BS$1,ROW(Отделения[Город])-1),ROW(AS7)-ROW($A$2)+1)),\"\")","v":""},{"$f":"IFERROR(INDEX(Отделения[отделение],SMALL(IF(Отделения[Город]=$BT$1,ROW(Отделения[Город])-1),ROW(AT7)-ROW($A$2)+1)),\"\")","v":""},{"$f":"IFERROR(INDEX(Отделения[отделение],SMALL(IF(Отделения[Город]=$BU$1,ROW(Отделения[Город])-1),ROW(AU7)-ROW($A$2)+1)),\"\")","v":""},{"$f":"IFERROR(INDEX(Отделения[отделение],SMALL(IF(Отделения[Город]=$BV$1,ROW(Отделения[Город])-1),ROW(AV7)-ROW($A$2)+1)),\"\")","v":""},{"$f":"IFERROR(INDEX(Отделения[отделение],SMALL(IF(Отделения[Город]=$BW$1,ROW(Отделения[Город])-1),ROW(AV7)-ROW($A$2)+1)),\"\")","v":""},{"$f":"IFERROR(INDEX(Отделения[отделение],SMALL(IF(Отделения[Город]=$BX$1,ROW(Отделения[Город])-1),ROW(AV7)-ROW($A$2)+1)),\"\")","v":""},{"$f":"IFERROR(INDEX(Отделения[отделение],SMALL(IF(Отделения[Город]=$BY$1,ROW(Отделения[Город])-1),ROW(AV7)-ROW($A$2)+1)),\"\")","v":""},{"$f":"IFERROR(INDEX(Отделения[отделение],SMALL(IF(Отделения[Город]=$BZ$1,ROW(Отделения[Город])-1),ROW(AV7)-ROW($A$2)+1)),\"\")","v":""},{"$f":"IFERROR(INDEX(Отделения[отделение],SMALL(IF(Отделения[Город]=$CA$1,ROW(Отделения[Город])-1),ROW(AV7)-ROW($A$2)+1)),\"\")","v":""},{"$f":"IFERROR(INDEX(Отделения[отделение],SMALL(IF(Отделения[Город]=$CB$1,ROW(Отделения[Город])-1),ROW(AV7)-ROW($A$2)+1)),\"\")","v":""},{"$f":"IFERROR(INDEX(Отделения[отделение],SMALL(IF(Отделения[Город]=$CC$1,ROW(Отделения[Город])-1),ROW(AV7)-ROW($A$2)+1)),\"\")","v":""},{"$f":"IFERROR(INDEX(Отделения[отделение],SMALL(IF(Отделения[Город]=$CD$1,ROW(Отделения[Город])-1),ROW(AV7)-ROW($A$2)+1)),\"\")","v":""},{"$f":"IFERROR(INDEX(Отделения[отделение],SMALL(IF(Отделения[Город]=$CE$1,ROW(Отделения[Город])-1),ROW(AV7)-ROW($A$2)+1)),\"\")","v":""},{"$f":"IFERROR(INDEX(Отделения[отделение],SMALL(IF(Отделения[Город]=$CF$1,ROW(Отделения[Город])-1),ROW(AV7)-ROW($A$2)+1)),\"\")","v":""},{"$f":"IFERROR(INDEX(Отделения[отделение],SMALL(IF(Отделения[Город]=$CG$1,ROW(Отделения[Город])-1),ROW(AV7)-ROW($A$2)+1)),\"\")","v":""},{"$f":"IFERROR(INDEX(Отделения[отделение],SMALL(IF(Отделения[Город]=$CH$1,ROW(Отделения[Город])-1),ROW(AW7)-ROW($A$2)+1)),\"\")","v":""},{"$f":"IFERROR(INDEX(Отделения[отделение],SMALL(IF(Отделения[Город]=$CI$1,ROW(Отделения[Город])-1),ROW(AX7)-ROW($A$2)+1)),\"\")","v":""},{"$f":"IFERROR(INDEX(Отделения[отделение],SMALL(IF(Отделения[Город]=$CJ$1,ROW(Отделения[Город])-1),ROW(AY7)-ROW($A$2)+1)),\"\")","v":""},{"$f":"IFERROR(INDEX(Отделения[отделение],SMALL(IF(Отделения[Город]=$CK$1,ROW(Отделения[Город])-1),ROW(AZ7)-ROW($A$2)+1)),\"\")","v":""},{"$f":"IFERROR(INDEX(Отделения[отделение],SMALL(IF(Отделения[Город]=$CL$1,ROW(Отделения[Город])-1),ROW(BA7)-ROW($A$2)+1)),\"\")","v":""},{"$f":"IFERROR(INDEX(Отделения[отделение],SMALL(IF(Отделения[Город]=$CM$1,ROW(Отделения[Город])-1),ROW(BB7)-ROW($A$2)+1)),\"\")","v":""},{"$f":"IFERROR(INDEX(Отделения[отделение],SMALL(IF(Отделения[Город]=$CN$1,ROW(Отделения[Город])-1),ROW(BC7)-ROW($A$2)+1)),\"\")","v":""},{"$f":"IFERROR(INDEX(Отделения[отделение],SMALL(IF(Отделения[Город]=$CO$1,ROW(Отделения[Город])-1),ROW(BD7)-ROW($A$2)+1)),\"\")","v":""},{"$f":"IFERROR(INDEX(Отделения[отделение],SMALL(IF(Отделения[Город]=$CP$1,ROW(Отделения[Город])-1),ROW(BE7)-ROW($A$2)+1)),\"\")","v":""},{"$f":"IFERROR(INDEX(Отделения[отделение],SMALL(IF(Отделения[Город]=$CQ$1,ROW(Отделения[Город])-1),ROW(BF7)-ROW($A$2)+1)),\"\")","v":""},{"$f":"IFERROR(INDEX(Отделения[отделение],SMALL(IF(Отделения[Город]=$CR$1,ROW(Отделения[Город])-1),ROW(BG7)-ROW($A$2)+1)),\"\")","v":""},{"$f":"IFERROR(INDEX(Отделения[отделение],SMALL(IF(Отделения[Город]=$CS$1,ROW(Отделения[Город])-1),ROW(BH7)-ROW($A$2)+1)),\"\")","v":""},{"$f":"IFERROR(INDEX(Отделения[отделение],SMALL(IF(Отделения[Город]=$CT$1,ROW(Отделения[Город])-1),ROW(BI7)-ROW($A$2)+1)),\"\")","v":""},{"$f":"IFERROR(INDEX(Отделения[отделение],SMALL(IF(Отделения[Город]=$CU$1,ROW(Отделения[Город])-1),ROW(BJ7)-ROW($A$2)+1)),\"\")","v":""},{"$f":"IFERROR(INDEX(Отделения[отделение],SMALL(IF(Отделения[Город]=$CV$1,ROW(Отделения[Город])-1),ROW(BK7)-ROW($A$2)+1)),\"\")","v":""},{"$f":"IFERROR(INDEX(Отделения[отделение],SMALL(IF(Отделения[Город]=$CW$1,ROW(Отделения[Город])-1),ROW(BL7)-ROW($A$2)+1)),\"\")","v":""},{"$f":"IFERROR(INDEX(Отделения[отделение],SMALL(IF(Отделения[Город]=$CX$1,ROW(Отделения[Город])-1),ROW(BM7)-ROW($A$2)+1)),\"\")","v":""},{"$f":"IFERROR(INDEX(Отделения[отделение],SMALL(IF(Отделения[Город]=$CY$1,ROW(Отделения[Город])-1),ROW(BM7)-ROW($A$2)+1)),\"\")","v":""},{"$f":"IFERROR(INDEX(Отделения[отделение],SMALL(IF(Отделения[Город]=$CZ$1,ROW(Отделения[Город])-1),ROW(BM7)-ROW($A$2)+1)),\"\")","v":""},{"$f":"IFERROR(INDEX(Отделения[отделение],SMALL(IF(Отделения[Город]=$DA$1,ROW(Отделения[Город])-1),ROW(BM7)-ROW($A$2)+1)),\"\")","v":""},{"$f":"IFERROR(INDEX(Отделения[отделение],SMALL(IF(Отделения[Город]=$DB$1,ROW(Отделения[Город])-1),ROW(BM7)-ROW($A$2)+1)),\"\")","v":""}]
["Москва","ДО \"БАУМАНСКАЯ\" , 105066, г. Москва, ул. Нижняя Красносельская, д 45/17","0419","MOKR",null,null,{"$f":"IFERROR(INDEX(Отделения[отделение],SMALL(IF(Отделения[Город]=$G$1,ROW(Отделения[Город])-1),ROW(A8)-ROW($A$2)+1)),\"\")","v":""},{"$f":"IFERROR(INDEX(Отделения[отделение],SMALL(IF(Отделения[Город]=$H$1,ROW(Отделения[Город])-1),ROW(A8)-ROW($A$2)+1)),\"\")","v":""},{"$f":"IFERROR(INDEX(Отделения[отделение],SMALL(IF(Отделения[Город]=$I$1,ROW(Отделения[Город])-1),ROW(A8)-ROW($A$2)+1)),\"\")","v":""},{"$f":"IFERROR(INDEX(Отделения[отделение],SMALL(IF(Отделения[Город]=$J$1,ROW(Отделения[Город])-1),ROW(A8)-ROW($A$2)+1)),\"\")","v":""},{"$f":"IFERROR(INDEX(Отделения[отделение],SMALL(IF(Отделения[Город]=$K$1,ROW(Отделения[Город])-1),ROW(A8)-ROW($A$2)+1)),\"\")","v":""},{"$f":"IFERROR(INDEX(Отделения[отделение],SMALL(IF(Отделения[Город]=$L$1,ROW(Отделения[Город])-1),ROW(A8)-ROW($A$2)+1)),\"\")","v":""},{"$f":"IFERROR(INDEX(Отделения[отделение],SMALL(IF(Отделения[Город]=$M$1,ROW(Отделения[Город])-1),ROW(B8)-ROW($A$2)+1)),\"\")","v":""},{"$f":"IFERROR(INDEX(Отделения[отделение],SMALL(IF(Отделения[Город]=$N$1,ROW(Отделения[Город])-1),ROW(#REF!)-ROW($A$2)+1)),\"\")","v":""},{"$f":"IFERROR(INDEX(Отделения[отделение],SMALL(IF(Отделения[Город]=$O$1,ROW(Отделения[Город])-1),ROW(C8)-ROW($A$2)+1)),\"\")","v":""},{"$f":"IFERROR(INDEX(Отделения[отделение],SMALL(IF(Отделения[Город]=$P$1,ROW(Отделения[Город])-1),ROW(D8)-ROW($A$2)+1)),\"\")","v":""},{"$f":"IFERROR(INDEX(Отделения[отделение],SMALL(IF(Отделения[Город]=$Q$1,ROW(Отделения[Город])-1),ROW(F8)-ROW($A$2)+1)),\"\")","v":""},{"$f":"IFERROR(INDEX(Отделения[отделение],SMALL(IF(Отделения[Город]=$R$1,ROW(Отделения[Город])-1),ROW(#REF!)-ROW($A$2)+1)),\"\")","v":""},{"$f":"IFERROR(INDEX(Отделения[отделение],SMALL(IF(Отделения[Город]=$S$1,ROW(Отделения[Город])-1),ROW(G8)-ROW($A$2)+1)),\"\")","v":""},{"$f":"IFERROR(INDEX(Отделения[отделение],SMALL(IF(Отделения[Город]=$T$1,ROW(Отделения[Город])-1),ROW(H8)-ROW($A$2)+1)),\"\")","v":""},{"$f":"IFERROR(INDEX(Отделения[отделение],SMALL(IF(Отделения[Город]=$U$1,ROW(Отделения[Город])-1),ROW(I8)-ROW($A$2)+1)),\"\")","v":""},{"$f":"IFERROR(INDEX(Отделения[отделение],SMALL(IF(Отделения[Город]=$V$1,ROW(Отделения[Город])-1),ROW(J8)-ROW($A$2)+1)),\"\")","v":""},{"$f":"IFERROR(INDEX(Отделения[отделение],SMALL(IF(Отделения[Город]=$W$1,ROW(Отделения[Город])-1),ROW(K8)-ROW($A$2)+1)),\"\")","v":""},{"$f":"IFERROR(INDEX(Отделения[отделение],SMALL(IF(Отделения[Город]=$X$1,ROW(Отделения[Город])-1),ROW(L8)-ROW($A$2)+1)),\"\")","v":""},{"$f":"IFERROR(INDEX(Отделения[отделение],SMALL(IF(Отделения[Город]=$Y$1,ROW(Отделения[Город])-1),ROW(M8)-ROW($A$2)+1)),\"\")","v":""},{"$f":"IFERROR(INDEX(Отделения[отделение],SMALL(IF(Отделения[Город]=$Z$1,ROW(Отделения[Город])-1),ROW(N8)-ROW($A$2)+1)),\"\")","v":""},{"$f":"IFERROR(INDEX(Отделения[отделение],SMALL(IF(Отделения[Город]=$AA$1,ROW(Отделения[Город])-1),ROW(O8)-ROW($A$2)+1)),\"\")","v":""},{"$f":"IFERROR(INDEX(Отделения[отделение],SMALL(IF(Отделения[Город]=$AB$1,ROW(Отделения[Город])-1),ROW(P8)-ROW($A$2)+1)),\"\")","v":""},{"$f":"IFERROR(INDEX(Отделения[отделение],SMALL(IF(Отделения[Город]=$AC$1,ROW(Отделения[Город])-1),ROW(Q8)-ROW($A$2)+1)),\"\")","v":""},{"$f":"IFERROR(INDEX(Отделения[отделение],SMALL(IF(Отделения[Город]=$AD$1,ROW(Отделения[Город])-1),ROW(R8)-ROW($A$2)+1)),\"\")","v":""},{"$f":"IFERROR(INDEX(Отделения[отделение],SMALL(IF(Отделения[Город]=$AE$1,ROW(Отделения[Город])-1),ROW(S8)-ROW($A$2)+1)),\"\")","v":""},{"$f":"IFERROR(INDEX(Отделения[отделение],SMALL(IF(Отделения[Город]=$AF$1,ROW(Отделения[Город])-1),ROW(T8)-ROW($A$2)+1)),\"\")","v":""},{"$f":"IFERROR(INDEX(Отделения[отделение],SMALL(IF(Отделения[Город]=$AG$1,ROW(Отделения[Город])-1),ROW(U8)-ROW($A$2)+1)),\"\")","v":""},{"$f":"IFERROR(INDEX(Отделения[отделение],SMALL(IF(Отделения[Город]=$AH$1,ROW(Отделения[Город])-1),ROW(V8)-ROW($A$2)+1)),\"\")","v":""},{"$f":"IFERROR(INDEX(Отделения[отделение],SMALL(IF(Отделения[Город]=$AI$1,ROW(Отделения[Город])-1),ROW(AB8)-ROW($A$2)+1)),\"\")","v":""},{"$f":"IFERROR(INDEX(Отделения[отделение],SMALL(IF(Отделения[Город]=$AJ$1,ROW(Отделения[Город])-1),ROW(AB8)-ROW($A$2)+1)),\"\")","v":""},{"$f":"IFERROR(INDEX(Отделения[отделение],SMALL(IF(Отделения[Город]=$AK$1,ROW(Отделения[Город])-1),ROW(AB8)-ROW($A$2)+1)),\"\")","v":""},{"$f":"IFERROR(INDEX(Отделения[отделение],SMALL(IF(Отделения[Город]=$AL$1,ROW(Отделения[Город])-1),ROW(AB8)-ROW($A$2)+1)),\"\")","v":""},{"$f":"IFERROR(INDEX(Отделения[отделение],SMALL(IF(Отделения[Город]=$AM$1,ROW(Отделения[Город])-1),ROW(AB8)-ROW($A$2)+1)),\"\")","v":""},{"$f":"IFERROR(INDEX(Отделения[отделение],SMALL(IF(Отделения[Город]=$AN$1,ROW(Отделения[Город])-1),ROW(AB8)-ROW($A$2)+1)),\"\")","v":""},{"$f":"IFERROR(INDEX(Отделения[отделение],SMALL(IF(Отделения[Город]=$AO$1,ROW(Отделения[Город])-1),ROW(AB8)-ROW($A$2)+1)),\"\")","v":""},{"$f":"IFERROR(INDEX(Отделения[отделение],SMALL(IF(Отделения[Город]=$AP$1,ROW(Отделения[Город])-1),ROW(AB8)-ROW($A$2)+1)),\"\")","v":""},{"$f":"IFERROR(INDEX(Отделения[отделение],SMALL(IF(Отделения[Город]=$AQ$1,ROW(Отделения[Город])-1),ROW(AB8)-ROW($A$2)+1)),\"\")","v":""},{"$f":"IFERROR(INDEX(Отделения[отделение],SMALL(IF(Отделения[Город]=$AR$1,ROW(Отделения[Город])-1),ROW(AB8)-ROW($A$2)+1)),\"\")","v":""},{"$f":"IFERROR(INDEX(Отделения[отделение],SMALL(IF(Отделения[Город]=$AS$1,ROW(Отделения[Город])-1),ROW(AB8)-ROW($A$2)+1)),\"\")","v":""},{"$f":"IFERROR(INDEX(Отделения[отделение],SMALL(IF(Отделения[Город]=$AT$1,ROW(Отделения[Город])-1),ROW(AB8)-ROW($A$2)+1)),\"\")","v":""},{"$f":"IFERROR(INDEX(Отделения[отделение],SMALL(IF(Отделения[Город]=$AU$1,ROW(Отделения[Город])-1),ROW(AB8)-ROW($A$2)+1)),\"\")","v":""},{"$f":"IFERROR(INDEX(Отделения[отделение],SMALL(IF(Отделения[Город]=$AV$1,ROW(Отделения[Город])-1),ROW(AB8)-ROW($A$2)+1)),\"\")","v":""},{"$f":"IFERROR(INDEX(Отделения[отделение],SMALL(IF(Отделения[Город]=$AW$1,ROW(Отделения[Город])-1),ROW(AB8)-ROW($A$2)+1)),\"\")","v":""},{"$f":"IFERROR(INDEX(Отделения[отделение],SMALL(IF(Отделения[Город]=$AX$1,ROW(Отделения[Город])-1),ROW(AB8)-ROW($A$2)+1)),\"\")","v":""},{"$f":"IFERROR(INDEX(Отделения[отделение],SMALL(IF(Отделения[Город]=$AY$1,ROW(Отделения[Город])-1),ROW(AB8)-ROW($A$2)+1)),\"\")","v":""},{"$f":"IFERROR(INDEX(Отделения[отделение],SMALL(IF(Отделения[Город]=$AZ$1,ROW(Отделения[Город])-1),ROW(AB8)-ROW($A$2)+1)),\"\")","v":""},{"$f":"IFERROR(INDEX(Отделения[отделение],SMALL(IF(Отделения[Город]=$BA$1,ROW(Отделения[Город])-1),ROW(AB8)-ROW($A$2)+1)),\"\")","v":""},{"$f":"IFERROR(INDEX(Отделения[отделение],SMALL(IF(Отделения[Город]=$BB$1,ROW(Отделения[Город])-1),ROW(AB8)-ROW($A$2)+1)),\"\")","v":""},{"$f":"IFERROR(INDEX(Отделения[отделение],SMALL(IF(Отделения[Город]=$BC$1,ROW(Отделения[Город])-1),ROW(AC8)-ROW($A$2)+1)),\"\")","v":""},{"$f":"IFERROR(INDEX(Отделения[отделение],SMALL(IF(Отделения[Город]=$BD$1,ROW(Отделения[Город])-1),ROW(AD8)-ROW($A$2)+1)),\"\")","v":""},{"$f":"IFERROR(INDEX(Отделения[отделение],SMALL(IF(Отделения[Город]=$BE$1,ROW(Отделения[Город])-1),ROW(AE8)-ROW($A$2)+1)),\"\")","v":""},{"$f":"IFERROR(INDEX(Отделения[отделение],SMALL(IF(Отделения[Город]=$BF$1,ROW(Отделения[Город])-1),ROW(AF8)-ROW($A$2)+1)),\"\")","v":""},{"$f":"IFERROR(INDEX(Отделения[отделение],SMALL(IF(Отделения[Город]=$BG$1,ROW(Отделения[Город])-1),ROW(AG8)-ROW($A$2)+1)),\"\")","v":""},{"$f":"IFERROR(INDEX(Отделения[отделение],SMALL(IF(Отделения[Город]=$BH$1,ROW(Отделения[Город])-1),ROW(AH8)-ROW($A$2)+1)),\"\")","v":""},{"$f":"IFERROR(INDEX(Отделения[отделение],SMALL(IF(Отделения[Город]=$BI$1,ROW(Отделения[Город])-1),ROW(AI8)-ROW($A$2)+1)),\"\")","v":""},{"$f":"IFERROR(INDEX(Отделения[отделение],SMALL(IF(Отделения[Город]=$BJ$1,ROW(Отделения[Город])-1),ROW(AJ8)-ROW($A$2)+1)),\"\")","v":""},{"$f":"IFERROR(INDEX(Отделения[отделение],SMALL(IF(Отделения[Город]=$BK$1,ROW(Отделения[Город])-1),ROW(AK8)-ROW($A$2)+1)),\"\")","v":""},{"$f":"IFERROR(INDEX(Отделения[отделение],SMALL(IF(Отделения[Город]=$BL$1,ROW(Отделения[Город])-1),ROW(AL8)-ROW($A$2)+1)),\"\")","v":""},{"$f":"IFERROR(INDEX(Отделения[отделение],SMALL(IF(Отделения[Город]=$BM$1,ROW(Отделения[Город])-1),ROW(AM8)-ROW($A$2)+1)),\"\")","v":""},{"$f":"IFERROR(INDEX(Отделения[отделение],SMALL(IF(Отделения[Город]=$BN$1,ROW(Отделения[Город])-1),ROW(AN8)-ROW($A$2)+1)),\"\")","v":""},{"$f":"IFERROR(INDEX(Отделения[отделение],SMALL(IF(Отделения[Город]=$BO$1,ROW(Отделения[Город])-1),ROW(AO8)-ROW($A$2)+1)),\"\")","v":""},{"$f":"IFERROR(INDEX(Отделения[отделение],SMALL(IF(Отделения[Город]=$BP$1,ROW(Отделения[Город])-1),ROW(AP8)-ROW($A$2)+1)),\"\")","v":""},{"$f":"IFERROR(INDEX(Отделения[отделение],SMALL(IF(Отделения[Город]=$BQ$1,ROW(Отделения[Город])-1),ROW(AQ8)-ROW($A$2)+1)),\"\")","v":""},{"$f":"IFERROR(INDEX(Отделения[отделение],SMALL(IF(Отделения[Город]=$BR$1,ROW(Отделения[Город])-1),ROW(AR8)-ROW($A$2)+1)),\"\")","v":""},{"$f":"IFERROR(INDEX(Отделения[отделение],SMALL(IF(Отделения[Город]=$BS$1,ROW(Отделения[Город])-1),ROW(AS8)-ROW($A$2)+1)),\"\")","v":""},{"$f":"IFERROR(INDEX(Отделения[отделение],SMALL(IF(Отделения[Город]=$BT$1,ROW(Отделения[Город])-1),ROW(AT8)-ROW($A$2)+1)),\"\")","v":""},{"$f":"IFERROR(INDEX(Отделения[отделение],SMALL(IF(Отделения[Город]=$BU$1,ROW(Отделения[Город])-1),ROW(AU8)-ROW($A$2)+1)),\"\")","v":""},{"$f":"IFERROR(INDEX(Отделения[отделение],SMALL(IF(Отделения[Город]=$BV$1,ROW(Отделения[Город])-1),ROW(AV8)-ROW($A$2)+1)),\"\")","v":""},{"$f":"IFERROR(INDEX(Отделения[отделение],SMALL(IF(Отделения[Город]=$BW$1,ROW(Отделения[Город])-1),ROW(AV8)-ROW($A$2)+1)),\"\")","v":""},{"$f":"IFERROR(INDEX(Отделения[отделение],SMALL(IF(Отделения[Город]=$BX$1,ROW(Отделения[Город])-1),ROW(AV8)-ROW($A$2)+1)),\"\")","v":""},{"$f":"IFERROR(INDEX(Отделения[отделение],SMALL(IF(Отделения[Город]=$BY$1,ROW(Отделения[Город])-1),ROW(AV8)-ROW($A$2)+1)),\"\")","v":""},{"$f":"IFERROR(INDEX(Отделения[отделение],SMALL(IF(Отделения[Город]=$BZ$1,ROW(Отделения[Город])-1),ROW(AV8)-ROW($A$2)+1)),\"\")","v":""},{"$f":"IFERROR(INDEX(Отделения[отделение],SMALL(IF(Отделения[Город]=$CA$1,ROW(Отделения[Город])-1),ROW(AV8)-ROW($A$2)+1)),\"\")","v":""},{"$f":"IFERROR(INDEX(Отделения[отделение],SMALL(IF(Отделения[Город]=$CB$1,ROW(Отделения[Город])-1),ROW(AV8)-ROW($A$2)+1)),\"\")","v":""},{"$f":"IFERROR(INDEX(Отделения[отделение],SMALL(IF(Отделения[Город]=$CC$1,ROW(Отделения[Город])-1),ROW(AV8)-ROW($A$2)+1)),\"\")","v":""},{"$f":"IFERROR(INDEX(Отделения[отделение],SMALL(IF(Отделения[Город]=$CD$1,ROW(Отделения[Город])-1),ROW(AV8)-ROW($A$2)+1)),\"\")","v":""},{"$f":"IFERROR(INDEX(Отделения[отделение],SMALL(IF(Отделения[Город]=$CE$1,ROW(Отделения[Город])-1),ROW(AV8)-ROW($A$2)+1)),\"\")","v":""},{"$f":"IFERROR(INDEX(Отделения[отделение],SMALL(IF(Отделения[Город]=$CF$1,ROW(Отделения[Город])-1),ROW(AV8)-ROW($A$2)+1)),\"\")","v":""},{"$f":"IFERROR(INDEX(Отделения[отделение],SMALL(IF(Отделения[Город]=$CG$1,ROW(Отделения[Город])-1),ROW(AV8)-ROW($A$2)+1)),\"\")","v":""},{"$f":"IFERROR(INDEX(Отделения[отделение],SMALL(IF(Отделения[Город]=$CH$1,ROW(Отделения[Город])-1),ROW(AW8)-ROW($A$2)+1)),\"\")","v":""},{"$f":"IFERROR(INDEX(Отделения[отделение],SMALL(IF(Отделения[Город]=$CI$1,ROW(Отделения[Город])-1),ROW(AX8)-ROW($A$2)+1)),\"\")","v":""},{"$f":"IFERROR(INDEX(Отделения[отделение],SMALL(IF(Отделения[Город]=$CJ$1,ROW(Отделения[Город])-1),ROW(AY8)-ROW($A$2)+1)),\"\")","v":""},{"$f":"IFERROR(INDEX(Отделения[отделение],SMALL(IF(Отделения[Город]=$CK$1,ROW(Отделения[Город])-1),ROW(AZ8)-ROW($A$2)+1)),\"\")","v":""},{"$f":"IFERROR(INDEX(Отделения[отделение],SMALL(IF(Отделения[Город]=$CL$1,ROW(Отделения[Город])-1),ROW(BA8)-ROW($A$2)+1)),\"\")","v":""},{"$f":"IFERROR(INDEX(Отделения[отделение],SMALL(IF(Отделения[Город]=$CM$1,ROW(Отделения[Город])-1),ROW(BB8)-ROW($A$2)+1)),\"\")","v":""},{"$f":"IFERROR(INDEX(Отделения[отделение],SMALL(IF(Отделения[Город]=$CN$1,ROW(Отделения[Город])-1),ROW(BC8)-ROW($A$2)+1)),\"\")","v":""},{"$f":"IFERROR(INDEX(Отделения[отделение],SMALL(IF(Отделения[Город]=$CO$1,ROW(Отделения[Город])-1),ROW(BD8)-ROW($A$2)+1)),\"\")","v":""},{"$f":"IFERROR(INDEX(Отделения[отделение],SMALL(IF(Отделения[Город]=$CP$1,ROW(Отделения[Город])-1),ROW(BE8)-ROW($A$2)+1)),\"\")","v":""},{"$f":"IFERROR(INDEX(Отделения[отделение],SMALL(IF(Отделения[Город]=$CQ$1,ROW(Отделения[Город])-1),ROW(BF8)-ROW($A$2)+1)),\"\")","v":""},{"$f":"IFERROR(INDEX(Отделения[отделение],SMALL(IF(Отделения[Город]=$CR$1,ROW(Отделения[Город])-1),ROW(BG8)-ROW($A$2)+1)),\"\")","v":""},{"$f":"IFERROR(INDEX(Отделения[отделение],SMALL(IF(Отделения[Город]=$CS$1,ROW(Отделения[Город])-1),ROW(BH8)-ROW($A$2)+1)),\"\")","v":""},{"$f":"IFERROR(INDEX(Отделения[отделение],SMALL(IF(Отделения[Город]=$CT$1,ROW(Отделения[Город])-1),ROW(BI8)-ROW($A$2)+1)),\"\")","v":""},{"$f":"IFERROR(INDEX(Отделения[отделение],SMALL(IF(Отделения[Город]=$CU$1,ROW(Отделения[Город])-1),ROW(BJ8)-ROW($A$2)+1)),\"\")","v":""},{"$f":"IFERROR(INDEX(Отделения[отделение],SMALL(IF(Отделения[Город]=$CV$1,ROW(Отделения[Город])-1),ROW(BK8)-ROW($A$2)+1)),\"\")","v":""},{"$f":"IFERROR(INDEX(Отделения[отделение],SMALL(IF(Отделения[Город]=$CW$1,ROW(Отделения[Город])-1),ROW(BL8)-ROW($A$2)+1)),\"\")","v":""},{"$f":"IFERROR(INDEX(Отделения[отделение],SMALL(IF(Отделения[Город]=$CX$1,ROW(Отделения[Город])-1),ROW(BM8)-ROW($A$2)+1)),\"\")","v":""},{"$f":"IFERROR(INDEX(Отделения[отделение],SMALL(IF(Отделения[Город]=$CY$1,ROW(Отделения[Город])-1),ROW(BM8)-ROW($A$2)+1)),\"\")","v":""},{"$f":"IFERROR(INDEX(Отделения[отделение],SMALL(IF(Отделения[Город]=$CZ$1,ROW(Отделения[Город])-1),ROW(BM8)-ROW($A$2)+1)),\"\")","v":""},{"$f":"IFERROR(INDEX(Отделения[отделение],SMALL(IF(Отделения[Город]=$DA$1,ROW(Отделения[Город])-1),ROW(BM8)-ROW($A$2)+1)),\"\")","v":""},{"$f":"IFERROR(INDEX(Отделения[отделение],SMALL(IF(Отделения[Город]=$DB$1,ROW(Отделения[Город])-1),ROW(BM8)-ROW($A$2)+1)),\"\")","v":""}]
["Москва","ДО \"МЕНДЕЛЕЕВСКИЙ\" , 127030, г. Москва, ул. Новослободская, д. 23","0420","MONV",null,null,{"$f":"IFERROR(INDEX(Отделения[отделение],SMALL(IF(Отделения[Город]=$G$1,ROW(Отделения[Город])-1),ROW(A9)-ROW($A$2)+1)),\"\")","v":""},{"$f":"IFERROR(INDEX(Отделения[отделение],SMALL(IF(Отделения[Город]=$H$1,ROW(Отделения[Город])-1),ROW(A9)-ROW($A$2)+1)),\"\")","v":""},{"$f":"IFERROR(INDEX(Отделения[отделение],SMALL(IF(Отделения[Город]=$I$1,ROW(Отделения[Город])-1),ROW(A9)-ROW($A$2)+1)),\"\")","v":""},{"$f":"IFERROR(INDEX(Отделения[отделение],SMALL(IF(Отделения[Город]=$J$1,ROW(Отделения[Город])-1),ROW(A9)-ROW($A$2)+1)),\"\")","v":""},{"$f":"IFERROR(INDEX(Отделения[отделение],SMALL(IF(Отделения[Город]=$K$1,ROW(Отделения[Город])-1),ROW(A9)-ROW($A$2)+1)),\"\")","v":""},{"$f":"IFERROR(INDEX(Отделения[отделение],SMALL(IF(Отделения[Город]=$L$1,ROW(Отделения[Город])-1),ROW(A9)-ROW($A$2)+1)),\"\")","v":""},{"$f":"IFERROR(INDEX(Отделения[отделение],SMALL(IF(Отделения[Город]=$M$1,ROW(Отделения[Город])-1),ROW(B9)-ROW($A$2)+1)),\"\")","v":""},{"$f":"IFERROR(INDEX(Отделения[отделение],SMALL(IF(Отделения[Город]=$N$1,ROW(Отделения[Город])-1),ROW(#REF!)-ROW($A$2)+1)),\"\")","v":""},{"$f":"IFERROR(INDEX(Отделения[отделение],SMALL(IF(Отделения[Город]=$O$1,ROW(Отделения[Город])-1),ROW(C9)-ROW($A$2)+1)),\"\")","v":""},{"$f":"IFERROR(INDEX(Отделения[отделение],SMALL(IF(Отделения[Город]=$P$1,ROW(Отделения[Город])-1),ROW(D9)-ROW($A$2)+1)),\"\")","v":""},{"$f":"IFERROR(INDEX(Отделения[отделение],SMALL(IF(Отделения[Город]=$Q$1,ROW(Отделения[Город])-1),ROW(F9)-ROW($A$2)+1)),\"\")","v":""},{"$f":"IFERROR(INDEX(Отделения[отделение],SMALL(IF(Отделения[Город]=$R$1,ROW(Отделения[Город])-1),ROW(#REF!)-ROW($A$2)+1)),\"\")","v":""},{"$f":"IFERROR(INDEX(Отделения[отделение],SMALL(IF(Отделения[Город]=$S$1,ROW(Отделения[Город])-1),ROW(G9)-ROW($A$2)+1)),\"\")","v":""},{"$f":"IFERROR(INDEX(Отделения[отделение],SMALL(IF(Отделения[Город]=$T$1,ROW(Отделения[Город])-1),ROW(H9)-ROW($A$2)+1)),\"\")","v":""},{"$f":"IFERROR(INDEX(Отделения[отделение],SMALL(IF(Отделения[Город]=$U$1,ROW(Отделения[Город])-1),ROW(I9)-ROW($A$2)+1)),\"\")","v":""},{"$f":"IFERROR(INDEX(Отделения[отделение],SMALL(IF(Отделения[Город]=$V$1,ROW(Отделения[Город])-1),ROW(J9)-ROW($A$2)+1)),\"\")","v":""},{"$f":"IFERROR(INDEX(Отделения[отделение],SMALL(IF(Отделения[Город]=$W$1,ROW(Отделения[Город])-1),ROW(K9)-ROW($A$2)+1)),\"\")","v":""},{"$f":"IFERROR(INDEX(Отделения[отделение],SMALL(IF(Отделения[Город]=$X$1,ROW(Отделения[Город])-1),ROW(L9)-ROW($A$2)+1)),\"\")","v":""},{"$f":"IFERROR(INDEX(Отделения[отделение],SMALL(IF(Отделения[Город]=$Y$1,ROW(Отделения[Город])-1),ROW(M9)-ROW($A$2)+1)),\"\")","v":""},{"$f":"IFERROR(INDEX(Отделения[отделение],SMALL(IF(Отделения[Город]=$Z$1,ROW(Отделения[Город])-1),ROW(N9)-ROW($A$2)+1)),\"\")","v":""},{"$f":"IFERROR(INDEX(Отделения[отделение],SMALL(IF(Отделения[Город]=$AA$1,ROW(Отделения[Город])-1),ROW(O9)-ROW($A$2)+1)),\"\")","v":""},{"$f":"IFERROR(INDEX(Отделения[отделение],SMALL(IF(Отделения[Город]=$AB$1,ROW(Отделения[Город])-1),ROW(P9)-ROW($A$2)+1)),\"\")","v":""},{"$f":"IFERROR(INDEX(Отделения[отделение],SMALL(IF(Отделения[Город]=$AC$1,ROW(Отделения[Город])-1),ROW(Q9)-ROW($A$2)+1)),\"\")","v":""},{"$f":"IFERROR(INDEX(Отделения[отделение],SMALL(IF(Отделения[Город]=$AD$1,ROW(Отделения[Город])-1),ROW(R9)-ROW($A$2)+1)),\"\")","v":""},{"$f":"IFERROR(INDEX(Отделения[отделение],SMALL(IF(Отделения[Город]=$AE$1,ROW(Отделения[Город])-1),ROW(S9)-ROW($A$2)+1)),\"\")","v":""},{"$f":"IFERROR(INDEX(Отделения[отделение],SMALL(IF(Отделения[Город]=$AF$1,ROW(Отделения[Город])-1),ROW(T9)-ROW($A$2)+1)),\"\")","v":""},{"$f":"IFERROR(INDEX(Отделения[отделение],SMALL(IF(Отделения[Город]=$AG$1,ROW(Отделения[Город])-1),ROW(U9)-ROW($A$2)+1)),\"\")","v":""},{"$f":"IFERROR(INDEX(Отделения[отделение],SMALL(IF(Отделения[Город]=$AH$1,ROW(Отделения[Город])-1),ROW(V9)-ROW($A$2)+1)),\"\")","v":""},{"$f":"IFERROR(INDEX(Отделения[отделение],SMALL(IF(Отделения[Город]=$AI$1,ROW(Отделения[Город])-1),ROW(AB9)-ROW($A$2)+1)),\"\")","v":""},{"$f":"IFERROR(INDEX(Отделения[отделение],SMALL(IF(Отделения[Город]=$AJ$1,ROW(Отделения[Город])-1),ROW(AB9)-ROW($A$2)+1)),\"\")","v":""},{"$f":"IFERROR(INDEX(Отделения[отделение],SMALL(IF(Отделения[Город]=$AK$1,ROW(Отделения[Город])-1),ROW(AB9)-ROW($A$2)+1)),\"\")","v":""},{"$f":"IFERROR(INDEX(Отделения[отделение],SMALL(IF(Отделения[Город]=$AL$1,ROW(Отделения[Город])-1),ROW(AB9)-ROW($A$2)+1)),\"\")","v":""},{"$f":"IFERROR(INDEX(Отделения[отделение],SMALL(IF(Отделения[Город]=$AM$1,ROW(Отделения[Город])-1),ROW(AB9)-ROW($A$2)+1)),\"\")","v":""},{"$f":"IFERROR(INDEX(Отделения[отделение],SMALL(IF(Отделения[Город]=$AN$1,ROW(Отделения[Город])-1),ROW(AB9)-ROW($A$2)+1)),\"\")","v":""},{"$f":"IFERROR(INDEX(Отделения[отделение],SMALL(IF(Отделения[Город]=$AO$1,ROW(Отделения[Город])-1),ROW(AB9)-ROW($A$2)+1)),\"\")","v":""},{"$f":"IFERROR(INDEX(Отделения[отделение],SMALL(IF(Отделения[Город]=$AP$1,ROW(Отделения[Город])-1),ROW(AB9)-ROW($A$2)+1)),\"\")","v":""},{"$f":"IFERROR(INDEX(Отделения[отделение],SMALL(IF(Отделения[Город]=$AQ$1,ROW(Отделения[Город])-1),ROW(AB9)-ROW($A$2)+1)),\"\")","v":""},{"$f":"IFERROR(INDEX(Отделения[отделение],SMALL(IF(Отделения[Город]=$AR$1,ROW(Отделения[Город])-1),ROW(AB9)-ROW($A$2)+1)),\"\")","v":""},{"$f":"IFERROR(INDEX(Отделения[отделение],SMALL(IF(Отделения[Город]=$AS$1,ROW(Отделения[Город])-1),ROW(AB9)-ROW($A$2)+1)),\"\")","v":""},{"$f":"IFERROR(INDEX(Отделения[отделение],SMALL(IF(Отделения[Город]=$AT$1,ROW(Отделения[Город])-1),ROW(AB9)-ROW($A$2)+1)),\"\")","v":""},{"$f":"IFERROR(INDEX(Отделения[отделение],SMALL(IF(Отделения[Город]=$AU$1,ROW(Отделения[Город])-1),ROW(AB9)-ROW($A$2)+1)),\"\")","v":""},{"$f":"IFERROR(INDEX(Отделения[отделение],SMALL(IF(Отделения[Город]=$AV$1,ROW(Отделения[Город])-1),ROW(AB9)-ROW($A$2)+1)),\"\")","v":""},{"$f":"IFERROR(INDEX(Отделения[отделение],SMALL(IF(Отделения[Город]=$AW$1,ROW(Отделения[Город])-1),ROW(AB9)-ROW($A$2)+1)),\"\")","v":""},{"$f":"IFERROR(INDEX(Отделения[отделение],SMALL(IF(Отделения[Город]=$AX$1,ROW(Отделения[Город])-1),ROW(AB9)-ROW($A$2)+1)),\"\")","v":""},{"$f":"IFERROR(INDEX(Отделения[отделение],SMALL(IF(Отделения[Город]=$AY$1,ROW(Отделения[Город])-1),ROW(AB9)-ROW($A$2)+1)),\"\")","v":""},{"$f":"IFERROR(INDEX(Отделения[отделение],SMALL(IF(Отделения[Город]=$AZ$1,ROW(Отделения[Город])-1),ROW(AB9)-ROW($A$2)+1)),\"\")","v":""},{"$f":"IFERROR(INDEX(Отделения[отделение],SMALL(IF(Отделения[Город]=$BA$1,ROW(Отделения[Город])-1),ROW(AB9)-ROW($A$2)+1)),\"\")","v":""},{"$f":"IFERROR(INDEX(Отделения[отделение],SMALL(IF(Отделения[Город]=$BB$1,ROW(Отделения[Город])-1),ROW(AB9)-ROW($A$2)+1)),\"\")","v":""},{"$f":"IFERROR(INDEX(Отделения[отделение],SMALL(IF(Отделения[Город]=$BC$1,ROW(Отделения[Город])-1),ROW(AC9)-ROW($A$2)+1)),\"\")","v":""},{"$f":"IFERROR(INDEX(Отделения[отделение],SMALL(IF(Отделения[Город]=$BD$1,ROW(Отделения[Город])-1),ROW(AD9)-ROW($A$2)+1)),\"\")","v":""},{"$f":"IFERROR(INDEX(Отделения[отделение],SMALL(IF(Отделения[Город]=$BE$1,ROW(Отделения[Город])-1),ROW(AE9)-ROW($A$2)+1)),\"\")","v":""},{"$f":"IFERROR(INDEX(Отделения[отделение],SMALL(IF(Отделения[Город]=$BF$1,ROW(Отделения[Город])-1),ROW(AF9)-ROW($A$2)+1)),\"\")","v":""},{"$f":"IFERROR(INDEX(Отделения[отделение],SMALL(IF(Отделения[Город]=$BG$1,ROW(Отделения[Город])-1),ROW(AG9)-ROW($A$2)+1)),\"\")","v":""},{"$f":"IFERROR(INDEX(Отделения[отделение],SMALL(IF(Отделения[Город]=$BH$1,ROW(Отделения[Город])-1),ROW(AH9)-ROW($A$2)+1)),\"\")","v":""},{"$f":"IFERROR(INDEX(Отделения[отделение],SMALL(IF(Отделения[Город]=$BI$1,ROW(Отделения[Город])-1),ROW(AI9)-ROW($A$2)+1)),\"\")","v":""},{"$f":"IFERROR(INDEX(Отделения[отделение],SMALL(IF(Отделения[Город]=$BJ$1,ROW(Отделения[Город])-1),ROW(AJ9)-ROW($A$2)+1)),\"\")","v":""},{"$f":"IFERROR(INDEX(Отделения[отделение],SMALL(IF(Отделения[Город]=$BK$1,ROW(Отделения[Город])-1),ROW(AK9)-ROW($A$2)+1)),\"\")","v":""},{"$f":"IFERROR(INDEX(Отделения[отделение],SMALL(IF(Отделения[Город]=$BL$1,ROW(Отделения[Город])-1),ROW(AL9)-ROW($A$2)+1)),\"\")","v":""},{"$f":"IFERROR(INDEX(Отделения[отделение],SMALL(IF(Отделения[Город]=$BM$1,ROW(Отделения[Город])-1),ROW(AM9)-ROW($A$2)+1)),\"\")","v":""},{"$f":"IFERROR(INDEX(Отделения[отделение],SMALL(IF(Отделения[Город]=$BN$1,ROW(Отделения[Город])-1),ROW(AN9)-ROW($A$2)+1)),\"\")","v":""},{"$f":"IFERROR(INDEX(Отделения[отделение],SMALL(IF(Отделения[Город]=$BO$1,ROW(Отделения[Город])-1),ROW(AO9)-ROW($A$2)+1)),\"\")","v":""},{"$f":"IFERROR(INDEX(Отделения[отделение],SMALL(IF(Отделения[Город]=$BP$1,ROW(Отделения[Город])-1),ROW(AP9)-ROW($A$2)+1)),\"\")","v":""},{"$f":"IFERROR(INDEX(Отделения[отделение],SMALL(IF(Отделения[Город]=$BQ$1,ROW(Отделения[Город])-1),ROW(AQ9)-ROW($A$2)+1)),\"\")","v":""},{"$f":"IFERROR(INDEX(Отделения[отделение],SMALL(IF(Отделения[Город]=$BR$1,ROW(Отделения[Город])-1),ROW(AR9)-ROW($A$2)+1)),\"\")","v":""},{"$f":"IFERROR(INDEX(Отделения[отделение],SMALL(IF(Отделения[Город]=$BS$1,ROW(Отделения[Город])-1),ROW(AS9)-ROW($A$2)+1)),\"\")","v":""},{"$f":"IFERROR(INDEX(Отделения[отделение],SMALL(IF(Отделения[Город]=$BT$1,ROW(Отделения[Город])-1),ROW(AT9)-ROW($A$2)+1)),\"\")","v":""},{"$f":"IFERROR(INDEX(Отделения[отделение],SMALL(IF(Отделения[Город]=$BU$1,ROW(Отделения[Город])-1),ROW(AU9)-ROW($A$2)+1)),\"\")","v":""},{"$f":"IFERROR(INDEX(Отделения[отделение],SMALL(IF(Отделения[Город]=$BV$1,ROW(Отделения[Город])-1),ROW(AV9)-ROW($A$2)+1)),\"\")","v":""},{"$f":"IFERROR(INDEX(Отделения[отделение],SMALL(IF(Отделения[Город]=$BW$1,ROW(Отделения[Город])-1),ROW(AV9)-ROW($A$2)+1)),\"\")","v":""},{"$f":"IFERROR(INDEX(Отделения[отделение],SMALL(IF(Отделения[Город]=$BX$1,ROW(Отделения[Город])-1),ROW(AV9)-ROW($A$2)+1)),\"\")","v":""},{"$f":"IFERROR(INDEX(Отделения[отделение],SMALL(IF(Отделения[Город]=$BY$1,ROW(Отделения[Город])-1),ROW(AV9)-ROW($A$2)+1)),\"\")","v":""},{"$f":"IFERROR(INDEX(Отделения[отделение],SMALL(IF(Отделения[Город]=$BZ$1,ROW(Отделения[Город])-1),ROW(AV9)-ROW($A$2)+1)),\"\")","v":""},{"$f":"IFERROR(INDEX(Отделения[отделение],SMALL(IF(Отделения[Город]=$CA$1,ROW(Отделения[Город])-1),ROW(AV9)-ROW($A$2)+1)),\"\")","v":""},{"$f":"IFERROR(INDEX(Отделения[отделение],SMALL(IF(Отделения[Город]=$CB$1,ROW(Отделения[Город])-1),ROW(AV9)-ROW($A$2)+1)),\"\")","v":""},{"$f":"IFERROR(INDEX(Отделения[отделение],SMALL(IF(Отделения[Город]=$CC$1,ROW(Отделения[Город])-1),ROW(AV9)-ROW($A$2)+1)),\"\")","v":""},{"$f":"IFERROR(INDEX(Отделения[отделение],SMALL(IF(Отделения[Город]=$CD$1,ROW(Отделения[Город])-1),ROW(AV9)-ROW($A$2)+1)),\"\")","v":""},{"$f":"IFERROR(INDEX(Отделения[отделение],SMALL(IF(Отделения[Город]=$CE$1,ROW(Отделения[Город])-1),ROW(AV9)-ROW($A$2)+1)),\"\")","v":""},{"$f":"IFERROR(INDEX(Отделения[отделение],SMALL(IF(Отделения[Город]=$CF$1,ROW(Отделения[Город])-1),ROW(AV9)-ROW($A$2)+1)),\"\")","v":""},{"$f":"IFERROR(INDEX(Отделения[отделение],SMALL(IF(Отделения[Город]=$CG$1,ROW(Отделения[Город])-1),ROW(AV9)-ROW($A$2)+1)),\"\")","v":""},{"$f":"IFERROR(INDEX(Отделения[отделение],SMALL(IF(Отделения[Город]=$CH$1,ROW(Отделения[Город])-1),ROW(AW9)-ROW($A$2)+1)),\"\")","v":""},{"$f":"IFERROR(INDEX(Отделения[отделение],SMALL(IF(Отделения[Город]=$CI$1,ROW(Отделения[Город])-1),ROW(AX9)-ROW($A$2)+1)),\"\")","v":""},{"$f":"IFERROR(INDEX(Отделения[отделение],SMALL(IF(Отделения[Город]=$CJ$1,ROW(Отделения[Город])-1),ROW(AY9)-ROW($A$2)+1)),\"\")","v":""},{"$f":"IFERROR(INDEX(Отделения[отделение],SMALL(IF(Отделения[Город]=$CK$1,ROW(Отделения[Город])-1),ROW(AZ9)-ROW($A$2)+1)),\"\")","v":""},{"$f":"IFERROR(INDEX(Отделения[отделение],SMALL(IF(Отделения[Город]=$CL$1,ROW(Отделения[Город])-1),ROW(BA9)-ROW($A$2)+1)),\"\")","v":""},{"$f":"IFERROR(INDEX(Отделения[отделение],SMALL(IF(Отделения[Город]=$CM$1,ROW(Отделения[Город])-1),ROW(BB9)-ROW($A$2)+1)),\"\")","v":""},{"$f":"IFERROR(INDEX(Отделения[отделение],SMALL(IF(Отделения[Город]=$CN$1,ROW(Отделения[Город])-1),ROW(BC9)-ROW($A$2)+1)),\"\")","v":""},{"$f":"IFERROR(INDEX(Отделения[отделение],SMALL(IF(Отделения[Город]=$CO$1,ROW(Отделения[Город])-1),ROW(BD9)-ROW($A$2)+1)),\"\")","v":""},{"$f":"IFERROR(INDEX(Отделения[отделение],SMALL(IF(Отделения[Город]=$CP$1,ROW(Отделения[Город])-1),ROW(BE9)-ROW($A$2)+1)),\"\")","v":""},{"$f":"IFERROR(INDEX(Отделения[отделение],SMALL(IF(Отделения[Город]=$CQ$1,ROW(Отделения[Город])-1),ROW(BF9)-ROW($A$2)+1)),\"\")","v":""},{"$f":"IFERROR(INDEX(Отделения[отделение],SMALL(IF(Отделения[Город]=$CR$1,ROW(Отделения[Город])-1),ROW(BG9)-ROW($A$2)+1)),\"\")","v":""},{"$f":"IFERROR(INDEX(Отделения[отделение],SMALL(IF(Отделения[Город]=$CS$1,ROW(Отделения[Город])-1),ROW(BH9)-ROW($A$2)+1)),\"\")","v":""},{"$f":"IFERROR(INDEX(Отделения[отделение],SMALL(IF(Отделения[Город]=$CT$1,ROW(Отделения[Город])-1),ROW(BI9)-ROW($A$2)+1)),\"\")","v":""},{"$f":"IFERROR(INDEX(Отделения[отделение],SMALL(IF(Отделения[Город]=$CU$1,ROW(Отделения[Город])-1),ROW(BJ9)-ROW($A$2)+1)),\"\")","v":""},{"$f":"IFERROR(INDEX(Отделения[отделение],SMALL(IF(Отделения[Город]=$CV$1,ROW(Отделения[Город])-1),ROW(BK9)-ROW($A$2)+1)),\"\")","v":""},{"$f":"IFERROR(INDEX(Отделения[отделение],SMALL(IF(Отделения[Город]=$CW$1,ROW(Отделения[Город])-1),ROW(BL9)-ROW($A$2)+1)),\"\")","v":""},{"$f":"IFERROR(INDEX(Отделения[отделение],SMALL(IF(Отделения[Город]=$CX$1,ROW(Отделения[Город])-1),ROW(BM9)-ROW($A$2)+1)),\"\")","v":""},{"$f":"IFERROR(INDEX(Отделения[отделение],SMALL(IF(Отделения[Город]=$CY$1,ROW(Отделения[Город])-1),ROW(BM9)-ROW($A$2)+1)),\"\")","v":""},{"$f":"IFERROR(INDEX(Отделения[отделение],SMALL(IF(Отделения[Город]=$CZ$1,ROW(Отделения[Город])-1),ROW(BM9)-ROW($A$2)+1)),\"\")","v":""},{"$f":"IFERROR(INDEX(Отделения[отделение],SMALL(IF(Отделения[Город]=$DA$1,ROW(Отделения[Город])-1),ROW(BM9)-ROW($A$2)+1)),\"\")","v":""},{"$f":"IFERROR(INDEX(Отделения[отделение],SMALL(IF(Отделения[Город]=$DB$1,ROW(Отделения[Город])-1),ROW(BM9)-ROW($A$2)+1)),\"\")","v":""}]
["Москва","ДО \"АРБАТСКИЙ\" , 119019, Москва, ул. Арбат, д. 4,стр. 1","0422","MOAB",null,null,{"$f":"IFERROR(INDEX(Отделения[отделение],SMALL(IF(Отделения[Город]=$G$1,ROW(Отделения[Город])-1),ROW(A10)-ROW($A$2)+1)),\"\")","v":""},{"$f":"IFERROR(INDEX(Отделения[отделение],SMALL(IF(Отделения[Город]=$H$1,ROW(Отделения[Город])-1),ROW(A10)-ROW($A$2)+1)),\"\")","v":""},{"$f":"IFERROR(INDEX(Отделения[отделение],SMALL(IF(Отделения[Город]=$I$1,ROW(Отделения[Город])-1),ROW(A10)-ROW($A$2)+1)),\"\")","v":""},{"$f":"IFERROR(INDEX(Отделения[отделение],SMALL(IF(Отделения[Город]=$J$1,ROW(Отделения[Город])-1),ROW(A10)-ROW($A$2)+1)),\"\")","v":""},{"$f":"IFERROR(INDEX(Отделения[отделение],SMALL(IF(Отделения[Город]=$K$1,ROW(Отделения[Город])-1),ROW(A10)-ROW($A$2)+1)),\"\")","v":""},{"$f":"IFERROR(INDEX(Отделения[отделение],SMALL(IF(Отделения[Город]=$L$1,ROW(Отделения[Город])-1),ROW(A10)-ROW($A$2)+1)),\"\")","v":""},{"$f":"IFERROR(INDEX(Отделения[отделение],SMALL(IF(Отделения[Город]=$M$1,ROW(Отделения[Город])-1),ROW(B10)-ROW($A$2)+1)),\"\")","v":""},{"$f":"IFERROR(INDEX(Отделения[отделение],SMALL(IF(Отделения[Город]=$N$1,ROW(Отделения[Город])-1),ROW(#REF!)-ROW($A$2)+1)),\"\")","v":""},{"$f":"IFERROR(INDEX(Отделения[отделение],SMALL(IF(Отделения[Город]=$O$1,ROW(Отделения[Город])-1),ROW(C10)-ROW($A$2)+1)),\"\")","v":""},{"$f":"IFERROR(INDEX(Отделения[отделение],SMALL(IF(Отделения[Город]=$P$1,ROW(Отделения[Город])-1),ROW(D10)-ROW($A$2)+1)),\"\")","v":""},{"$f":"IFERROR(INDEX(Отделения[отделение],SMALL(IF(Отделения[Город]=$Q$1,ROW(Отделения[Город])-1),ROW(F10)-ROW($A$2)+1)),\"\")","v":""},{"$f":"IFERROR(INDEX(Отделения[отделение],SMALL(IF(Отделения[Город]=$R$1,ROW(Отделения[Город])-1),ROW(#REF!)-ROW($A$2)+1)),\"\")","v":""},{"$f":"IFERROR(INDEX(Отделения[отделение],SMALL(IF(Отделения[Город]=$S$1,ROW(Отделения[Город])-1),ROW(G10)-ROW($A$2)+1)),\"\")","v":""},{"$f":"IFERROR(INDEX(Отделения[отделение],SMALL(IF(Отделения[Город]=$T$1,ROW(Отделения[Город])-1),ROW(H10)-ROW($A$2)+1)),\"\")","v":""},{"$f":"IFERROR(INDEX(Отделения[отделение],SMALL(IF(Отделения[Город]=$U$1,ROW(Отделения[Город])-1),ROW(I10)-ROW($A$2)+1)),\"\")","v":""},{"$f":"IFERROR(INDEX(Отделения[отделение],SMALL(IF(Отделения[Город]=$V$1,ROW(Отделения[Город])-1),ROW(J10)-ROW($A$2)+1)),\"\")","v":""},{"$f":"IFERROR(INDEX(Отделения[отделение],SMALL(IF(Отделения[Город]=$W$1,ROW(Отделения[Город])-1),ROW(K10)-ROW($A$2)+1)),\"\")","v":""},{"$f":"IFERROR(INDEX(Отделения[отделение],SMALL(IF(Отделения[Город]=$X$1,ROW(Отделения[Город])-1),ROW(L10)-ROW($A$2)+1)),\"\")","v":""},{"$f":"IFERROR(INDEX(Отделения[отделение],SMALL(IF(Отделения[Город]=$Y$1,ROW(Отделения[Город])-1),ROW(M10)-ROW($A$2)+1)),\"\")","v":""},{"$f":"IFERROR(INDEX(Отделения[отделение],SMALL(IF(Отделения[Город]=$Z$1,ROW(Отделения[Город])-1),ROW(N10)-ROW($A$2)+1)),\"\")","v":""},{"$f":"IFERROR(INDEX(Отделения[отделение],SMALL(IF(Отделения[Город]=$AA$1,ROW(Отделения[Город])-1),ROW(O10)-ROW($A$2)+1)),\"\")","v":""},{"$f":"IFERROR(INDEX(Отделения[отделение],SMALL(IF(Отделения[Город]=$AB$1,ROW(Отделения[Город])-1),ROW(P10)-ROW($A$2)+1)),\"\")","v":""},{"$f":"IFERROR(INDEX(Отделения[отделение],SMALL(IF(Отделения[Город]=$AC$1,ROW(Отделения[Город])-1),ROW(Q10)-ROW($A$2)+1)),\"\")","v":""},{"$f":"IFERROR(INDEX(Отделения[отделение],SMALL(IF(Отделения[Город]=$AD$1,ROW(Отделения[Город])-1),ROW(R10)-ROW($A$2)+1)),\"\")","v":""},{"$f":"IFERROR(INDEX(Отделения[отделение],SMALL(IF(Отделения[Город]=$AE$1,ROW(Отделения[Город])-1),ROW(S10)-ROW($A$2)+1)),\"\")","v":""},{"$f":"IFERROR(INDEX(Отделения[отделение],SMALL(IF(Отделения[Город]=$AF$1,ROW(Отделения[Город])-1),ROW(T10)-ROW($A$2)+1)),\"\")","v":""},{"$f":"IFERROR(INDEX(Отделения[отделение],SMALL(IF(Отделения[Город]=$AG$1,ROW(Отделения[Город])-1),ROW(U10)-ROW($A$2)+1)),\"\")","v":""},{"$f":"IFERROR(INDEX(Отделения[отделение],SMALL(IF(Отделения[Город]=$AH$1,ROW(Отделения[Город])-1),ROW(V10)-ROW($A$2)+1)),\"\")","v":""},{"$f":"IFERROR(INDEX(Отделения[отделение],SMALL(IF(Отделения[Город]=$AI$1,ROW(Отделения[Город])-1),ROW(AB10)-ROW($A$2)+1)),\"\")","v":""},{"$f":"IFERROR(INDEX(Отделения[отделение],SMALL(IF(Отделения[Город]=$AJ$1,ROW(Отделения[Город])-1),ROW(AB10)-ROW($A$2)+1)),\"\")","v":""},{"$f":"IFERROR(INDEX(Отделения[отделение],SMALL(IF(Отделения[Город]=$AK$1,ROW(Отделения[Город])-1),ROW(AB10)-ROW($A$2)+1)),\"\")","v":""},{"$f":"IFERROR(INDEX(Отделения[отделение],SMALL(IF(Отделения[Город]=$AL$1,ROW(Отделения[Город])-1),ROW(AB10)-ROW($A$2)+1)),\"\")","v":""},{"$f":"IFERROR(INDEX(Отделения[отделение],SMALL(IF(Отделения[Город]=$AM$1,ROW(Отделения[Город])-1),ROW(AB10)-ROW($A$2)+1)),\"\")","v":""},{"$f":"IFERROR(INDEX(Отделения[отделение],SMALL(IF(Отделения[Город]=$AN$1,ROW(Отделения[Город])-1),ROW(AB10)-ROW($A$2)+1)),\"\")","v":""},{"$f":"IFERROR(INDEX(Отделения[отделение],SMALL(IF(Отделения[Город]=$AO$1,ROW(Отделения[Город])-1),ROW(AB10)-ROW($A$2)+1)),\"\")","v":""},{"$f":"IFERROR(INDEX(Отделения[отделение],SMALL(IF(Отделения[Город]=$AP$1,ROW(Отделения[Город])-1),ROW(AB10)-ROW($A$2)+1)),\"\")","v":""},{"$f":"IFERROR(INDEX(Отделения[отделение],SMALL(IF(Отделения[Город]=$AQ$1,ROW(Отделения[Город])-1),ROW(AB10)-ROW($A$2)+1)),\"\")","v":""},{"$f":"IFERROR(INDEX(Отделения[отделение],SMALL(IF(Отделения[Город]=$AR$1,ROW(Отделения[Город])-1),ROW(AB10)-ROW($A$2)+1)),\"\")","v":""},{"$f":"IFERROR(INDEX(Отделения[отделение],SMALL(IF(Отделения[Город]=$AS$1,ROW(Отделения[Город])-1),ROW(AB10)-ROW($A$2)+1)),\"\")","v":""},{"$f":"IFERROR(INDEX(Отделения[отделение],SMALL(IF(Отделения[Город]=$AT$1,ROW(Отделения[Город])-1),ROW(AB10)-ROW($A$2)+1)),\"\")","v":""},{"$f":"IFERROR(INDEX(Отделения[отделение],SMALL(IF(Отделения[Город]=$AU$1,ROW(Отделения[Город])-1),ROW(AB10)-ROW($A$2)+1)),\"\")","v":""},{"$f":"IFERROR(INDEX(Отделения[отделение],SMALL(IF(Отделения[Город]=$AV$1,ROW(Отделения[Город])-1),ROW(AB10)-ROW($A$2)+1)),\"\")","v":""},{"$f":"IFERROR(INDEX(Отделения[отделение],SMALL(IF(Отделения[Город]=$AW$1,ROW(Отделения[Город])-1),ROW(AB10)-ROW($A$2)+1)),\"\")","v":""},{"$f":"IFERROR(INDEX(Отделения[отделение],SMALL(IF(Отделения[Город]=$AX$1,ROW(Отделения[Город])-1),ROW(AB10)-ROW($A$2)+1)),\"\")","v":""},{"$f":"IFERROR(INDEX(Отделения[отделение],SMALL(IF(Отделения[Город]=$AY$1,ROW(Отделения[Город])-1),ROW(AB10)-ROW($A$2)+1)),\"\")","v":""},{"$f":"IFERROR(INDEX(Отделения[отделение],SMALL(IF(Отделения[Город]=$AZ$1,ROW(Отделения[Город])-1),ROW(AB10)-ROW($A$2)+1)),\"\")","v":""},{"$f":"IFERROR(INDEX(Отделения[отделение],SMALL(IF(Отделения[Город]=$BA$1,ROW(Отделения[Город])-1),ROW(AB10)-ROW($A$2)+1)),\"\")","v":""},{"$f":"IFERROR(INDEX(Отделения[отделение],SMALL(IF(Отделения[Город]=$BB$1,ROW(Отделения[Город])-1),ROW(AB10)-ROW($A$2)+1)),\"\")","v":""},{"$f":"IFERROR(INDEX(Отделения[отделение],SMALL(IF(Отделения[Город]=$BC$1,ROW(Отделения[Город])-1),ROW(AC10)-ROW($A$2)+1)),\"\")","v":""},{"$f":"IFERROR(INDEX(Отделения[отделение],SMALL(IF(Отделения[Город]=$BD$1,ROW(Отделения[Город])-1),ROW(AD10)-ROW($A$2)+1)),\"\")","v":""},{"$f":"IFERROR(INDEX(Отделения[отделение],SMALL(IF(Отделения[Город]=$BE$1,ROW(Отделения[Город])-1),ROW(AE10)-ROW($A$2)+1)),\"\")","v":""},{"$f":"IFERROR(INDEX(Отделения[отделение],SMALL(IF(Отделения[Город]=$BF$1,ROW(Отделения[Город])-1),ROW(AF10)-ROW($A$2)+1)),\"\")","v":""},{"$f":"IFERROR(INDEX(Отделения[отделение],SMALL(IF(Отделения[Город]=$BG$1,ROW(Отделения[Город])-1),ROW(AG10)-ROW($A$2)+1)),\"\")","v":""},{"$f":"IFERROR(INDEX(Отделения[отделение],SMALL(IF(Отделения[Город]=$BH$1,ROW(Отделения[Город])-1),ROW(AH10)-ROW($A$2)+1)),\"\")","v":""},{"$f":"IFERROR(INDEX(Отделения[отделение],SMALL(IF(Отделения[Город]=$BI$1,ROW(Отделения[Город])-1),ROW(AI10)-ROW($A$2)+1)),\"\")","v":""},{"$f":"IFERROR(INDEX(Отделения[отделение],SMALL(IF(Отделения[Город]=$BJ$1,ROW(Отделения[Город])-1),ROW(AJ10)-ROW($A$2)+1)),\"\")","v":""},{"$f":"IFERROR(INDEX(Отделения[отделение],SMALL(IF(Отделения[Город]=$BK$1,ROW(Отделения[Город])-1),ROW(AK10)-ROW($A$2)+1)),\"\")","v":""},{"$f":"IFERROR(INDEX(Отделения[отделение],SMALL(IF(Отделения[Город]=$BL$1,ROW(Отделения[Город])-1),ROW(AL10)-ROW($A$2)+1)),\"\")","v":""},{"$f":"IFERROR(INDEX(Отделения[отделение],SMALL(IF(Отделения[Город]=$BM$1,ROW(Отделения[Город])-1),ROW(AM10)-ROW($A$2)+1)),\"\")","v":""},{"$f":"IFERROR(INDEX(Отделения[отделение],SMALL(IF(Отделения[Город]=$BN$1,ROW(Отделения[Город])-1),ROW(AN10)-ROW($A$2)+1)),\"\")","v":""},{"$f":"IFERROR(INDEX(Отделения[отделение],SMALL(IF(Отделения[Город]=$BO$1,ROW(Отделения[Город])-1),ROW(AO10)-ROW($A$2)+1)),\"\")","v":""},{"$f":"IFERROR(INDEX(Отделения[отделение],SMALL(IF(Отделения[Город]=$BP$1,ROW(Отделения[Город])-1),ROW(AP10)-ROW($A$2)+1)),\"\")","v":""},{"$f":"IFERROR(INDEX(Отделения[отделение],SMALL(IF(Отделения[Город]=$BQ$1,ROW(Отделения[Город])-1),ROW(AQ10)-ROW($A$2)+1)),\"\")","v":""},{"$f":"IFERROR(INDEX(Отделения[отделение],SMALL(IF(Отделения[Город]=$BR$1,ROW(Отделения[Город])-1),ROW(AR10)-ROW($A$2)+1)),\"\")","v":""},{"$f":"IFERROR(INDEX(Отделения[отделение],SMALL(IF(Отделения[Город]=$BS$1,ROW(Отделения[Город])-1),ROW(AS10)-ROW($A$2)+1)),\"\")","v":""},{"$f":"IFERROR(INDEX(Отделения[отделение],SMALL(IF(Отделения[Город]=$BT$1,ROW(Отделения[Город])-1),ROW(AT10)-ROW($A$2)+1)),\"\")","v":""},{"$f":"IFERROR(INDEX(Отделения[отделение],SMALL(IF(Отделения[Город]=$BU$1,ROW(Отделения[Город])-1),ROW(AU10)-ROW($A$2)+1)),\"\")","v":""},{"$f":"IFERROR(INDEX(Отделения[отделение],SMALL(IF(Отделения[Город]=$BV$1,ROW(Отделения[Город])-1),ROW(AV10)-ROW($A$2)+1)),\"\")","v":""},{"$f":"IFERROR(INDEX(Отделения[отделение],SMALL(IF(Отделения[Город]=$BW$1,ROW(Отделения[Город])-1),ROW(AV10)-ROW($A$2)+1)),\"\")","v":""},{"$f":"IFERROR(INDEX(Отделения[отделение],SMALL(IF(Отделения[Город]=$BX$1,ROW(Отделения[Город])-1),ROW(AV10)-ROW($A$2)+1)),\"\")","v":""},{"$f":"IFERROR(INDEX(Отделения[отделение],SMALL(IF(Отделения[Город]=$BY$1,ROW(Отделения[Город])-1),ROW(AV10)-ROW($A$2)+1)),\"\")","v":""},{"$f":"IFERROR(INDEX(Отделения[отделение],SMALL(IF(Отделения[Город]=$BZ$1,ROW(Отделения[Город])-1),ROW(AV10)-ROW($A$2)+1)),\"\")","v":""},{"$f":"IFERROR(INDEX(Отделения[отделение],SMALL(IF(Отделения[Город]=$CA$1,ROW(Отделения[Город])-1),ROW(AV10)-ROW($A$2)+1)),\"\")","v":""},{"$f":"IFERROR(INDEX(Отделения[отделение],SMALL(IF(Отделения[Город]=$CB$1,ROW(Отделения[Город])-1),ROW(AV10)-ROW($A$2)+1)),\"\")","v":""},{"$f":"IFERROR(INDEX(Отделения[отделение],SMALL(IF(Отделения[Город]=$CC$1,ROW(Отделения[Город])-1),ROW(AV10)-ROW($A$2)+1)),\"\")","v":""},{"$f":"IFERROR(INDEX(Отделения[отделение],SMALL(IF(Отделения[Город]=$CD$1,ROW(Отделения[Город])-1),ROW(AV10)-ROW($A$2)+1)),\"\")","v":""},{"$f":"IFERROR(INDEX(Отделения[отделение],SMALL(IF(Отделения[Город]=$CE$1,ROW(Отделения[Город])-1),ROW(AV10)-ROW($A$2)+1)),\"\")","v":""},{"$f":"IFERROR(INDEX(Отделения[отделение],SMALL(IF(Отделения[Город]=$CF$1,ROW(Отделения[Город])-1),ROW(AV10)-ROW($A$2)+1)),\"\")","v":""},{"$f":"IFERROR(INDEX(Отделения[отделение],SMALL(IF(Отделения[Город]=$CG$1,ROW(Отделения[Город])-1),ROW(AV10)-ROW($A$2)+1)),\"\")","v":""},{"$f":"IFERROR(INDEX(Отделения[отделение],SMALL(IF(Отделения[Город]=$CH$1,ROW(Отделения[Город])-1),ROW(AW10)-ROW($A$2)+1)),\"\")","v":""},{"$f":"IFERROR(INDEX(Отделения[отделение],SMALL(IF(Отделения[Город]=$CI$1,ROW(Отделения[Город])-1),ROW(AX10)-ROW($A$2)+1)),\"\")","v":""},{"$f":"IFERROR(INDEX(Отделения[отделение],SMALL(IF(Отделения[Город]=$CJ$1,ROW(Отделения[Город])-1),ROW(AY10)-ROW($A$2)+1)),\"\")","v":""},{"$f":"IFERROR(INDEX(Отделения[отделение],SMALL(IF(Отделения[Город]=$CK$1,ROW(Отделения[Город])-1),ROW(AZ10)-ROW($A$2)+1)),\"\")","v":""},{"$f":"IFERROR(INDEX(Отделения[отделение],SMALL(IF(Отделения[Город]=$CL$1,ROW(Отделения[Город])-1),ROW(BA10)-ROW($A$2)+1)),\"\")","v":""},{"$f":"IFERROR(INDEX(Отделения[отделение],SMALL(IF(Отделения[Город]=$CM$1,ROW(Отделения[Город])-1),ROW(BB10)-ROW($A$2)+1)),\"\")","v":""},{"$f":"IFERROR(INDEX(Отделения[отделение],SMALL(IF(Отделения[Город]=$CN$1,ROW(Отделения[Город])-1),ROW(BC10)-ROW($A$2)+1)),\"\")","v":""},{"$f":"IFERROR(INDEX(Отделения[отделение],SMALL(IF(Отделения[Город]=$CO$1,ROW(Отделения[Город])-1),ROW(BD10)-ROW($A$2)+1)),\"\")","v":""},{"$f":"IFERROR(INDEX(Отделения[отделение],SMALL(IF(Отделения[Город]=$CP$1,ROW(Отделения[Город])-1),ROW(BE10)-ROW($A$2)+1)),\"\")","v":""},{"$f":"IFERROR(INDEX(Отделения[отделение],SMALL(IF(Отделения[Город]=$CQ$1,ROW(Отделения[Город])-1),ROW(BF10)-ROW($A$2)+1)),\"\")","v":""},{"$f":"IFERROR(INDEX(Отделения[отделение],SMALL(IF(Отделения[Город]=$CR$1,ROW(Отделения[Город])-1),ROW(BG10)-ROW($A$2)+1)),\"\")","v":""},{"$f":"IFERROR(INDEX(Отделения[отделение],SMALL(IF(Отделения[Город]=$CS$1,ROW(Отделения[Город])-1),ROW(BH10)-ROW($A$2)+1)),\"\")","v":""},{"$f":"IFERROR(INDEX(Отделения[отделение],SMALL(IF(Отделения[Город]=$CT$1,ROW(Отделения[Город])-1),ROW(BI10)-ROW($A$2)+1)),\"\")","v":""},{"$f":"IFERROR(INDEX(Отделения[отделение],SMALL(IF(Отделения[Город]=$CU$1,ROW(Отделения[Город])-1),ROW(BJ10)-ROW($A$2)+1)),\"\")","v":""},{"$f":"IFERROR(INDEX(Отделения[отделение],SMALL(IF(Отделения[Город]=$CV$1,ROW(Отделения[Город])-1),ROW(BK10)-ROW($A$2)+1)),\"\")","v":""},{"$f":"IFERROR(INDEX(Отделения[отделение],SMALL(IF(Отделения[Город]=$CW$1,ROW(Отделения[Город])-1),ROW(BL10)-ROW($A$2)+1)),\"\")","v":""},{"$f":"IFERROR(INDEX(Отделения[отделение],SMALL(IF(Отделения[Город]=$CX$1,ROW(Отделения[Город])-1),ROW(BM10)-ROW($A$2)+1)),\"\")","v":""},{"$f":"IFERROR(INDEX(Отделения[отделение],SMALL(IF(Отделения[Город]=$CY$1,ROW(Отделения[Город])-1),ROW(BM10)-ROW($A$2)+1)),\"\")","v":""},{"$f":"IFERROR(INDEX(Отделения[отделение],SMALL(IF(Отделения[Город]=$CZ$1,ROW(Отделения[Город])-1),ROW(BM10)-ROW($A$2)+1)),\"\")","v":""},{"$f":"IFERROR(INDEX(Отделения[отделение],SMALL(IF(Отделения[Город]=$DA$1,ROW(Отделения[Город])-1),ROW(BM10)-ROW($A$2)+1)),\"\")","v":""},{"$f":"IFERROR(INDEX(Отделения[отделение],SMALL(IF(Отделения[Город]=$DB$1,ROW(Отделения[Город])-1),ROW(BM10)-ROW($A$2)+1)),\"\")","v":""}]
["Москва","ДО \"АЛЕКСЕЕВСКИЙ\" , 129085, г. Москва, пр-т Мира, д. 91, корп. 2","0423","MOAL",null,null,{"$f":"IFERROR(INDEX(Отделения[отделение],SMALL(IF(Отделения[Город]=$G$1,ROW(Отделения[Город])-1),ROW(A11)-ROW($A$2)+1)),\"\")","v":""},{"$f":"IFERROR(INDEX(Отделения[отделение],SMALL(IF(Отделения[Город]=$H$1,ROW(Отделения[Город])-1),ROW(A11)-ROW($A$2)+1)),\"\")","v":""},{"$f":"IFERROR(INDEX(Отделения[отделение],SMALL(IF(Отделения[Город]=$I$1,ROW(Отделения[Город])-1),ROW(A11)-ROW($A$2)+1)),\"\")","v":""},{"$f":"IFERROR(INDEX(Отделения[отделение],SMALL(IF(Отделения[Город]=$J$1,ROW(Отделения[Город])-1),ROW(A11)-ROW($A$2)+1)),\"\")","v":""},{"$f":"IFERROR(INDEX(Отделения[отделение],SMALL(IF(Отделения[Город]=$K$1,ROW(Отделения[Город])-1),ROW(A11)-ROW($A$2)+1)),\"\")","v":""},{"$f":"IFERROR(INDEX(Отделения[отделение],SMALL(IF(Отделения[Город]=$L$1,ROW(Отделения[Город])-1),ROW(A11)-ROW($A$2)+1)),\"\")","v":""},{"$f":"IFERROR(INDEX(Отделения[отделение],SMALL(IF(Отделения[Город]=$M$1,ROW(Отделения[Город])-1),ROW(B11)-ROW($A$2)+1)),\"\")","v":""},{"$f":"IFERROR(INDEX(Отделения[отделение],SMALL(IF(Отделения[Город]=$N$1,ROW(Отделения[Город])-1),ROW(#REF!)-ROW($A$2)+1)),\"\")","v":""},{"$f":"IFERROR(INDEX(Отделения[отделение],SMALL(IF(Отделения[Город]=$O$1,ROW(Отделения[Город])-1),ROW(C11)-ROW($A$2)+1)),\"\")","v":""},{"$f":"IFERROR(INDEX(Отделения[отделение],SMALL(IF(Отделения[Город]=$P$1,ROW(Отделения[Город])-1),ROW(D11)-ROW($A$2)+1)),\"\")","v":""},{"$f":"IFERROR(INDEX(Отделения[отделение],SMALL(IF(Отделения[Город]=$Q$1,ROW(Отделения[Город])-1),ROW(F11)-ROW($A$2)+1)),\"\")","v":""},{"$f":"IFERROR(INDEX(Отделения[отделение],SMALL(IF(Отделения[Город]=$R$1,ROW(Отделения[Город])-1),ROW(#REF!)-ROW($A$2)+1)),\"\")","v":""},{"$f":"IFERROR(INDEX(Отделения[отделение],SMALL(IF(Отделения[Город]=$S$1,ROW(Отделения[Город])-1),ROW(G11)-ROW($A$2)+1)),\"\")","v":""},{"$f":"IFERROR(INDEX(Отделения[отделение],SMALL(IF(Отделения[Город]=$T$1,ROW(Отделения[Город])-1),ROW(H11)-ROW($A$2)+1)),\"\")","v":""},{"$f":"IFERROR(INDEX(Отделения[отделение],SMALL(IF(Отделения[Город]=$U$1,ROW(Отделения[Город])-1),ROW(I11)-ROW($A$2)+1)),\"\")","v":""},{"$f":"IFERROR(INDEX(Отделения[отделение],SMALL(IF(Отделения[Город]=$V$1,ROW(Отделения[Город])-1),ROW(J11)-ROW($A$2)+1)),\"\")","v":""},{"$f":"IFERROR(INDEX(Отделения[отделение],SMALL(IF(Отделения[Город]=$W$1,ROW(Отделения[Город])-1),ROW(K11)-ROW($A$2)+1)),\"\")","v":""},{"$f":"IFERROR(INDEX(Отделения[отделение],SMALL(IF(Отделения[Город]=$X$1,ROW(Отделения[Город])-1),ROW(L11)-ROW($A$2)+1)),\"\")","v":""},{"$f":"IFERROR(INDEX(Отделения[отделение],SMALL(IF(Отделения[Город]=$Y$1,ROW(Отделения[Город])-1),ROW(M11)-ROW($A$2)+1)),\"\")","v":""},{"$f":"IFERROR(INDEX(Отделения[отделение],SMALL(IF(Отделения[Город]=$Z$1,ROW(Отделения[Город])-1),ROW(N11)-ROW($A$2)+1)),\"\")","v":""},{"$f":"IFERROR(INDEX(Отделения[отделение],SMALL(IF(Отделения[Город]=$AA$1,ROW(Отделения[Город])-1),ROW(O11)-ROW($A$2)+1)),\"\")","v":""},{"$f":"IFERROR(INDEX(Отделения[отделение],SMALL(IF(Отделения[Город]=$AB$1,ROW(Отделения[Город])-1),ROW(P11)-ROW($A$2)+1)),\"\")","v":""},{"$f":"IFERROR(INDEX(Отделения[отделение],SMALL(IF(Отделения[Город]=$AC$1,ROW(Отделения[Город])-1),ROW(Q11)-ROW($A$2)+1)),\"\")","v":""},{"$f":"IFERROR(INDEX(Отделения[отделение],SMALL(IF(Отделения[Город]=$AD$1,ROW(Отделения[Город])-1),ROW(R11)-ROW($A$2)+1)),\"\")","v":""},{"$f":"IFERROR(INDEX(Отделения[отделение],SMALL(IF(Отделения[Город]=$AE$1,ROW(Отделения[Город])-1),ROW(S11)-ROW($A$2)+1)),\"\")","v":""},{"$f":"IFERROR(INDEX(Отделения[отделение],SMALL(IF(Отделения[Город]=$AF$1,ROW(Отделения[Город])-1),ROW(T11)-ROW($A$2)+1)),\"\")","v":""},{"$f":"IFERROR(INDEX(Отделения[отделение],SMALL(IF(Отделения[Город]=$AG$1,ROW(Отделения[Город])-1),ROW(U11)-ROW($A$2)+1)),\"\")","v":""},{"$f":"IFERROR(INDEX(Отделения[отделение],SMALL(IF(Отделения[Город]=$AH$1,ROW(Отделения[Город])-1),ROW(V11)-ROW($A$2)+1)),\"\")","v":""},{"$f":"IFERROR(INDEX(Отделения[отделение],SMALL(IF(Отделения[Город]=$AI$1,ROW(Отделения[Город])-1),ROW(AB11)-ROW($A$2)+1)),\"\")","v":""},{"$f":"IFERROR(INDEX(Отделения[отделение],SMALL(IF(Отделения[Город]=$AJ$1,ROW(Отделения[Город])-1),ROW(AB11)-ROW($A$2)+1)),\"\")","v":""},{"$f":"IFERROR(INDEX(Отделения[отделение],SMALL(IF(Отделения[Город]=$AK$1,ROW(Отделения[Город])-1),ROW(AB11)-ROW($A$2)+1)),\"\")","v":""},{"$f":"IFERROR(INDEX(Отделения[отделение],SMALL(IF(Отделения[Город]=$AL$1,ROW(Отделения[Город])-1),ROW(AB11)-ROW($A$2)+1)),\"\")","v":""},{"$f":"IFERROR(INDEX(Отделения[отделение],SMALL(IF(Отделения[Город]=$AM$1,ROW(Отделения[Город])-1),ROW(AB11)-ROW($A$2)+1)),\"\")","v":""},{"$f":"IFERROR(INDEX(Отделения[отделение],SMALL(IF(Отделения[Город]=$AN$1,ROW(Отделения[Город])-1),ROW(AB11)-ROW($A$2)+1)),\"\")","v":""},{"$f":"IFERROR(INDEX(Отделения[отделение],SMALL(IF(Отделения[Город]=$AO$1,ROW(Отделения[Город])-1),ROW(AB11)-ROW($A$2)+1)),\"\")","v":""},{"$f":"IFERROR(INDEX(Отделения[отделение],SMALL(IF(Отделения[Город]=$AP$1,ROW(Отделения[Город])-1),ROW(AB11)-ROW($A$2)+1)),\"\")","v":""},{"$f":"IFERROR(INDEX(Отделения[отделение],SMALL(IF(Отделения[Город]=$AQ$1,ROW(Отделения[Город])-1),ROW(AB11)-ROW($A$2)+1)),\"\")","v":""},{"$f":"IFERROR(INDEX(Отделения[отделение],SMALL(IF(Отделения[Город]=$AR$1,ROW(Отделения[Город])-1),ROW(AB11)-ROW($A$2)+1)),\"\")","v":""},{"$f":"IFERROR(INDEX(Отделения[отделение],SMALL(IF(Отделения[Город]=$AS$1,ROW(Отделения[Город])-1),ROW(AB11)-ROW($A$2)+1)),\"\")","v":""},{"$f":"IFERROR(INDEX(Отделения[отделение],SMALL(IF(Отделения[Город]=$AT$1,ROW(Отделения[Город])-1),ROW(AB11)-ROW($A$2)+1)),\"\")","v":""},{"$f":"IFERROR(INDEX(Отделения[отделение],SMALL(IF(Отделения[Город]=$AU$1,ROW(Отделения[Город])-1),ROW(AB11)-ROW($A$2)+1)),\"\")","v":""},{"$f":"IFERROR(INDEX(Отделения[отделение],SMALL(IF(Отделения[Город]=$AV$1,ROW(Отделения[Город])-1),ROW(AB11)-ROW($A$2)+1)),\"\")","v":""},{"$f":"IFERROR(INDEX(Отделения[отделение],SMALL(IF(Отделения[Город]=$AW$1,ROW(Отделения[Город])-1),ROW(AB11)-ROW($A$2)+1)),\"\")","v":""},{"$f":"IFERROR(INDEX(Отделения[отделение],SMALL(IF(Отделения[Город]=$AX$1,ROW(Отделения[Город])-1),ROW(AB11)-ROW($A$2)+1)),\"\")","v":""},{"$f":"IFERROR(INDEX(Отделения[отделение],SMALL(IF(Отделения[Город]=$AY$1,ROW(Отделения[Город])-1),ROW(AB11)-ROW($A$2)+1)),\"\")","v":""},{"$f":"IFERROR(INDEX(Отделения[отделение],SMALL(IF(Отделения[Город]=$AZ$1,ROW(Отделения[Город])-1),ROW(AB11)-ROW($A$2)+1)),\"\")","v":""},{"$f":"IFERROR(INDEX(Отделения[отделение],SMALL(IF(Отделения[Город]=$BA$1,ROW(Отделения[Город])-1),ROW(AB11)-ROW($A$2)+1)),\"\")","v":""},{"$f":"IFERROR(INDEX(Отделения[отделение],SMALL(IF(Отделения[Город]=$BB$1,ROW(Отделения[Город])-1),ROW(AB11)-ROW($A$2)+1)),\"\")","v":""},{"$f":"IFERROR(INDEX(Отделения[отделение],SMALL(IF(Отделения[Город]=$BC$1,ROW(Отделения[Город])-1),ROW(AC11)-ROW($A$2)+1)),\"\")","v":""},{"$f":"IFERROR(INDEX(Отделения[отделение],SMALL(IF(Отделения[Город]=$BD$1,ROW(Отделения[Город])-1),ROW(AD11)-ROW($A$2)+1)),\"\")","v":""},{"$f":"IFERROR(INDEX(Отделения[отделение],SMALL(IF(Отделения[Город]=$BE$1,ROW(Отделения[Город])-1),ROW(AE11)-ROW($A$2)+1)),\"\")","v":""},{"$f":"IFERROR(INDEX(Отделения[отделение],SMALL(IF(Отделения[Город]=$BF$1,ROW(Отделения[Город])-1),ROW(AF11)-ROW($A$2)+1)),\"\")","v":""},{"$f":"IFERROR(INDEX(Отделения[отделение],SMALL(IF(Отделения[Город]=$BG$1,ROW(Отделения[Город])-1),ROW(AG11)-ROW($A$2)+1)),\"\")","v":""},{"$f":"IFERROR(INDEX(Отделения[отделение],SMALL(IF(Отделения[Город]=$BH$1,ROW(Отделения[Город])-1),ROW(AH11)-ROW($A$2)+1)),\"\")","v":""},{"$f":"IFERROR(INDEX(Отделения[отделение],SMALL(IF(Отделения[Город]=$BI$1,ROW(Отделения[Город])-1),ROW(AI11)-ROW($A$2)+1)),\"\")","v":""},{"$f":"IFERROR(INDEX(Отделения[отделение],SMALL(IF(Отделения[Город]=$BJ$1,ROW(Отделения[Город])-1),ROW(AJ11)-ROW($A$2)+1)),\"\")","v":""},{"$f":"IFERROR(INDEX(Отделения[отделение],SMALL(IF(Отделения[Город]=$BK$1,ROW(Отделения[Город])-1),ROW(AK11)-ROW($A$2)+1)),\"\")","v":""},{"$f":"IFERROR(INDEX(Отделения[отделение],SMALL(IF(Отделения[Город]=$BL$1,ROW(Отделения[Город])-1),ROW(AL11)-ROW($A$2)+1)),\"\")","v":""},{"$f":"IFERROR(INDEX(Отделения[отделение],SMALL(IF(Отделения[Город]=$BM$1,ROW(Отделения[Город])-1),ROW(AM11)-ROW($A$2)+1)),\"\")","v":""},{"$f":"IFERROR(INDEX(Отделения[отделение],SMALL(IF(Отделения[Город]=$BN$1,ROW(Отделения[Город])-1),ROW(AN11)-ROW($A$2)+1)),\"\")","v":""},{"$f":"IFERROR(INDEX(Отделения[отделение],SMALL(IF(Отделения[Город]=$BO$1,ROW(Отделения[Город])-1),ROW(AO11)-ROW($A$2)+1)),\"\")","v":""},{"$f":"IFERROR(INDEX(Отделения[отделение],SMALL(IF(Отделения[Город]=$BP$1,ROW(Отделения[Город])-1),ROW(AP11)-ROW($A$2)+1)),\"\")","v":""},{"$f":"IFERROR(INDEX(Отделения[отделение],SMALL(IF(Отделения[Город]=$BQ$1,ROW(Отделения[Город])-1),ROW(AQ11)-ROW($A$2)+1)),\"\")","v":""},{"$f":"IFERROR(INDEX(Отделения[отделение],SMALL(IF(Отделения[Город]=$BR$1,ROW(Отделения[Город])-1),ROW(AR11)-ROW($A$2)+1)),\"\")","v":""},{"$f":"IFERROR(INDEX(Отделения[отделение],SMALL(IF(Отделения[Город]=$BS$1,ROW(Отделения[Город])-1),ROW(AS11)-ROW($A$2)+1)),\"\")","v":""},{"$f":"IFERROR(INDEX(Отделения[отделение],SMALL(IF(Отделения[Город]=$BT$1,ROW(Отделения[Город])-1),ROW(AT11)-ROW($A$2)+1)),\"\")","v":""},{"$f":"IFERROR(INDEX(Отделения[отделение],SMALL(IF(Отделения[Город]=$BU$1,ROW(Отделения[Город])-1),ROW(AU11)-ROW($A$2)+1)),\"\")","v":""},{"$f":"IFERROR(INDEX(Отделения[отделение],SMALL(IF(Отделения[Город]=$BV$1,ROW(Отделения[Город])-1),ROW(AV11)-ROW($A$2)+1)),\"\")","v":""},{"$f":"IFERROR(INDEX(Отделения[отделение],SMALL(IF(Отделения[Город]=$BW$1,ROW(Отделения[Город])-1),ROW(AV11)-ROW($A$2)+1)),\"\")","v":""},{"$f":"IFERROR(INDEX(Отделения[отделение],SMALL(IF(Отделения[Город]=$BX$1,ROW(Отделения[Город])-1),ROW(AV11)-ROW($A$2)+1)),\"\")","v":""},{"$f":"IFERROR(INDEX(Отделения[отделение],SMALL(IF(Отделения[Город]=$BY$1,ROW(Отделения[Город])-1),ROW(AV11)-ROW($A$2)+1)),\"\")","v":""},{"$f":"IFERROR(INDEX(Отделения[отделение],SMALL(IF(Отделения[Город]=$BZ$1,ROW(Отделения[Город])-1),ROW(AV11)-ROW($A$2)+1)),\"\")","v":""},{"$f":"IFERROR(INDEX(Отделения[отделение],SMALL(IF(Отделения[Город]=$CA$1,ROW(Отделения[Город])-1),ROW(AV11)-ROW($A$2)+1)),\"\")","v":""},{"$f":"IFERROR(INDEX(Отделения[отделение],SMALL(IF(Отделения[Город]=$CB$1,ROW(Отделения[Город])-1),ROW(AV11)-ROW($A$2)+1)),\"\")","v":""},{"$f":"IFERROR(INDEX(Отделения[отделение],SMALL(IF(Отделения[Город]=$CC$1,ROW(Отделения[Город])-1),ROW(AV11)-ROW($A$2)+1)),\"\")","v":""},{"$f":"IFERROR(INDEX(Отделения[отделение],SMALL(IF(Отделения[Город]=$CD$1,ROW(Отделения[Город])-1),ROW(AV11)-ROW($A$2)+1)),\"\")","v":""},{"$f":"IFERROR(INDEX(Отделения[отделение],SMALL(IF(Отделения[Город]=$CE$1,ROW(Отделения[Город])-1),ROW(AV11)-ROW($A$2)+1)),\"\")","v":""},{"$f":"IFERROR(INDEX(Отделения[отделение],SMALL(IF(Отделения[Город]=$CF$1,ROW(Отделения[Город])-1),ROW(AV11)-ROW($A$2)+1)),\"\")","v":""},{"$f":"IFERROR(INDEX(Отделения[отделение],SMALL(IF(Отделения[Город]=$CG$1,ROW(Отделения[Город])-1),ROW(AV11)-ROW($A$2)+1)),\"\")","v":""},{"$f":"IFERROR(INDEX(Отделения[отделение],SMALL(IF(Отделения[Город]=$CH$1,ROW(Отделения[Город])-1),ROW(AW11)-ROW($A$2)+1)),\"\")","v":""},{"$f":"IFERROR(INDEX(Отделения[отделение],SMALL(IF(Отделения[Город]=$CI$1,ROW(Отделения[Город])-1),ROW(AX11)-ROW($A$2)+1)),\"\")","v":""},{"$f":"IFERROR(INDEX(Отделения[отделение],SMALL(IF(Отделения[Город]=$CJ$1,ROW(Отделения[Город])-1),ROW(AY11)-ROW($A$2)+1)),\"\")","v":""},{"$f":"IFERROR(INDEX(Отделения[отделение],SMALL(IF(Отделения[Город]=$CK$1,ROW(Отделения[Город])-1),ROW(AZ11)-ROW($A$2)+1)),\"\")","v":""},{"$f":"IFERROR(INDEX(Отделения[отделение],SMALL(IF(Отделения[Город]=$CL$1,ROW(Отделения[Город])-1),ROW(BA11)-ROW($A$2)+1)),\"\")","v":""},{"$f":"IFERROR(INDEX(Отделения[отделение],SMALL(IF(Отделения[Город]=$CM$1,ROW(Отделения[Город])-1),ROW(BB11)-ROW($A$2)+1)),\"\")","v":""},{"$f":"IFERROR(INDEX(Отделения[отделение],SMALL(IF(Отделения[Город]=$CN$1,ROW(Отделения[Город])-1),ROW(BC11)-ROW($A$2)+1)),\"\")","v":""},{"$f":"IFERROR(INDEX(Отделения[отделение],SMALL(IF(Отделения[Город]=$CO$1,ROW(Отделения[Город])-1),ROW(BD11)-ROW($A$2)+1)),\"\")","v":""},{"$f":"IFERROR(INDEX(Отделения[отделение],SMALL(IF(Отделения[Город]=$CP$1,ROW(Отделения[Город])-1),ROW(BE11)-ROW($A$2)+1)),\"\")","v":""},{"$f":"IFERROR(INDEX(Отделения[отделение],SMALL(IF(Отделения[Город]=$CQ$1,ROW(Отделения[Город])-1),ROW(BF11)-ROW($A$2)+1)),\"\")","v":""},{"$f":"IFERROR(INDEX(Отделения[отделение],SMALL(IF(Отделения[Город]=$CR$1,ROW(Отделения[Город])-1),ROW(BG11)-ROW($A$2)+1)),\"\")","v":""},{"$f":"IFERROR(INDEX(Отделения[отделение],SMALL(IF(Отделения[Город]=$CS$1,ROW(Отделения[Город])-1),ROW(BH11)-ROW($A$2)+1)),\"\")","v":""},{"$f":"IFERROR(INDEX(Отделения[отделение],SMALL(IF(Отделения[Город]=$CT$1,ROW(Отделения[Город])-1),ROW(BI11)-ROW($A$2)+1)),\"\")","v":""},{"$f":"IFERROR(INDEX(Отделения[отделение],SMALL(IF(Отделения[Город]=$CU$1,ROW(Отделения[Город])-1),ROW(BJ11)-ROW($A$2)+1)),\"\")","v":""},{"$f":"IFERROR(INDEX(Отделения[отделение],SMALL(IF(Отделения[Город]=$CV$1,ROW(Отделения[Город])-1),ROW(BK11)-ROW($A$2)+1)),\"\")","v":""},{"$f":"IFERROR(INDEX(Отделения[отделение],SMALL(IF(Отделения[Город]=$CW$1,ROW(Отделения[Город])-1),ROW(BL11)-ROW($A$2)+1)),\"\")","v":""},{"$f":"IFERROR(INDEX(Отделения[отделение],SMALL(IF(Отделения[Город]=$CX$1,ROW(Отделения[Город])-1),ROW(BM11)-ROW($A$2)+1)),\"\")","v":""},{"$f":"IFERROR(INDEX(Отделения[отделение],SMALL(IF(Отделения[Город]=$CY$1,ROW(Отделения[Город])-1),ROW(BM11)-ROW($A$2)+1)),\"\")","v":""},{"$f":"IFERROR(INDEX(Отделения[отделение],SMALL(IF(Отделения[Город]=$CZ$1,ROW(Отделения[Город])-1),ROW(BM11)-ROW($A$2)+1)),\"\")","v":""},{"$f":"IFERROR(INDEX(Отделения[отделение],SMALL(IF(Отделения[Город]=$DA$1,ROW(Отделения[Город])-1),ROW(BM11)-ROW($A$2)+1)),\"\")","v":""},{"$f":"IFERROR(INDEX(Отделения[отделение],SMALL(IF(Отделения[Город]=$DB$1,ROW(Отделения[Город])-1),ROW(BM11)-ROW($A$2)+1)),\"\")","v":""}]
["Москва","ДО \"ТРЕТЬЯКОВСКИЙ\" АЛЬФА-БАНК\" , 115035, г.Москва, ул. Большая Ордынка, д.21, стр.2","0426","MOTR",null,null,{"$f":"IFERROR(INDEX(Отделения[отделение],SMALL(IF(Отделения[Город]=$G$1,ROW(Отделения[Город])-1),ROW(A12)-ROW($A$2)+1)),\"\")","v":""},{"$f":"IFERROR(INDEX(Отделения[отделение],SMALL(IF(Отделения[Город]=$H$1,ROW(Отделения[Город])-1),ROW(A12)-ROW($A$2)+1)),\"\")","v":""},{"$f":"IFERROR(INDEX(Отделения[отделение],SMALL(IF(Отделения[Город]=$I$1,ROW(Отделения[Город])-1),ROW(A12)-ROW($A$2)+1)),\"\")","v":""},{"$f":"IFERROR(INDEX(Отделения[отделение],SMALL(IF(Отделения[Город]=$J$1,ROW(Отделения[Город])-1),ROW(A12)-ROW($A$2)+1)),\"\")","v":""},{"$f":"IFERROR(INDEX(Отделения[отделение],SMALL(IF(Отделения[Город]=$K$1,ROW(Отделения[Город])-1),ROW(A12)-ROW($A$2)+1)),\"\")","v":""},{"$f":"IFERROR(INDEX(Отделения[отделение],SMALL(IF(Отделения[Город]=$L$1,ROW(Отделения[Город])-1),ROW(A12)-ROW($A$2)+1)),\"\")","v":""},{"$f":"IFERROR(INDEX(Отделения[отделение],SMALL(IF(Отделения[Город]=$M$1,ROW(Отделения[Город])-1),ROW(B12)-ROW($A$2)+1)),\"\")","v":""},{"$f":"IFERROR(INDEX(Отделения[отделение],SMALL(IF(Отделения[Город]=$N$1,ROW(Отделения[Город])-1),ROW(#REF!)-ROW($A$2)+1)),\"\")","v":""},{"$f":"IFERROR(INDEX(Отделения[отделение],SMALL(IF(Отделения[Город]=$O$1,ROW(Отделения[Город])-1),ROW(C12)-ROW($A$2)+1)),\"\")","v":""},{"$f":"IFERROR(INDEX(Отделения[отделение],SMALL(IF(Отделения[Город]=$P$1,ROW(Отделения[Город])-1),ROW(D12)-ROW($A$2)+1)),\"\")","v":""},{"$f":"IFERROR(INDEX(Отделения[отделение],SMALL(IF(Отделения[Город]=$Q$1,ROW(Отделения[Город])-1),ROW(F12)-ROW($A$2)+1)),\"\")","v":""},{"$f":"IFERROR(INDEX(Отделения[отделение],SMALL(IF(Отделения[Город]=$R$1,ROW(Отделения[Город])-1),ROW(#REF!)-ROW($A$2)+1)),\"\")","v":""},{"$f":"IFERROR(INDEX(Отделения[отделение],SMALL(IF(Отделения[Город]=$S$1,ROW(Отделения[Город])-1),ROW(G12)-ROW($A$2)+1)),\"\")","v":""},{"$f":"IFERROR(INDEX(Отделения[отделение],SMALL(IF(Отделения[Город]=$T$1,ROW(Отделения[Город])-1),ROW(H12)-ROW($A$2)+1)),\"\")","v":""},{"$f":"IFERROR(INDEX(Отделения[отделение],SMALL(IF(Отделения[Город]=$U$1,ROW(Отделения[Город])-1),ROW(I12)-ROW($A$2)+1)),\"\")","v":""},{"$f":"IFERROR(INDEX(Отделения[отделение],SMALL(IF(Отделения[Город]=$V$1,ROW(Отделения[Город])-1),ROW(J12)-ROW($A$2)+1)),\"\")","v":""},{"$f":"IFERROR(INDEX(Отделения[отделение],SMALL(IF(Отделения[Город]=$W$1,ROW(Отделения[Город])-1),ROW(K12)-ROW($A$2)+1)),\"\")","v":""},{"$f":"IFERROR(INDEX(Отделения[отделение],SMALL(IF(Отделения[Город]=$X$1,ROW(Отделения[Город])-1),ROW(L12)-ROW($A$2)+1)),\"\")","v":""},{"$f":"IFERROR(INDEX(Отделения[отделение],SMALL(IF(Отделения[Город]=$Y$1,ROW(Отделения[Город])-1),ROW(M12)-ROW($A$2)+1)),\"\")","v":""},{"$f":"IFERROR(INDEX(Отделения[отделение],SMALL(IF(Отделения[Город]=$Z$1,ROW(Отделения[Город])-1),ROW(N12)-ROW($A$2)+1)),\"\")","v":""},{"$f":"IFERROR(INDEX(Отделения[отделение],SMALL(IF(Отделения[Город]=$AA$1,ROW(Отделения[Город])-1),ROW(O12)-ROW($A$2)+1)),\"\")","v":""},{"$f":"IFERROR(INDEX(Отделения[отделение],SMALL(IF(Отделения[Город]=$AB$1,ROW(Отделения[Город])-1),ROW(P12)-ROW($A$2)+1)),\"\")","v":""},{"$f":"IFERROR(INDEX(Отделения[отделение],SMALL(IF(Отделения[Город]=$AC$1,ROW(Отделения[Город])-1),ROW(Q12)-ROW($A$2)+1)),\"\")","v":""},{"$f":"IFERROR(INDEX(Отделения[отделение],SMALL(IF(Отделения[Город]=$AD$1,ROW(Отделения[Город])-1),ROW(R12)-ROW($A$2)+1)),\"\")","v":""},{"$f":"IFERROR(INDEX(Отделения[отделение],SMALL(IF(Отделения[Город]=$AE$1,ROW(Отделения[Город])-1),ROW(S12)-ROW($A$2)+1)),\"\")","v":""},{"$f":"IFERROR(INDEX(Отделения[отделение],SMALL(IF(Отделения[Город]=$AF$1,ROW(Отделения[Город])-1),ROW(T12)-ROW($A$2)+1)),\"\")","v":""},{"$f":"IFERROR(INDEX(Отделения[отделение],SMALL(IF(Отделения[Город]=$AG$1,ROW(Отделения[Город])-1),ROW(U12)-ROW($A$2)+1)),\"\")","v":""},{"$f":"IFERROR(INDEX(Отделения[отделение],SMALL(IF(Отделения[Город]=$AH$1,ROW(Отделения[Город])-1),ROW(V12)-ROW($A$2)+1)),\"\")","v":""},{"$f":"IFERROR(INDEX(Отделения[отделение],SMALL(IF(Отделения[Город]=$AI$1,ROW(Отделения[Город])-1),ROW(AB12)-ROW($A$2)+1)),\"\")","v":""},{"$f":"IFERROR(INDEX(Отделения[отделение],SMALL(IF(Отделения[Город]=$AJ$1,ROW(Отделения[Город])-1),ROW(AB12)-ROW($A$2)+1)),\"\")","v":""},{"$f":"IFERROR(INDEX(Отделения[отделение],SMALL(IF(Отделения[Город]=$AK$1,ROW(Отделения[Город])-1),ROW(AB12)-ROW($A$2)+1)),\"\")","v":""},{"$f":"IFERROR(INDEX(Отделения[отделение],SMALL(IF(Отделения[Город]=$AL$1,ROW(Отделения[Город])-1),ROW(AB12)-ROW($A$2)+1)),\"\")","v":""},{"$f":"IFERROR(INDEX(Отделения[отделение],SMALL(IF(Отделения[Город]=$AM$1,ROW(Отделения[Город])-1),ROW(AB12)-ROW($A$2)+1)),\"\")","v":""},{"$f":"IFERROR(INDEX(Отделения[отделение],SMALL(IF(Отделения[Город]=$AN$1,ROW(Отделения[Город])-1),ROW(AB12)-ROW($A$2)+1)),\"\")","v":""},{"$f":"IFERROR(INDEX(Отделения[отделение],SMALL(IF(Отделения[Город]=$AO$1,ROW(Отделения[Город])-1),ROW(AB12)-ROW($A$2)+1)),\"\")","v":""},{"$f":"IFERROR(INDEX(Отделения[отделение],SMALL(IF(Отделения[Город]=$AP$1,ROW(Отделения[Город])-1),ROW(AB12)-ROW($A$2)+1)),\"\")","v":""},{"$f":"IFERROR(INDEX(Отделения[отделение],SMALL(IF(Отделения[Город]=$AQ$1,ROW(Отделения[Город])-1),ROW(AB12)-ROW($A$2)+1)),\"\")","v":""},{"$f":"IFERROR(INDEX(Отделения[отделение],SMALL(IF(Отделения[Город]=$AR$1,ROW(Отделения[Город])-1),ROW(AB12)-ROW($A$2)+1)),\"\")","v":""},{"$f":"IFERROR(INDEX(Отделения[отделение],SMALL(IF(Отделения[Город]=$AS$1,ROW(Отделения[Город])-1),ROW(AB12)-ROW($A$2)+1)),\"\")","v":""},{"$f":"IFERROR(INDEX(Отделения[отделение],SMALL(IF(Отделения[Город]=$AT$1,ROW(Отделения[Город])-1),ROW(AB12)-ROW($A$2)+1)),\"\")","v":""},{"$f":"IFERROR(INDEX(Отделения[отделение],SMALL(IF(Отделения[Город]=$AU$1,ROW(Отделения[Город])-1),ROW(AB12)-ROW($A$2)+1)),\"\")","v":""},{"$f":"IFERROR(INDEX(Отделения[отделение],SMALL(IF(Отделения[Город]=$AV$1,ROW(Отделения[Город])-1),ROW(AB12)-ROW($A$2)+1)),\"\")","v":""},{"$f":"IFERROR(INDEX(Отделения[отделение],SMALL(IF(Отделения[Город]=$AW$1,ROW(Отделения[Город])-1),ROW(AB12)-ROW($A$2)+1)),\"\")","v":""},{"$f":"IFERROR(INDEX(Отделения[отделение],SMALL(IF(Отделения[Город]=$AX$1,ROW(Отделения[Город])-1),ROW(AB12)-ROW($A$2)+1)),\"\")","v":""},{"$f":"IFERROR(INDEX(Отделения[отделение],SMALL(IF(Отделения[Город]=$AY$1,ROW(Отделения[Город])-1),ROW(AB12)-ROW($A$2)+1)),\"\")","v":""},{"$f":"IFERROR(INDEX(Отделения[отделение],SMALL(IF(Отделения[Город]=$AZ$1,ROW(Отделения[Город])-1),ROW(AB12)-ROW($A$2)+1)),\"\")","v":""},{"$f":"IFERROR(INDEX(Отделения[отделение],SMALL(IF(Отделения[Город]=$BA$1,ROW(Отделения[Город])-1),ROW(AB12)-ROW($A$2)+1)),\"\")","v":""},{"$f":"IFERROR(INDEX(Отделения[отделение],SMALL(IF(Отделения[Город]=$BB$1,ROW(Отделения[Город])-1),ROW(AB12)-ROW($A$2)+1)),\"\")","v":""},{"$f":"IFERROR(INDEX(Отделения[отделение],SMALL(IF(Отделения[Город]=$BC$1,ROW(Отделения[Город])-1),ROW(AC12)-ROW($A$2)+1)),\"\")","v":""},{"$f":"IFERROR(INDEX(Отделения[отделение],SMALL(IF(Отделения[Город]=$BD$1,ROW(Отделения[Город])-1),ROW(AD12)-ROW($A$2)+1)),\"\")","v":""},{"$f":"IFERROR(INDEX(Отделения[отделение],SMALL(IF(Отделения[Город]=$BE$1,ROW(Отделения[Город])-1),ROW(AE12)-ROW($A$2)+1)),\"\")","v":""},{"$f":"IFERROR(INDEX(Отделения[отделение],SMALL(IF(Отделения[Город]=$BF$1,ROW(Отделения[Город])-1),ROW(AF12)-ROW($A$2)+1)),\"\")","v":""},{"$f":"IFERROR(INDEX(Отделения[отделение],SMALL(IF(Отделения[Город]=$BG$1,ROW(Отделения[Город])-1),ROW(AG12)-ROW($A$2)+1)),\"\")","v":""},{"$f":"IFERROR(INDEX(Отделения[отделение],SMALL(IF(Отделения[Город]=$BH$1,ROW(Отделения[Город])-1),ROW(AH12)-ROW($A$2)+1)),\"\")","v":""},{"$f":"IFERROR(INDEX(Отделения[отделение],SMALL(IF(Отделения[Город]=$BI$1,ROW(Отделения[Город])-1),ROW(AI12)-ROW($A$2)+1)),\"\")","v":""},{"$f":"IFERROR(INDEX(Отделения[отделение],SMALL(IF(Отделения[Город]=$BJ$1,ROW(Отделения[Город])-1),ROW(AJ12)-ROW($A$2)+1)),\"\")","v":""},{"$f":"IFERROR(INDEX(Отделения[отделение],SMALL(IF(Отделения[Город]=$BK$1,ROW(Отделения[Город])-1),ROW(AK12)-ROW($A$2)+1)),\"\")","v":""},{"$f":"IFERROR(INDEX(Отделения[отделение],SMALL(IF(Отделения[Город]=$BL$1,ROW(Отделения[Город])-1),ROW(AL12)-ROW($A$2)+1)),\"\")","v":""},{"$f":"IFERROR(INDEX(Отделения[отделение],SMALL(IF(Отделения[Город]=$BM$1,ROW(Отделения[Город])-1),ROW(AM12)-ROW($A$2)+1)),\"\")","v":""},{"$f":"IFERROR(INDEX(Отделения[отделение],SMALL(IF(Отделения[Город]=$BN$1,ROW(Отделения[Город])-1),ROW(AN12)-ROW($A$2)+1)),\"\")","v":""},{"$f":"IFERROR(INDEX(Отделения[отделение],SMALL(IF(Отделения[Город]=$BO$1,ROW(Отделения[Город])-1),ROW(AO12)-ROW($A$2)+1)),\"\")","v":""},{"$f":"IFERROR(INDEX(Отделения[отделение],SMALL(IF(Отделения[Город]=$BP$1,ROW(Отделения[Город])-1),ROW(AP12)-ROW($A$2)+1)),\"\")","v":""},{"$f":"IFERROR(INDEX(Отделения[отделение],SMALL(IF(Отделения[Город]=$BQ$1,ROW(Отделения[Город])-1),ROW(AQ12)-ROW($A$2)+1)),\"\")","v":""},{"$f":"IFERROR(INDEX(Отделения[отделение],SMALL(IF(Отделения[Город]=$BR$1,ROW(Отделения[Город])-1),ROW(AR12)-ROW($A$2)+1)),\"\")","v":""},{"$f":"IFERROR(INDEX(Отделения[отделение],SMALL(IF(Отделения[Город]=$BS$1,ROW(Отделения[Город])-1),ROW(AS12)-ROW($A$2)+1)),\"\")","v":""},{"$f":"IFERROR(INDEX(Отделения[отделение],SMALL(IF(Отделения[Город]=$BT$1,ROW(Отделения[Город])-1),ROW(AT12)-ROW($A$2)+1)),\"\")","v":""},{"$f":"IFERROR(INDEX(Отделения[отделение],SMALL(IF(Отделения[Город]=$BU$1,ROW(Отделения[Город])-1),ROW(AU12)-ROW($A$2)+1)),\"\")","v":""},{"$f":"IFERROR(INDEX(Отделения[отделение],SMALL(IF(Отделения[Город]=$BV$1,ROW(Отделения[Город])-1),ROW(AV12)-ROW($A$2)+1)),\"\")","v":""},{"$f":"IFERROR(INDEX(Отделения[отделение],SMALL(IF(Отделения[Город]=$BW$1,ROW(Отделения[Город])-1),ROW(AV12)-ROW($A$2)+1)),\"\")","v":""},{"$f":"IFERROR(INDEX(Отделения[отделение],SMALL(IF(Отделения[Город]=$BX$1,ROW(Отделения[Город])-1),ROW(AV12)-ROW($A$2)+1)),\"\")","v":""},{"$f":"IFERROR(INDEX(Отделения[отделение],SMALL(IF(Отделения[Город]=$BY$1,ROW(Отделения[Город])-1),ROW(AV12)-ROW($A$2)+1)),\"\")","v":""},{"$f":"IFERROR(INDEX(Отделения[отделение],SMALL(IF(Отделения[Город]=$BZ$1,ROW(Отделения[Город])-1),ROW(AV12)-ROW($A$2)+1)),\"\")","v":""},{"$f":"IFERROR(INDEX(Отделения[отделение],SMALL(IF(Отделения[Город]=$CA$1,ROW(Отделения[Город])-1),ROW(AV12)-ROW($A$2)+1)),\"\")","v":""},{"$f":"IFERROR(INDEX(Отделения[отделение],SMALL(IF(Отделения[Город]=$CB$1,ROW(Отделения[Город])-1),ROW(AV12)-ROW($A$2)+1)),\"\")","v":""},{"$f":"IFERROR(INDEX(Отделения[отделение],SMALL(IF(Отделения[Город]=$CC$1,ROW(Отделения[Город])-1),ROW(AV12)-ROW($A$2)+1)),\"\")","v":""},{"$f":"IFERROR(INDEX(Отделения[отделение],SMALL(IF(Отделения[Город]=$CD$1,ROW(Отделения[Город])-1),ROW(AV12)-ROW($A$2)+1)),\"\")","v":""},{"$f":"IFERROR(INDEX(Отделения[отделение],SMALL(IF(Отделения[Город]=$CE$1,ROW(Отделения[Город])-1),ROW(AV12)-ROW($A$2)+1)),\"\")","v":""},{"$f":"IFERROR(INDEX(Отделения[отделение],SMALL(IF(Отделения[Город]=$CF$1,ROW(Отделения[Город])-1),ROW(AV12)-ROW($A$2)+1)),\"\")","v":""},{"$f":"IFERROR(INDEX(Отделения[отделение],SMALL(IF(Отделения[Город]=$CG$1,ROW(Отделения[Город])-1),ROW(AV12)-ROW($A$2)+1)),\"\")","v":""},{"$f":"IFERROR(INDEX(Отделения[отделение],SMALL(IF(Отделения[Город]=$CH$1,ROW(Отделения[Город])-1),ROW(AW12)-ROW($A$2)+1)),\"\")","v":""},{"$f":"IFERROR(INDEX(Отделения[отделение],SMALL(IF(Отделения[Город]=$CI$1,ROW(Отделения[Город])-1),ROW(AX12)-ROW($A$2)+1)),\"\")","v":""},{"$f":"IFERROR(INDEX(Отделения[отделение],SMALL(IF(Отделения[Город]=$CJ$1,ROW(Отделения[Город])-1),ROW(AY12)-ROW($A$2)+1)),\"\")","v":""},{"$f":"IFERROR(INDEX(Отделения[отделение],SMALL(IF(Отделения[Город]=$CK$1,ROW(Отделения[Город])-1),ROW(AZ12)-ROW($A$2)+1)),\"\")","v":""},{"$f":"IFERROR(INDEX(Отделения[отделение],SMALL(IF(Отделения[Город]=$CL$1,ROW(Отделения[Город])-1),ROW(BA12)-ROW($A$2)+1)),\"\")","v":""},{"$f":"IFERROR(INDEX(Отделения[отделение],SMALL(IF(Отделения[Город]=$CM$1,ROW(Отделения[Город])-1),ROW(BB12)-ROW($A$2)+1)),\"\")","v":""},{"$f":"IFERROR(INDEX(Отделения[отделение],SMALL(IF(Отделения[Город]=$CN$1,ROW(Отделения[Город])-1),ROW(BC12)-ROW($A$2)+1)),\"\")","v":""},{"$f":"IFERROR(INDEX(Отделения[отделение],SMALL(IF(Отделения[Город]=$CO$1,ROW(Отделения[Город])-1),ROW(BD12)-ROW($A$2)+1)),\"\")","v":""},{"$f":"IFERROR(INDEX(Отделения[отделение],SMALL(IF(Отделения[Город]=$CP$1,ROW(Отделения[Город])-1),ROW(BE12)-ROW($A$2)+1)),\"\")","v":""},{"$f":"IFERROR(INDEX(Отделения[отделение],SMALL(IF(Отделения[Город]=$CQ$1,ROW(Отделения[Город])-1),ROW(BF12)-ROW($A$2)+1)),\"\")","v":""},{"$f":"IFERROR(INDEX(Отделения[отделение],SMALL(IF(Отделения[Город]=$CR$1,ROW(Отделения[Город])-1),ROW(BG12)-ROW($A$2)+1)),\"\")","v":""},{"$f":"IFERROR(INDEX(Отделения[отделение],SMALL(IF(Отделения[Город]=$CS$1,ROW(Отделения[Город])-1),ROW(BH12)-ROW($A$2)+1)),\"\")","v":""},{"$f":"IFERROR(INDEX(Отделения[отделение],SMALL(IF(Отделения[Город]=$CT$1,ROW(Отделения[Город])-1),ROW(BI12)-ROW($A$2)+1)),\"\")","v":""},{"$f":"IFERROR(INDEX(Отделения[отделение],SMALL(IF(Отделения[Город]=$CU$1,ROW(Отделения[Город])-1),ROW(BJ12)-ROW($A$2)+1)),\"\")","v":""},{"$f":"IFERROR(INDEX(Отделения[отделение],SMALL(IF(Отделения[Город]=$CV$1,ROW(Отделения[Город])-1),ROW(BK12)-ROW($A$2)+1)),\"\")","v":""},{"$f":"IFERROR(INDEX(Отделения[отделение],SMALL(IF(Отделения[Город]=$CW$1,ROW(Отделения[Город])-1),ROW(BL12)-ROW($A$2)+1)),\"\")","v":""},{"$f":"IFERROR(INDEX(Отделения[отделение],SMALL(IF(Отделения[Город]=$CX$1,ROW(Отделения[Город])-1),ROW(BM12)-ROW($A$2)+1)),\"\")","v":""},{"$f":"IFERROR(INDEX(Отделения[отделение],SMALL(IF(Отделения[Город]=$CY$1,ROW(Отделения[Город])-1),ROW(BM12)-ROW($A$2)+1)),\"\")","v":""},{"$f":"IFERROR(INDEX(Отделения[отделение],SMALL(IF(Отделения[Город]=$CZ$1,ROW(Отделения[Город])-1),ROW(BM12)-ROW($A$2)+1)),\"\")","v":""},{"$f":"IFERROR(INDEX(Отделения[отделение],SMALL(IF(Отделения[Город]=$DA$1,ROW(Отделения[Город])-1),ROW(BM12)-ROW($A$2)+1)),\"\")","v":""},{"$f":"IFERROR(INDEX(Отделения[отделение],SMALL(IF(Отделения[Город]=$DB$1,ROW(Отделения[Город])-1),ROW(BM12)-ROW($A$2)+1)),\"\")","v":""}]
["Москва","ДО \"ОЛИМПИЙСКИЙ\" , 129090, г. Москва, пр-кт. Мира, д.42","0427","MOOL",null,null,{"$f":"IFERROR(INDEX(Отделения[отделение],SMALL(IF(Отделения[Город]=$G$1,ROW(Отделения[Город])-1),ROW(A13)-ROW($A$2)+1)),\"\")","v":""},{"$f":"IFERROR(INDEX(Отделения[отделение],SMALL(IF(Отделения[Город]=$H$1,ROW(Отделения[Город])-1),ROW(A13)-ROW($A$2)+1)),\"\")","v":""},{"$f":"IFERROR(INDEX(Отделения[отделение],SMALL(IF(Отделения[Город]=$I$1,ROW(Отделения[Город])-1),ROW(A13)-ROW($A$2)+1)),\"\")","v":""},{"$f":"IFERROR(INDEX(Отделения[отделение],SMALL(IF(Отделения[Город]=$J$1,ROW(Отделения[Город])-1),ROW(A13)-ROW($A$2)+1)),\"\")","v":""},{"$f":"IFERROR(INDEX(Отделения[отделение],SMALL(IF(Отделения[Город]=$K$1,ROW(Отделения[Город])-1),ROW(A13)-ROW($A$2)+1)),\"\")","v":""},{"$f":"IFERROR(INDEX(Отделения[отделение],SMALL(IF(Отделения[Город]=$L$1,ROW(Отделения[Город])-1),ROW(A13)-ROW($A$2)+1)),\"\")","v":""},{"$f":"IFERROR(INDEX(Отделения[отделение],SMALL(IF(Отделения[Город]=$M$1,ROW(Отделения[Город])-1),ROW(B13)-ROW($A$2)+1)),\"\")","v":""},{"$f":"IFERROR(INDEX(Отделения[отделение],SMALL(IF(Отделения[Город]=$N$1,ROW(Отделения[Город])-1),ROW(#REF!)-ROW($A$2)+1)),\"\")","v":""},{"$f":"IFERROR(INDEX(Отделения[отделение],SMALL(IF(Отделения[Город]=$O$1,ROW(Отделения[Город])-1),ROW(C13)-ROW($A$2)+1)),\"\")","v":""},{"$f":"IFERROR(INDEX(Отделения[отделение],SMALL(IF(Отделения[Город]=$P$1,ROW(Отделения[Город])-1),ROW(D13)-ROW($A$2)+1)),\"\")","v":""},{"$f":"IFERROR(INDEX(Отделения[отделение],SMALL(IF(Отделения[Город]=$Q$1,ROW(Отделения[Город])-1),ROW(F13)-ROW($A$2)+1)),\"\")","v":""},{"$f":"IFERROR(INDEX(Отделения[отделение],SMALL(IF(Отделения[Город]=$R$1,ROW(Отделения[Город])-1),ROW(#REF!)-ROW($A$2)+1)),\"\")","v":""},{"$f":"IFERROR(INDEX(Отделения[отделение],SMALL(IF(Отделения[Город]=$S$1,ROW(Отделения[Город])-1),ROW(G13)-ROW($A$2)+1)),\"\")","v":""},{"$f":"IFERROR(INDEX(Отделения[отделение],SMALL(IF(Отделения[Город]=$T$1,ROW(Отделения[Город])-1),ROW(H13)-ROW($A$2)+1)),\"\")","v":""},{"$f":"IFERROR(INDEX(Отделения[отделение],SMALL(IF(Отделения[Город]=$U$1,ROW(Отделения[Город])-1),ROW(I13)-ROW($A$2)+1)),\"\")","v":""},{"$f":"IFERROR(INDEX(Отделения[отделение],SMALL(IF(Отделения[Город]=$V$1,ROW(Отделения[Город])-1),ROW(J13)-ROW($A$2)+1)),\"\")","v":""},{"$f":"IFERROR(INDEX(Отделения[отделение],SMALL(IF(Отделения[Город]=$W$1,ROW(Отделения[Город])-1),ROW(K13)-ROW($A$2)+1)),\"\")","v":""},{"$f":"IFERROR(INDEX(Отделения[отделение],SMALL(IF(Отделения[Город]=$X$1,ROW(Отделения[Город])-1),ROW(L13)-ROW($A$2)+1)),\"\")","v":""},{"$f":"IFERROR(INDEX(Отделения[отделение],SMALL(IF(Отделения[Город]=$Y$1,ROW(Отделения[Город])-1),ROW(M13)-ROW($A$2)+1)),\"\")","v":""},{"$f":"IFERROR(INDEX(Отделения[отделение],SMALL(IF(Отделения[Город]=$Z$1,ROW(Отделения[Город])-1),ROW(N13)-ROW($A$2)+1)),\"\")","v":""},{"$f":"IFERROR(INDEX(Отделения[отделение],SMALL(IF(Отделения[Город]=$AA$1,ROW(Отделения[Город])-1),ROW(O13)-ROW($A$2)+1)),\"\")","v":""},{"$f":"IFERROR(INDEX(Отделения[отделение],SMALL(IF(Отделения[Город]=$AB$1,ROW(Отделения[Город])-1),ROW(P13)-ROW($A$2)+1)),\"\")","v":""},{"$f":"IFERROR(INDEX(Отделения[отделение],SMALL(IF(Отделения[Город]=$AC$1,ROW(Отделения[Город])-1),ROW(Q13)-ROW($A$2)+1)),\"\")","v":""},{"$f":"IFERROR(INDEX(Отделения[отделение],SMALL(IF(Отделения[Город]=$AD$1,ROW(Отделения[Город])-1),ROW(R13)-ROW($A$2)+1)),\"\")","v":""},{"$f":"IFERROR(INDEX(Отделения[отделение],SMALL(IF(Отделения[Город]=$AE$1,ROW(Отделения[Город])-1),ROW(S13)-ROW($A$2)+1)),\"\")","v":""},{"$f":"IFERROR(INDEX(Отделения[отделение],SMALL(IF(Отделения[Город]=$AF$1,ROW(Отделения[Город])-1),ROW(T13)-ROW($A$2)+1)),\"\")","v":""},{"$f":"IFERROR(INDEX(Отделения[отделение],SMALL(IF(Отделения[Город]=$AG$1,ROW(Отделения[Город])-1),ROW(U13)-ROW($A$2)+1)),\"\")","v":""},{"$f":"IFERROR(INDEX(Отделения[отделение],SMALL(IF(Отделения[Город]=$AH$1,ROW(Отделения[Город])-1),ROW(V13)-ROW($A$2)+1)),\"\")","v":""},{"$f":"IFERROR(INDEX(Отделения[отделение],SMALL(IF(Отделения[Город]=$AI$1,ROW(Отделения[Город])-1),ROW(AB13)-ROW($A$2)+1)),\"\")","v":""},{"$f":"IFERROR(INDEX(Отделения[отделение],SMALL(IF(Отделения[Город]=$AJ$1,ROW(Отделения[Город])-1),ROW(AB13)-ROW($A$2)+1)),\"\")","v":""},{"$f":"IFERROR(INDEX(Отделения[отделение],SMALL(IF(Отделения[Город]=$AK$1,ROW(Отделения[Город])-1),ROW(AB13)-ROW($A$2)+1)),\"\")","v":""},{"$f":"IFERROR(INDEX(Отделения[отделение],SMALL(IF(Отделения[Город]=$AL$1,ROW(Отделения[Город])-1),ROW(AB13)-ROW($A$2)+1)),\"\")","v":""},{"$f":"IFERROR(INDEX(Отделения[отделение],SMALL(IF(Отделения[Город]=$AM$1,ROW(Отделения[Город])-1),ROW(AB13)-ROW($A$2)+1)),\"\")","v":""},{"$f":"IFERROR(INDEX(Отделения[отделение],SMALL(IF(Отделения[Город]=$AN$1,ROW(Отделения[Город])-1),ROW(AB13)-ROW($A$2)+1)),\"\")","v":""},{"$f":"IFERROR(INDEX(Отделения[отделение],SMALL(IF(Отделения[Город]=$AO$1,ROW(Отделения[Город])-1),ROW(AB13)-ROW($A$2)+1)),\"\")","v":""},{"$f":"IFERROR(INDEX(Отделения[отделение],SMALL(IF(Отделения[Город]=$AP$1,ROW(Отделения[Город])-1),ROW(AB13)-ROW($A$2)+1)),\"\")","v":""},{"$f":"IFERROR(INDEX(Отделения[отделение],SMALL(IF(Отделения[Город]=$AQ$1,ROW(Отделения[Город])-1),ROW(AB13)-ROW($A$2)+1)),\"\")","v":""},{"$f":"IFERROR(INDEX(Отделения[отделение],SMALL(IF(Отделения[Город]=$AR$1,ROW(Отделения[Город])-1),ROW(AB13)-ROW($A$2)+1)),\"\")","v":""},{"$f":"IFERROR(INDEX(Отделения[отделение],SMALL(IF(Отделения[Город]=$AS$1,ROW(Отделения[Город])-1),ROW(AB13)-ROW($A$2)+1)),\"\")","v":""},{"$f":"IFERROR(INDEX(Отделения[отделение],SMALL(IF(Отделения[Город]=$AT$1,ROW(Отделения[Город])-1),ROW(AB13)-ROW($A$2)+1)),\"\")","v":""},{"$f":"IFERROR(INDEX(Отделения[отделение],SMALL(IF(Отделения[Город]=$AU$1,ROW(Отделения[Город])-1),ROW(AB13)-ROW($A$2)+1)),\"\")","v":""},{"$f":"IFERROR(INDEX(Отделения[отделение],SMALL(IF(Отделения[Город]=$AV$1,ROW(Отделения[Город])-1),ROW(AB13)-ROW($A$2)+1)),\"\")","v":""},{"$f":"IFERROR(INDEX(Отделения[отделение],SMALL(IF(Отделения[Город]=$AW$1,ROW(Отделения[Город])-1),ROW(AB13)-ROW($A$2)+1)),\"\")","v":""},{"$f":"IFERROR(INDEX(Отделения[отделение],SMALL(IF(Отделения[Город]=$AX$1,ROW(Отделения[Город])-1),ROW(AB13)-ROW($A$2)+1)),\"\")","v":""},{"$f":"IFERROR(INDEX(Отделения[отделение],SMALL(IF(Отделения[Город]=$AY$1,ROW(Отделения[Город])-1),ROW(AB13)-ROW($A$2)+1)),\"\")","v":""},{"$f":"IFERROR(INDEX(Отделения[отделение],SMALL(IF(Отделения[Город]=$AZ$1,ROW(Отделения[Город])-1),ROW(AB13)-ROW($A$2)+1)),\"\")","v":""},{"$f":"IFERROR(INDEX(Отделения[отделение],SMALL(IF(Отделения[Город]=$BA$1,ROW(Отделения[Город])-1),ROW(AB13)-ROW($A$2)+1)),\"\")","v":""},{"$f":"IFERROR(INDEX(Отделения[отделение],SMALL(IF(Отделения[Город]=$BB$1,ROW(Отделения[Город])-1),ROW(AB13)-ROW($A$2)+1)),\"\")","v":""},{"$f":"IFERROR(INDEX(Отделения[отделение],SMALL(IF(Отделения[Город]=$BC$1,ROW(Отделения[Город])-1),ROW(AC13)-ROW($A$2)+1)),\"\")","v":""},{"$f":"IFERROR(INDEX(Отделения[отделение],SMALL(IF(Отделения[Город]=$BD$1,ROW(Отделения[Город])-1),ROW(AD13)-ROW($A$2)+1)),\"\")","v":""},{"$f":"IFERROR(INDEX(Отделения[отделение],SMALL(IF(Отделения[Город]=$BE$1,ROW(Отделения[Город])-1),ROW(AE13)-ROW($A$2)+1)),\"\")","v":""},{"$f":"IFERROR(INDEX(Отделения[отделение],SMALL(IF(Отделения[Город]=$BF$1,ROW(Отделения[Город])-1),ROW(AF13)-ROW($A$2)+1)),\"\")","v":""},{"$f":"IFERROR(INDEX(Отделения[отделение],SMALL(IF(Отделения[Город]=$BG$1,ROW(Отделения[Город])-1),ROW(AG13)-ROW($A$2)+1)),\"\")","v":""},{"$f":"IFERROR(INDEX(Отделения[отделение],SMALL(IF(Отделения[Город]=$BH$1,ROW(Отделения[Город])-1),ROW(AH13)-ROW($A$2)+1)),\"\")","v":""},{"$f":"IFERROR(INDEX(Отделения[отделение],SMALL(IF(Отделения[Город]=$BI$1,ROW(Отделения[Город])-1),ROW(AI13)-ROW($A$2)+1)),\"\")","v":""},{"$f":"IFERROR(INDEX(Отделения[отделение],SMALL(IF(Отделения[Город]=$BJ$1,ROW(Отделения[Город])-1),ROW(AJ13)-ROW($A$2)+1)),\"\")","v":""},{"$f":"IFERROR(INDEX(Отделения[отделение],SMALL(IF(Отделения[Город]=$BK$1,ROW(Отделения[Город])-1),ROW(AK13)-ROW($A$2)+1)),\"\")","v":""},{"$f":"IFERROR(INDEX(Отделения[отделение],SMALL(IF(Отделения[Город]=$BL$1,ROW(Отделения[Город])-1),ROW(AL13)-ROW($A$2)+1)),\"\")","v":""},{"$f":"IFERROR(INDEX(Отделения[отделение],SMALL(IF(Отделения[Город]=$BM$1,ROW(Отделения[Город])-1),ROW(AM13)-ROW($A$2)+1)),\"\")","v":""},{"$f":"IFERROR(INDEX(Отделения[отделение],SMALL(IF(Отделения[Город]=$BN$1,ROW(Отделения[Город])-1),ROW(AN13)-ROW($A$2)+1)),\"\")","v":""},{"$f":"IFERROR(INDEX(Отделения[отделение],SMALL(IF(Отделения[Город]=$BO$1,ROW(Отделения[Город])-1),ROW(AO13)-ROW($A$2)+1)),\"\")","v":""},{"$f":"IFERROR(INDEX(Отделения[отделение],SMALL(IF(Отделения[Город]=$BP$1,ROW(Отделения[Город])-1),ROW(AP13)-ROW($A$2)+1)),\"\")","v":""},{"$f":"IFERROR(INDEX(Отделения[отделение],SMALL(IF(Отделения[Город]=$BQ$1,ROW(Отделения[Город])-1),ROW(AQ13)-ROW($A$2)+1)),\"\")","v":""},{"$f":"IFERROR(INDEX(Отделения[отделение],SMALL(IF(Отделения[Город]=$BR$1,ROW(Отделения[Город])-1),ROW(AR13)-ROW($A$2)+1)),\"\")","v":""},{"$f":"IFERROR(INDEX(Отделения[отделение],SMALL(IF(Отделения[Город]=$BS$1,ROW(Отделения[Город])-1),ROW(AS13)-ROW($A$2)+1)),\"\")","v":""},{"$f":"IFERROR(INDEX(Отделения[отделение],SMALL(IF(Отделения[Город]=$BT$1,ROW(Отделения[Город])-1),ROW(AT13)-ROW($A$2)+1)),\"\")","v":""},{"$f":"IFERROR(INDEX(Отделения[отделение],SMALL(IF(Отделения[Город]=$BU$1,ROW(Отделения[Город])-1),ROW(AU13)-ROW($A$2)+1)),\"\")","v":""},{"$f":"IFERROR(INDEX(Отделения[отделение],SMALL(IF(Отделения[Город]=$BV$1,ROW(Отделения[Город])-1),ROW(AV13)-ROW($A$2)+1)),\"\")","v":""},{"$f":"IFERROR(INDEX(Отделения[отделение],SMALL(IF(Отделения[Город]=$BW$1,ROW(Отделения[Город])-1),ROW(AV13)-ROW($A$2)+1)),\"\")","v":""},{"$f":"IFERROR(INDEX(Отделения[отделение],SMALL(IF(Отделения[Город]=$BX$1,ROW(Отделения[Город])-1),ROW(AV13)-ROW($A$2)+1)),\"\")","v":""},{"$f":"IFERROR(INDEX(Отделения[отделение],SMALL(IF(Отделения[Город]=$BY$1,ROW(Отделения[Город])-1),ROW(AV13)-ROW($A$2)+1)),\"\")","v":""},{"$f":"IFERROR(INDEX(Отделения[отделение],SMALL(IF(Отделения[Город]=$BZ$1,ROW(Отделения[Город])-1),ROW(AV13)-ROW($A$2)+1)),\"\")","v":""},{"$f":"IFERROR(INDEX(Отделения[отделение],SMALL(IF(Отделения[Город]=$CA$1,ROW(Отделения[Город])-1),ROW(AV13)-ROW($A$2)+1)),\"\")","v":""},{"$f":"IFERROR(INDEX(Отделения[отделение],SMALL(IF(Отделения[Город]=$CB$1,ROW(Отделения[Город])-1),ROW(AV13)-ROW($A$2)+1)),\"\")","v":""},{"$f":"IFERROR(INDEX(Отделения[отделение],SMALL(IF(Отделения[Город]=$CC$1,ROW(Отделения[Город])-1),ROW(AV13)-ROW($A$2)+1)),\"\")","v":""},{"$f":"IFERROR(INDEX(Отделения[отделение],SMALL(IF(Отделения[Город]=$CD$1,ROW(Отделения[Город])-1),ROW(AV13)-ROW($A$2)+1)),\"\")","v":""},{"$f":"IFERROR(INDEX(Отделения[отделение],SMALL(IF(Отделения[Город]=$CE$1,ROW(Отделения[Город])-1),ROW(AV13)-ROW($A$2)+1)),\"\")","v":""},{"$f":"IFERROR(INDEX(Отделения[отделение],SMALL(IF(Отделения[Город]=$CF$1,ROW(Отделения[Город])-1),ROW(AV13)-ROW($A$2)+1)),\"\")","v":""},{"$f":"IFERROR(INDEX(Отделения[отделение],SMALL(IF(Отделения[Город]=$CG$1,ROW(Отделения[Город])-1),ROW(AV13)-ROW($A$2)+1)),\"\")","v":""},{"$f":"IFERROR(INDEX(Отделения[отделение],SMALL(IF(Отделения[Город]=$CH$1,ROW(Отделения[Город])-1),ROW(AW13)-ROW($A$2)+1)),\"\")","v":""},{"$f":"IFERROR(INDEX(Отделения[отделение],SMALL(IF(Отделения[Город]=$CI$1,ROW(Отделения[Город])-1),ROW(AX13)-ROW($A$2)+1)),\"\")","v":""},{"$f":"IFERROR(INDEX(Отделения[отделение],SMALL(IF(Отделения[Город]=$CJ$1,ROW(Отделения[Город])-1),ROW(AY13)-ROW($A$2)+1)),\"\")","v":""},{"$f":"IFERROR(INDEX(Отделения[отделение],SMALL(IF(Отделения[Город]=$CK$1,ROW(Отделения[Город])-1),ROW(AZ13)-ROW($A$2)+1)),\"\")","v":""},{"$f":"IFERROR(INDEX(Отделения[отделение],SMALL(IF(Отделения[Город]=$CL$1,ROW(Отделения[Город])-1),ROW(BA13)-ROW($A$2)+1)),\"\")","v":""},{"$f":"IFERROR(INDEX(Отделения[отделение],SMALL(IF(Отделения[Город]=$CM$1,ROW(Отделения[Город])-1),ROW(BB13)-ROW($A$2)+1)),\"\")","v":""},{"$f":"IFERROR(INDEX(Отделения[отделение],SMALL(IF(Отделения[Город]=$CN$1,ROW(Отделения[Город])-1),ROW(BC13)-ROW($A$2)+1)),\"\")","v":""},{"$f":"IFERROR(INDEX(Отделения[отделение],SMALL(IF(Отделения[Город]=$CO$1,ROW(Отделения[Город])-1),ROW(BD13)-ROW($A$2)+1)),\"\")","v":""},{"$f":"IFERROR(INDEX(Отделения[отделение],SMALL(IF(Отделения[Город]=$CP$1,ROW(Отделения[Город])-1),ROW(BE13)-ROW($A$2)+1)),\"\")","v":""},{"$f":"IFERROR(INDEX(Отделения[отделение],SMALL(IF(Отделения[Город]=$CQ$1,ROW(Отделения[Город])-1),ROW(BF13)-ROW($A$2)+1)),\"\")","v":""},{"$f":"IFERROR(INDEX(Отделения[отделение],SMALL(IF(Отделения[Город]=$CR$1,ROW(Отделения[Город])-1),ROW(BG13)-ROW($A$2)+1)),\"\")","v":""},{"$f":"IFERROR(INDEX(Отделения[отделение],SMALL(IF(Отделения[Город]=$CS$1,ROW(Отделения[Город])-1),ROW(BH13)-ROW($A$2)+1)),\"\")","v":""},{"$f":"IFERROR(INDEX(Отделения[отделение],SMALL(IF(Отделения[Город]=$CT$1,ROW(Отделения[Город])-1),ROW(BI13)-ROW($A$2)+1)),\"\")","v":""},{"$f":"IFERROR(INDEX(Отделения[отделение],SMALL(IF(Отделения[Город]=$CU$1,ROW(Отделения[Город])-1),ROW(BJ13)-ROW($A$2)+1)),\"\")","v":""},{"$f":"IFERROR(INDEX(Отделения[отделение],SMALL(IF(Отделения[Город]=$CV$1,ROW(Отделения[Город])-1),ROW(BK13)-ROW($A$2)+1)),\"\")","v":""},{"$f":"IFERROR(INDEX(Отделения[отделение],SMALL(IF(Отделения[Город]=$CW$1,ROW(Отделения[Город])-1),ROW(BL13)-ROW($A$2)+1)),\"\")","v":""},{"$f":"IFERROR(INDEX(Отделения[отделение],SMALL(IF(Отделения[Город]=$CX$1,ROW(Отделения[Город])-1),ROW(BM13)-ROW($A$2)+1)),\"\")","v":""},{"$f":"IFERROR(INDEX(Отделения[отделение],SMALL(IF(Отделения[Город]=$CY$1,ROW(Отделения[Город])-1),ROW(BM13)-ROW($A$2)+1)),\"\")","v":""},{"$f":"IFERROR(INDEX(Отделения[отделение],SMALL(IF(Отделения[Город]=$CZ$1,ROW(Отделения[Город])-1),ROW(BM13)-ROW($A$2)+1)),\"\")","v":""},{"$f":"IFERROR(INDEX(Отделения[отделение],SMALL(IF(Отделения[Город]=$DA$1,ROW(Отделения[Город])-1),ROW(BM13)-ROW($A$2)+1)),\"\")","v":""},{"$f":"IFERROR(INDEX(Отделения[отделение],SMALL(IF(Отделения[Город]=$DB$1,ROW(Отделения[Город])-1),ROW(BM13)-ROW($A$2)+1)),\"\")","v":""}]
["Москва","ДО \"КУТУЗОВСКИЙ ПРОСПЕКТ\" , 121165, г. Москва, Кутузовскийпроспект, дом 30/32","0428","MOKS",null,null,{"$f":"IFERROR(INDEX(Отделения[отделение],SMALL(IF(Отделения[Город]=$G$1,ROW(Отделения[Город])-1),ROW(A14)-ROW($A$2)+1)),\"\")","v":""},{"$f":"IFERROR(INDEX(Отделения[отделение],SMALL(IF(Отделения[Город]=$H$1,ROW(Отделения[Город])-1),ROW(A14)-ROW($A$2)+1)),\"\")","v":""},{"$f":"IFERROR(INDEX(Отделения[отделение],SMALL(IF(Отделения[Город]=$I$1,ROW(Отделения[Город])-1),ROW(A14)-ROW($A$2)+1)),\"\")","v":""},{"$f":"IFERROR(INDEX(Отделения[отделение],SMALL(IF(Отделения[Город]=$J$1,ROW(Отделения[Город])-1),ROW(A14)-ROW($A$2)+1)),\"\")","v":""},{"$f":"IFERROR(INDEX(Отделения[отделение],SMALL(IF(Отделения[Город]=$K$1,ROW(Отделения[Город])-1),ROW(A14)-ROW($A$2)+1)),\"\")","v":""},{"$f":"IFERROR(INDEX(Отделения[отделение],SMALL(IF(Отделения[Город]=$L$1,ROW(Отделения[Город])-1),ROW(A14)-ROW($A$2)+1)),\"\")","v":""},{"$f":"IFERROR(INDEX(Отделения[отделение],SMALL(IF(Отделения[Город]=$M$1,ROW(Отделения[Город])-1),ROW(B14)-ROW($A$2)+1)),\"\")","v":""},{"$f":"IFERROR(INDEX(Отделения[отделение],SMALL(IF(Отделения[Город]=$N$1,ROW(Отделения[Город])-1),ROW(#REF!)-ROW($A$2)+1)),\"\")","v":""},{"$f":"IFERROR(INDEX(Отделения[отделение],SMALL(IF(Отделения[Город]=$O$1,ROW(Отделения[Город])-1),ROW(C14)-ROW($A$2)+1)),\"\")","v":""},{"$f":"IFERROR(INDEX(Отделения[отделение],SMALL(IF(Отделения[Город]=$P$1,ROW(Отделения[Город])-1),ROW(D14)-ROW($A$2)+1)),\"\")","v":""},{"$f":"IFERROR(INDEX(Отделения[отделение],SMALL(IF(Отделения[Город]=$Q$1,ROW(Отделения[Город])-1),ROW(F14)-ROW($A$2)+1)),\"\")","v":""},{"$f":"IFERROR(INDEX(Отделения[отделение],SMALL(IF(Отделения[Город]=$R$1,ROW(Отделения[Город])-1),ROW(#REF!)-ROW($A$2)+1)),\"\")","v":""},{"$f":"IFERROR(INDEX(Отделения[отделение],SMALL(IF(Отделения[Город]=$S$1,ROW(Отделения[Город])-1),ROW(G14)-ROW($A$2)+1)),\"\")","v":""},{"$f":"IFERROR(INDEX(Отделения[отделение],SMALL(IF(Отделения[Город]=$T$1,ROW(Отделения[Город])-1),ROW(H14)-ROW($A$2)+1)),\"\")","v":""},{"$f":"IFERROR(INDEX(Отделения[отделение],SMALL(IF(Отделения[Город]=$U$1,ROW(Отделения[Город])-1),ROW(I14)-ROW($A$2)+1)),\"\")","v":""},{"$f":"IFERROR(INDEX(Отделения[отделение],SMALL(IF(Отделения[Город]=$V$1,ROW(Отделения[Город])-1),ROW(J14)-ROW($A$2)+1)),\"\")","v":""},{"$f":"IFERROR(INDEX(Отделения[отделение],SMALL(IF(Отделения[Город]=$W$1,ROW(Отделения[Город])-1),ROW(K14)-ROW($A$2)+1)),\"\")","v":""},{"$f":"IFERROR(INDEX(Отделения[отделение],SMALL(IF(Отделения[Город]=$X$1,ROW(Отделения[Город])-1),ROW(L14)-ROW($A$2)+1)),\"\")","v":""},{"$f":"IFERROR(INDEX(Отделения[отделение],SMALL(IF(Отделения[Город]=$Y$1,ROW(Отделения[Город])-1),ROW(M14)-ROW($A$2)+1)),\"\")","v":""},{"$f":"IFERROR(INDEX(Отделения[отделение],SMALL(IF(Отделения[Город]=$Z$1,ROW(Отделения[Город])-1),ROW(N14)-ROW($A$2)+1)),\"\")","v":""},{"$f":"IFERROR(INDEX(Отделения[отделение],SMALL(IF(Отделения[Город]=$AA$1,ROW(Отделения[Город])-1),ROW(O14)-ROW($A$2)+1)),\"\")","v":""},{"$f":"IFERROR(INDEX(Отделения[отделение],SMALL(IF(Отделения[Город]=$AB$1,ROW(Отделения[Город])-1),ROW(P14)-ROW($A$2)+1)),\"\")","v":""},{"$f":"IFERROR(INDEX(Отделения[отделение],SMALL(IF(Отделения[Город]=$AC$1,ROW(Отделения[Город])-1),ROW(Q14)-ROW($A$2)+1)),\"\")","v":""},{"$f":"IFERROR(INDEX(Отделения[отделение],SMALL(IF(Отделения[Город]=$AD$1,ROW(Отделения[Город])-1),ROW(R14)-ROW($A$2)+1)),\"\")","v":""},{"$f":"IFERROR(INDEX(Отделения[отделение],SMALL(IF(Отделения[Город]=$AE$1,ROW(Отделения[Город])-1),ROW(S14)-ROW($A$2)+1)),\"\")","v":""},{"$f":"IFERROR(INDEX(Отделения[отделение],SMALL(IF(Отделения[Город]=$AF$1,ROW(Отделения[Город])-1),ROW(T14)-ROW($A$2)+1)),\"\")","v":""},{"$f":"IFERROR(INDEX(Отделения[отделение],SMALL(IF(Отделения[Город]=$AG$1,ROW(Отделения[Город])-1),ROW(U14)-ROW($A$2)+1)),\"\")","v":""},{"$f":"IFERROR(INDEX(Отделения[отделение],SMALL(IF(Отделения[Город]=$AH$1,ROW(Отделения[Город])-1),ROW(V14)-ROW($A$2)+1)),\"\")","v":""},{"$f":"IFERROR(INDEX(Отделения[отделение],SMALL(IF(Отделения[Город]=$AI$1,ROW(Отделения[Город])-1),ROW(AB14)-ROW($A$2)+1)),\"\")","v":""},{"$f":"IFERROR(INDEX(Отделения[отделение],SMALL(IF(Отделения[Город]=$AJ$1,ROW(Отделения[Город])-1),ROW(AB14)-ROW($A$2)+1)),\"\")","v":""},{"$f":"IFERROR(INDEX(Отделения[отделение],SMALL(IF(Отделения[Город]=$AK$1,ROW(Отделения[Город])-1),ROW(AB14)-ROW($A$2)+1)),\"\")","v":""},{"$f":"IFERROR(INDEX(Отделения[отделение],SMALL(IF(Отделения[Город]=$AL$1,ROW(Отделения[Город])-1),ROW(AB14)-ROW($A$2)+1)),\"\")","v":""},{"$f":"IFERROR(INDEX(Отделения[отделение],SMALL(IF(Отделения[Город]=$AM$1,ROW(Отделения[Город])-1),ROW(AB14)-ROW($A$2)+1)),\"\")","v":""},{"$f":"IFERROR(INDEX(Отделения[отделение],SMALL(IF(Отделения[Город]=$AN$1,ROW(Отделения[Город])-1),ROW(AB14)-ROW($A$2)+1)),\"\")","v":""},{"$f":"IFERROR(INDEX(Отделения[отделение],SMALL(IF(Отделения[Город]=$AO$1,ROW(Отделения[Город])-1),ROW(AB14)-ROW($A$2)+1)),\"\")","v":""},{"$f":"IFERROR(INDEX(Отделения[отделение],SMALL(IF(Отделения[Город]=$AP$1,ROW(Отделения[Город])-1),ROW(AB14)-ROW($A$2)+1)),\"\")","v":""},{"$f":"IFERROR(INDEX(Отделения[отделение],SMALL(IF(Отделения[Город]=$AQ$1,ROW(Отделения[Город])-1),ROW(AB14)-ROW($A$2)+1)),\"\")","v":""},{"$f":"IFERROR(INDEX(Отделения[отделение],SMALL(IF(Отделения[Город]=$AR$1,ROW(Отделения[Город])-1),ROW(AB14)-ROW($A$2)+1)),\"\")","v":""},{"$f":"IFERROR(INDEX(Отделения[отделение],SMALL(IF(Отделения[Город]=$AS$1,ROW(Отделения[Город])-1),ROW(AB14)-ROW($A$2)+1)),\"\")","v":""},{"$f":"IFERROR(INDEX(Отделения[отделение],SMALL(IF(Отделения[Город]=$AT$1,ROW(Отделения[Город])-1),ROW(AB14)-ROW($A$2)+1)),\"\")","v":""},{"$f":"IFERROR(INDEX(Отделения[отделение],SMALL(IF(Отделения[Город]=$AU$1,ROW(Отделения[Город])-1),ROW(AB14)-ROW($A$2)+1)),\"\")","v":""},{"$f":"IFERROR(INDEX(Отделения[отделение],SMALL(IF(Отделения[Город]=$AV$1,ROW(Отделения[Город])-1),ROW(AB14)-ROW($A$2)+1)),\"\")","v":""},{"$f":"IFERROR(INDEX(Отделения[отделение],SMALL(IF(Отделения[Город]=$AW$1,ROW(Отделения[Город])-1),ROW(AB14)-ROW($A$2)+1)),\"\")","v":""},{"$f":"IFERROR(INDEX(Отделения[отделение],SMALL(IF(Отделения[Город]=$AX$1,ROW(Отделения[Город])-1),ROW(AB14)-ROW($A$2)+1)),\"\")","v":""},{"$f":"IFERROR(INDEX(Отделения[отделение],SMALL(IF(Отделения[Город]=$AY$1,ROW(Отделения[Город])-1),ROW(AB14)-ROW($A$2)+1)),\"\")","v":""},{"$f":"IFERROR(INDEX(Отделения[отделение],SMALL(IF(Отделения[Город]=$AZ$1,ROW(Отделения[Город])-1),ROW(AB14)-ROW($A$2)+1)),\"\")","v":""},{"$f":"IFERROR(INDEX(Отделения[отделение],SMALL(IF(Отделения[Город]=$BA$1,ROW(Отделения[Город])-1),ROW(AB14)-ROW($A$2)+1)),\"\")","v":""},{"$f":"IFERROR(INDEX(Отделения[отделение],SMALL(IF(Отделения[Город]=$BB$1,ROW(Отделения[Город])-1),ROW(AB14)-ROW($A$2)+1)),\"\")","v":""},{"$f":"IFERROR(INDEX(Отделения[отделение],SMALL(IF(Отделения[Город]=$BC$1,ROW(Отделения[Город])-1),ROW(AC14)-ROW($A$2)+1)),\"\")","v":""},{"$f":"IFERROR(INDEX(Отделения[отделение],SMALL(IF(Отделения[Город]=$BD$1,ROW(Отделения[Город])-1),ROW(AD14)-ROW($A$2)+1)),\"\")","v":""},{"$f":"IFERROR(INDEX(Отделения[отделение],SMALL(IF(Отделения[Город]=$BE$1,ROW(Отделения[Город])-1),ROW(AE14)-ROW($A$2)+1)),\"\")","v":""},{"$f":"IFERROR(INDEX(Отделения[отделение],SMALL(IF(Отделения[Город]=$BF$1,ROW(Отделения[Город])-1),ROW(AF14)-ROW($A$2)+1)),\"\")","v":""},{"$f":"IFERROR(INDEX(Отделения[отделение],SMALL(IF(Отделения[Город]=$BG$1,ROW(Отделения[Город])-1),ROW(AG14)-ROW($A$2)+1)),\"\")","v":""},{"$f":"IFERROR(INDEX(Отделения[отделение],SMALL(IF(Отделения[Город]=$BH$1,ROW(Отделения[Город])-1),ROW(AH14)-ROW($A$2)+1)),\"\")","v":""},{"$f":"IFERROR(INDEX(Отделения[отделение],SMALL(IF(Отделения[Город]=$BI$1,ROW(Отделения[Город])-1),ROW(AI14)-ROW($A$2)+1)),\"\")","v":""},{"$f":"IFERROR(INDEX(Отделения[отделение],SMALL(IF(Отделения[Город]=$BJ$1,ROW(Отделения[Город])-1),ROW(AJ14)-ROW($A$2)+1)),\"\")","v":""},{"$f":"IFERROR(INDEX(Отделения[отделение],SMALL(IF(Отделения[Город]=$BK$1,ROW(Отделения[Город])-1),ROW(AK14)-ROW($A$2)+1)),\"\")","v":""},{"$f":"IFERROR(INDEX(Отделения[отделение],SMALL(IF(Отделения[Город]=$BL$1,ROW(Отделения[Город])-1),ROW(AL14)-ROW($A$2)+1)),\"\")","v":""},{"$f":"IFERROR(INDEX(Отделения[отделение],SMALL(IF(Отделения[Город]=$BM$1,ROW(Отделения[Город])-1),ROW(AM14)-ROW($A$2)+1)),\"\")","v":""},{"$f":"IFERROR(INDEX(Отделения[отделение],SMALL(IF(Отделения[Город]=$BN$1,ROW(Отделения[Город])-1),ROW(AN14)-ROW($A$2)+1)),\"\")","v":""},{"$f":"IFERROR(INDEX(Отделения[отделение],SMALL(IF(Отделения[Город]=$BO$1,ROW(Отделения[Город])-1),ROW(AO14)-ROW($A$2)+1)),\"\")","v":""},{"$f":"IFERROR(INDEX(Отделения[отделение],SMALL(IF(Отделения[Город]=$BP$1,ROW(Отделения[Город])-1),ROW(AP14)-ROW($A$2)+1)),\"\")","v":""},{"$f":"IFERROR(INDEX(Отделения[отделение],SMALL(IF(Отделения[Город]=$BQ$1,ROW(Отделения[Город])-1),ROW(AQ14)-ROW($A$2)+1)),\"\")","v":""},{"$f":"IFERROR(INDEX(Отделения[отделение],SMALL(IF(Отделения[Город]=$BR$1,ROW(Отделения[Город])-1),ROW(AR14)-ROW($A$2)+1)),\"\")","v":""},{"$f":"IFERROR(INDEX(Отделения[отделение],SMALL(IF(Отделения[Город]=$BS$1,ROW(Отделения[Город])-1),ROW(AS14)-ROW($A$2)+1)),\"\")","v":""},{"$f":"IFERROR(INDEX(Отделения[отделение],SMALL(IF(Отделения[Город]=$BT$1,ROW(Отделения[Город])-1),ROW(AT14)-ROW($A$2)+1)),\"\")","v":""},{"$f":"IFERROR(INDEX(Отделения[отделение],SMALL(IF(Отделения[Город]=$BU$1,ROW(Отделения[Город])-1),ROW(AU14)-ROW($A$2)+1)),\"\")","v":""},{"$f":"IFERROR(INDEX(Отделения[отделение],SMALL(IF(Отделения[Город]=$BV$1,ROW(Отделения[Город])-1),ROW(AV14)-ROW($A$2)+1)),\"\")","v":""},{"$f":"IFERROR(INDEX(Отделения[отделение],SMALL(IF(Отделения[Город]=$BW$1,ROW(Отделения[Город])-1),ROW(AV14)-ROW($A$2)+1)),\"\")","v":""},{"$f":"IFERROR(INDEX(Отделения[отделение],SMALL(IF(Отделения[Город]=$BX$1,ROW(Отделения[Город])-1),ROW(AV14)-ROW($A$2)+1)),\"\")","v":""},{"$f":"IFERROR(INDEX(Отделения[отделение],SMALL(IF(Отделения[Город]=$BY$1,ROW(Отделения[Город])-1),ROW(AV14)-ROW($A$2)+1)),\"\")","v":""},{"$f":"IFERROR(INDEX(Отделения[отделение],SMALL(IF(Отделения[Город]=$BZ$1,ROW(Отделения[Город])-1),ROW(AV14)-ROW($A$2)+1)),\"\")","v":""},{"$f":"IFERROR(INDEX(Отделения[отделение],SMALL(IF(Отделения[Город]=$CA$1,ROW(Отделения[Город])-1),ROW(AV14)-ROW($A$2)+1)),\"\")","v":""},{"$f":"IFERROR(INDEX(Отделения[отделение],SMALL(IF(Отделения[Город]=$CB$1,ROW(Отделения[Город])-1),ROW(AV14)-ROW($A$2)+1)),\"\")","v":""},{"$f":"IFERROR(INDEX(Отделения[отделение],SMALL(IF(Отделения[Город]=$CC$1,ROW(Отделения[Город])-1),ROW(AV14)-ROW($A$2)+1)),\"\")","v":""},{"$f":"IFERROR(INDEX(Отделения[отделение],SMALL(IF(Отделения[Город]=$CD$1,ROW(Отделения[Город])-1),ROW(AV14)-ROW($A$2)+1)),\"\")","v":""},{"$f":"IFERROR(INDEX(Отделения[отделение],SMALL(IF(Отделения[Город]=$CE$1,ROW(Отделения[Город])-1),ROW(AV14)-ROW($A$2)+1)),\"\")","v":""},{"$f":"IFERROR(INDEX(Отделения[отделение],SMALL(IF(Отделения[Город]=$CF$1,ROW(Отделения[Город])-1),ROW(AV14)-ROW($A$2)+1)),\"\")","v":""},{"$f":"IFERROR(INDEX(Отделения[отделение],SMALL(IF(Отделения[Город]=$CG$1,ROW(Отделения[Город])-1),ROW(AV14)-ROW($A$2)+1)),\"\")","v":""},{"$f":"IFERROR(INDEX(Отделения[отделение],SMALL(IF(Отделения[Город]=$CH$1,ROW(Отделения[Город])-1),ROW(AW14)-ROW($A$2)+1)),\"\")","v":""},{"$f":"IFERROR(INDEX(Отделения[отделение],SMALL(IF(Отделения[Город]=$CI$1,ROW(Отделения[Город])-1),ROW(AX14)-ROW($A$2)+1)),\"\")","v":""},{"$f":"IFERROR(INDEX(Отделения[отделение],SMALL(IF(Отделения[Город]=$CJ$1,ROW(Отделения[Город])-1),ROW(AY14)-ROW($A$2)+1)),\"\")","v":""},{"$f":"IFERROR(INDEX(Отделения[отделение],SMALL(IF(Отделения[Город]=$CK$1,ROW(Отделения[Город])-1),ROW(AZ14)-ROW($A$2)+1)),\"\")","v":""},{"$f":"IFERROR(INDEX(Отделения[отделение],SMALL(IF(Отделения[Город]=$CL$1,ROW(Отделения[Город])-1),ROW(BA14)-ROW($A$2)+1)),\"\")","v":""},{"$f":"IFERROR(INDEX(Отделения[отделение],SMALL(IF(Отделения[Город]=$CM$1,ROW(Отделения[Город])-1),ROW(BB14)-ROW($A$2)+1)),\"\")","v":""},{"$f":"IFERROR(INDEX(Отделения[отделение],SMALL(IF(Отделения[Город]=$CN$1,ROW(Отделения[Город])-1),ROW(BC14)-ROW($A$2)+1)),\"\")","v":""},{"$f":"IFERROR(INDEX(Отделения[отделение],SMALL(IF(Отделения[Город]=$CO$1,ROW(Отделения[Город])-1),ROW(BD14)-ROW($A$2)+1)),\"\")","v":""},{"$f":"IFERROR(INDEX(Отделения[отделение],SMALL(IF(Отделения[Город]=$CP$1,ROW(Отделения[Город])-1),ROW(BE14)-ROW($A$2)+1)),\"\")","v":""},{"$f":"IFERROR(INDEX(Отделения[отделение],SMALL(IF(Отделения[Город]=$CQ$1,ROW(Отделения[Город])-1),ROW(BF14)-ROW($A$2)+1)),\"\")","v":""},{"$f":"IFERROR(INDEX(Отделения[отделение],SMALL(IF(Отделения[Город]=$CR$1,ROW(Отделения[Город])-1),ROW(BG14)-ROW($A$2)+1)),\"\")","v":""},{"$f":"IFERROR(INDEX(Отделения[отделение],SMALL(IF(Отделения[Город]=$CS$1,ROW(Отделения[Город])-1),ROW(BH14)-ROW($A$2)+1)),\"\")","v":""},{"$f":"IFERROR(INDEX(Отделения[отделение],SMALL(IF(Отделения[Город]=$CT$1,ROW(Отделения[Город])-1),ROW(BI14)-ROW($A$2)+1)),\"\")","v":""},{"$f":"IFERROR(INDEX(Отделения[отделение],SMALL(IF(Отделения[Город]=$CU$1,ROW(Отделения[Город])-1),ROW(BJ14)-ROW($A$2)+1)),\"\")","v":""},{"$f":"IFERROR(INDEX(Отделения[отделение],SMALL(IF(Отделения[Город]=$CV$1,ROW(Отделения[Город])-1),ROW(BK14)-ROW($A$2)+1)),\"\")","v":""},{"$f":"IFERROR(INDEX(Отделения[отделение],SMALL(IF(Отделения[Город]=$CW$1,ROW(Отделения[Город])-1),ROW(BL14)-ROW($A$2)+1)),\"\")","v":""},{"$f":"IFERROR(INDEX(Отделения[отделение],SMALL(IF(Отделения[Город]=$CX$1,ROW(Отделения[Город])-1),ROW(BM14)-ROW($A$2)+1)),\"\")","v":""},{"$f":"IFERROR(INDEX(Отделения[отделение],SMALL(IF(Отделения[Город]=$CY$1,ROW(Отделения[Город])-1),ROW(BM14)-ROW($A$2)+1)),\"\")","v":""},{"$f":"IFERROR(INDEX(Отделения[отделение],SMALL(IF(Отделения[Город]=$CZ$1,ROW(Отделения[Город])-1),ROW(BM14)-ROW($A$2)+1)),\"\")","v":""},{"$f":"IFERROR(INDEX(Отделения[отделение],SMALL(IF(Отделения[Город]=$DA$1,ROW(Отделения[Город])-1),ROW(BM14)-ROW($A$2)+1)),\"\")","v":""},{"$f":"IFERROR(INDEX(Отделения[отделение],SMALL(IF(Отделения[Город]=$DB$1,ROW(Отделения[Город])-1),ROW(BM14)-ROW($A$2)+1)),\"\")","v":""}]
["Москва","ДО \"ВАРШАВСКИЙ\" , 117556, г. Москва, ш. Варшавское.,д. 76, корп. 1","0433","MOWR",null,null,{"$f":"IFERROR(INDEX(Отделения[отделение],SMALL(IF(Отделения[Город]=$G$1,ROW(Отделения[Город])-1),ROW(A15)-ROW($A$2)+1)),\"\")","v":""},{"$f":"IFERROR(INDEX(Отделения[отделение],SMALL(IF(Отделения[Город]=$H$1,ROW(Отделения[Город])-1),ROW(A15)-ROW($A$2)+1)),\"\")","v":""},{"$f":"IFERROR(INDEX(Отделения[отделение],SMALL(IF(Отделения[Город]=$I$1,ROW(Отделения[Город])-1),ROW(A15)-ROW($A$2)+1)),\"\")","v":""},{"$f":"IFERROR(INDEX(Отделения[отделение],SMALL(IF(Отделения[Город]=$J$1,ROW(Отделения[Город])-1),ROW(A15)-ROW($A$2)+1)),\"\")","v":""},{"$f":"IFERROR(INDEX(Отделения[отделение],SMALL(IF(Отделения[Город]=$K$1,ROW(Отделения[Город])-1),ROW(A15)-ROW($A$2)+1)),\"\")","v":""},{"$f":"IFERROR(INDEX(Отделения[отделение],SMALL(IF(Отделения[Город]=$L$1,ROW(Отделения[Город])-1),ROW(A15)-ROW($A$2)+1)),\"\")","v":""},{"$f":"IFERROR(INDEX(Отделения[отделение],SMALL(IF(Отделения[Город]=$M$1,ROW(Отделения[Город])-1),ROW(B15)-ROW($A$2)+1)),\"\")","v":""},{"$f":"IFERROR(INDEX(Отделения[отделение],SMALL(IF(Отделения[Город]=$N$1,ROW(Отделения[Город])-1),ROW(#REF!)-ROW($A$2)+1)),\"\")","v":""},{"$f":"IFERROR(INDEX(Отделения[отделение],SMALL(IF(Отделения[Город]=$O$1,ROW(Отделения[Город])-1),ROW(C15)-ROW($A$2)+1)),\"\")","v":""},{"$f":"IFERROR(INDEX(Отделения[отделение],SMALL(IF(Отделения[Город]=$P$1,ROW(Отделения[Город])-1),ROW(D15)-ROW($A$2)+1)),\"\")","v":""},{"$f":"IFERROR(INDEX(Отделения[отделение],SMALL(IF(Отделения[Город]=$Q$1,ROW(Отделения[Город])-1),ROW(F15)-ROW($A$2)+1)),\"\")","v":""},{"$f":"IFERROR(INDEX(Отделения[отделение],SMALL(IF(Отделения[Город]=$R$1,ROW(Отделения[Город])-1),ROW(#REF!)-ROW($A$2)+1)),\"\")","v":""},{"$f":"IFERROR(INDEX(Отделения[отделение],SMALL(IF(Отделения[Город]=$S$1,ROW(Отделения[Город])-1),ROW(G15)-ROW($A$2)+1)),\"\")","v":""},{"$f":"IFERROR(INDEX(Отделения[отделение],SMALL(IF(Отделения[Город]=$T$1,ROW(Отделения[Город])-1),ROW(H15)-ROW($A$2)+1)),\"\")","v":""},{"$f":"IFERROR(INDEX(Отделения[отделение],SMALL(IF(Отделения[Город]=$U$1,ROW(Отделения[Город])-1),ROW(I15)-ROW($A$2)+1)),\"\")","v":""},{"$f":"IFERROR(INDEX(Отделения[отделение],SMALL(IF(Отделения[Город]=$V$1,ROW(Отделения[Город])-1),ROW(J15)-ROW($A$2)+1)),\"\")","v":""},{"$f":"IFERROR(INDEX(Отделения[отделение],SMALL(IF(Отделения[Город]=$W$1,ROW(Отделения[Город])-1),ROW(K15)-ROW($A$2)+1)),\"\")","v":""},{"$f":"IFERROR(INDEX(Отделения[отделение],SMALL(IF(Отделения[Город]=$X$1,ROW(Отделения[Город])-1),ROW(L15)-ROW($A$2)+1)),\"\")","v":""},{"$f":"IFERROR(INDEX(Отделения[отделение],SMALL(IF(Отделения[Город]=$Y$1,ROW(Отделения[Город])-1),ROW(M15)-ROW($A$2)+1)),\"\")","v":""},{"$f":"IFERROR(INDEX(Отделения[отделение],SMALL(IF(Отделения[Город]=$Z$1,ROW(Отделения[Город])-1),ROW(N15)-ROW($A$2)+1)),\"\")","v":""},{"$f":"IFERROR(INDEX(Отделения[отделение],SMALL(IF(Отделения[Город]=$AA$1,ROW(Отделения[Город])-1),ROW(O15)-ROW($A$2)+1)),\"\")","v":""},{"$f":"IFERROR(INDEX(Отделения[отделение],SMALL(IF(Отделения[Город]=$AB$1,ROW(Отделения[Город])-1),ROW(P15)-ROW($A$2)+1)),\"\")","v":""},{"$f":"IFERROR(INDEX(Отделения[отделение],SMALL(IF(Отделения[Город]=$AC$1,ROW(Отделения[Город])-1),ROW(Q15)-ROW($A$2)+1)),\"\")","v":""},{"$f":"IFERROR(INDEX(Отделения[отделение],SMALL(IF(Отделения[Город]=$AD$1,ROW(Отделения[Город])-1),ROW(R15)-ROW($A$2)+1)),\"\")","v":""},{"$f":"IFERROR(INDEX(Отделения[отделение],SMALL(IF(Отделения[Город]=$AE$1,ROW(Отделения[Город])-1),ROW(S15)-ROW($A$2)+1)),\"\")","v":""},{"$f":"IFERROR(INDEX(Отделения[отделение],SMALL(IF(Отделения[Город]=$AF$1,ROW(Отделения[Город])-1),ROW(T15)-ROW($A$2)+1)),\"\")","v":""},{"$f":"IFERROR(INDEX(Отделения[отделение],SMALL(IF(Отделения[Город]=$AG$1,ROW(Отделения[Город])-1),ROW(U15)-ROW($A$2)+1)),\"\")","v":""},{"$f":"IFERROR(INDEX(Отделения[отделение],SMALL(IF(Отделения[Город]=$AH$1,ROW(Отделения[Город])-1),ROW(V15)-ROW($A$2)+1)),\"\")","v":""},{"$f":"IFERROR(INDEX(Отделения[отделение],SMALL(IF(Отделения[Город]=$AI$1,ROW(Отделения[Город])-1),ROW(AB15)-ROW($A$2)+1)),\"\")","v":""},{"$f":"IFERROR(INDEX(Отделения[отделение],SMALL(IF(Отделения[Город]=$AJ$1,ROW(Отделения[Город])-1),ROW(AB15)-ROW($A$2)+1)),\"\")","v":""},{"$f":"IFERROR(INDEX(Отделения[отделение],SMALL(IF(Отделения[Город]=$AK$1,ROW(Отделения[Город])-1),ROW(AB15)-ROW($A$2)+1)),\"\")","v":""},{"$f":"IFERROR(INDEX(Отделения[отделение],SMALL(IF(Отделения[Город]=$AL$1,ROW(Отделения[Город])-1),ROW(AB15)-ROW($A$2)+1)),\"\")","v":""},{"$f":"IFERROR(INDEX(Отделения[отделение],SMALL(IF(Отделения[Город]=$AM$1,ROW(Отделения[Город])-1),ROW(AB15)-ROW($A$2)+1)),\"\")","v":""},{"$f":"IFERROR(INDEX(Отделения[отделение],SMALL(IF(Отделения[Город]=$AN$1,ROW(Отделения[Город])-1),ROW(AB15)-ROW($A$2)+1)),\"\")","v":""},{"$f":"IFERROR(INDEX(Отделения[отделение],SMALL(IF(Отделения[Город]=$AO$1,ROW(Отделения[Город])-1),ROW(AB15)-ROW($A$2)+1)),\"\")","v":""},{"$f":"IFERROR(INDEX(Отделения[отделение],SMALL(IF(Отделения[Город]=$AP$1,ROW(Отделения[Город])-1),ROW(AB15)-ROW($A$2)+1)),\"\")","v":""},{"$f":"IFERROR(INDEX(Отделения[отделение],SMALL(IF(Отделения[Город]=$AQ$1,ROW(Отделения[Город])-1),ROW(AB15)-ROW($A$2)+1)),\"\")","v":""},{"$f":"IFERROR(INDEX(Отделения[отделение],SMALL(IF(Отделения[Город]=$AR$1,ROW(Отделения[Город])-1),ROW(AB15)-ROW($A$2)+1)),\"\")","v":""},{"$f":"IFERROR(INDEX(Отделения[отделение],SMALL(IF(Отделения[Город]=$AS$1,ROW(Отделения[Город])-1),ROW(AB15)-ROW($A$2)+1)),\"\")","v":""},{"$f":"IFERROR(INDEX(Отделения[отделение],SMALL(IF(Отделения[Город]=$AT$1,ROW(Отделения[Город])-1),ROW(AB15)-ROW($A$2)+1)),\"\")","v":""},{"$f":"IFERROR(INDEX(Отделения[отделение],SMALL(IF(Отделения[Город]=$AU$1,ROW(Отделения[Город])-1),ROW(AB15)-ROW($A$2)+1)),\"\")","v":""},{"$f":"IFERROR(INDEX(Отделения[отделение],SMALL(IF(Отделения[Город]=$AV$1,ROW(Отделения[Город])-1),ROW(AB15)-ROW($A$2)+1)),\"\")","v":""},{"$f":"IFERROR(INDEX(Отделения[отделение],SMALL(IF(Отделения[Город]=$AW$1,ROW(Отделения[Город])-1),ROW(AB15)-ROW($A$2)+1)),\"\")","v":""},{"$f":"IFERROR(INDEX(Отделения[отделение],SMALL(IF(Отделения[Город]=$AX$1,ROW(Отделения[Город])-1),ROW(AB15)-ROW($A$2)+1)),\"\")","v":""},{"$f":"IFERROR(INDEX(Отделения[отделение],SMALL(IF(Отделения[Город]=$AY$1,ROW(Отделения[Город])-1),ROW(AB15)-ROW($A$2)+1)),\"\")","v":""},{"$f":"IFERROR(INDEX(Отделения[отделение],SMALL(IF(Отделения[Город]=$AZ$1,ROW(Отделения[Город])-1),ROW(AB15)-ROW($A$2)+1)),\"\")","v":""},{"$f":"IFERROR(INDEX(Отделения[отделение],SMALL(IF(Отделения[Город]=$BA$1,ROW(Отделения[Город])-1),ROW(AB15)-ROW($A$2)+1)),\"\")","v":""},{"$f":"IFERROR(INDEX(Отделения[отделение],SMALL(IF(Отделения[Город]=$BB$1,ROW(Отделения[Город])-1),ROW(AB15)-ROW($A$2)+1)),\"\")","v":""},{"$f":"IFERROR(INDEX(Отделения[отделение],SMALL(IF(Отделения[Город]=$BC$1,ROW(Отделения[Город])-1),ROW(AC15)-ROW($A$2)+1)),\"\")","v":""},{"$f":"IFERROR(INDEX(Отделения[отделение],SMALL(IF(Отделения[Город]=$BD$1,ROW(Отделения[Город])-1),ROW(AD15)-ROW($A$2)+1)),\"\")","v":""},{"$f":"IFERROR(INDEX(Отделения[отделение],SMALL(IF(Отделения[Город]=$BE$1,ROW(Отделения[Город])-1),ROW(AE15)-ROW($A$2)+1)),\"\")","v":""},{"$f":"IFERROR(INDEX(Отделения[отделение],SMALL(IF(Отделения[Город]=$BF$1,ROW(Отделения[Город])-1),ROW(AF15)-ROW($A$2)+1)),\"\")","v":""},{"$f":"IFERROR(INDEX(Отделения[отделение],SMALL(IF(Отделения[Город]=$BG$1,ROW(Отделения[Город])-1),ROW(AG15)-ROW($A$2)+1)),\"\")","v":""},{"$f":"IFERROR(INDEX(Отделения[отделение],SMALL(IF(Отделения[Город]=$BH$1,ROW(Отделения[Город])-1),ROW(AH15)-ROW($A$2)+1)),\"\")","v":""},{"$f":"IFERROR(INDEX(Отделения[отделение],SMALL(IF(Отделения[Город]=$BI$1,ROW(Отделения[Город])-1),ROW(AI15)-ROW($A$2)+1)),\"\")","v":""},{"$f":"IFERROR(INDEX(Отделения[отделение],SMALL(IF(Отделения[Город]=$BJ$1,ROW(Отделения[Город])-1),ROW(AJ15)-ROW($A$2)+1)),\"\")","v":""},{"$f":"IFERROR(INDEX(Отделения[отделение],SMALL(IF(Отделения[Город]=$BK$1,ROW(Отделения[Город])-1),ROW(AK15)-ROW($A$2)+1)),\"\")","v":""},{"$f":"IFERROR(INDEX(Отделения[отделение],SMALL(IF(Отделения[Город]=$BL$1,ROW(Отделения[Город])-1),ROW(AL15)-ROW($A$2)+1)),\"\")","v":""},{"$f":"IFERROR(INDEX(Отделения[отделение],SMALL(IF(Отделения[Город]=$BM$1,ROW(Отделения[Город])-1),ROW(AM15)-ROW($A$2)+1)),\"\")","v":""},{"$f":"IFERROR(INDEX(Отделения[отделение],SMALL(IF(Отделения[Город]=$BN$1,ROW(Отделения[Город])-1),ROW(AN15)-ROW($A$2)+1)),\"\")","v":""},{"$f":"IFERROR(INDEX(Отделения[отделение],SMALL(IF(Отделения[Город]=$BO$1,ROW(Отделения[Город])-1),ROW(AO15)-ROW($A$2)+1)),\"\")","v":""},{"$f":"IFERROR(INDEX(Отделения[отделение],SMALL(IF(Отделения[Город]=$BP$1,ROW(Отделения[Город])-1),ROW(AP15)-ROW($A$2)+1)),\"\")","v":""},{"$f":"IFERROR(INDEX(Отделения[отделение],SMALL(IF(Отделения[Город]=$BQ$1,ROW(Отделения[Город])-1),ROW(AQ15)-ROW($A$2)+1)),\"\")","v":""},{"$f":"IFERROR(INDEX(Отделения[отделение],SMALL(IF(Отделения[Город]=$BR$1,ROW(Отделения[Город])-1),ROW(AR15)-ROW($A$2)+1)),\"\")","v":""},{"$f":"IFERROR(INDEX(Отделения[отделение],SMALL(IF(Отделения[Город]=$BS$1,ROW(Отделения[Город])-1),ROW(AS15)-ROW($A$2)+1)),\"\")","v":""},{"$f":"IFERROR(INDEX(Отделения[отделение],SMALL(IF(Отделения[Город]=$BT$1,ROW(Отделения[Город])-1),ROW(AT15)-ROW($A$2)+1)),\"\")","v":""},{"$f":"IFERROR(INDEX(Отделения[отделение],SMALL(IF(Отделения[Город]=$BU$1,ROW(Отделения[Город])-1),ROW(AU15)-ROW($A$2)+1)),\"\")","v":""},{"$f":"IFERROR(INDEX(Отделения[отделение],SMALL(IF(Отделения[Город]=$BV$1,ROW(Отделения[Город])-1),ROW(AV15)-ROW($A$2)+1)),\"\")","v":""},{"$f":"IFERROR(INDEX(Отделения[отделение],SMALL(IF(Отделения[Город]=$BW$1,ROW(Отделения[Город])-1),ROW(AV15)-ROW($A$2)+1)),\"\")","v":""},{"$f":"IFERROR(INDEX(Отделения[отделение],SMALL(IF(Отделения[Город]=$BX$1,ROW(Отделения[Город])-1),ROW(AV15)-ROW($A$2)+1)),\"\")","v":""},{"$f":"IFERROR(INDEX(Отделения[отделение],SMALL(IF(Отделения[Город]=$BY$1,ROW(Отделения[Город])-1),ROW(AV15)-ROW($A$2)+1)),\"\")","v":""},{"$f":"IFERROR(INDEX(Отделения[отделение],SMALL(IF(Отделения[Город]=$BZ$1,ROW(Отделения[Город])-1),ROW(AV15)-ROW($A$2)+1)),\"\")","v":""},{"$f":"IFERROR(INDEX(Отделения[отделение],SMALL(IF(Отделения[Город]=$CA$1,ROW(Отделения[Город])-1),ROW(AV15)-ROW($A$2)+1)),\"\")","v":""},{"$f":"IFERROR(INDEX(Отделения[отделение],SMALL(IF(Отделения[Город]=$CB$1,ROW(Отделения[Город])-1),ROW(AV15)-ROW($A$2)+1)),\"\")","v":""},{"$f":"IFERROR(INDEX(Отделения[отделение],SMALL(IF(Отделения[Город]=$CC$1,ROW(Отделения[Город])-1),ROW(AV15)-ROW($A$2)+1)),\"\")","v":""},{"$f":"IFERROR(INDEX(Отделения[отделение],SMALL(IF(Отделения[Город]=$CD$1,ROW(Отделения[Город])-1),ROW(AV15)-ROW($A$2)+1)),\"\")","v":""},{"$f":"IFERROR(INDEX(Отделения[отделение],SMALL(IF(Отделения[Город]=$CE$1,ROW(Отделения[Город])-1),ROW(AV15)-ROW($A$2)+1)),\"\")","v":""},{"$f":"IFERROR(INDEX(Отделения[отделение],SMALL(IF(Отделения[Город]=$CF$1,ROW(Отделения[Город])-1),ROW(AV15)-ROW($A$2)+1)),\"\")","v":""},{"$f":"IFERROR(INDEX(Отделения[отделение],SMALL(IF(Отделения[Город]=$CG$1,ROW(Отделения[Город])-1),ROW(AV15)-ROW($A$2)+1)),\"\")","v":""},{"$f":"IFERROR(INDEX(Отделения[отделение],SMALL(IF(Отделения[Город]=$CH$1,ROW(Отделения[Город])-1),ROW(AW15)-ROW($A$2)+1)),\"\")","v":""},{"$f":"IFERROR(INDEX(Отделения[отделение],SMALL(IF(Отделения[Город]=$CI$1,ROW(Отделения[Город])-1),ROW(AX15)-ROW($A$2)+1)),\"\")","v":""},{"$f":"IFERROR(INDEX(Отделения[отделение],SMALL(IF(Отделения[Город]=$CJ$1,ROW(Отделения[Город])-1),ROW(AY15)-ROW($A$2)+1)),\"\")","v":""},{"$f":"IFERROR(INDEX(Отделения[отделение],SMALL(IF(Отделения[Город]=$CK$1,ROW(Отделения[Город])-1),ROW(AZ15)-ROW($A$2)+1)),\"\")","v":""},{"$f":"IFERROR(INDEX(Отделения[отделение],SMALL(IF(Отделения[Город]=$CL$1,ROW(Отделения[Город])-1),ROW(BA15)-ROW($A$2)+1)),\"\")","v":""},{"$f":"IFERROR(INDEX(Отделения[отделение],SMALL(IF(Отделения[Город]=$CM$1,ROW(Отделения[Город])-1),ROW(BB15)-ROW($A$2)+1)),\"\")","v":""},{"$f":"IFERROR(INDEX(Отделения[отделение],SMALL(IF(Отделения[Город]=$CN$1,ROW(Отделения[Город])-1),ROW(BC15)-ROW($A$2)+1)),\"\")","v":""},{"$f":"IFERROR(INDEX(Отделения[отделение],SMALL(IF(Отделения[Город]=$CO$1,ROW(Отделения[Город])-1),ROW(BD15)-ROW($A$2)+1)),\"\")","v":""},{"$f":"IFERROR(INDEX(Отделения[отделение],SMALL(IF(Отделения[Город]=$CP$1,ROW(Отделения[Город])-1),ROW(BE15)-ROW($A$2)+1)),\"\")","v":""},{"$f":"IFERROR(INDEX(Отделения[отделение],SMALL(IF(Отделения[Город]=$CQ$1,ROW(Отделения[Город])-1),ROW(BF15)-ROW($A$2)+1)),\"\")","v":""},{"$f":"IFERROR(INDEX(Отделения[отделение],SMALL(IF(Отделения[Город]=$CR$1,ROW(Отделения[Город])-1),ROW(BG15)-ROW($A$2)+1)),\"\")","v":""},{"$f":"IFERROR(INDEX(Отделения[отделение],SMALL(IF(Отделения[Город]=$CS$1,ROW(Отделения[Город])-1),ROW(BH15)-ROW($A$2)+1)),\"\")","v":""},{"$f":"IFERROR(INDEX(Отделения[отделение],SMALL(IF(Отделения[Город]=$CT$1,ROW(Отделения[Город])-1),ROW(BI15)-ROW($A$2)+1)),\"\")","v":""},{"$f":"IFERROR(INDEX(Отделения[отделение],SMALL(IF(Отделения[Город]=$CU$1,ROW(Отделения[Город])-1),ROW(BJ15)-ROW($A$2)+1)),\"\")","v":""},{"$f":"IFERROR(INDEX(Отделения[отделение],SMALL(IF(Отделения[Город]=$CV$1,ROW(Отделения[Город])-1),ROW(BK15)-ROW($A$2)+1)),\"\")","v":""},{"$f":"IFERROR(INDEX(Отделения[отделение],SMALL(IF(Отделения[Город]=$CW$1,ROW(Отделения[Город])-1),ROW(BL15)-ROW($A$2)+1)),\"\")","v":""},{"$f":"IFERROR(INDEX(Отделения[отделение],SMALL(IF(Отделения[Город]=$CX$1,ROW(Отделения[Город])-1),ROW(BM15)-ROW($A$2)+1)),\"\")","v":""},{"$f":"IFERROR(INDEX(Отделения[отделение],SMALL(IF(Отделения[Город]=$CY$1,ROW(Отделения[Город])-1),ROW(BM15)-ROW($A$2)+1)),\"\")","v":""},{"$f":"IFERROR(INDEX(Отделения[отделение],SMALL(IF(Отделения[Город]=$CZ$1,ROW(Отделения[Город])-1),ROW(BM15)-ROW($A$2)+1)),\"\")","v":""},{"$f":"IFERROR(INDEX(Отделения[отделение],SMALL(IF(Отделения[Город]=$DA$1,ROW(Отделения[Город])-1),ROW(BM15)-ROW($A$2)+1)),\"\")","v":""},{"$f":"IFERROR(INDEX(Отделения[отделение],SMALL(IF(Отделения[Город]=$DB$1,ROW(Отделения[Город])-1),ROW(BM15)-ROW($A$2)+1)),\"\")","v":""}]
["Челябинск","ДО \"Челябинск-улица Кирова\" , 454000, г. Челябинск, ул. Кирова,108","0435","MOCH",null,null,{"$f":"IFERROR(INDEX(Отделения[отделение],SMALL(IF(Отделения[Город]=$G$1,ROW(Отделения[Город])-1),ROW(A16)-ROW($A$2)+1)),\"\")","v":""},{"$f":"IFERROR(INDEX(Отделения[отделение],SMALL(IF(Отделения[Город]=$H$1,ROW(Отделения[Город])-1),ROW(A16)-ROW($A$2)+1)),\"\")","v":""},{"$f":"IFERROR(INDEX(Отделения[отделение],SMALL(IF(Отделения[Город]=$I$1,ROW(Отделения[Город])-1),ROW(A16)-ROW($A$2)+1)),\"\")","v":""},{"$f":"IFERROR(INDEX(Отделения[отделение],SMALL(IF(Отделения[Город]=$J$1,ROW(Отделения[Город])-1),ROW(A16)-ROW($A$2)+1)),\"\")","v":""},{"$f":"IFERROR(INDEX(Отделения[отделение],SMALL(IF(Отделения[Город]=$K$1,ROW(Отделения[Город])-1),ROW(A16)-ROW($A$2)+1)),\"\")","v":""},{"$f":"IFERROR(INDEX(Отделения[отделение],SMALL(IF(Отделения[Город]=$L$1,ROW(Отделения[Город])-1),ROW(A16)-ROW($A$2)+1)),\"\")","v":""},{"$f":"IFERROR(INDEX(Отделения[отделение],SMALL(IF(Отделения[Город]=$M$1,ROW(Отделения[Город])-1),ROW(B16)-ROW($A$2)+1)),\"\")","v":""},{"$f":"IFERROR(INDEX(Отделения[отделение],SMALL(IF(Отделения[Город]=$N$1,ROW(Отделения[Город])-1),ROW(#REF!)-ROW($A$2)+1)),\"\")","v":""},{"$f":"IFERROR(INDEX(Отделения[отделение],SMALL(IF(Отделения[Город]=$O$1,ROW(Отделения[Город])-1),ROW(C16)-ROW($A$2)+1)),\"\")","v":""},{"$f":"IFERROR(INDEX(Отделения[отделение],SMALL(IF(Отделения[Город]=$P$1,ROW(Отделения[Город])-1),ROW(D16)-ROW($A$2)+1)),\"\")","v":""},{"$f":"IFERROR(INDEX(Отделения[отделение],SMALL(IF(Отделения[Город]=$Q$1,ROW(Отделения[Город])-1),ROW(F16)-ROW($A$2)+1)),\"\")","v":""},{"$f":"IFERROR(INDEX(Отделения[отделение],SMALL(IF(Отделения[Город]=$R$1,ROW(Отделения[Город])-1),ROW(#REF!)-ROW($A$2)+1)),\"\")","v":""},{"$f":"IFERROR(INDEX(Отделения[отделение],SMALL(IF(Отделения[Город]=$S$1,ROW(Отделения[Город])-1),ROW(G16)-ROW($A$2)+1)),\"\")","v":""},{"$f":"IFERROR(INDEX(Отделения[отделение],SMALL(IF(Отделения[Город]=$T$1,ROW(Отделения[Город])-1),ROW(H16)-ROW($A$2)+1)),\"\")","v":""},{"$f":"IFERROR(INDEX(Отделения[отделение],SMALL(IF(Отделения[Город]=$U$1,ROW(Отделения[Город])-1),ROW(I16)-ROW($A$2)+1)),\"\")","v":""},{"$f":"IFERROR(INDEX(Отделения[отделение],SMALL(IF(Отделения[Город]=$V$1,ROW(Отделения[Город])-1),ROW(J16)-ROW($A$2)+1)),\"\")","v":""},{"$f":"IFERROR(INDEX(Отделения[отделение],SMALL(IF(Отделения[Город]=$W$1,ROW(Отделения[Город])-1),ROW(K16)-ROW($A$2)+1)),\"\")","v":""},{"$f":"IFERROR(INDEX(Отделения[отделение],SMALL(IF(Отделения[Город]=$X$1,ROW(Отделения[Город])-1),ROW(L16)-ROW($A$2)+1)),\"\")","v":""},{"$f":"IFERROR(INDEX(Отделения[отделение],SMALL(IF(Отделения[Город]=$Y$1,ROW(Отделения[Город])-1),ROW(M16)-ROW($A$2)+1)),\"\")","v":""},{"$f":"IFERROR(INDEX(Отделения[отделение],SMALL(IF(Отделения[Город]=$Z$1,ROW(Отделения[Город])-1),ROW(N16)-ROW($A$2)+1)),\"\")","v":""},{"$f":"IFERROR(INDEX(Отделения[отделение],SMALL(IF(Отделения[Город]=$AA$1,ROW(Отделения[Город])-1),ROW(O16)-ROW($A$2)+1)),\"\")","v":""},{"$f":"IFERROR(INDEX(Отделения[отделение],SMALL(IF(Отделения[Город]=$AB$1,ROW(Отделения[Город])-1),ROW(P16)-ROW($A$2)+1)),\"\")","v":""},{"$f":"IFERROR(INDEX(Отделения[отделение],SMALL(IF(Отделения[Город]=$AC$1,ROW(Отделения[Город])-1),ROW(Q16)-ROW($A$2)+1)),\"\")","v":""},{"$f":"IFERROR(INDEX(Отделения[отделение],SMALL(IF(Отделения[Город]=$AD$1,ROW(Отделения[Город])-1),ROW(R16)-ROW($A$2)+1)),\"\")","v":""},{"$f":"IFERROR(INDEX(Отделения[отделение],SMALL(IF(Отделения[Город]=$AE$1,ROW(Отделения[Город])-1),ROW(S16)-ROW($A$2)+1)),\"\")","v":""},{"$f":"IFERROR(INDEX(Отделения[отделение],SMALL(IF(Отделения[Город]=$AF$1,ROW(Отделения[Город])-1),ROW(T16)-ROW($A$2)+1)),\"\")","v":""},{"$f":"IFERROR(INDEX(Отделения[отделение],SMALL(IF(Отделения[Город]=$AG$1,ROW(Отделения[Город])-1),ROW(U16)-ROW($A$2)+1)),\"\")","v":""},{"$f":"IFERROR(INDEX(Отделения[отделение],SMALL(IF(Отделения[Город]=$AH$1,ROW(Отделения[Город])-1),ROW(V16)-ROW($A$2)+1)),\"\")","v":""},{"$f":"IFERROR(INDEX(Отделения[отделение],SMALL(IF(Отделения[Город]=$AI$1,ROW(Отделения[Город])-1),ROW(AB16)-ROW($A$2)+1)),\"\")","v":""},{"$f":"IFERROR(INDEX(Отделения[отделение],SMALL(IF(Отделения[Город]=$AJ$1,ROW(Отделения[Город])-1),ROW(AB16)-ROW($A$2)+1)),\"\")","v":""},{"$f":"IFERROR(INDEX(Отделения[отделение],SMALL(IF(Отделения[Город]=$AK$1,ROW(Отделения[Город])-1),ROW(AB16)-ROW($A$2)+1)),\"\")","v":""},{"$f":"IFERROR(INDEX(Отделения[отделение],SMALL(IF(Отделения[Город]=$AL$1,ROW(Отделения[Город])-1),ROW(AB16)-ROW($A$2)+1)),\"\")","v":""},{"$f":"IFERROR(INDEX(Отделения[отделение],SMALL(IF(Отделения[Город]=$AM$1,ROW(Отделения[Город])-1),ROW(AB16)-ROW($A$2)+1)),\"\")","v":""},{"$f":"IFERROR(INDEX(Отделения[отделение],SMALL(IF(Отделения[Город]=$AN$1,ROW(Отделения[Город])-1),ROW(AB16)-ROW($A$2)+1)),\"\")","v":""},{"$f":"IFERROR(INDEX(Отделения[отделение],SMALL(IF(Отделения[Город]=$AO$1,ROW(Отделения[Город])-1),ROW(AB16)-ROW($A$2)+1)),\"\")","v":""},{"$f":"IFERROR(INDEX(Отделения[отделение],SMALL(IF(Отделения[Город]=$AP$1,ROW(Отделения[Город])-1),ROW(AB16)-ROW($A$2)+1)),\"\")","v":""},{"$f":"IFERROR(INDEX(Отделения[отделение],SMALL(IF(Отделения[Город]=$AQ$1,ROW(Отделения[Город])-1),ROW(AB16)-ROW($A$2)+1)),\"\")","v":""},{"$f":"IFERROR(INDEX(Отделения[отделение],SMALL(IF(Отделения[Город]=$AR$1,ROW(Отделения[Город])-1),ROW(AB16)-ROW($A$2)+1)),\"\")","v":""},{"$f":"IFERROR(INDEX(Отделения[отделение],SMALL(IF(Отделения[Город]=$AS$1,ROW(Отделения[Город])-1),ROW(AB16)-ROW($A$2)+1)),\"\")","v":""},{"$f":"IFERROR(INDEX(Отделения[отделение],SMALL(IF(Отделения[Город]=$AT$1,ROW(Отделения[Город])-1),ROW(AB16)-ROW($A$2)+1)),\"\")","v":""},{"$f":"IFERROR(INDEX(Отделения[отделение],SMALL(IF(Отделения[Город]=$AU$1,ROW(Отделения[Город])-1),ROW(AB16)-ROW($A$2)+1)),\"\")","v":""},{"$f":"IFERROR(INDEX(Отделения[отделение],SMALL(IF(Отделения[Город]=$AV$1,ROW(Отделения[Город])-1),ROW(AB16)-ROW($A$2)+1)),\"\")","v":""},{"$f":"IFERROR(INDEX(Отделения[отделение],SMALL(IF(Отделения[Город]=$AW$1,ROW(Отделения[Город])-1),ROW(AB16)-ROW($A$2)+1)),\"\")","v":""},{"$f":"IFERROR(INDEX(Отделения[отделение],SMALL(IF(Отделения[Город]=$AX$1,ROW(Отделения[Город])-1),ROW(AB16)-ROW($A$2)+1)),\"\")","v":""},{"$f":"IFERROR(INDEX(Отделения[отделение],SMALL(IF(Отделения[Город]=$AY$1,ROW(Отделения[Город])-1),ROW(AB16)-ROW($A$2)+1)),\"\")","v":""},{"$f":"IFERROR(INDEX(Отделения[отделение],SMALL(IF(Отделения[Город]=$AZ$1,ROW(Отделения[Город])-1),ROW(AB16)-ROW($A$2)+1)),\"\")","v":""},{"$f":"IFERROR(INDEX(Отделения[отделение],SMALL(IF(Отделения[Город]=$BA$1,ROW(Отделения[Город])-1),ROW(AB16)-ROW($A$2)+1)),\"\")","v":""},{"$f":"IFERROR(INDEX(Отделения[отделение],SMALL(IF(Отделения[Город]=$BB$1,ROW(Отделения[Город])-1),ROW(AB16)-ROW($A$2)+1)),\"\")","v":""},{"$f":"IFERROR(INDEX(Отделения[отделение],SMALL(IF(Отделения[Город]=$BC$1,ROW(Отделения[Город])-1),ROW(AC16)-ROW($A$2)+1)),\"\")","v":""},{"$f":"IFERROR(INDEX(Отделения[отделение],SMALL(IF(Отделения[Город]=$BD$1,ROW(Отделения[Город])-1),ROW(AD16)-ROW($A$2)+1)),\"\")","v":""},{"$f":"IFERROR(INDEX(Отделения[отделение],SMALL(IF(Отделения[Город]=$BE$1,ROW(Отделения[Город])-1),ROW(AE16)-ROW($A$2)+1)),\"\")","v":""},{"$f":"IFERROR(INDEX(Отделения[отделение],SMALL(IF(Отделения[Город]=$BF$1,ROW(Отделения[Город])-1),ROW(AF16)-ROW($A$2)+1)),\"\")","v":""},{"$f":"IFERROR(INDEX(Отделения[отделение],SMALL(IF(Отделения[Город]=$BG$1,ROW(Отделения[Город])-1),ROW(AG16)-ROW($A$2)+1)),\"\")","v":""},{"$f":"IFERROR(INDEX(Отделения[отделение],SMALL(IF(Отделения[Город]=$BH$1,ROW(Отделения[Город])-1),ROW(AH16)-ROW($A$2)+1)),\"\")","v":""},{"$f":"IFERROR(INDEX(Отделения[отделение],SMALL(IF(Отделения[Город]=$BI$1,ROW(Отделения[Город])-1),ROW(AI16)-ROW($A$2)+1)),\"\")","v":""},{"$f":"IFERROR(INDEX(Отделения[отделение],SMALL(IF(Отделения[Город]=$BJ$1,ROW(Отделения[Город])-1),ROW(AJ16)-ROW($A$2)+1)),\"\")","v":""},{"$f":"IFERROR(INDEX(Отделения[отделение],SMALL(IF(Отделения[Город]=$BK$1,ROW(Отделения[Город])-1),ROW(AK16)-ROW($A$2)+1)),\"\")","v":""},{"$f":"IFERROR(INDEX(Отделения[отделение],SMALL(IF(Отделения[Город]=$BL$1,ROW(Отделения[Город])-1),ROW(AL16)-ROW($A$2)+1)),\"\")","v":""},{"$f":"IFERROR(INDEX(Отделения[отделение],SMALL(IF(Отделения[Город]=$BM$1,ROW(Отделения[Город])-1),ROW(AM16)-ROW($A$2)+1)),\"\")","v":""},{"$f":"IFERROR(INDEX(Отделения[отделение],SMALL(IF(Отделения[Город]=$BN$1,ROW(Отделения[Город])-1),ROW(AN16)-ROW($A$2)+1)),\"\")","v":""},{"$f":"IFERROR(INDEX(Отделения[отделение],SMALL(IF(Отделения[Город]=$BO$1,ROW(Отделения[Город])-1),ROW(AO16)-ROW($A$2)+1)),\"\")","v":""},{"$f":"IFERROR(INDEX(Отделения[отделение],SMALL(IF(Отделения[Город]=$BP$1,ROW(Отделения[Город])-1),ROW(AP16)-ROW($A$2)+1)),\"\")","v":""},{"$f":"IFERROR(INDEX(Отделения[отделение],SMALL(IF(Отделения[Город]=$BQ$1,ROW(Отделения[Город])-1),ROW(AQ16)-ROW($A$2)+1)),\"\")","v":""},{"$f":"IFERROR(INDEX(Отделения[отделение],SMALL(IF(Отделения[Город]=$BR$1,ROW(Отделения[Город])-1),ROW(AR16)-ROW($A$2)+1)),\"\")","v":""},{"$f":"IFERROR(INDEX(Отделения[отделение],SMALL(IF(Отделения[Город]=$BS$1,ROW(Отделения[Город])-1),ROW(AS16)-ROW($A$2)+1)),\"\")","v":""},{"$f":"IFERROR(INDEX(Отделения[отделение],SMALL(IF(Отделения[Город]=$BT$1,ROW(Отделения[Город])-1),ROW(AT16)-ROW($A$2)+1)),\"\")","v":""},{"$f":"IFERROR(INDEX(Отделения[отделение],SMALL(IF(Отделения[Город]=$BU$1,ROW(Отделения[Город])-1),ROW(AU16)-ROW($A$2)+1)),\"\")","v":""},{"$f":"IFERROR(INDEX(Отделения[отделение],SMALL(IF(Отделения[Город]=$BV$1,ROW(Отделения[Город])-1),ROW(AV16)-ROW($A$2)+1)),\"\")","v":""},{"$f":"IFERROR(INDEX(Отделения[отделение],SMALL(IF(Отделения[Город]=$BW$1,ROW(Отделения[Город])-1),ROW(AV16)-ROW($A$2)+1)),\"\")","v":""},{"$f":"IFERROR(INDEX(Отделения[отделение],SMALL(IF(Отделения[Город]=$BX$1,ROW(Отделения[Город])-1),ROW(AV16)-ROW($A$2)+1)),\"\")","v":""},{"$f":"IFERROR(INDEX(Отделения[отделение],SMALL(IF(Отделения[Город]=$BY$1,ROW(Отделения[Город])-1),ROW(AV16)-ROW($A$2)+1)),\"\")","v":""},{"$f":"IFERROR(INDEX(Отделения[отделение],SMALL(IF(Отделения[Город]=$BZ$1,ROW(Отделения[Город])-1),ROW(AV16)-ROW($A$2)+1)),\"\")","v":""},{"$f":"IFERROR(INDEX(Отделения[отделение],SMALL(IF(Отделения[Город]=$CA$1,ROW(Отделения[Город])-1),ROW(AV16)-ROW($A$2)+1)),\"\")","v":""},{"$f":"IFERROR(INDEX(Отделения[отделение],SMALL(IF(Отделения[Город]=$CB$1,ROW(Отделения[Город])-1),ROW(AV16)-ROW($A$2)+1)),\"\")","v":""},{"$f":"IFERROR(INDEX(Отделения[отделение],SMALL(IF(Отделения[Город]=$CC$1,ROW(Отделения[Город])-1),ROW(AV16)-ROW($A$2)+1)),\"\")","v":""},{"$f":"IFERROR(INDEX(Отделения[отделение],SMALL(IF(Отделения[Город]=$CD$1,ROW(Отделения[Город])-1),ROW(AV16)-ROW($A$2)+1)),\"\")","v":""},{"$f":"IFERROR(INDEX(Отделения[отделение],SMALL(IF(Отделения[Город]=$CE$1,ROW(Отделения[Город])-1),ROW(AV16)-ROW($A$2)+1)),\"\")","v":""},{"$f":"IFERROR(INDEX(Отделения[отделение],SMALL(IF(Отделения[Город]=$CF$1,ROW(Отделения[Город])-1),ROW(AV16)-ROW($A$2)+1)),\"\")","v":""},{"$f":"IFERROR(INDEX(Отделения[отделение],SMALL(IF(Отделения[Город]=$CG$1,ROW(Отделения[Город])-1),ROW(AV16)-ROW($A$2)+1)),\"\")","v":""},{"$f":"IFERROR(INDEX(Отделения[отделение],SMALL(IF(Отделения[Город]=$CH$1,ROW(Отделения[Город])-1),ROW(AW16)-ROW($A$2)+1)),\"\")","v":""},{"$f":"IFERROR(INDEX(Отделения[отделение],SMALL(IF(Отделения[Город]=$CI$1,ROW(Отделения[Город])-1),ROW(AX16)-ROW($A$2)+1)),\"\")","v":""},{"$f":"IFERROR(INDEX(Отделения[отделение],SMALL(IF(Отделения[Город]=$CJ$1,ROW(Отделения[Город])-1),ROW(AY16)-ROW($A$2)+1)),\"\")","v":""},{"$f":"IFERROR(INDEX(Отделения[отделение],SMALL(IF(Отделения[Город]=$CK$1,ROW(Отделения[Город])-1),ROW(AZ16)-ROW($A$2)+1)),\"\")","v":""},{"$f":"IFERROR(INDEX(Отделения[отделение],SMALL(IF(Отделения[Город]=$CL$1,ROW(Отделения[Город])-1),ROW(BA16)-ROW($A$2)+1)),\"\")","v":""},{"$f":"IFERROR(INDEX(Отделения[отделение],SMALL(IF(Отделения[Город]=$CM$1,ROW(Отделения[Город])-1),ROW(BB16)-ROW($A$2)+1)),\"\")","v":""},{"$f":"IFERROR(INDEX(Отделения[отделение],SMALL(IF(Отделения[Город]=$CN$1,ROW(Отделения[Город])-1),ROW(BC16)-ROW($A$2)+1)),\"\")","v":""},{"$f":"IFERROR(INDEX(Отделения[отделение],SMALL(IF(Отделения[Город]=$CO$1,ROW(Отделения[Город])-1),ROW(BD16)-ROW($A$2)+1)),\"\")","v":""},{"$f":"IFERROR(INDEX(Отделения[отделение],SMALL(IF(Отделения[Город]=$CP$1,ROW(Отделения[Город])-1),ROW(BE16)-ROW($A$2)+1)),\"\")","v":""},{"$f":"IFERROR(INDEX(Отделения[отделение],SMALL(IF(Отделения[Город]=$CQ$1,ROW(Отделения[Город])-1),ROW(BF16)-ROW($A$2)+1)),\"\")","v":""},{"$f":"IFERROR(INDEX(Отделения[отделение],SMALL(IF(Отделения[Город]=$CR$1,ROW(Отделения[Город])-1),ROW(BG16)-ROW($A$2)+1)),\"\")","v":""},{"$f":"IFERROR(INDEX(Отделения[отделение],SMALL(IF(Отделения[Город]=$CS$1,ROW(Отделения[Город])-1),ROW(BH16)-ROW($A$2)+1)),\"\")","v":""},{"$f":"IFERROR(INDEX(Отделения[отделение],SMALL(IF(Отделения[Город]=$CT$1,ROW(Отделения[Город])-1),ROW(BI16)-ROW($A$2)+1)),\"\")","v":""},{"$f":"IFERROR(INDEX(Отделения[отделение],SMALL(IF(Отделения[Город]=$CU$1,ROW(Отделения[Город])-1),ROW(BJ16)-ROW($A$2)+1)),\"\")","v":""},{"$f":"IFERROR(INDEX(Отделения[отделение],SMALL(IF(Отделения[Город]=$CV$1,ROW(Отделения[Город])-1),ROW(BK16)-ROW($A$2)+1)),\"\")","v":""},{"$f":"IFERROR(INDEX(Отделения[отделение],SMALL(IF(Отделения[Город]=$CW$1,ROW(Отделения[Город])-1),ROW(BL16)-ROW($A$2)+1)),\"\")","v":""},{"$f":"IFERROR(INDEX(Отделения[отделение],SMALL(IF(Отделения[Город]=$CX$1,ROW(Отделения[Город])-1),ROW(BM16)-ROW($A$2)+1)),\"\")","v":""},{"$f":"IFERROR(INDEX(Отделения[отделение],SMALL(IF(Отделения[Город]=$CY$1,ROW(Отделения[Город])-1),ROW(BM16)-ROW($A$2)+1)),\"\")","v":""},{"$f":"IFERROR(INDEX(Отделения[отделение],SMALL(IF(Отделения[Город]=$CZ$1,ROW(Отделения[Город])-1),ROW(BM16)-ROW($A$2)+1)),\"\")","v":""},{"$f":"IFERROR(INDEX(Отделения[отделение],SMALL(IF(Отделения[Город]=$DA$1,ROW(Отделения[Город])-1),ROW(BM16)-ROW($A$2)+1)),\"\")","v":""},{"$f":"IFERROR(INDEX(Отделения[отделение],SMALL(IF(Отделения[Город]=$DB$1,ROW(Отделения[Город])-1),ROW(BM16)-ROW($A$2)+1)),\"\")","v":""}]
["Москва","ДО \"КУЗЬМИНКИ\" , 109462, г. Москва, ул. Маршала Чуйкова, д. 3","0436","MOKU",null,null,{"$f":"IFERROR(INDEX(Отделения[отделение],SMALL(IF(Отделения[Город]=$G$1,ROW(Отделения[Город])-1),ROW(A17)-ROW($A$2)+1)),\"\")","v":""},{"$f":"IFERROR(INDEX(Отделения[отделение],SMALL(IF(Отделения[Город]=$H$1,ROW(Отделения[Город])-1),ROW(A17)-ROW($A$2)+1)),\"\")","v":""},{"$f":"IFERROR(INDEX(Отделения[отделение],SMALL(IF(Отделения[Город]=$I$1,ROW(Отделения[Город])-1),ROW(A17)-ROW($A$2)+1)),\"\")","v":""},{"$f":"IFERROR(INDEX(Отделения[отделение],SMALL(IF(Отделения[Город]=$J$1,ROW(Отделения[Город])-1),ROW(A17)-ROW($A$2)+1)),\"\")","v":""},{"$f":"IFERROR(INDEX(Отделения[отделение],SMALL(IF(Отделения[Город]=$K$1,ROW(Отделения[Город])-1),ROW(A17)-ROW($A$2)+1)),\"\")","v":""},{"$f":"IFERROR(INDEX(Отделения[отделение],SMALL(IF(Отделения[Город]=$L$1,ROW(Отделения[Город])-1),ROW(A17)-ROW($A$2)+1)),\"\")","v":""},{"$f":"IFERROR(INDEX(Отделения[отделение],SMALL(IF(Отделения[Город]=$M$1,ROW(Отделения[Город])-1),ROW(B17)-ROW($A$2)+1)),\"\")","v":""},{"$f":"IFERROR(INDEX(Отделения[отделение],SMALL(IF(Отделения[Город]=$N$1,ROW(Отделения[Город])-1),ROW(#REF!)-ROW($A$2)+1)),\"\")","v":""},{"$f":"IFERROR(INDEX(Отделения[отделение],SMALL(IF(Отделения[Город]=$O$1,ROW(Отделения[Город])-1),ROW(C17)-ROW($A$2)+1)),\"\")","v":""},{"$f":"IFERROR(INDEX(Отделения[отделение],SMALL(IF(Отделения[Город]=$P$1,ROW(Отделения[Город])-1),ROW(D17)-ROW($A$2)+1)),\"\")","v":""},{"$f":"IFERROR(INDEX(Отделения[отделение],SMALL(IF(Отделения[Город]=$Q$1,ROW(Отделения[Город])-1),ROW(F17)-ROW($A$2)+1)),\"\")","v":""},{"$f":"IFERROR(INDEX(Отделения[отделение],SMALL(IF(Отделения[Город]=$R$1,ROW(Отделения[Город])-1),ROW(#REF!)-ROW($A$2)+1)),\"\")","v":""},{"$f":"IFERROR(INDEX(Отделения[отделение],SMALL(IF(Отделения[Город]=$S$1,ROW(Отделения[Город])-1),ROW(G17)-ROW($A$2)+1)),\"\")","v":""},{"$f":"IFERROR(INDEX(Отделения[отделение],SMALL(IF(Отделения[Город]=$T$1,ROW(Отделения[Город])-1),ROW(H17)-ROW($A$2)+1)),\"\")","v":""},{"$f":"IFERROR(INDEX(Отделения[отделение],SMALL(IF(Отделения[Город]=$U$1,ROW(Отделения[Город])-1),ROW(I17)-ROW($A$2)+1)),\"\")","v":""},{"$f":"IFERROR(INDEX(Отделения[отделение],SMALL(IF(Отделения[Город]=$V$1,ROW(Отделения[Город])-1),ROW(J17)-ROW($A$2)+1)),\"\")","v":""},{"$f":"IFERROR(INDEX(Отделения[отделение],SMALL(IF(Отделения[Город]=$W$1,ROW(Отделения[Город])-1),ROW(K17)-ROW($A$2)+1)),\"\")","v":""},{"$f":"IFERROR(INDEX(Отделения[отделение],SMALL(IF(Отделения[Город]=$X$1,ROW(Отделения[Город])-1),ROW(L17)-ROW($A$2)+1)),\"\")","v":""},{"$f":"IFERROR(INDEX(Отделения[отделение],SMALL(IF(Отделения[Город]=$Y$1,ROW(Отделения[Город])-1),ROW(M17)-ROW($A$2)+1)),\"\")","v":""},{"$f":"IFERROR(INDEX(Отделения[отделение],SMALL(IF(Отделения[Город]=$Z$1,ROW(Отделения[Город])-1),ROW(N17)-ROW($A$2)+1)),\"\")","v":""},{"$f":"IFERROR(INDEX(Отделения[отделение],SMALL(IF(Отделения[Город]=$AA$1,ROW(Отделения[Город])-1),ROW(O17)-ROW($A$2)+1)),\"\")","v":""},{"$f":"IFERROR(INDEX(Отделения[отделение],SMALL(IF(Отделения[Город]=$AB$1,ROW(Отделения[Город])-1),ROW(P17)-ROW($A$2)+1)),\"\")","v":""},{"$f":"IFERROR(INDEX(Отделения[отделение],SMALL(IF(Отделения[Город]=$AC$1,ROW(Отделения[Город])-1),ROW(Q17)-ROW($A$2)+1)),\"\")","v":""},{"$f":"IFERROR(INDEX(Отделения[отделение],SMALL(IF(Отделения[Город]=$AD$1,ROW(Отделения[Город])-1),ROW(R17)-ROW($A$2)+1)),\"\")","v":""},{"$f":"IFERROR(INDEX(Отделения[отделение],SMALL(IF(Отделения[Город]=$AE$1,ROW(Отделения[Город])-1),ROW(S17)-ROW($A$2)+1)),\"\")","v":""},{"$f":"IFERROR(INDEX(Отделения[отделение],SMALL(IF(Отделения[Город]=$AF$1,ROW(Отделения[Город])-1),ROW(T17)-ROW($A$2)+1)),\"\")","v":""},{"$f":"IFERROR(INDEX(Отделения[отделение],SMALL(IF(Отделения[Город]=$AG$1,ROW(Отделения[Город])-1),ROW(U17)-ROW($A$2)+1)),\"\")","v":""},{"$f":"IFERROR(INDEX(Отделения[отделение],SMALL(IF(Отделения[Город]=$AH$1,ROW(Отделения[Город])-1),ROW(V17)-ROW($A$2)+1)),\"\")","v":""},{"$f":"IFERROR(INDEX(Отделения[отделение],SMALL(IF(Отделения[Город]=$AI$1,ROW(Отделения[Город])-1),ROW(AB17)-ROW($A$2)+1)),\"\")","v":""},{"$f":"IFERROR(INDEX(Отделения[отделение],SMALL(IF(Отделения[Город]=$AJ$1,ROW(Отделения[Город])-1),ROW(AB17)-ROW($A$2)+1)),\"\")","v":""},{"$f":"IFERROR(INDEX(Отделения[отделение],SMALL(IF(Отделения[Город]=$AK$1,ROW(Отделения[Город])-1),ROW(AB17)-ROW($A$2)+1)),\"\")","v":""},{"$f":"IFERROR(INDEX(Отделения[отделение],SMALL(IF(Отделения[Город]=$AL$1,ROW(Отделения[Город])-1),ROW(AB17)-ROW($A$2)+1)),\"\")","v":""},{"$f":"IFERROR(INDEX(Отделения[отделение],SMALL(IF(Отделения[Город]=$AM$1,ROW(Отделения[Город])-1),ROW(AB17)-ROW($A$2)+1)),\"\")","v":""},{"$f":"IFERROR(INDEX(Отделения[отделение],SMALL(IF(Отделения[Город]=$AN$1,ROW(Отделения[Город])-1),ROW(AB17)-ROW($A$2)+1)),\"\")","v":""},{"$f":"IFERROR(INDEX(Отделения[отделение],SMALL(IF(Отделения[Город]=$AO$1,ROW(Отделения[Город])-1),ROW(AB17)-ROW($A$2)+1)),\"\")","v":""},{"$f":"IFERROR(INDEX(Отделения[отделение],SMALL(IF(Отделения[Город]=$AP$1,ROW(Отделения[Город])-1),ROW(AB17)-ROW($A$2)+1)),\"\")","v":""},{"$f":"IFERROR(INDEX(Отделения[отделение],SMALL(IF(Отделения[Город]=$AQ$1,ROW(Отделения[Город])-1),ROW(AB17)-ROW($A$2)+1)),\"\")","v":""},{"$f":"IFERROR(INDEX(Отделения[отделение],SMALL(IF(Отделения[Город]=$AR$1,ROW(Отделения[Город])-1),ROW(AB17)-ROW($A$2)+1)),\"\")","v":""},{"$f":"IFERROR(INDEX(Отделения[отделение],SMALL(IF(Отделения[Город]=$AS$1,ROW(Отделения[Город])-1),ROW(AB17)-ROW($A$2)+1)),\"\")","v":""},{"$f":"IFERROR(INDEX(Отделения[отделение],SMALL(IF(Отделения[Город]=$AT$1,ROW(Отделения[Город])-1),ROW(AB17)-ROW($A$2)+1)),\"\")","v":""},{"$f":"IFERROR(INDEX(Отделения[отделение],SMALL(IF(Отделения[Город]=$AU$1,ROW(Отделения[Город])-1),ROW(AB17)-ROW($A$2)+1)),\"\")","v":""},{"$f":"IFERROR(INDEX(Отделения[отделение],SMALL(IF(Отделения[Город]=$AV$1,ROW(Отделения[Город])-1),ROW(AB17)-ROW($A$2)+1)),\"\")","v":""},{"$f":"IFERROR(INDEX(Отделения[отделение],SMALL(IF(Отделения[Город]=$AW$1,ROW(Отделения[Город])-1),ROW(AB17)-ROW($A$2)+1)),\"\")","v":""},{"$f":"IFERROR(INDEX(Отделения[отделение],SMALL(IF(Отделения[Город]=$AX$1,ROW(Отделения[Город])-1),ROW(AB17)-ROW($A$2)+1)),\"\")","v":""},{"$f":"IFERROR(INDEX(Отделения[отделение],SMALL(IF(Отделения[Город]=$AY$1,ROW(Отделения[Город])-1),ROW(AB17)-ROW($A$2)+1)),\"\")","v":""},{"$f":"IFERROR(INDEX(Отделения[отделение],SMALL(IF(Отделения[Город]=$AZ$1,ROW(Отделения[Город])-1),ROW(AB17)-ROW($A$2)+1)),\"\")","v":""},{"$f":"IFERROR(INDEX(Отделения[отделение],SMALL(IF(Отделения[Город]=$BA$1,ROW(Отделения[Город])-1),ROW(AB17)-ROW($A$2)+1)),\"\")","v":""},{"$f":"IFERROR(INDEX(Отделения[отделение],SMALL(IF(Отделения[Город]=$BB$1,ROW(Отделения[Город])-1),ROW(AB17)-ROW($A$2)+1)),\"\")","v":""},{"$f":"IFERROR(INDEX(Отделения[отделение],SMALL(IF(Отделения[Город]=$BC$1,ROW(Отделения[Город])-1),ROW(AC17)-ROW($A$2)+1)),\"\")","v":""},{"$f":"IFERROR(INDEX(Отделения[отделение],SMALL(IF(Отделения[Город]=$BD$1,ROW(Отделения[Город])-1),ROW(AD17)-ROW($A$2)+1)),\"\")","v":""},{"$f":"IFERROR(INDEX(Отделения[отделение],SMALL(IF(Отделения[Город]=$BE$1,ROW(Отделения[Город])-1),ROW(AE17)-ROW($A$2)+1)),\"\")","v":""},{"$f":"IFERROR(INDEX(Отделения[отделение],SMALL(IF(Отделения[Город]=$BF$1,ROW(Отделения[Город])-1),ROW(AF17)-ROW($A$2)+1)),\"\")","v":""},{"$f":"IFERROR(INDEX(Отделения[отделение],SMALL(IF(Отделения[Город]=$BG$1,ROW(Отделения[Город])-1),ROW(AG17)-ROW($A$2)+1)),\"\")","v":""},{"$f":"IFERROR(INDEX(Отделения[отделение],SMALL(IF(Отделения[Город]=$BH$1,ROW(Отделения[Город])-1),ROW(AH17)-ROW($A$2)+1)),\"\")","v":""},{"$f":"IFERROR(INDEX(Отделения[отделение],SMALL(IF(Отделения[Город]=$BI$1,ROW(Отделения[Город])-1),ROW(AI17)-ROW($A$2)+1)),\"\")","v":""},{"$f":"IFERROR(INDEX(Отделения[отделение],SMALL(IF(Отделения[Город]=$BJ$1,ROW(Отделения[Город])-1),ROW(AJ17)-ROW($A$2)+1)),\"\")","v":""},{"$f":"IFERROR(INDEX(Отделения[отделение],SMALL(IF(Отделения[Город]=$BK$1,ROW(Отделения[Город])-1),ROW(AK17)-ROW($A$2)+1)),\"\")","v":""},{"$f":"IFERROR(INDEX(Отделения[отделение],SMALL(IF(Отделения[Город]=$BL$1,ROW(Отделения[Город])-1),ROW(AL17)-ROW($A$2)+1)),\"\")","v":""},{"$f":"IFERROR(INDEX(Отделения[отделение],SMALL(IF(Отделения[Город]=$BM$1,ROW(Отделения[Город])-1),ROW(AM17)-ROW($A$2)+1)),\"\")","v":""},{"$f":"IFERROR(INDEX(Отделения[отделение],SMALL(IF(Отделения[Город]=$BN$1,ROW(Отделения[Город])-1),ROW(AN17)-ROW($A$2)+1)),\"\")","v":""},{"$f":"IFERROR(INDEX(Отделения[отделение],SMALL(IF(Отделения[Город]=$BO$1,ROW(Отделения[Город])-1),ROW(AO17)-ROW($A$2)+1)),\"\")","v":""},{"$f":"IFERROR(INDEX(Отделения[отделение],SMALL(IF(Отделения[Город]=$BP$1,ROW(Отделения[Город])-1),ROW(AP17)-ROW($A$2)+1)),\"\")","v":""},{"$f":"IFERROR(INDEX(Отделения[отделение],SMALL(IF(Отделения[Город]=$BQ$1,ROW(Отделения[Город])-1),ROW(AQ17)-ROW($A$2)+1)),\"\")","v":""},{"$f":"IFERROR(INDEX(Отделения[отделение],SMALL(IF(Отделения[Город]=$BR$1,ROW(Отделения[Город])-1),ROW(AR17)-ROW($A$2)+1)),\"\")","v":""},{"$f":"IFERROR(INDEX(Отделения[отделение],SMALL(IF(Отделения[Город]=$BS$1,ROW(Отделения[Город])-1),ROW(AS17)-ROW($A$2)+1)),\"\")","v":""},{"$f":"IFERROR(INDEX(Отделения[отделение],SMALL(IF(Отделения[Город]=$BT$1,ROW(Отделения[Город])-1),ROW(AT17)-ROW($A$2)+1)),\"\")","v":""},{"$f":"IFERROR(INDEX(Отделения[отделение],SMALL(IF(Отделения[Город]=$BU$1,ROW(Отделения[Город])-1),ROW(AU17)-ROW($A$2)+1)),\"\")","v":""},{"$f":"IFERROR(INDEX(Отделения[отделение],SMALL(IF(Отделения[Город]=$BV$1,ROW(Отделения[Город])-1),ROW(AV17)-ROW($A$2)+1)),\"\")","v":""},{"$f":"IFERROR(INDEX(Отделения[отделение],SMALL(IF(Отделения[Город]=$BW$1,ROW(Отделения[Город])-1),ROW(AV17)-ROW($A$2)+1)),\"\")","v":""},{"$f":"IFERROR(INDEX(Отделения[отделение],SMALL(IF(Отделения[Город]=$BX$1,ROW(Отделения[Город])-1),ROW(AV17)-ROW($A$2)+1)),\"\")","v":""},{"$f":"IFERROR(INDEX(Отделения[отделение],SMALL(IF(Отделения[Город]=$BY$1,ROW(Отделения[Город])-1),ROW(AV17)-ROW($A$2)+1)),\"\")","v":""},{"$f":"IFERROR(INDEX(Отделения[отделение],SMALL(IF(Отделения[Город]=$BZ$1,ROW(Отделения[Город])-1),ROW(AV17)-ROW($A$2)+1)),\"\")","v":""},{"$f":"IFERROR(INDEX(Отделения[отделение],SMALL(IF(Отделения[Город]=$CA$1,ROW(Отделения[Город])-1),ROW(AV17)-ROW($A$2)+1)),\"\")","v":""},{"$f":"IFERROR(INDEX(Отделения[отделение],SMALL(IF(Отделения[Город]=$CB$1,ROW(Отделения[Город])-1),ROW(AV17)-ROW($A$2)+1)),\"\")","v":""},{"$f":"IFERROR(INDEX(Отделения[отделение],SMALL(IF(Отделения[Город]=$CC$1,ROW(Отделения[Город])-1),ROW(AV17)-ROW($A$2)+1)),\"\")","v":""},{"$f":"IFERROR(INDEX(Отделения[отделение],SMALL(IF(Отделения[Город]=$CD$1,ROW(Отделения[Город])-1),ROW(AV17)-ROW($A$2)+1)),\"\")","v":""},{"$f":"IFERROR(INDEX(Отделения[отделение],SMALL(IF(Отделения[Город]=$CE$1,ROW(Отделения[Город])-1),ROW(AV17)-ROW($A$2)+1)),\"\")","v":""},{"$f":"IFERROR(INDEX(Отделения[отделение],SMALL(IF(Отделения[Город]=$CF$1,ROW(Отделения[Город])-1),ROW(AV17)-ROW($A$2)+1)),\"\")","v":""},{"$f":"IFERROR(INDEX(Отделения[отделение],SMALL(IF(Отделения[Город]=$CG$1,ROW(Отделения[Город])-1),ROW(AV17)-ROW($A$2)+1)),\"\")","v":""},{"$f":"IFERROR(INDEX(Отделения[отделение],SMALL(IF(Отделения[Город]=$CH$1,ROW(Отделения[Город])-1),ROW(AW17)-ROW($A$2)+1)),\"\")","v":""},{"$f":"IFERROR(INDEX(Отделения[отделение],SMALL(IF(Отделения[Город]=$CI$1,ROW(Отделения[Город])-1),ROW(AX17)-ROW($A$2)+1)),\"\")","v":""},{"$f":"IFERROR(INDEX(Отделения[отделение],SMALL(IF(Отделения[Город]=$CJ$1,ROW(Отделения[Город])-1),ROW(AY17)-ROW($A$2)+1)),\"\")","v":""},{"$f":"IFERROR(INDEX(Отделения[отделение],SMALL(IF(Отделения[Город]=$CK$1,ROW(Отделения[Город])-1),ROW(AZ17)-ROW($A$2)+1)),\"\")","v":""},{"$f":"IFERROR(INDEX(Отделения[отделение],SMALL(IF(Отделения[Город]=$CL$1,ROW(Отделения[Город])-1),ROW(BA17)-ROW($A$2)+1)),\"\")","v":""},{"$f":"IFERROR(INDEX(Отделения[отделение],SMALL(IF(Отделения[Город]=$CM$1,ROW(Отделения[Город])-1),ROW(BB17)-ROW($A$2)+1)),\"\")","v":""},{"$f":"IFERROR(INDEX(Отделения[отделение],SMALL(IF(Отделения[Город]=$CN$1,ROW(Отделения[Город])-1),ROW(BC17)-ROW($A$2)+1)),\"\")","v":""},{"$f":"IFERROR(INDEX(Отделения[отделение],SMALL(IF(Отделения[Город]=$CO$1,ROW(Отделения[Город])-1),ROW(BD17)-ROW($A$2)+1)),\"\")","v":""},{"$f":"IFERROR(INDEX(Отделения[отделение],SMALL(IF(Отделения[Город]=$CP$1,ROW(Отделения[Город])-1),ROW(BE17)-ROW($A$2)+1)),\"\")","v":""},{"$f":"IFERROR(INDEX(Отделения[отделение],SMALL(IF(Отделения[Город]=$CQ$1,ROW(Отделения[Город])-1),ROW(BF17)-ROW($A$2)+1)),\"\")","v":""},{"$f":"IFERROR(INDEX(Отделения[отделение],SMALL(IF(Отделения[Город]=$CR$1,ROW(Отделения[Город])-1),ROW(BG17)-ROW($A$2)+1)),\"\")","v":""},{"$f":"IFERROR(INDEX(Отделения[отделение],SMALL(IF(Отделения[Город]=$CS$1,ROW(Отделения[Город])-1),ROW(BH17)-ROW($A$2)+1)),\"\")","v":""},{"$f":"IFERROR(INDEX(Отделения[отделение],SMALL(IF(Отделения[Город]=$CT$1,ROW(Отделения[Город])-1),ROW(BI17)-ROW($A$2)+1)),\"\")","v":""},{"$f":"IFERROR(INDEX(Отделения[отделение],SMALL(IF(Отделения[Город]=$CU$1,ROW(Отделения[Город])-1),ROW(BJ17)-ROW($A$2)+1)),\"\")","v":""},{"$f":"IFERROR(INDEX(Отделения[отделение],SMALL(IF(Отделения[Город]=$CV$1,ROW(Отделения[Город])-1),ROW(BK17)-ROW($A$2)+1)),\"\")","v":""},{"$f":"IFERROR(INDEX(Отделения[отделение],SMALL(IF(Отделения[Город]=$CW$1,ROW(Отделения[Город])-1),ROW(BL17)-ROW($A$2)+1)),\"\")","v":""},{"$f":"IFERROR(INDEX(Отделения[отделение],SMALL(IF(Отделения[Город]=$CX$1,ROW(Отделения[Город])-1),ROW(BM17)-ROW($A$2)+1)),\"\")","v":""},{"$f":"IFERROR(INDEX(Отделения[отделение],SMALL(IF(Отделения[Город]=$CY$1,ROW(Отделения[Город])-1),ROW(BM17)-ROW($A$2)+1)),\"\")","v":""},{"$f":"IFERROR(INDEX(Отделения[отделение],SMALL(IF(Отделения[Город]=$CZ$1,ROW(Отделения[Город])-1),ROW(BM17)-ROW($A$2)+1)),\"\")","v":""},{"$f":"IFERROR(INDEX(Отделения[отделение],SMALL(IF(Отделения[Город]=$DA$1,ROW(Отделения[Город])-1),ROW(BM17)-ROW($A$2)+1)),\"\")","v":""},{"$f":"IFERROR(INDEX(Отделения[отделение],SMALL(IF(Отделения[Город]=$DB$1,ROW(Отделения[Город])-1),ROW(BM17)-ROW($A$2)+1)),\"\")","v":""}]
["Москва","ДО \"ЛОМОНОСОВСКИЙ\" , 119261, г. Москва, Ленинский проспект, д. 78","0437","MOLE",null,null,{"$f":"IFERROR(INDEX(Отделения[отделение],SMALL(IF(Отделения[Город]=$G$1,ROW(Отделения[Город])-1),ROW(A18)-ROW($A$2)+1)),\"\")","v":""},{"$f":"IFERROR(INDEX(Отделения[отделение],SMALL(IF(Отделения[Город]=$H$1,ROW(Отделения[Город])-1),ROW(A18)-ROW($A$2)+1)),\"\")","v":""},{"$f":"IFERROR(INDEX(Отделения[отделение],SMALL(IF(Отделения[Город]=$I$1,ROW(Отделения[Город])-1),ROW(A18)-ROW($A$2)+1)),\"\")","v":""},{"$f":"IFERROR(INDEX(Отделения[отделение],SMALL(IF(Отделения[Город]=$J$1,ROW(Отделения[Город])-1),ROW(A18)-ROW($A$2)+1)),\"\")","v":""},{"$f":"IFERROR(INDEX(Отделения[отделение],SMALL(IF(Отделения[Город]=$K$1,ROW(Отделения[Город])-1),ROW(A18)-ROW($A$2)+1)),\"\")","v":""},{"$f":"IFERROR(INDEX(Отделения[отделение],SMALL(IF(Отделения[Город]=$L$1,ROW(Отделения[Город])-1),ROW(A18)-ROW($A$2)+1)),\"\")","v":""},{"$f":"IFERROR(INDEX(Отделения[отделение],SMALL(IF(Отделения[Город]=$M$1,ROW(Отделения[Город])-1),ROW(B18)-ROW($A$2)+1)),\"\")","v":""},{"$f":"IFERROR(INDEX(Отделения[отделение],SMALL(IF(Отделения[Город]=$N$1,ROW(Отделения[Город])-1),ROW(#REF!)-ROW($A$2)+1)),\"\")","v":""},{"$f":"IFERROR(INDEX(Отделения[отделение],SMALL(IF(Отделения[Город]=$O$1,ROW(Отделения[Город])-1),ROW(C18)-ROW($A$2)+1)),\"\")","v":""},{"$f":"IFERROR(INDEX(Отделения[отделение],SMALL(IF(Отделения[Город]=$P$1,ROW(Отделения[Город])-1),ROW(D18)-ROW($A$2)+1)),\"\")","v":""},{"$f":"IFERROR(INDEX(Отделения[отделение],SMALL(IF(Отделения[Город]=$Q$1,ROW(Отделения[Город])-1),ROW(F18)-ROW($A$2)+1)),\"\")","v":""},{"$f":"IFERROR(INDEX(Отделения[отделение],SMALL(IF(Отделения[Город]=$R$1,ROW(Отделения[Город])-1),ROW(#REF!)-ROW($A$2)+1)),\"\")","v":""},{"$f":"IFERROR(INDEX(Отделения[отделение],SMALL(IF(Отделения[Город]=$S$1,ROW(Отделения[Город])-1),ROW(G18)-ROW($A$2)+1)),\"\")","v":""},{"$f":"IFERROR(INDEX(Отделения[отделение],SMALL(IF(Отделения[Город]=$T$1,ROW(Отделения[Город])-1),ROW(H18)-ROW($A$2)+1)),\"\")","v":""},{"$f":"IFERROR(INDEX(Отделения[отделение],SMALL(IF(Отделения[Город]=$U$1,ROW(Отделения[Город])-1),ROW(I18)-ROW($A$2)+1)),\"\")","v":""},{"$f":"IFERROR(INDEX(Отделения[отделение],SMALL(IF(Отделения[Город]=$V$1,ROW(Отделения[Город])-1),ROW(J18)-ROW($A$2)+1)),\"\")","v":""},{"$f":"IFERROR(INDEX(Отделения[отделение],SMALL(IF(Отделения[Город]=$W$1,ROW(Отделения[Город])-1),ROW(K18)-ROW($A$2)+1)),\"\")","v":""},{"$f":"IFERROR(INDEX(Отделения[отделение],SMALL(IF(Отделения[Город]=$X$1,ROW(Отделения[Город])-1),ROW(L18)-ROW($A$2)+1)),\"\")","v":""},{"$f":"IFERROR(INDEX(Отделения[отделение],SMALL(IF(Отделения[Город]=$Y$1,ROW(Отделения[Город])-1),ROW(M18)-ROW($A$2)+1)),\"\")","v":""},{"$f":"IFERROR(INDEX(Отделения[отделение],SMALL(IF(Отделения[Город]=$Z$1,ROW(Отделения[Город])-1),ROW(N18)-ROW($A$2)+1)),\"\")","v":""},{"$f":"IFERROR(INDEX(Отделения[отделение],SMALL(IF(Отделения[Город]=$AA$1,ROW(Отделения[Город])-1),ROW(O18)-ROW($A$2)+1)),\"\")","v":""},{"$f":"IFERROR(INDEX(Отделения[отделение],SMALL(IF(Отделения[Город]=$AB$1,ROW(Отделения[Город])-1),ROW(P18)-ROW($A$2)+1)),\"\")","v":""},{"$f":"IFERROR(INDEX(Отделения[отделение],SMALL(IF(Отделения[Город]=$AC$1,ROW(Отделения[Город])-1),ROW(Q18)-ROW($A$2)+1)),\"\")","v":""},{"$f":"IFERROR(INDEX(Отделения[отделение],SMALL(IF(Отделения[Город]=$AD$1,ROW(Отделения[Город])-1),ROW(R18)-ROW($A$2)+1)),\"\")","v":""},{"$f":"IFERROR(INDEX(Отделения[отделение],SMALL(IF(Отделения[Город]=$AE$1,ROW(Отделения[Город])-1),ROW(S18)-ROW($A$2)+1)),\"\")","v":""},{"$f":"IFERROR(INDEX(Отделения[отделение],SMALL(IF(Отделения[Город]=$AF$1,ROW(Отделения[Город])-1),ROW(T18)-ROW($A$2)+1)),\"\")","v":""},{"$f":"IFERROR(INDEX(Отделения[отделение],SMALL(IF(Отделения[Город]=$AG$1,ROW(Отделения[Город])-1),ROW(U18)-ROW($A$2)+1)),\"\")","v":""},{"$f":"IFERROR(INDEX(Отделения[отделение],SMALL(IF(Отделения[Город]=$AH$1,ROW(Отделения[Город])-1),ROW(V18)-ROW($A$2)+1)),\"\")","v":""},{"$f":"IFERROR(INDEX(Отделения[отделение],SMALL(IF(Отделения[Город]=$AI$1,ROW(Отделения[Город])-1),ROW(AB18)-ROW($A$2)+1)),\"\")","v":""},{"$f":"IFERROR(INDEX(Отделения[отделение],SMALL(IF(Отделения[Город]=$AJ$1,ROW(Отделения[Город])-1),ROW(AB18)-ROW($A$2)+1)),\"\")","v":""},{"$f":"IFERROR(INDEX(Отделения[отделение],SMALL(IF(Отделения[Город]=$AK$1,ROW(Отделения[Город])-1),ROW(AB18)-ROW($A$2)+1)),\"\")","v":""},{"$f":"IFERROR(INDEX(Отделения[отделение],SMALL(IF(Отделения[Город]=$AL$1,ROW(Отделения[Город])-1),ROW(AB18)-ROW($A$2)+1)),\"\")","v":""},{"$f":"IFERROR(INDEX(Отделения[отделение],SMALL(IF(Отделения[Город]=$AM$1,ROW(Отделения[Город])-1),ROW(AB18)-ROW($A$2)+1)),\"\")","v":""},{"$f":"IFERROR(INDEX(Отделения[отделение],SMALL(IF(Отделения[Город]=$AN$1,ROW(Отделения[Город])-1),ROW(AB18)-ROW($A$2)+1)),\"\")","v":""},{"$f":"IFERROR(INDEX(Отделения[отделение],SMALL(IF(Отделения[Город]=$AO$1,ROW(Отделения[Город])-1),ROW(AB18)-ROW($A$2)+1)),\"\")","v":""},{"$f":"IFERROR(INDEX(Отделения[отделение],SMALL(IF(Отделения[Город]=$AP$1,ROW(Отделения[Город])-1),ROW(AB18)-ROW($A$2)+1)),\"\")","v":""},{"$f":"IFERROR(INDEX(Отделения[отделение],SMALL(IF(Отделения[Город]=$AQ$1,ROW(Отделения[Город])-1),ROW(AB18)-ROW($A$2)+1)),\"\")","v":""},{"$f":"IFERROR(INDEX(Отделения[отделение],SMALL(IF(Отделения[Город]=$AR$1,ROW(Отделения[Город])-1),ROW(AB18)-ROW($A$2)+1)),\"\")","v":""},{"$f":"IFERROR(INDEX(Отделения[отделение],SMALL(IF(Отделения[Город]=$AS$1,ROW(Отделения[Город])-1),ROW(AB18)-ROW($A$2)+1)),\"\")","v":""},{"$f":"IFERROR(INDEX(Отделения[отделение],SMALL(IF(Отделения[Город]=$AT$1,ROW(Отделения[Город])-1),ROW(AB18)-ROW($A$2)+1)),\"\")","v":""},{"$f":"IFERROR(INDEX(Отделения[отделение],SMALL(IF(Отделения[Город]=$AU$1,ROW(Отделения[Город])-1),ROW(AB18)-ROW($A$2)+1)),\"\")","v":""},{"$f":"IFERROR(INDEX(Отделения[отделение],SMALL(IF(Отделения[Город]=$AV$1,ROW(Отделения[Город])-1),ROW(AB18)-ROW($A$2)+1)),\"\")","v":""},{"$f":"IFERROR(INDEX(Отделения[отделение],SMALL(IF(Отделения[Город]=$AW$1,ROW(Отделения[Город])-1),ROW(AB18)-ROW($A$2)+1)),\"\")","v":""},{"$f":"IFERROR(INDEX(Отделения[отделение],SMALL(IF(Отделения[Город]=$AX$1,ROW(Отделения[Город])-1),ROW(AB18)-ROW($A$2)+1)),\"\")","v":""},{"$f":"IFERROR(INDEX(Отделения[отделение],SMALL(IF(Отделения[Город]=$AY$1,ROW(Отделения[Город])-1),ROW(AB18)-ROW($A$2)+1)),\"\")","v":""},{"$f":"IFERROR(INDEX(Отделения[отделение],SMALL(IF(Отделения[Город]=$AZ$1,ROW(Отделения[Город])-1),ROW(AB18)-ROW($A$2)+1)),\"\")","v":""},{"$f":"IFERROR(INDEX(Отделения[отделение],SMALL(IF(Отделения[Город]=$BA$1,ROW(Отделения[Город])-1),ROW(AB18)-ROW($A$2)+1)),\"\")","v":""},{"$f":"IFERROR(INDEX(Отделения[отделение],SMALL(IF(Отделения[Город]=$BB$1,ROW(Отделения[Город])-1),ROW(AB18)-ROW($A$2)+1)),\"\")","v":""},{"$f":"IFERROR(INDEX(Отделения[отделение],SMALL(IF(Отделения[Город]=$BC$1,ROW(Отделения[Город])-1),ROW(AC18)-ROW($A$2)+1)),\"\")","v":""},{"$f":"IFERROR(INDEX(Отделения[отделение],SMALL(IF(Отделения[Город]=$BD$1,ROW(Отделения[Город])-1),ROW(AD18)-ROW($A$2)+1)),\"\")","v":""},{"$f":"IFERROR(INDEX(Отделения[отделение],SMALL(IF(Отделения[Город]=$BE$1,ROW(Отделения[Город])-1),ROW(AE18)-ROW($A$2)+1)),\"\")","v":""},{"$f":"IFERROR(INDEX(Отделения[отделение],SMALL(IF(Отделения[Город]=$BF$1,ROW(Отделения[Город])-1),ROW(AF18)-ROW($A$2)+1)),\"\")","v":""},{"$f":"IFERROR(INDEX(Отделения[отделение],SMALL(IF(Отделения[Город]=$BG$1,ROW(Отделения[Город])-1),ROW(AG18)-ROW($A$2)+1)),\"\")","v":""},{"$f":"IFERROR(INDEX(Отделения[отделение],SMALL(IF(Отделения[Город]=$BH$1,ROW(Отделения[Город])-1),ROW(AH18)-ROW($A$2)+1)),\"\")","v":""},{"$f":"IFERROR(INDEX(Отделения[отделение],SMALL(IF(Отделения[Город]=$BI$1,ROW(Отделения[Город])-1),ROW(AI18)-ROW($A$2)+1)),\"\")","v":""},{"$f":"IFERROR(INDEX(Отделения[отделение],SMALL(IF(Отделения[Город]=$BJ$1,ROW(Отделения[Город])-1),ROW(AJ18)-ROW($A$2)+1)),\"\")","v":""},{"$f":"IFERROR(INDEX(Отделения[отделение],SMALL(IF(Отделения[Город]=$BK$1,ROW(Отделения[Город])-1),ROW(AK18)-ROW($A$2)+1)),\"\")","v":""},{"$f":"IFERROR(INDEX(Отделения[отделение],SMALL(IF(Отделения[Город]=$BL$1,ROW(Отделения[Город])-1),ROW(AL18)-ROW($A$2)+1)),\"\")","v":""},{"$f":"IFERROR(INDEX(Отделения[отделение],SMALL(IF(Отделения[Город]=$BM$1,ROW(Отделения[Город])-1),ROW(AM18)-ROW($A$2)+1)),\"\")","v":""},{"$f":"IFERROR(INDEX(Отделения[отделение],SMALL(IF(Отделения[Город]=$BN$1,ROW(Отделения[Город])-1),ROW(AN18)-ROW($A$2)+1)),\"\")","v":""},{"$f":"IFERROR(INDEX(Отделения[отделение],SMALL(IF(Отделения[Город]=$BO$1,ROW(Отделения[Город])-1),ROW(AO18)-ROW($A$2)+1)),\"\")","v":""},{"$f":"IFERROR(INDEX(Отделения[отделение],SMALL(IF(Отделения[Город]=$BP$1,ROW(Отделения[Город])-1),ROW(AP18)-ROW($A$2)+1)),\"\")","v":""},{"$f":"IFERROR(INDEX(Отделения[отделение],SMALL(IF(Отделения[Город]=$BQ$1,ROW(Отделения[Город])-1),ROW(AQ18)-ROW($A$2)+1)),\"\")","v":""},{"$f":"IFERROR(INDEX(Отделения[отделение],SMALL(IF(Отделения[Город]=$BR$1,ROW(Отделения[Город])-1),ROW(AR18)-ROW($A$2)+1)),\"\")","v":""},{"$f":"IFERROR(INDEX(Отделения[отделение],SMALL(IF(Отделения[Город]=$BS$1,ROW(Отделения[Город])-1),ROW(AS18)-ROW($A$2)+1)),\"\")","v":""},{"$f":"IFERROR(INDEX(Отделения[отделение],SMALL(IF(Отделения[Город]=$BT$1,ROW(Отделения[Город])-1),ROW(AT18)-ROW($A$2)+1)),\"\")","v":""},{"$f":"IFERROR(INDEX(Отделения[отделение],SMALL(IF(Отделения[Город]=$BU$1,ROW(Отделения[Город])-1),ROW(AU18)-ROW($A$2)+1)),\"\")","v":""},{"$f":"IFERROR(INDEX(Отделения[отделение],SMALL(IF(Отделения[Город]=$BV$1,ROW(Отделения[Город])-1),ROW(AV18)-ROW($A$2)+1)),\"\")","v":""},{"$f":"IFERROR(INDEX(Отделения[отделение],SMALL(IF(Отделения[Город]=$BW$1,ROW(Отделения[Город])-1),ROW(AV18)-ROW($A$2)+1)),\"\")","v":""},{"$f":"IFERROR(INDEX(Отделения[отделение],SMALL(IF(Отделения[Город]=$BX$1,ROW(Отделения[Город])-1),ROW(AV18)-ROW($A$2)+1)),\"\")","v":""},{"$f":"IFERROR(INDEX(Отделения[отделение],SMALL(IF(Отделения[Город]=$BY$1,ROW(Отделения[Город])-1),ROW(AV18)-ROW($A$2)+1)),\"\")","v":""},{"$f":"IFERROR(INDEX(Отделения[отделение],SMALL(IF(Отделения[Город]=$BZ$1,ROW(Отделения[Город])-1),ROW(AV18)-ROW($A$2)+1)),\"\")","v":""},{"$f":"IFERROR(INDEX(Отделения[отделение],SMALL(IF(Отделения[Город]=$CA$1,ROW(Отделения[Город])-1),ROW(AV18)-ROW($A$2)+1)),\"\")","v":""},{"$f":"IFERROR(INDEX(Отделения[отделение],SMALL(IF(Отделения[Город]=$CB$1,ROW(Отделения[Город])-1),ROW(AV18)-ROW($A$2)+1)),\"\")","v":""},{"$f":"IFERROR(INDEX(Отделения[отделение],SMALL(IF(Отделения[Город]=$CC$1,ROW(Отделения[Город])-1),ROW(AV18)-ROW($A$2)+1)),\"\")","v":""},{"$f":"IFERROR(INDEX(Отделения[отделение],SMALL(IF(Отделения[Город]=$CD$1,ROW(Отделения[Город])-1),ROW(AV18)-ROW($A$2)+1)),\"\")","v":""},{"$f":"IFERROR(INDEX(Отделения[отделение],SMALL(IF(Отделения[Город]=$CE$1,ROW(Отделения[Город])-1),ROW(AV18)-ROW($A$2)+1)),\"\")","v":""},{"$f":"IFERROR(INDEX(Отделения[отделение],SMALL(IF(Отделения[Город]=$CF$1,ROW(Отделения[Город])-1),ROW(AV18)-ROW($A$2)+1)),\"\")","v":""},{"$f":"IFERROR(INDEX(Отделения[отделение],SMALL(IF(Отделения[Город]=$CG$1,ROW(Отделения[Город])-1),ROW(AV18)-ROW($A$2)+1)),\"\")","v":""},{"$f":"IFERROR(INDEX(Отделения[отделение],SMALL(IF(Отделения[Город]=$CH$1,ROW(Отделения[Город])-1),ROW(AW18)-ROW($A$2)+1)),\"\")","v":""},{"$f":"IFERROR(INDEX(Отделения[отделение],SMALL(IF(Отделения[Город]=$CI$1,ROW(Отделения[Город])-1),ROW(AX18)-ROW($A$2)+1)),\"\")","v":""},{"$f":"IFERROR(INDEX(Отделения[отделение],SMALL(IF(Отделения[Город]=$CJ$1,ROW(Отделения[Город])-1),ROW(AY18)-ROW($A$2)+1)),\"\")","v":""},{"$f":"IFERROR(INDEX(Отделения[отделение],SMALL(IF(Отделения[Город]=$CK$1,ROW(Отделения[Город])-1),ROW(AZ18)-ROW($A$2)+1)),\"\")","v":""},{"$f":"IFERROR(INDEX(Отделения[отделение],SMALL(IF(Отделения[Город]=$CL$1,ROW(Отделения[Город])-1),ROW(BA18)-ROW($A$2)+1)),\"\")","v":""},{"$f":"IFERROR(INDEX(Отделения[отделение],SMALL(IF(Отделения[Город]=$CM$1,ROW(Отделения[Город])-1),ROW(BB18)-ROW($A$2)+1)),\"\")","v":""},{"$f":"IFERROR(INDEX(Отделения[отделение],SMALL(IF(Отделения[Город]=$CN$1,ROW(Отделения[Город])-1),ROW(BC18)-ROW($A$2)+1)),\"\")","v":""},{"$f":"IFERROR(INDEX(Отделения[отделение],SMALL(IF(Отделения[Город]=$CO$1,ROW(Отделения[Город])-1),ROW(BD18)-ROW($A$2)+1)),\"\")","v":""},{"$f":"IFERROR(INDEX(Отделения[отделение],SMALL(IF(Отделения[Город]=$CP$1,ROW(Отделения[Город])-1),ROW(BE18)-ROW($A$2)+1)),\"\")","v":""},{"$f":"IFERROR(INDEX(Отделения[отделение],SMALL(IF(Отделения[Город]=$CQ$1,ROW(Отделения[Город])-1),ROW(BF18)-ROW($A$2)+1)),\"\")","v":""},{"$f":"IFERROR(INDEX(Отделения[отделение],SMALL(IF(Отделения[Город]=$CR$1,ROW(Отделения[Город])-1),ROW(BG18)-ROW($A$2)+1)),\"\")","v":""},{"$f":"IFERROR(INDEX(Отделения[отделение],SMALL(IF(Отделения[Город]=$CS$1,ROW(Отделения[Город])-1),ROW(BH18)-ROW($A$2)+1)),\"\")","v":""},{"$f":"IFERROR(INDEX(Отделения[отделение],SMALL(IF(Отделения[Город]=$CT$1,ROW(Отделения[Город])-1),ROW(BI18)-ROW($A$2)+1)),\"\")","v":""},{"$f":"IFERROR(INDEX(Отделения[отделение],SMALL(IF(Отделения[Город]=$CU$1,ROW(Отделения[Город])-1),ROW(BJ18)-ROW($A$2)+1)),\"\")","v":""},{"$f":"IFERROR(INDEX(Отделения[отделение],SMALL(IF(Отделения[Город]=$CV$1,ROW(Отделения[Город])-1),ROW(BK18)-ROW($A$2)+1)),\"\")","v":""},{"$f":"IFERROR(INDEX(Отделения[отделение],SMALL(IF(Отделения[Город]=$CW$1,ROW(Отделения[Город])-1),ROW(BL18)-ROW($A$2)+1)),\"\")","v":""},{"$f":"IFERROR(INDEX(Отделения[отделение],SMALL(IF(Отделения[Город]=$CX$1,ROW(Отделения[Город])-1),ROW(BM18)-ROW($A$2)+1)),\"\")","v":""},{"$f":"IFERROR(INDEX(Отделения[отделение],SMALL(IF(Отделения[Город]=$CY$1,ROW(Отделения[Город])-1),ROW(BM18)-ROW($A$2)+1)),\"\")","v":""},{"$f":"IFERROR(INDEX(Отделения[отделение],SMALL(IF(Отделения[Город]=$CZ$1,ROW(Отделения[Город])-1),ROW(BM18)-ROW($A$2)+1)),\"\")","v":""},{"$f":"IFERROR(INDEX(Отделения[отделение],SMALL(IF(Отделения[Город]=$DA$1,ROW(Отделения[Город])-1),ROW(BM18)-ROW($A$2)+1)),\"\")","v":""},{"$f":"IFERROR(INDEX(Отделения[отделение],SMALL(IF(Отделения[Город]=$DB$1,ROW(Отделения[Город])-1),ROW(BM18)-ROW($A$2)+1)),\"\")","v":""}]
["Томск","ДО \"Томск-Красный Экспресс\" , 634034, Российская Федерация, Томская область, город Томск, ул.Красноармейская, 101а","0439","MOFT",null,null,{"$f":"IFERROR(INDEX(Отделения[отделение],SMALL(IF(Отделения[Город]=$G$1,ROW(Отделения[Город])-1),ROW(A19)-ROW($A$2)+1)),\"\")","v":""},{"$f":"IFERROR(INDEX(Отделения[отделение],SMALL(IF(Отделения[Город]=$H$1,ROW(Отделения[Город])-1),ROW(A19)-ROW($A$2)+1)),\"\")","v":""},{"$f":"IFERROR(INDEX(Отделения[отделение],SMALL(IF(Отделения[Город]=$I$1,ROW(Отделения[Город])-1),ROW(A19)-ROW($A$2)+1)),\"\")","v":""},{"$f":"IFERROR(INDEX(Отделения[отделение],SMALL(IF(Отделения[Город]=$J$1,ROW(Отделения[Город])-1),ROW(A19)-ROW($A$2)+1)),\"\")","v":""},{"$f":"IFERROR(INDEX(Отделения[отделение],SMALL(IF(Отделения[Город]=$K$1,ROW(Отделения[Город])-1),ROW(A19)-ROW($A$2)+1)),\"\")","v":""},{"$f":"IFERROR(INDEX(Отделения[отделение],SMALL(IF(Отделения[Город]=$L$1,ROW(Отделения[Город])-1),ROW(A19)-ROW($A$2)+1)),\"\")","v":""},{"$f":"IFERROR(INDEX(Отделения[отделение],SMALL(IF(Отделения[Город]=$M$1,ROW(Отделения[Город])-1),ROW(B19)-ROW($A$2)+1)),\"\")","v":""},{"$f":"IFERROR(INDEX(Отделения[отделение],SMALL(IF(Отделения[Город]=$N$1,ROW(Отделения[Город])-1),ROW(#REF!)-ROW($A$2)+1)),\"\")","v":""},{"$f":"IFERROR(INDEX(Отделения[отделение],SMALL(IF(Отделения[Город]=$O$1,ROW(Отделения[Город])-1),ROW(C19)-ROW($A$2)+1)),\"\")","v":""},{"$f":"IFERROR(INDEX(Отделения[отделение],SMALL(IF(Отделения[Город]=$P$1,ROW(Отделения[Город])-1),ROW(D19)-ROW($A$2)+1)),\"\")","v":""},{"$f":"IFERROR(INDEX(Отделения[отделение],SMALL(IF(Отделения[Город]=$Q$1,ROW(Отделения[Город])-1),ROW(F19)-ROW($A$2)+1)),\"\")","v":""},{"$f":"IFERROR(INDEX(Отделения[отделение],SMALL(IF(Отделения[Город]=$R$1,ROW(Отделения[Город])-1),ROW(#REF!)-ROW($A$2)+1)),\"\")","v":""},{"$f":"IFERROR(INDEX(Отделения[отделение],SMALL(IF(Отделения[Город]=$S$1,ROW(Отделения[Город])-1),ROW(G19)-ROW($A$2)+1)),\"\")","v":""},{"$f":"IFERROR(INDEX(Отделения[отделение],SMALL(IF(Отделения[Город]=$T$1,ROW(Отделения[Город])-1),ROW(H19)-ROW($A$2)+1)),\"\")","v":""},{"$f":"IFERROR(INDEX(Отделения[отделение],SMALL(IF(Отделения[Город]=$U$1,ROW(Отделения[Город])-1),ROW(I19)-ROW($A$2)+1)),\"\")","v":""},{"$f":"IFERROR(INDEX(Отделения[отделение],SMALL(IF(Отделения[Город]=$V$1,ROW(Отделения[Город])-1),ROW(J19)-ROW($A$2)+1)),\"\")","v":""},{"$f":"IFERROR(INDEX(Отделения[отделение],SMALL(IF(Отделения[Город]=$W$1,ROW(Отделения[Город])-1),ROW(K19)-ROW($A$2)+1)),\"\")","v":""},{"$f":"IFERROR(INDEX(Отделения[отделение],SMALL(IF(Отделения[Город]=$X$1,ROW(Отделения[Город])-1),ROW(L19)-ROW($A$2)+1)),\"\")","v":""},{"$f":"IFERROR(INDEX(Отделения[отделение],SMALL(IF(Отделения[Город]=$Y$1,ROW(Отделения[Город])-1),ROW(M19)-ROW($A$2)+1)),\"\")","v":""},{"$f":"IFERROR(INDEX(Отделения[отделение],SMALL(IF(Отделения[Город]=$Z$1,ROW(Отделения[Город])-1),ROW(N19)-ROW($A$2)+1)),\"\")","v":""},{"$f":"IFERROR(INDEX(Отделения[отделение],SMALL(IF(Отделения[Город]=$AA$1,ROW(Отделения[Город])-1),ROW(O19)-ROW($A$2)+1)),\"\")","v":""},{"$f":"IFERROR(INDEX(Отделения[отделение],SMALL(IF(Отделения[Город]=$AB$1,ROW(Отделения[Город])-1),ROW(P19)-ROW($A$2)+1)),\"\")","v":""},{"$f":"IFERROR(INDEX(Отделения[отделение],SMALL(IF(Отделения[Город]=$AC$1,ROW(Отделения[Город])-1),ROW(Q19)-ROW($A$2)+1)),\"\")","v":""},{"$f":"IFERROR(INDEX(Отделения[отделение],SMALL(IF(Отделения[Город]=$AD$1,ROW(Отделения[Город])-1),ROW(R19)-ROW($A$2)+1)),\"\")","v":""},{"$f":"IFERROR(INDEX(Отделения[отделение],SMALL(IF(Отделения[Город]=$AE$1,ROW(Отделения[Город])-1),ROW(S19)-ROW($A$2)+1)),\"\")","v":""},{"$f":"IFERROR(INDEX(Отделения[отделение],SMALL(IF(Отделения[Город]=$AF$1,ROW(Отделения[Город])-1),ROW(T19)-ROW($A$2)+1)),\"\")","v":""},{"$f":"IFERROR(INDEX(Отделения[отделение],SMALL(IF(Отделения[Город]=$AG$1,ROW(Отделения[Город])-1),ROW(U19)-ROW($A$2)+1)),\"\")","v":""},{"$f":"IFERROR(INDEX(Отделения[отделение],SMALL(IF(Отделения[Город]=$AH$1,ROW(Отделения[Город])-1),ROW(V19)-ROW($A$2)+1)),\"\")","v":""},{"$f":"IFERROR(INDEX(Отделения[отделение],SMALL(IF(Отделения[Город]=$AI$1,ROW(Отделения[Город])-1),ROW(AB19)-ROW($A$2)+1)),\"\")","v":""},{"$f":"IFERROR(INDEX(Отделения[отделение],SMALL(IF(Отделения[Город]=$AJ$1,ROW(Отделения[Город])-1),ROW(AB19)-ROW($A$2)+1)),\"\")","v":""},{"$f":"IFERROR(INDEX(Отделения[отделение],SMALL(IF(Отделения[Город]=$AK$1,ROW(Отделения[Город])-1),ROW(AB19)-ROW($A$2)+1)),\"\")","v":""},{"$f":"IFERROR(INDEX(Отделения[отделение],SMALL(IF(Отделения[Город]=$AL$1,ROW(Отделения[Город])-1),ROW(AB19)-ROW($A$2)+1)),\"\")","v":""},{"$f":"IFERROR(INDEX(Отделения[отделение],SMALL(IF(Отделения[Город]=$AM$1,ROW(Отделения[Город])-1),ROW(AB19)-ROW($A$2)+1)),\"\")","v":""},{"$f":"IFERROR(INDEX(Отделения[отделение],SMALL(IF(Отделения[Город]=$AN$1,ROW(Отделения[Город])-1),ROW(AB19)-ROW($A$2)+1)),\"\")","v":""},{"$f":"IFERROR(INDEX(Отделения[отделение],SMALL(IF(Отделения[Город]=$AO$1,ROW(Отделения[Город])-1),ROW(AB19)-ROW($A$2)+1)),\"\")","v":""},{"$f":"IFERROR(INDEX(Отделения[отделение],SMALL(IF(Отделения[Город]=$AP$1,ROW(Отделения[Город])-1),ROW(AB19)-ROW($A$2)+1)),\"\")","v":""},{"$f":"IFERROR(INDEX(Отделения[отделение],SMALL(IF(Отделения[Город]=$AQ$1,ROW(Отделения[Город])-1),ROW(AB19)-ROW($A$2)+1)),\"\")","v":""},{"$f":"IFERROR(INDEX(Отделения[отделение],SMALL(IF(Отделения[Город]=$AR$1,ROW(Отделения[Город])-1),ROW(AB19)-ROW($A$2)+1)),\"\")","v":""},{"$f":"IFERROR(INDEX(Отделения[отделение],SMALL(IF(Отделения[Город]=$AS$1,ROW(Отделения[Город])-1),ROW(AB19)-ROW($A$2)+1)),\"\")","v":""},{"$f":"IFERROR(INDEX(Отделения[отделение],SMALL(IF(Отделения[Город]=$AT$1,ROW(Отделения[Город])-1),ROW(AB19)-ROW($A$2)+1)),\"\")","v":""},{"$f":"IFERROR(INDEX(Отделения[отделение],SMALL(IF(Отделения[Город]=$AU$1,ROW(Отделения[Город])-1),ROW(AB19)-ROW($A$2)+1)),\"\")","v":""},{"$f":"IFERROR(INDEX(Отделения[отделение],SMALL(IF(Отделения[Город]=$AV$1,ROW(Отделения[Город])-1),ROW(AB19)-ROW($A$2)+1)),\"\")","v":""},{"$f":"IFERROR(INDEX(Отделения[отделение],SMALL(IF(Отделения[Город]=$AW$1,ROW(Отделения[Город])-1),ROW(AB19)-ROW($A$2)+1)),\"\")","v":""},{"$f":"IFERROR(INDEX(Отделения[отделение],SMALL(IF(Отделения[Город]=$AX$1,ROW(Отделения[Город])-1),ROW(AB19)-ROW($A$2)+1)),\"\")","v":""},{"$f":"IFERROR(INDEX(Отделения[отделение],SMALL(IF(Отделения[Город]=$AY$1,ROW(Отделения[Город])-1),ROW(AB19)-ROW($A$2)+1)),\"\")","v":""},{"$f":"IFERROR(INDEX(Отделения[отделение],SMALL(IF(Отделения[Город]=$AZ$1,ROW(Отделения[Город])-1),ROW(AB19)-ROW($A$2)+1)),\"\")","v":""},{"$f":"IFERROR(INDEX(Отделения[отделение],SMALL(IF(Отделения[Город]=$BA$1,ROW(Отделения[Город])-1),ROW(AB19)-ROW($A$2)+1)),\"\")","v":""},{"$f":"IFERROR(INDEX(Отделения[отделение],SMALL(IF(Отделения[Город]=$BB$1,ROW(Отделения[Город])-1),ROW(AB19)-ROW($A$2)+1)),\"\")","v":""},{"$f":"IFERROR(INDEX(Отделения[отделение],SMALL(IF(Отделения[Город]=$BC$1,ROW(Отделения[Город])-1),ROW(AC19)-ROW($A$2)+1)),\"\")","v":""},{"$f":"IFERROR(INDEX(Отделения[отделение],SMALL(IF(Отделения[Город]=$BD$1,ROW(Отделения[Город])-1),ROW(AD19)-ROW($A$2)+1)),\"\")","v":""},{"$f":"IFERROR(INDEX(Отделения[отделение],SMALL(IF(Отделения[Город]=$BE$1,ROW(Отделения[Город])-1),ROW(AE19)-ROW($A$2)+1)),\"\")","v":""},{"$f":"IFERROR(INDEX(Отделения[отделение],SMALL(IF(Отделения[Город]=$BF$1,ROW(Отделения[Город])-1),ROW(AF19)-ROW($A$2)+1)),\"\")","v":""},{"$f":"IFERROR(INDEX(Отделения[отделение],SMALL(IF(Отделения[Город]=$BG$1,ROW(Отделения[Город])-1),ROW(AG19)-ROW($A$2)+1)),\"\")","v":""},{"$f":"IFERROR(INDEX(Отделения[отделение],SMALL(IF(Отделения[Город]=$BH$1,ROW(Отделения[Город])-1),ROW(AH19)-ROW($A$2)+1)),\"\")","v":""},{"$f":"IFERROR(INDEX(Отделения[отделение],SMALL(IF(Отделения[Город]=$BI$1,ROW(Отделения[Город])-1),ROW(AI19)-ROW($A$2)+1)),\"\")","v":""},{"$f":"IFERROR(INDEX(Отделения[отделение],SMALL(IF(Отделения[Город]=$BJ$1,ROW(Отделения[Город])-1),ROW(AJ19)-ROW($A$2)+1)),\"\")","v":""},{"$f":"IFERROR(INDEX(Отделения[отделение],SMALL(IF(Отделения[Город]=$BK$1,ROW(Отделения[Город])-1),ROW(AK19)-ROW($A$2)+1)),\"\")","v":""},{"$f":"IFERROR(INDEX(Отделения[отделение],SMALL(IF(Отделения[Город]=$BL$1,ROW(Отделения[Город])-1),ROW(AL19)-ROW($A$2)+1)),\"\")","v":""},{"$f":"IFERROR(INDEX(Отделения[отделение],SMALL(IF(Отделения[Город]=$BM$1,ROW(Отделения[Город])-1),ROW(AM19)-ROW($A$2)+1)),\"\")","v":""},{"$f":"IFERROR(INDEX(Отделения[отделение],SMALL(IF(Отделения[Город]=$BN$1,ROW(Отделения[Город])-1),ROW(AN19)-ROW($A$2)+1)),\"\")","v":""},{"$f":"IFERROR(INDEX(Отделения[отделение],SMALL(IF(Отделения[Город]=$BO$1,ROW(Отделения[Город])-1),ROW(AO19)-ROW($A$2)+1)),\"\")","v":""},{"$f":"IFERROR(INDEX(Отделения[отделение],SMALL(IF(Отделения[Город]=$BP$1,ROW(Отделения[Город])-1),ROW(AP19)-ROW($A$2)+1)),\"\")","v":""},{"$f":"IFERROR(INDEX(Отделения[отделение],SMALL(IF(Отделения[Город]=$BQ$1,ROW(Отделения[Город])-1),ROW(AQ19)-ROW($A$2)+1)),\"\")","v":""},{"$f":"IFERROR(INDEX(Отделения[отделение],SMALL(IF(Отделения[Город]=$BR$1,ROW(Отделения[Город])-1),ROW(AR19)-ROW($A$2)+1)),\"\")","v":""},{"$f":"IFERROR(INDEX(Отделения[отделение],SMALL(IF(Отделения[Город]=$BS$1,ROW(Отделения[Город])-1),ROW(AS19)-ROW($A$2)+1)),\"\")","v":""},{"$f":"IFERROR(INDEX(Отделения[отделение],SMALL(IF(Отделения[Город]=$BT$1,ROW(Отделения[Город])-1),ROW(AT19)-ROW($A$2)+1)),\"\")","v":""},{"$f":"IFERROR(INDEX(Отделения[отделение],SMALL(IF(Отделения[Город]=$BU$1,ROW(Отделения[Город])-1),ROW(AU19)-ROW($A$2)+1)),\"\")","v":""},{"$f":"IFERROR(INDEX(Отделения[отделение],SMALL(IF(Отделения[Город]=$BV$1,ROW(Отделения[Город])-1),ROW(AV19)-ROW($A$2)+1)),\"\")","v":""},{"$f":"IFERROR(INDEX(Отделения[отделение],SMALL(IF(Отделения[Город]=$BW$1,ROW(Отделения[Город])-1),ROW(AV19)-ROW($A$2)+1)),\"\")","v":""},{"$f":"IFERROR(INDEX(Отделения[отделение],SMALL(IF(Отделения[Город]=$BX$1,ROW(Отделения[Город])-1),ROW(AV19)-ROW($A$2)+1)),\"\")","v":""},{"$f":"IFERROR(INDEX(Отделения[отделение],SMALL(IF(Отделения[Город]=$BY$1,ROW(Отделения[Город])-1),ROW(AV19)-ROW($A$2)+1)),\"\")","v":""},{"$f":"IFERROR(INDEX(Отделения[отделение],SMALL(IF(Отделения[Город]=$BZ$1,ROW(Отделения[Город])-1),ROW(AV19)-ROW($A$2)+1)),\"\")","v":""},{"$f":"IFERROR(INDEX(Отделения[отделение],SMALL(IF(Отделения[Город]=$CA$1,ROW(Отделения[Город])-1),ROW(AV19)-ROW($A$2)+1)),\"\")","v":""},{"$f":"IFERROR(INDEX(Отделения[отделение],SMALL(IF(Отделения[Город]=$CB$1,ROW(Отделения[Город])-1),ROW(AV19)-ROW($A$2)+1)),\"\")","v":""},{"$f":"IFERROR(INDEX(Отделения[отделение],SMALL(IF(Отделения[Город]=$CC$1,ROW(Отделения[Город])-1),ROW(AV19)-ROW($A$2)+1)),\"\")","v":""},{"$f":"IFERROR(INDEX(Отделения[отделение],SMALL(IF(Отделения[Город]=$CD$1,ROW(Отделения[Город])-1),ROW(AV19)-ROW($A$2)+1)),\"\")","v":""},{"$f":"IFERROR(INDEX(Отделения[отделение],SMALL(IF(Отделения[Город]=$CE$1,ROW(Отделения[Город])-1),ROW(AV19)-ROW($A$2)+1)),\"\")","v":""},{"$f":"IFERROR(INDEX(Отделения[отделение],SMALL(IF(Отделения[Город]=$CF$1,ROW(Отделения[Город])-1),ROW(AV19)-ROW($A$2)+1)),\"\")","v":""},{"$f":"IFERROR(INDEX(Отделения[отделение],SMALL(IF(Отделения[Город]=$CG$1,ROW(Отделения[Город])-1),ROW(AV19)-ROW($A$2)+1)),\"\")","v":""},{"$f":"IFERROR(INDEX(Отделения[отделение],SMALL(IF(Отделения[Город]=$CH$1,ROW(Отделения[Город])-1),ROW(AW19)-ROW($A$2)+1)),\"\")","v":""},{"$f":"IFERROR(INDEX(Отделения[отделение],SMALL(IF(Отделения[Город]=$CI$1,ROW(Отделения[Город])-1),ROW(AX19)-ROW($A$2)+1)),\"\")","v":""},{"$f":"IFERROR(INDEX(Отделения[отделение],SMALL(IF(Отделения[Город]=$CJ$1,ROW(Отделения[Город])-1),ROW(AY19)-ROW($A$2)+1)),\"\")","v":""},{"$f":"IFERROR(INDEX(Отделения[отделение],SMALL(IF(Отделения[Город]=$CK$1,ROW(Отделения[Город])-1),ROW(AZ19)-ROW($A$2)+1)),\"\")","v":""},{"$f":"IFERROR(INDEX(Отделения[отделение],SMALL(IF(Отделения[Город]=$CL$1,ROW(Отделения[Город])-1),ROW(BA19)-ROW($A$2)+1)),\"\")","v":""},{"$f":"IFERROR(INDEX(Отделения[отделение],SMALL(IF(Отделения[Город]=$CM$1,ROW(Отделения[Город])-1),ROW(BB19)-ROW($A$2)+1)),\"\")","v":""},{"$f":"IFERROR(INDEX(Отделения[отделение],SMALL(IF(Отделения[Город]=$CN$1,ROW(Отделения[Город])-1),ROW(BC19)-ROW($A$2)+1)),\"\")","v":""},{"$f":"IFERROR(INDEX(Отделения[отделение],SMALL(IF(Отделения[Город]=$CO$1,ROW(Отделения[Город])-1),ROW(BD19)-ROW($A$2)+1)),\"\")","v":""},{"$f":"IFERROR(INDEX(Отделения[отделение],SMALL(IF(Отделения[Город]=$CP$1,ROW(Отделения[Город])-1),ROW(BE19)-ROW($A$2)+1)),\"\")","v":""},{"$f":"IFERROR(INDEX(Отделения[отделение],SMALL(IF(Отделения[Город]=$CQ$1,ROW(Отделения[Город])-1),ROW(BF19)-ROW($A$2)+1)),\"\")","v":""},{"$f":"IFERROR(INDEX(Отделения[отделение],SMALL(IF(Отделения[Город]=$CR$1,ROW(Отделения[Город])-1),ROW(BG19)-ROW($A$2)+1)),\"\")","v":""},{"$f":"IFERROR(INDEX(Отделения[отделение],SMALL(IF(Отделения[Город]=$CS$1,ROW(Отделения[Город])-1),ROW(BH19)-ROW($A$2)+1)),\"\")","v":""},{"$f":"IFERROR(INDEX(Отделения[отделение],SMALL(IF(Отделения[Город]=$CT$1,ROW(Отделения[Город])-1),ROW(BI19)-ROW($A$2)+1)),\"\")","v":""},{"$f":"IFERROR(INDEX(Отделения[отделение],SMALL(IF(Отделения[Город]=$CU$1,ROW(Отделения[Город])-1),ROW(BJ19)-ROW($A$2)+1)),\"\")","v":""},{"$f":"IFERROR(INDEX(Отделения[отделение],SMALL(IF(Отделения[Город]=$CV$1,ROW(Отделения[Город])-1),ROW(BK19)-ROW($A$2)+1)),\"\")","v":""},{"$f":"IFERROR(INDEX(Отделения[отделение],SMALL(IF(Отделения[Город]=$CW$1,ROW(Отделения[Город])-1),ROW(BL19)-ROW($A$2)+1)),\"\")","v":""},{"$f":"IFERROR(INDEX(Отделения[отделение],SMALL(IF(Отделения[Город]=$CX$1,ROW(Отделения[Город])-1),ROW(BM19)-ROW($A$2)+1)),\"\")","v":""},{"$f":"IFERROR(INDEX(Отделения[отделение],SMALL(IF(Отделения[Город]=$CY$1,ROW(Отделения[Город])-1),ROW(BM19)-ROW($A$2)+1)),\"\")","v":""},{"$f":"IFERROR(INDEX(Отделения[отделение],SMALL(IF(Отделения[Город]=$CZ$1,ROW(Отделения[Город])-1),ROW(BM19)-ROW($A$2)+1)),\"\")","v":""},{"$f":"IFERROR(INDEX(Отделения[отделение],SMALL(IF(Отделения[Город]=$DA$1,ROW(Отделения[Город])-1),ROW(BM19)-ROW($A$2)+1)),\"\")","v":""},{"$f":"IFERROR(INDEX(Отделения[отделение],SMALL(IF(Отделения[Город]=$DB$1,ROW(Отделения[Город])-1),ROW(BM19)-ROW($A$2)+1)),\"\")","v":""}]
["Москва","ДО \"КУРСКАЯ\" , 105120, г.Москва, ул. Земляной Вал,д. 41, стр. 1","0440","MOLY",null,null,{"$f":"IFERROR(INDEX(Отделения[отделение],SMALL(IF(Отделения[Город]=$G$1,ROW(Отделения[Город])-1),ROW(A20)-ROW($A$2)+1)),\"\")","v":""},{"$f":"IFERROR(INDEX(Отделения[отделение],SMALL(IF(Отделения[Город]=$H$1,ROW(Отделения[Город])-1),ROW(A20)-ROW($A$2)+1)),\"\")","v":""},{"$f":"IFERROR(INDEX(Отделения[отделение],SMALL(IF(Отделения[Город]=$I$1,ROW(Отделения[Город])-1),ROW(A20)-ROW($A$2)+1)),\"\")","v":""},{"$f":"IFERROR(INDEX(Отделения[отделение],SMALL(IF(Отделения[Город]=$J$1,ROW(Отделения[Город])-1),ROW(A20)-ROW($A$2)+1)),\"\")","v":""},{"$f":"IFERROR(INDEX(Отделения[отделение],SMALL(IF(Отделения[Город]=$K$1,ROW(Отделения[Город])-1),ROW(A20)-ROW($A$2)+1)),\"\")","v":""},{"$f":"IFERROR(INDEX(Отделения[отделение],SMALL(IF(Отделения[Город]=$L$1,ROW(Отделения[Город])-1),ROW(A20)-ROW($A$2)+1)),\"\")","v":""},{"$f":"IFERROR(INDEX(Отделения[отделение],SMALL(IF(Отделения[Город]=$M$1,ROW(Отделения[Город])-1),ROW(B20)-ROW($A$2)+1)),\"\")","v":""},{"$f":"IFERROR(INDEX(Отделения[отделение],SMALL(IF(Отделения[Город]=$N$1,ROW(Отделения[Город])-1),ROW(#REF!)-ROW($A$2)+1)),\"\")","v":""},{"$f":"IFERROR(INDEX(Отделения[отделение],SMALL(IF(Отделения[Город]=$O$1,ROW(Отделения[Город])-1),ROW(C20)-ROW($A$2)+1)),\"\")","v":""},{"$f":"IFERROR(INDEX(Отделения[отделение],SMALL(IF(Отделения[Город]=$P$1,ROW(Отделения[Город])-1),ROW(D20)-ROW($A$2)+1)),\"\")","v":""},{"$f":"IFERROR(INDEX(Отделения[отделение],SMALL(IF(Отделения[Город]=$Q$1,ROW(Отделения[Город])-1),ROW(F20)-ROW($A$2)+1)),\"\")","v":""},{"$f":"IFERROR(INDEX(Отделения[отделение],SMALL(IF(Отделения[Город]=$R$1,ROW(Отделения[Город])-1),ROW(#REF!)-ROW($A$2)+1)),\"\")","v":""},{"$f":"IFERROR(INDEX(Отделения[отделение],SMALL(IF(Отделения[Город]=$S$1,ROW(Отделения[Город])-1),ROW(G20)-ROW($A$2)+1)),\"\")","v":""},{"$f":"IFERROR(INDEX(Отделения[отделение],SMALL(IF(Отделения[Город]=$T$1,ROW(Отделения[Город])-1),ROW(H20)-ROW($A$2)+1)),\"\")","v":""},{"$f":"IFERROR(INDEX(Отделения[отделение],SMALL(IF(Отделения[Город]=$U$1,ROW(Отделения[Город])-1),ROW(I20)-ROW($A$2)+1)),\"\")","v":""},{"$f":"IFERROR(INDEX(Отделения[отделение],SMALL(IF(Отделения[Город]=$V$1,ROW(Отделения[Город])-1),ROW(J20)-ROW($A$2)+1)),\"\")","v":""},{"$f":"IFERROR(INDEX(Отделения[отделение],SMALL(IF(Отделения[Город]=$W$1,ROW(Отделения[Город])-1),ROW(K20)-ROW($A$2)+1)),\"\")","v":""},{"$f":"IFERROR(INDEX(Отделения[отделение],SMALL(IF(Отделения[Город]=$X$1,ROW(Отделения[Город])-1),ROW(L20)-ROW($A$2)+1)),\"\")","v":""},{"$f":"IFERROR(INDEX(Отделения[отделение],SMALL(IF(Отделения[Город]=$Y$1,ROW(Отделения[Город])-1),ROW(M20)-ROW($A$2)+1)),\"\")","v":""},{"$f":"IFERROR(INDEX(Отделения[отделение],SMALL(IF(Отделения[Город]=$Z$1,ROW(Отделения[Город])-1),ROW(N20)-ROW($A$2)+1)),\"\")","v":""},{"$f":"IFERROR(INDEX(Отделения[отделение],SMALL(IF(Отделения[Город]=$AA$1,ROW(Отделения[Город])-1),ROW(O20)-ROW($A$2)+1)),\"\")","v":""},{"$f":"IFERROR(INDEX(Отделения[отделение],SMALL(IF(Отделения[Город]=$AB$1,ROW(Отделения[Город])-1),ROW(P20)-ROW($A$2)+1)),\"\")","v":""},{"$f":"IFERROR(INDEX(Отделения[отделение],SMALL(IF(Отделения[Город]=$AC$1,ROW(Отделения[Город])-1),ROW(Q20)-ROW($A$2)+1)),\"\")","v":""},{"$f":"IFERROR(INDEX(Отделения[отделение],SMALL(IF(Отделения[Город]=$AD$1,ROW(Отделения[Город])-1),ROW(R20)-ROW($A$2)+1)),\"\")","v":""},{"$f":"IFERROR(INDEX(Отделения[отделение],SMALL(IF(Отделения[Город]=$AE$1,ROW(Отделения[Город])-1),ROW(S20)-ROW($A$2)+1)),\"\")","v":""},{"$f":"IFERROR(INDEX(Отделения[отделение],SMALL(IF(Отделения[Город]=$AF$1,ROW(Отделения[Город])-1),ROW(T20)-ROW($A$2)+1)),\"\")","v":""},{"$f":"IFERROR(INDEX(Отделения[отделение],SMALL(IF(Отделения[Город]=$AG$1,ROW(Отделения[Город])-1),ROW(U20)-ROW($A$2)+1)),\"\")","v":""},{"$f":"IFERROR(INDEX(Отделения[отделение],SMALL(IF(Отделения[Город]=$AH$1,ROW(Отделения[Город])-1),ROW(V20)-ROW($A$2)+1)),\"\")","v":""},{"$f":"IFERROR(INDEX(Отделения[отделение],SMALL(IF(Отделения[Город]=$AI$1,ROW(Отделения[Город])-1),ROW(AB20)-ROW($A$2)+1)),\"\")","v":""},{"$f":"IFERROR(INDEX(Отделения[отделение],SMALL(IF(Отделения[Город]=$AJ$1,ROW(Отделения[Город])-1),ROW(AB20)-ROW($A$2)+1)),\"\")","v":""},{"$f":"IFERROR(INDEX(Отделения[отделение],SMALL(IF(Отделения[Город]=$AK$1,ROW(Отделения[Город])-1),ROW(AB20)-ROW($A$2)+1)),\"\")","v":""},{"$f":"IFERROR(INDEX(Отделения[отделение],SMALL(IF(Отделения[Город]=$AL$1,ROW(Отделения[Город])-1),ROW(AB20)-ROW($A$2)+1)),\"\")","v":""},{"$f":"IFERROR(INDEX(Отделения[отделение],SMALL(IF(Отделения[Город]=$AM$1,ROW(Отделения[Город])-1),ROW(AB20)-ROW($A$2)+1)),\"\")","v":""},{"$f":"IFERROR(INDEX(Отделения[отделение],SMALL(IF(Отделения[Город]=$AN$1,ROW(Отделения[Город])-1),ROW(AB20)-ROW($A$2)+1)),\"\")","v":""},{"$f":"IFERROR(INDEX(Отделения[отделение],SMALL(IF(Отделения[Город]=$AO$1,ROW(Отделения[Город])-1),ROW(AB20)-ROW($A$2)+1)),\"\")","v":""},{"$f":"IFERROR(INDEX(Отделения[отделение],SMALL(IF(Отделения[Город]=$AP$1,ROW(Отделения[Город])-1),ROW(AB20)-ROW($A$2)+1)),\"\")","v":""},{"$f":"IFERROR(INDEX(Отделения[отделение],SMALL(IF(Отделения[Город]=$AQ$1,ROW(Отделения[Город])-1),ROW(AB20)-ROW($A$2)+1)),\"\")","v":""},{"$f":"IFERROR(INDEX(Отделения[отделение],SMALL(IF(Отделения[Город]=$AR$1,ROW(Отделения[Город])-1),ROW(AB20)-ROW($A$2)+1)),\"\")","v":""},{"$f":"IFERROR(INDEX(Отделения[отделение],SMALL(IF(Отделения[Город]=$AS$1,ROW(Отделения[Город])-1),ROW(AB20)-ROW($A$2)+1)),\"\")","v":""},{"$f":"IFERROR(INDEX(Отделения[отделение],SMALL(IF(Отделения[Город]=$AT$1,ROW(Отделения[Город])-1),ROW(AB20)-ROW($A$2)+1)),\"\")","v":""},{"$f":"IFERROR(INDEX(Отделения[отделение],SMALL(IF(Отделения[Город]=$AU$1,ROW(Отделения[Город])-1),ROW(AB20)-ROW($A$2)+1)),\"\")","v":""},{"$f":"IFERROR(INDEX(Отделения[отделение],SMALL(IF(Отделения[Город]=$AV$1,ROW(Отделения[Город])-1),ROW(AB20)-ROW($A$2)+1)),\"\")","v":""},{"$f":"IFERROR(INDEX(Отделения[отделение],SMALL(IF(Отделения[Город]=$AW$1,ROW(Отделения[Город])-1),ROW(AB20)-ROW($A$2)+1)),\"\")","v":""},{"$f":"IFERROR(INDEX(Отделения[отделение],SMALL(IF(Отделения[Город]=$AX$1,ROW(Отделения[Город])-1),ROW(AB20)-ROW($A$2)+1)),\"\")","v":""},{"$f":"IFERROR(INDEX(Отделения[отделение],SMALL(IF(Отделения[Город]=$AY$1,ROW(Отделения[Город])-1),ROW(AB20)-ROW($A$2)+1)),\"\")","v":""},{"$f":"IFERROR(INDEX(Отделения[отделение],SMALL(IF(Отделения[Город]=$AZ$1,ROW(Отделения[Город])-1),ROW(AB20)-ROW($A$2)+1)),\"\")","v":""},{"$f":"IFERROR(INDEX(Отделения[отделение],SMALL(IF(Отделения[Город]=$BA$1,ROW(Отделения[Город])-1),ROW(AB20)-ROW($A$2)+1)),\"\")","v":""},{"$f":"IFERROR(INDEX(Отделения[отделение],SMALL(IF(Отделения[Город]=$BB$1,ROW(Отделения[Город])-1),ROW(AB20)-ROW($A$2)+1)),\"\")","v":""},{"$f":"IFERROR(INDEX(Отделения[отделение],SMALL(IF(Отделения[Город]=$BC$1,ROW(Отделения[Город])-1),ROW(AC20)-ROW($A$2)+1)),\"\")","v":""},{"$f":"IFERROR(INDEX(Отделения[отделение],SMALL(IF(Отделения[Город]=$BD$1,ROW(Отделения[Город])-1),ROW(AD20)-ROW($A$2)+1)),\"\")","v":""},{"$f":"IFERROR(INDEX(Отделения[отделение],SMALL(IF(Отделения[Город]=$BE$1,ROW(Отделения[Город])-1),ROW(AE20)-ROW($A$2)+1)),\"\")","v":""},{"$f":"IFERROR(INDEX(Отделения[отделение],SMALL(IF(Отделения[Город]=$BF$1,ROW(Отделения[Город])-1),ROW(AF20)-ROW($A$2)+1)),\"\")","v":""},{"$f":"IFERROR(INDEX(Отделения[отделение],SMALL(IF(Отделения[Город]=$BG$1,ROW(Отделения[Город])-1),ROW(AG20)-ROW($A$2)+1)),\"\")","v":""},{"$f":"IFERROR(INDEX(Отделения[отделение],SMALL(IF(Отделения[Город]=$BH$1,ROW(Отделения[Город])-1),ROW(AH20)-ROW($A$2)+1)),\"\")","v":""},{"$f":"IFERROR(INDEX(Отделения[отделение],SMALL(IF(Отделения[Город]=$BI$1,ROW(Отделения[Город])-1),ROW(AI20)-ROW($A$2)+1)),\"\")","v":""},{"$f":"IFERROR(INDEX(Отделения[отделение],SMALL(IF(Отделения[Город]=$BJ$1,ROW(Отделения[Город])-1),ROW(AJ20)-ROW($A$2)+1)),\"\")","v":""},{"$f":"IFERROR(INDEX(Отделения[отделение],SMALL(IF(Отделения[Город]=$BK$1,ROW(Отделения[Город])-1),ROW(AK20)-ROW($A$2)+1)),\"\")","v":""},{"$f":"IFERROR(INDEX(Отделения[отделение],SMALL(IF(Отделения[Город]=$BL$1,ROW(Отделения[Город])-1),ROW(AL20)-ROW($A$2)+1)),\"\")","v":""},{"$f":"IFERROR(INDEX(Отделения[отделение],SMALL(IF(Отделения[Город]=$BM$1,ROW(Отделения[Город])-1),ROW(AM20)-ROW($A$2)+1)),\"\")","v":""},{"$f":"IFERROR(INDEX(Отделения[отделение],SMALL(IF(Отделения[Город]=$BN$1,ROW(Отделения[Город])-1),ROW(AN20)-ROW($A$2)+1)),\"\")","v":""},{"$f":"IFERROR(INDEX(Отделения[отделение],SMALL(IF(Отделения[Город]=$BO$1,ROW(Отделения[Город])-1),ROW(AO20)-ROW($A$2)+1)),\"\")","v":""},{"$f":"IFERROR(INDEX(Отделения[отделение],SMALL(IF(Отделения[Город]=$BP$1,ROW(Отделения[Город])-1),ROW(AP20)-ROW($A$2)+1)),\"\")","v":""},{"$f":"IFERROR(INDEX(Отделения[отделение],SMALL(IF(Отделения[Город]=$BQ$1,ROW(Отделения[Город])-1),ROW(AQ20)-ROW($A$2)+1)),\"\")","v":""},{"$f":"IFERROR(INDEX(Отделения[отделение],SMALL(IF(Отделения[Город]=$BR$1,ROW(Отделения[Город])-1),ROW(AR20)-ROW($A$2)+1)),\"\")","v":""},{"$f":"IFERROR(INDEX(Отделения[отделение],SMALL(IF(Отделения[Город]=$BS$1,ROW(Отделения[Город])-1),ROW(AS20)-ROW($A$2)+1)),\"\")","v":""},{"$f":"IFERROR(INDEX(Отделения[отделение],SMALL(IF(Отделения[Город]=$BT$1,ROW(Отделения[Город])-1),ROW(AT20)-ROW($A$2)+1)),\"\")","v":""},{"$f":"IFERROR(INDEX(Отделения[отделение],SMALL(IF(Отделения[Город]=$BU$1,ROW(Отделения[Город])-1),ROW(AU20)-ROW($A$2)+1)),\"\")","v":""},{"$f":"IFERROR(INDEX(Отделения[отделение],SMALL(IF(Отделения[Город]=$BV$1,ROW(Отделения[Город])-1),ROW(AV20)-ROW($A$2)+1)),\"\")","v":""},{"$f":"IFERROR(INDEX(Отделения[отделение],SMALL(IF(Отделения[Город]=$BW$1,ROW(Отделения[Город])-1),ROW(AV20)-ROW($A$2)+1)),\"\")","v":""},{"$f":"IFERROR(INDEX(Отделения[отделение],SMALL(IF(Отделения[Город]=$BX$1,ROW(Отделения[Город])-1),ROW(AV20)-ROW($A$2)+1)),\"\")","v":""},{"$f":"IFERROR(INDEX(Отделения[отделение],SMALL(IF(Отделения[Город]=$BY$1,ROW(Отделения[Город])-1),ROW(AV20)-ROW($A$2)+1)),\"\")","v":""},{"$f":"IFERROR(INDEX(Отделения[отделение],SMALL(IF(Отделения[Город]=$BZ$1,ROW(Отделения[Город])-1),ROW(AV20)-ROW($A$2)+1)),\"\")","v":""},{"$f":"IFERROR(INDEX(Отделения[отделение],SMALL(IF(Отделения[Город]=$CA$1,ROW(Отделения[Город])-1),ROW(AV20)-ROW($A$2)+1)),\"\")","v":""},{"$f":"IFERROR(INDEX(Отделения[отделение],SMALL(IF(Отделения[Город]=$CB$1,ROW(Отделения[Город])-1),ROW(AV20)-ROW($A$2)+1)),\"\")","v":""},{"$f":"IFERROR(INDEX(Отделения[отделение],SMALL(IF(Отделения[Город]=$CC$1,ROW(Отделения[Город])-1),ROW(AV20)-ROW($A$2)+1)),\"\")","v":""},{"$f":"IFERROR(INDEX(Отделения[отделение],SMALL(IF(Отделения[Город]=$CD$1,ROW(Отделения[Город])-1),ROW(AV20)-ROW($A$2)+1)),\"\")","v":""},{"$f":"IFERROR(INDEX(Отделения[отделение],SMALL(IF(Отделения[Город]=$CE$1,ROW(Отделения[Город])-1),ROW(AV20)-ROW($A$2)+1)),\"\")","v":""},{"$f":"IFERROR(INDEX(Отделения[отделение],SMALL(IF(Отделения[Город]=$CF$1,ROW(Отделения[Город])-1),ROW(AV20)-ROW($A$2)+1)),\"\")","v":""},{"$f":"IFERROR(INDEX(Отделения[отделение],SMALL(IF(Отделения[Город]=$CG$1,ROW(Отделения[Город])-1),ROW(AV20)-ROW($A$2)+1)),\"\")","v":""},{"$f":"IFERROR(INDEX(Отделения[отделение],SMALL(IF(Отделения[Город]=$CH$1,ROW(Отделения[Город])-1),ROW(AW20)-ROW($A$2)+1)),\"\")","v":""},{"$f":"IFERROR(INDEX(Отделения[отделение],SMALL(IF(Отделения[Город]=$CI$1,ROW(Отделения[Город])-1),ROW(AX20)-ROW($A$2)+1)),\"\")","v":""},{"$f":"IFERROR(INDEX(Отделения[отделение],SMALL(IF(Отделения[Город]=$CJ$1,ROW(Отделения[Город])-1),ROW(AY20)-ROW($A$2)+1)),\"\")","v":""},{"$f":"IFERROR(INDEX(Отделения[отделение],SMALL(IF(Отделения[Город]=$CK$1,ROW(Отделения[Город])-1),ROW(AZ20)-ROW($A$2)+1)),\"\")","v":""},{"$f":"IFERROR(INDEX(Отделения[отделение],SMALL(IF(Отделения[Город]=$CL$1,ROW(Отделения[Город])-1),ROW(BA20)-ROW($A$2)+1)),\"\")","v":""},{"$f":"IFERROR(INDEX(Отделения[отделение],SMALL(IF(Отделения[Город]=$CM$1,ROW(Отделения[Город])-1),ROW(BB20)-ROW($A$2)+1)),\"\")","v":""},{"$f":"IFERROR(INDEX(Отделения[отделение],SMALL(IF(Отделения[Город]=$CN$1,ROW(Отделения[Город])-1),ROW(BC20)-ROW($A$2)+1)),\"\")","v":""},{"$f":"IFERROR(INDEX(Отделения[отделение],SMALL(IF(Отделения[Город]=$CO$1,ROW(Отделения[Город])-1),ROW(BD20)-ROW($A$2)+1)),\"\")","v":""},{"$f":"IFERROR(INDEX(Отделения[отделение],SMALL(IF(Отделения[Город]=$CP$1,ROW(Отделения[Город])-1),ROW(BE20)-ROW($A$2)+1)),\"\")","v":""},{"$f":"IFERROR(INDEX(Отделения[отделение],SMALL(IF(Отделения[Город]=$CQ$1,ROW(Отделения[Город])-1),ROW(BF20)-ROW($A$2)+1)),\"\")","v":""},{"$f":"IFERROR(INDEX(Отделения[отделение],SMALL(IF(Отделения[Город]=$CR$1,ROW(Отделения[Город])-1),ROW(BG20)-ROW($A$2)+1)),\"\")","v":""},{"$f":"IFERROR(INDEX(Отделения[отделение],SMALL(IF(Отделения[Город]=$CS$1,ROW(Отделения[Город])-1),ROW(BH20)-ROW($A$2)+1)),\"\")","v":""},{"$f":"IFERROR(INDEX(Отделения[отделение],SMALL(IF(Отделения[Город]=$CT$1,ROW(Отделения[Город])-1),ROW(BI20)-ROW($A$2)+1)),\"\")","v":""},{"$f":"IFERROR(INDEX(Отделения[отделение],SMALL(IF(Отделения[Город]=$CU$1,ROW(Отделения[Город])-1),ROW(BJ20)-ROW($A$2)+1)),\"\")","v":""},{"$f":"IFERROR(INDEX(Отделения[отделение],SMALL(IF(Отделения[Город]=$CV$1,ROW(Отделения[Город])-1),ROW(BK20)-ROW($A$2)+1)),\"\")","v":""},{"$f":"IFERROR(INDEX(Отделения[отделение],SMALL(IF(Отделения[Город]=$CW$1,ROW(Отделения[Город])-1),ROW(BL20)-ROW($A$2)+1)),\"\")","v":""},{"$f":"IFERROR(INDEX(Отделения[отделение],SMALL(IF(Отделения[Город]=$CX$1,ROW(Отделения[Город])-1),ROW(BM20)-ROW($A$2)+1)),\"\")","v":""},{"$f":"IFERROR(INDEX(Отделения[отделение],SMALL(IF(Отделения[Город]=$CY$1,ROW(Отделения[Город])-1),ROW(BM20)-ROW($A$2)+1)),\"\")","v":""},{"$f":"IFERROR(INDEX(Отделения[отделение],SMALL(IF(Отделения[Город]=$CZ$1,ROW(Отделения[Город])-1),ROW(BM20)-ROW($A$2)+1)),\"\")","v":""},{"$f":"IFERROR(INDEX(Отделения[отделение],SMALL(IF(Отделения[Город]=$DA$1,ROW(Отделения[Город])-1),ROW(BM20)-ROW($A$2)+1)),\"\")","v":""},{"$f":"IFERROR(INDEX(Отделения[отделение],SMALL(IF(Отделения[Город]=$DB$1,ROW(Отделения[Город])-1),ROW(BM20)-ROW($A$2)+1)),\"\")","v":""}]
["Ростов-на-Дону","ДО \"Ростов нД-Донской\" , 344002, Россия, Ростовская область,г. Ростов-на-Дону, ул. Темерницкая, д. 80/31/81","0441","MORT",null,null,{"$f":"IFERROR(INDEX(Отделения[отделение],SMALL(IF(Отделения[Город]=$G$1,ROW(Отделения[Город])-1),ROW(A21)-ROW($A$2)+1)),\"\")","v":""},{"$f":"IFERROR(INDEX(Отделения[отделение],SMALL(IF(Отделения[Город]=$H$1,ROW(Отделения[Город])-1),ROW(A21)-ROW($A$2)+1)),\"\")","v":""},{"$f":"IFERROR(INDEX(Отделения[отделение],SMALL(IF(Отделения[Город]=$I$1,ROW(Отделения[Город])-1),ROW(A21)-ROW($A$2)+1)),\"\")","v":""},{"$f":"IFERROR(INDEX(Отделения[отделение],SMALL(IF(Отделения[Город]=$J$1,ROW(Отделения[Город])-1),ROW(A21)-ROW($A$2)+1)),\"\")","v":""},{"$f":"IFERROR(INDEX(Отделения[отделение],SMALL(IF(Отделения[Город]=$K$1,ROW(Отделения[Город])-1),ROW(A21)-ROW($A$2)+1)),\"\")","v":""},{"$f":"IFERROR(INDEX(Отделения[отделение],SMALL(IF(Отделения[Город]=$L$1,ROW(Отделения[Город])-1),ROW(A21)-ROW($A$2)+1)),\"\")","v":""},{"$f":"IFERROR(INDEX(Отделения[отделение],SMALL(IF(Отделения[Город]=$M$1,ROW(Отделения[Город])-1),ROW(B21)-ROW($A$2)+1)),\"\")","v":""},{"$f":"IFERROR(INDEX(Отделения[отделение],SMALL(IF(Отделения[Город]=$N$1,ROW(Отделения[Город])-1),ROW(#REF!)-ROW($A$2)+1)),\"\")","v":""},{"$f":"IFERROR(INDEX(Отделения[отделение],SMALL(IF(Отделения[Город]=$O$1,ROW(Отделения[Город])-1),ROW(C21)-ROW($A$2)+1)),\"\")","v":""},{"$f":"IFERROR(INDEX(Отделения[отделение],SMALL(IF(Отделения[Город]=$P$1,ROW(Отделения[Город])-1),ROW(D21)-ROW($A$2)+1)),\"\")","v":""},{"$f":"IFERROR(INDEX(Отделения[отделение],SMALL(IF(Отделения[Город]=$Q$1,ROW(Отделения[Город])-1),ROW(F21)-ROW($A$2)+1)),\"\")","v":""},{"$f":"IFERROR(INDEX(Отделения[отделение],SMALL(IF(Отделения[Город]=$R$1,ROW(Отделения[Город])-1),ROW(#REF!)-ROW($A$2)+1)),\"\")","v":""},{"$f":"IFERROR(INDEX(Отделения[отделение],SMALL(IF(Отделения[Город]=$S$1,ROW(Отделения[Город])-1),ROW(G21)-ROW($A$2)+1)),\"\")","v":""},{"$f":"IFERROR(INDEX(Отделения[отделение],SMALL(IF(Отделения[Город]=$T$1,ROW(Отделения[Город])-1),ROW(H21)-ROW($A$2)+1)),\"\")","v":""},{"$f":"IFERROR(INDEX(Отделения[отделение],SMALL(IF(Отделения[Город]=$U$1,ROW(Отделения[Город])-1),ROW(I21)-ROW($A$2)+1)),\"\")","v":""},{"$f":"IFERROR(INDEX(Отделения[отделение],SMALL(IF(Отделения[Город]=$V$1,ROW(Отделения[Город])-1),ROW(J21)-ROW($A$2)+1)),\"\")","v":""},{"$f":"IFERROR(INDEX(Отделения[отделение],SMALL(IF(Отделения[Город]=$W$1,ROW(Отделения[Город])-1),ROW(K21)-ROW($A$2)+1)),\"\")","v":""},{"$f":"IFERROR(INDEX(Отделения[отделение],SMALL(IF(Отделения[Город]=$X$1,ROW(Отделения[Город])-1),ROW(L21)-ROW($A$2)+1)),\"\")","v":""},{"$f":"IFERROR(INDEX(Отделения[отделение],SMALL(IF(Отделения[Город]=$Y$1,ROW(Отделения[Город])-1),ROW(M21)-ROW($A$2)+1)),\"\")","v":""},{"$f":"IFERROR(INDEX(Отделения[отделение],SMALL(IF(Отделения[Город]=$Z$1,ROW(Отделения[Город])-1),ROW(N21)-ROW($A$2)+1)),\"\")","v":""},{"$f":"IFERROR(INDEX(Отделения[отделение],SMALL(IF(Отделения[Город]=$AA$1,ROW(Отделения[Город])-1),ROW(O21)-ROW($A$2)+1)),\"\")","v":""},{"$f":"IFERROR(INDEX(Отделения[отделение],SMALL(IF(Отделения[Город]=$AB$1,ROW(Отделения[Город])-1),ROW(P21)-ROW($A$2)+1)),\"\")","v":""},{"$f":"IFERROR(INDEX(Отделения[отделение],SMALL(IF(Отделения[Город]=$AC$1,ROW(Отделения[Город])-1),ROW(Q21)-ROW($A$2)+1)),\"\")","v":""},{"$f":"IFERROR(INDEX(Отделения[отделение],SMALL(IF(Отделения[Город]=$AD$1,ROW(Отделения[Город])-1),ROW(R21)-ROW($A$2)+1)),\"\")","v":""},{"$f":"IFERROR(INDEX(Отделения[отделение],SMALL(IF(Отделения[Город]=$AE$1,ROW(Отделения[Город])-1),ROW(S21)-ROW($A$2)+1)),\"\")","v":""},{"$f":"IFERROR(INDEX(Отделения[отделение],SMALL(IF(Отделения[Город]=$AF$1,ROW(Отделения[Город])-1),ROW(T21)-ROW($A$2)+1)),\"\")","v":""},{"$f":"IFERROR(INDEX(Отделения[отделение],SMALL(IF(Отделения[Город]=$AG$1,ROW(Отделения[Город])-1),ROW(U21)-ROW($A$2)+1)),\"\")","v":""},{"$f":"IFERROR(INDEX(Отделения[отделение],SMALL(IF(Отделения[Город]=$AH$1,ROW(Отделения[Город])-1),ROW(V21)-ROW($A$2)+1)),\"\")","v":""},{"$f":"IFERROR(INDEX(Отделения[отделение],SMALL(IF(Отделения[Город]=$AI$1,ROW(Отделения[Город])-1),ROW(AB21)-ROW($A$2)+1)),\"\")","v":""},{"$f":"IFERROR(INDEX(Отделения[отделение],SMALL(IF(Отделения[Город]=$AJ$1,ROW(Отделения[Город])-1),ROW(AB21)-ROW($A$2)+1)),\"\")","v":""},{"$f":"IFERROR(INDEX(Отделения[отделение],SMALL(IF(Отделения[Город]=$AK$1,ROW(Отделения[Город])-1),ROW(AB21)-ROW($A$2)+1)),\"\")","v":""},{"$f":"IFERROR(INDEX(Отделения[отделение],SMALL(IF(Отделения[Город]=$AL$1,ROW(Отделения[Город])-1),ROW(AB21)-ROW($A$2)+1)),\"\")","v":""},{"$f":"IFERROR(INDEX(Отделения[отделение],SMALL(IF(Отделения[Город]=$AM$1,ROW(Отделения[Город])-1),ROW(AB21)-ROW($A$2)+1)),\"\")","v":""},{"$f":"IFERROR(INDEX(Отделения[отделение],SMALL(IF(Отделения[Город]=$AN$1,ROW(Отделения[Город])-1),ROW(AB21)-ROW($A$2)+1)),\"\")","v":""},{"$f":"IFERROR(INDEX(Отделения[отделение],SMALL(IF(Отделения[Город]=$AO$1,ROW(Отделения[Город])-1),ROW(AB21)-ROW($A$2)+1)),\"\")","v":""},{"$f":"IFERROR(INDEX(Отделения[отделение],SMALL(IF(Отделения[Город]=$AP$1,ROW(Отделения[Город])-1),ROW(AB21)-ROW($A$2)+1)),\"\")","v":""},{"$f":"IFERROR(INDEX(Отделения[отделение],SMALL(IF(Отделения[Город]=$AQ$1,ROW(Отделения[Город])-1),ROW(AB21)-ROW($A$2)+1)),\"\")","v":""},{"$f":"IFERROR(INDEX(Отделения[отделение],SMALL(IF(Отделения[Город]=$AR$1,ROW(Отделения[Город])-1),ROW(AB21)-ROW($A$2)+1)),\"\")","v":""},{"$f":"IFERROR(INDEX(Отделения[отделение],SMALL(IF(Отделения[Город]=$AS$1,ROW(Отделения[Город])-1),ROW(AB21)-ROW($A$2)+1)),\"\")","v":""},{"$f":"IFERROR(INDEX(Отделения[отделение],SMALL(IF(Отделения[Город]=$AT$1,ROW(Отделения[Город])-1),ROW(AB21)-ROW($A$2)+1)),\"\")","v":""},{"$f":"IFERROR(INDEX(Отделения[отделение],SMALL(IF(Отделения[Город]=$AU$1,ROW(Отделения[Город])-1),ROW(AB21)-ROW($A$2)+1)),\"\")","v":""},{"$f":"IFERROR(INDEX(Отделения[отделение],SMALL(IF(Отделения[Город]=$AV$1,ROW(Отделения[Город])-1),ROW(AB21)-ROW($A$2)+1)),\"\")","v":""},{"$f":"IFERROR(INDEX(Отделения[отделение],SMALL(IF(Отделения[Город]=$AW$1,ROW(Отделения[Город])-1),ROW(AB21)-ROW($A$2)+1)),\"\")","v":""},{"$f":"IFERROR(INDEX(Отделения[отделение],SMALL(IF(Отделения[Город]=$AX$1,ROW(Отделения[Город])-1),ROW(AB21)-ROW($A$2)+1)),\"\")","v":""},{"$f":"IFERROR(INDEX(Отделения[отделение],SMALL(IF(Отделения[Город]=$AY$1,ROW(Отделения[Город])-1),ROW(AB21)-ROW($A$2)+1)),\"\")","v":""},{"$f":"IFERROR(INDEX(Отделения[отделение],SMALL(IF(Отделения[Город]=$AZ$1,ROW(Отделения[Город])-1),ROW(AB21)-ROW($A$2)+1)),\"\")","v":""},{"$f":"IFERROR(INDEX(Отделения[отделение],SMALL(IF(Отделения[Город]=$BA$1,ROW(Отделения[Город])-1),ROW(AB21)-ROW($A$2)+1)),\"\")","v":""},{"$f":"IFERROR(INDEX(Отделения[отделение],SMALL(IF(Отделения[Город]=$BB$1,ROW(Отделения[Город])-1),ROW(AB21)-ROW($A$2)+1)),\"\")","v":""},{"$f":"IFERROR(INDEX(Отделения[отделение],SMALL(IF(Отделения[Город]=$BC$1,ROW(Отделения[Город])-1),ROW(AC21)-ROW($A$2)+1)),\"\")","v":""},{"$f":"IFERROR(INDEX(Отделения[отделение],SMALL(IF(Отделения[Город]=$BD$1,ROW(Отделения[Город])-1),ROW(AD21)-ROW($A$2)+1)),\"\")","v":""},{"$f":"IFERROR(INDEX(Отделения[отделение],SMALL(IF(Отделения[Город]=$BE$1,ROW(Отделения[Город])-1),ROW(AE21)-ROW($A$2)+1)),\"\")","v":""},{"$f":"IFERROR(INDEX(Отделения[отделение],SMALL(IF(Отделения[Город]=$BF$1,ROW(Отделения[Город])-1),ROW(AF21)-ROW($A$2)+1)),\"\")","v":""},{"$f":"IFERROR(INDEX(Отделения[отделение],SMALL(IF(Отделения[Город]=$BG$1,ROW(Отделения[Город])-1),ROW(AG21)-ROW($A$2)+1)),\"\")","v":""},{"$f":"IFERROR(INDEX(Отделения[отделение],SMALL(IF(Отделения[Город]=$BH$1,ROW(Отделения[Город])-1),ROW(AH21)-ROW($A$2)+1)),\"\")","v":""},{"$f":"IFERROR(INDEX(Отделения[отделение],SMALL(IF(Отделения[Город]=$BI$1,ROW(Отделения[Город])-1),ROW(AI21)-ROW($A$2)+1)),\"\")","v":""},{"$f":"IFERROR(INDEX(Отделения[отделение],SMALL(IF(Отделения[Город]=$BJ$1,ROW(Отделения[Город])-1),ROW(AJ21)-ROW($A$2)+1)),\"\")","v":""},{"$f":"IFERROR(INDEX(Отделения[отделение],SMALL(IF(Отделения[Город]=$BK$1,ROW(Отделения[Город])-1),ROW(AK21)-ROW($A$2)+1)),\"\")","v":""},{"$f":"IFERROR(INDEX(Отделения[отделение],SMALL(IF(Отделения[Город]=$BL$1,ROW(Отделения[Город])-1),ROW(AL21)-ROW($A$2)+1)),\"\")","v":""},{"$f":"IFERROR(INDEX(Отделения[отделение],SMALL(IF(Отделения[Город]=$BM$1,ROW(Отделения[Город])-1),ROW(AM21)-ROW($A$2)+1)),\"\")","v":""},{"$f":"IFERROR(INDEX(Отделения[отделение],SMALL(IF(Отделения[Город]=$BN$1,ROW(Отделения[Город])-1),ROW(AN21)-ROW($A$2)+1)),\"\")","v":""},{"$f":"IFERROR(INDEX(Отделения[отделение],SMALL(IF(Отделения[Город]=$BO$1,ROW(Отделения[Город])-1),ROW(AO21)-ROW($A$2)+1)),\"\")","v":""},{"$f":"IFERROR(INDEX(Отделения[отделение],SMALL(IF(Отделения[Город]=$BP$1,ROW(Отделения[Город])-1),ROW(AP21)-ROW($A$2)+1)),\"\")","v":""},{"$f":"IFERROR(INDEX(Отделения[отделение],SMALL(IF(Отделения[Город]=$BQ$1,ROW(Отделения[Город])-1),ROW(AQ21)-ROW($A$2)+1)),\"\")","v":""},{"$f":"IFERROR(INDEX(Отделения[отделение],SMALL(IF(Отделения[Город]=$BR$1,ROW(Отделения[Город])-1),ROW(AR21)-ROW($A$2)+1)),\"\")","v":""},{"$f":"IFERROR(INDEX(Отделения[отделение],SMALL(IF(Отделения[Город]=$BS$1,ROW(Отделения[Город])-1),ROW(AS21)-ROW($A$2)+1)),\"\")","v":""},{"$f":"IFERROR(INDEX(Отделения[отделение],SMALL(IF(Отделения[Город]=$BT$1,ROW(Отделения[Город])-1),ROW(AT21)-ROW($A$2)+1)),\"\")","v":""},{"$f":"IFERROR(INDEX(Отделения[отделение],SMALL(IF(Отделения[Город]=$BU$1,ROW(Отделения[Город])-1),ROW(AU21)-ROW($A$2)+1)),\"\")","v":""},{"$f":"IFERROR(INDEX(Отделения[отделение],SMALL(IF(Отделения[Город]=$BV$1,ROW(Отделения[Город])-1),ROW(AV21)-ROW($A$2)+1)),\"\")","v":""},{"$f":"IFERROR(INDEX(Отделения[отделение],SMALL(IF(Отделения[Город]=$BW$1,ROW(Отделения[Город])-1),ROW(AV21)-ROW($A$2)+1)),\"\")","v":""},{"$f":"IFERROR(INDEX(Отделения[отделение],SMALL(IF(Отделения[Город]=$BX$1,ROW(Отделения[Город])-1),ROW(AV21)-ROW($A$2)+1)),\"\")","v":""},{"$f":"IFERROR(INDEX(Отделения[отделение],SMALL(IF(Отделения[Город]=$BY$1,ROW(Отделения[Город])-1),ROW(AV21)-ROW($A$2)+1)),\"\")","v":""},{"$f":"IFERROR(INDEX(Отделения[отделение],SMALL(IF(Отделения[Город]=$BZ$1,ROW(Отделения[Город])-1),ROW(AV21)-ROW($A$2)+1)),\"\")","v":""},{"$f":"IFERROR(INDEX(Отделения[отделение],SMALL(IF(Отделения[Город]=$CA$1,ROW(Отделения[Город])-1),ROW(AV21)-ROW($A$2)+1)),\"\")","v":""},{"$f":"IFERROR(INDEX(Отделения[отделение],SMALL(IF(Отделения[Город]=$CB$1,ROW(Отделения[Город])-1),ROW(AV21)-ROW($A$2)+1)),\"\")","v":""},{"$f":"IFERROR(INDEX(Отделения[отделение],SMALL(IF(Отделения[Город]=$CC$1,ROW(Отделения[Город])-1),ROW(AV21)-ROW($A$2)+1)),\"\")","v":""},{"$f":"IFERROR(INDEX(Отделения[отделение],SMALL(IF(Отделения[Город]=$CD$1,ROW(Отделения[Город])-1),ROW(AV21)-ROW($A$2)+1)),\"\")","v":""},{"$f":"IFERROR(INDEX(Отделения[отделение],SMALL(IF(Отделения[Город]=$CE$1,ROW(Отделения[Город])-1),ROW(AV21)-ROW($A$2)+1)),\"\")","v":""},{"$f":"IFERROR(INDEX(Отделения[отделение],SMALL(IF(Отделения[Город]=$CF$1,ROW(Отделения[Город])-1),ROW(AV21)-ROW($A$2)+1)),\"\")","v":""},{"$f":"IFERROR(INDEX(Отделения[отделение],SMALL(IF(Отделения[Город]=$CG$1,ROW(Отделения[Город])-1),ROW(AV21)-ROW($A$2)+1)),\"\")","v":""},{"$f":"IFERROR(INDEX(Отделения[отделение],SMALL(IF(Отделения[Город]=$CH$1,ROW(Отделения[Город])-1),ROW(AW21)-ROW($A$2)+1)),\"\")","v":""},{"$f":"IFERROR(INDEX(Отделения[отделение],SMALL(IF(Отделения[Город]=$CI$1,ROW(Отделения[Город])-1),ROW(AX21)-ROW($A$2)+1)),\"\")","v":""},{"$f":"IFERROR(INDEX(Отделения[отделение],SMALL(IF(Отделения[Город]=$CJ$1,ROW(Отделения[Город])-1),ROW(AY21)-ROW($A$2)+1)),\"\")","v":""},{"$f":"IFERROR(INDEX(Отделения[отделение],SMALL(IF(Отделения[Город]=$CK$1,ROW(Отделения[Город])-1),ROW(AZ21)-ROW($A$2)+1)),\"\")","v":""},{"$f":"IFERROR(INDEX(Отделения[отделение],SMALL(IF(Отделения[Город]=$CL$1,ROW(Отделения[Город])-1),ROW(BA21)-ROW($A$2)+1)),\"\")","v":""},{"$f":"IFERROR(INDEX(Отделения[отделение],SMALL(IF(Отделения[Город]=$CM$1,ROW(Отделения[Город])-1),ROW(BB21)-ROW($A$2)+1)),\"\")","v":""},{"$f":"IFERROR(INDEX(Отделения[отделение],SMALL(IF(Отделения[Город]=$CN$1,ROW(Отделения[Город])-1),ROW(BC21)-ROW($A$2)+1)),\"\")","v":""},{"$f":"IFERROR(INDEX(Отделения[отделение],SMALL(IF(Отделения[Город]=$CO$1,ROW(Отделения[Город])-1),ROW(BD21)-ROW($A$2)+1)),\"\")","v":""},{"$f":"IFERROR(INDEX(Отделения[отделение],SMALL(IF(Отделения[Город]=$CP$1,ROW(Отделения[Город])-1),ROW(BE21)-ROW($A$2)+1)),\"\")","v":""},{"$f":"IFERROR(INDEX(Отделения[отделение],SMALL(IF(Отделения[Город]=$CQ$1,ROW(Отделения[Город])-1),ROW(BF21)-ROW($A$2)+1)),\"\")","v":""},{"$f":"IFERROR(INDEX(Отделения[отделение],SMALL(IF(Отделения[Город]=$CR$1,ROW(Отделения[Город])-1),ROW(BG21)-ROW($A$2)+1)),\"\")","v":""},{"$f":"IFERROR(INDEX(Отделения[отделение],SMALL(IF(Отделения[Город]=$CS$1,ROW(Отделения[Город])-1),ROW(BH21)-ROW($A$2)+1)),\"\")","v":""},{"$f":"IFERROR(INDEX(Отделения[отделение],SMALL(IF(Отделения[Город]=$CT$1,ROW(Отделения[Город])-1),ROW(BI21)-ROW($A$2)+1)),\"\")","v":""},{"$f":"IFERROR(INDEX(Отделения[отделение],SMALL(IF(Отделения[Город]=$CU$1,ROW(Отделения[Город])-1),ROW(BJ21)-ROW($A$2)+1)),\"\")","v":""},{"$f":"IFERROR(INDEX(Отделения[отделение],SMALL(IF(Отделения[Город]=$CV$1,ROW(Отделения[Город])-1),ROW(BK21)-ROW($A$2)+1)),\"\")","v":""},{"$f":"IFERROR(INDEX(Отделения[отделение],SMALL(IF(Отделения[Город]=$CW$1,ROW(Отделения[Город])-1),ROW(BL21)-ROW($A$2)+1)),\"\")","v":""},{"$f":"IFERROR(INDEX(Отделения[отделение],SMALL(IF(Отделения[Город]=$CX$1,ROW(Отделения[Город])-1),ROW(BM21)-ROW($A$2)+1)),\"\")","v":""},{"$f":"IFERROR(INDEX(Отделения[отделение],SMALL(IF(Отделения[Город]=$CY$1,ROW(Отделения[Город])-1),ROW(BM21)-ROW($A$2)+1)),\"\")","v":""},{"$f":"IFERROR(INDEX(Отделения[отделение],SMALL(IF(Отделения[Город]=$CZ$1,ROW(Отделения[Город])-1),ROW(BM21)-ROW($A$2)+1)),\"\")","v":""},{"$f":"IFERROR(INDEX(Отделения[отделение],SMALL(IF(Отделения[Город]=$DA$1,ROW(Отделения[Город])-1),ROW(BM21)-ROW($A$2)+1)),\"\")","v":""},{"$f":"IFERROR(INDEX(Отделения[отделение],SMALL(IF(Отделения[Город]=$DB$1,ROW(Отделения[Город])-1),ROW(BM21)-ROW($A$2)+1)),\"\")","v":""}]
["Москва","ДО \"МАРЬИНО\" , 109652, г. Москва, ул. Люблинская,д. 165, корп. 1","0444","MOMQ",null,null,{"$f":"IFERROR(INDEX(Отделения[отделение],SMALL(IF(Отделения[Город]=$G$1,ROW(Отделения[Город])-1),ROW(A22)-ROW($A$2)+1)),\"\")","v":""},{"$f":"IFERROR(INDEX(Отделения[отделение],SMALL(IF(Отделения[Город]=$H$1,ROW(Отделения[Город])-1),ROW(A22)-ROW($A$2)+1)),\"\")","v":""},{"$f":"IFERROR(INDEX(Отделения[отделение],SMALL(IF(Отделения[Город]=$I$1,ROW(Отделения[Город])-1),ROW(A22)-ROW($A$2)+1)),\"\")","v":""},{"$f":"IFERROR(INDEX(Отделения[отделение],SMALL(IF(Отделения[Город]=$J$1,ROW(Отделения[Город])-1),ROW(A22)-ROW($A$2)+1)),\"\")","v":""},{"$f":"IFERROR(INDEX(Отделения[отделение],SMALL(IF(Отделения[Город]=$K$1,ROW(Отделения[Город])-1),ROW(A22)-ROW($A$2)+1)),\"\")","v":""},{"$f":"IFERROR(INDEX(Отделения[отделение],SMALL(IF(Отделения[Город]=$L$1,ROW(Отделения[Город])-1),ROW(A22)-ROW($A$2)+1)),\"\")","v":""},{"$f":"IFERROR(INDEX(Отделения[отделение],SMALL(IF(Отделения[Город]=$M$1,ROW(Отделения[Город])-1),ROW(B22)-ROW($A$2)+1)),\"\")","v":""},{"$f":"IFERROR(INDEX(Отделения[отделение],SMALL(IF(Отделения[Город]=$N$1,ROW(Отделения[Город])-1),ROW(#REF!)-ROW($A$2)+1)),\"\")","v":""},{"$f":"IFERROR(INDEX(Отделения[отделение],SMALL(IF(Отделения[Город]=$O$1,ROW(Отделения[Город])-1),ROW(C22)-ROW($A$2)+1)),\"\")","v":""},{"$f":"IFERROR(INDEX(Отделения[отделение],SMALL(IF(Отделения[Город]=$P$1,ROW(Отделения[Город])-1),ROW(D22)-ROW($A$2)+1)),\"\")","v":""},{"$f":"IFERROR(INDEX(Отделения[отделение],SMALL(IF(Отделения[Город]=$Q$1,ROW(Отделения[Город])-1),ROW(F22)-ROW($A$2)+1)),\"\")","v":""},{"$f":"IFERROR(INDEX(Отделения[отделение],SMALL(IF(Отделения[Город]=$R$1,ROW(Отделения[Город])-1),ROW(#REF!)-ROW($A$2)+1)),\"\")","v":""},{"$f":"IFERROR(INDEX(Отделения[отделение],SMALL(IF(Отделения[Город]=$S$1,ROW(Отделения[Город])-1),ROW(G22)-ROW($A$2)+1)),\"\")","v":""},{"$f":"IFERROR(INDEX(Отделения[отделение],SMALL(IF(Отделения[Город]=$T$1,ROW(Отделения[Город])-1),ROW(H22)-ROW($A$2)+1)),\"\")","v":""},{"$f":"IFERROR(INDEX(Отделения[отделение],SMALL(IF(Отделения[Город]=$U$1,ROW(Отделения[Город])-1),ROW(I22)-ROW($A$2)+1)),\"\")","v":""},{"$f":"IFERROR(INDEX(Отделения[отделение],SMALL(IF(Отделения[Город]=$V$1,ROW(Отделения[Город])-1),ROW(J22)-ROW($A$2)+1)),\"\")","v":""},{"$f":"IFERROR(INDEX(Отделения[отделение],SMALL(IF(Отделения[Город]=$W$1,ROW(Отделения[Город])-1),ROW(K22)-ROW($A$2)+1)),\"\")","v":""},{"$f":"IFERROR(INDEX(Отделения[отделение],SMALL(IF(Отделения[Город]=$X$1,ROW(Отделения[Город])-1),ROW(L22)-ROW($A$2)+1)),\"\")","v":""},{"$f":"IFERROR(INDEX(Отделения[отделение],SMALL(IF(Отделения[Город]=$Y$1,ROW(Отделения[Город])-1),ROW(M22)-ROW($A$2)+1)),\"\")","v":""},{"$f":"IFERROR(INDEX(Отделения[отделение],SMALL(IF(Отделения[Город]=$Z$1,ROW(Отделения[Город])-1),ROW(N22)-ROW($A$2)+1)),\"\")","v":""},{"$f":"IFERROR(INDEX(Отделения[отделение],SMALL(IF(Отделения[Город]=$AA$1,ROW(Отделения[Город])-1),ROW(O22)-ROW($A$2)+1)),\"\")","v":""},{"$f":"IFERROR(INDEX(Отделения[отделение],SMALL(IF(Отделения[Город]=$AB$1,ROW(Отделения[Город])-1),ROW(P22)-ROW($A$2)+1)),\"\")","v":""},{"$f":"IFERROR(INDEX(Отделения[отделение],SMALL(IF(Отделения[Город]=$AC$1,ROW(Отделения[Город])-1),ROW(Q22)-ROW($A$2)+1)),\"\")","v":""},{"$f":"IFERROR(INDEX(Отделения[отделение],SMALL(IF(Отделения[Город]=$AD$1,ROW(Отделения[Город])-1),ROW(R22)-ROW($A$2)+1)),\"\")","v":""},{"$f":"IFERROR(INDEX(Отделения[отделение],SMALL(IF(Отделения[Город]=$AE$1,ROW(Отделения[Город])-1),ROW(S22)-ROW($A$2)+1)),\"\")","v":""},{"$f":"IFERROR(INDEX(Отделения[отделение],SMALL(IF(Отделения[Город]=$AF$1,ROW(Отделения[Город])-1),ROW(T22)-ROW($A$2)+1)),\"\")","v":""},{"$f":"IFERROR(INDEX(Отделения[отделение],SMALL(IF(Отделения[Город]=$AG$1,ROW(Отделения[Город])-1),ROW(U22)-ROW($A$2)+1)),\"\")","v":""},{"$f":"IFERROR(INDEX(Отделения[отделение],SMALL(IF(Отделения[Город]=$AH$1,ROW(Отделения[Город])-1),ROW(V22)-ROW($A$2)+1)),\"\")","v":""},{"$f":"IFERROR(INDEX(Отделения[отделение],SMALL(IF(Отделения[Город]=$AI$1,ROW(Отделения[Город])-1),ROW(AB22)-ROW($A$2)+1)),\"\")","v":""},{"$f":"IFERROR(INDEX(Отделения[отделение],SMALL(IF(Отделения[Город]=$AJ$1,ROW(Отделения[Город])-1),ROW(AB22)-ROW($A$2)+1)),\"\")","v":""},{"$f":"IFERROR(INDEX(Отделения[отделение],SMALL(IF(Отделения[Город]=$AK$1,ROW(Отделения[Город])-1),ROW(AB22)-ROW($A$2)+1)),\"\")","v":""},{"$f":"IFERROR(INDEX(Отделения[отделение],SMALL(IF(Отделения[Город]=$AL$1,ROW(Отделения[Город])-1),ROW(AB22)-ROW($A$2)+1)),\"\")","v":""},{"$f":"IFERROR(INDEX(Отделения[отделение],SMALL(IF(Отделения[Город]=$AM$1,ROW(Отделения[Город])-1),ROW(AB22)-ROW($A$2)+1)),\"\")","v":""},{"$f":"IFERROR(INDEX(Отделения[отделение],SMALL(IF(Отделения[Город]=$AN$1,ROW(Отделения[Город])-1),ROW(AB22)-ROW($A$2)+1)),\"\")","v":""},{"$f":"IFERROR(INDEX(Отделения[отделение],SMALL(IF(Отделения[Город]=$AO$1,ROW(Отделения[Город])-1),ROW(AB22)-ROW($A$2)+1)),\"\")","v":""},{"$f":"IFERROR(INDEX(Отделения[отделение],SMALL(IF(Отделения[Город]=$AP$1,ROW(Отделения[Город])-1),ROW(AB22)-ROW($A$2)+1)),\"\")","v":""},{"$f":"IFERROR(INDEX(Отделения[отделение],SMALL(IF(Отделения[Город]=$AQ$1,ROW(Отделения[Город])-1),ROW(AB22)-ROW($A$2)+1)),\"\")","v":""},{"$f":"IFERROR(INDEX(Отделения[отделение],SMALL(IF(Отделения[Город]=$AR$1,ROW(Отделения[Город])-1),ROW(AB22)-ROW($A$2)+1)),\"\")","v":""},{"$f":"IFERROR(INDEX(Отделения[отделение],SMALL(IF(Отделения[Город]=$AS$1,ROW(Отделения[Город])-1),ROW(AB22)-ROW($A$2)+1)),\"\")","v":""},{"$f":"IFERROR(INDEX(Отделения[отделение],SMALL(IF(Отделения[Город]=$AT$1,ROW(Отделения[Город])-1),ROW(AB22)-ROW($A$2)+1)),\"\")","v":""},{"$f":"IFERROR(INDEX(Отделения[отделение],SMALL(IF(Отделения[Город]=$AU$1,ROW(Отделения[Город])-1),ROW(AB22)-ROW($A$2)+1)),\"\")","v":""},{"$f":"IFERROR(INDEX(Отделения[отделение],SMALL(IF(Отделения[Город]=$AV$1,ROW(Отделения[Город])-1),ROW(AB22)-ROW($A$2)+1)),\"\")","v":""},{"$f":"IFERROR(INDEX(Отделения[отделение],SMALL(IF(Отделения[Город]=$AW$1,ROW(Отделения[Город])-1),ROW(AB22)-ROW($A$2)+1)),\"\")","v":""},{"$f":"IFERROR(INDEX(Отделения[отделение],SMALL(IF(Отделения[Город]=$AX$1,ROW(Отделения[Город])-1),ROW(AB22)-ROW($A$2)+1)),\"\")","v":""},{"$f":"IFERROR(INDEX(Отделения[отделение],SMALL(IF(Отделения[Город]=$AY$1,ROW(Отделения[Город])-1),ROW(AB22)-ROW($A$2)+1)),\"\")","v":""},{"$f":"IFERROR(INDEX(Отделения[отделение],SMALL(IF(Отделения[Город]=$AZ$1,ROW(Отделения[Город])-1),ROW(AB22)-ROW($A$2)+1)),\"\")","v":""},{"$f":"IFERROR(INDEX(Отделения[отделение],SMALL(IF(Отделения[Город]=$BA$1,ROW(Отделения[Город])-1),ROW(AB22)-ROW($A$2)+1)),\"\")","v":""},{"$f":"IFERROR(INDEX(Отделения[отделение],SMALL(IF(Отделения[Город]=$BB$1,ROW(Отделения[Город])-1),ROW(AB22)-ROW($A$2)+1)),\"\")","v":""},{"$f":"IFERROR(INDEX(Отделения[отделение],SMALL(IF(Отделения[Город]=$BC$1,ROW(Отделения[Город])-1),ROW(AC22)-ROW($A$2)+1)),\"\")","v":""},{"$f":"IFERROR(INDEX(Отделения[отделение],SMALL(IF(Отделения[Город]=$BD$1,ROW(Отделения[Город])-1),ROW(AD22)-ROW($A$2)+1)),\"\")","v":""},{"$f":"IFERROR(INDEX(Отделения[отделение],SMALL(IF(Отделения[Город]=$BE$1,ROW(Отделения[Город])-1),ROW(AE22)-ROW($A$2)+1)),\"\")","v":""},{"$f":"IFERROR(INDEX(Отделения[отделение],SMALL(IF(Отделения[Город]=$BF$1,ROW(Отделения[Город])-1),ROW(AF22)-ROW($A$2)+1)),\"\")","v":""},{"$f":"IFERROR(INDEX(Отделения[отделение],SMALL(IF(Отделения[Город]=$BG$1,ROW(Отделения[Город])-1),ROW(AG22)-ROW($A$2)+1)),\"\")","v":""},{"$f":"IFERROR(INDEX(Отделения[отделение],SMALL(IF(Отделения[Город]=$BH$1,ROW(Отделения[Город])-1),ROW(AH22)-ROW($A$2)+1)),\"\")","v":""},{"$f":"IFERROR(INDEX(Отделения[отделение],SMALL(IF(Отделения[Город]=$BI$1,ROW(Отделения[Город])-1),ROW(AI22)-ROW($A$2)+1)),\"\")","v":""},{"$f":"IFERROR(INDEX(Отделения[отделение],SMALL(IF(Отделения[Город]=$BJ$1,ROW(Отделения[Город])-1),ROW(AJ22)-ROW($A$2)+1)),\"\")","v":""},{"$f":"IFERROR(INDEX(Отделения[отделение],SMALL(IF(Отделения[Город]=$BK$1,ROW(Отделения[Город])-1),ROW(AK22)-ROW($A$2)+1)),\"\")","v":""},{"$f":"IFERROR(INDEX(Отделения[отделение],SMALL(IF(Отделения[Город]=$BL$1,ROW(Отделения[Город])-1),ROW(AL22)-ROW($A$2)+1)),\"\")","v":""},{"$f":"IFERROR(INDEX(Отделения[отделение],SMALL(IF(Отделения[Город]=$BM$1,ROW(Отделения[Город])-1),ROW(AM22)-ROW($A$2)+1)),\"\")","v":""},{"$f":"IFERROR(INDEX(Отделения[отделение],SMALL(IF(Отделения[Город]=$BN$1,ROW(Отделения[Город])-1),ROW(AN22)-ROW($A$2)+1)),\"\")","v":""},{"$f":"IFERROR(INDEX(Отделения[отделение],SMALL(IF(Отделения[Город]=$BO$1,ROW(Отделения[Город])-1),ROW(AO22)-ROW($A$2)+1)),\"\")","v":""},{"$f":"IFERROR(INDEX(Отделения[отделение],SMALL(IF(Отделения[Город]=$BP$1,ROW(Отделения[Город])-1),ROW(AP22)-ROW($A$2)+1)),\"\")","v":""},{"$f":"IFERROR(INDEX(Отделения[отделение],SMALL(IF(Отделения[Город]=$BQ$1,ROW(Отделения[Город])-1),ROW(AQ22)-ROW($A$2)+1)),\"\")","v":""},{"$f":"IFERROR(INDEX(Отделения[отделение],SMALL(IF(Отделения[Город]=$BR$1,ROW(Отделения[Город])-1),ROW(AR22)-ROW($A$2)+1)),\"\")","v":""},{"$f":"IFERROR(INDEX(Отделения[отделение],SMALL(IF(Отделения[Город]=$BS$1,ROW(Отделения[Город])-1),ROW(AS22)-ROW($A$2)+1)),\"\")","v":""},{"$f":"IFERROR(INDEX(Отделения[отделение],SMALL(IF(Отделения[Город]=$BT$1,ROW(Отделения[Город])-1),ROW(AT22)-ROW($A$2)+1)),\"\")","v":""},{"$f":"IFERROR(INDEX(Отделения[отделение],SMALL(IF(Отделения[Город]=$BU$1,ROW(Отделения[Город])-1),ROW(AU22)-ROW($A$2)+1)),\"\")","v":""},{"$f":"IFERROR(INDEX(Отделения[отделение],SMALL(IF(Отделения[Город]=$BV$1,ROW(Отделения[Город])-1),ROW(AV22)-ROW($A$2)+1)),\"\")","v":""},{"$f":"IFERROR(INDEX(Отделения[отделение],SMALL(IF(Отделения[Город]=$BW$1,ROW(Отделения[Город])-1),ROW(AV22)-ROW($A$2)+1)),\"\")","v":""},{"$f":"IFERROR(INDEX(Отделения[отделение],SMALL(IF(Отделения[Город]=$BX$1,ROW(Отделения[Город])-1),ROW(AV22)-ROW($A$2)+1)),\"\")","v":""},{"$f":"IFERROR(INDEX(Отделения[отделение],SMALL(IF(Отделения[Город]=$BY$1,ROW(Отделения[Город])-1),ROW(AV22)-ROW($A$2)+1)),\"\")","v":""},{"$f":"IFERROR(INDEX(Отделения[отделение],SMALL(IF(Отделения[Город]=$BZ$1,ROW(Отделения[Город])-1),ROW(AV22)-ROW($A$2)+1)),\"\")","v":""},{"$f":"IFERROR(INDEX(Отделения[отделение],SMALL(IF(Отделения[Город]=$CA$1,ROW(Отделения[Город])-1),ROW(AV22)-ROW($A$2)+1)),\"\")","v":""},{"$f":"IFERROR(INDEX(Отделения[отделение],SMALL(IF(Отделения[Город]=$CB$1,ROW(Отделения[Город])-1),ROW(AV22)-ROW($A$2)+1)),\"\")","v":""},{"$f":"IFERROR(INDEX(Отделения[отделение],SMALL(IF(Отделения[Город]=$CC$1,ROW(Отделения[Город])-1),ROW(AV22)-ROW($A$2)+1)),\"\")","v":""},{"$f":"IFERROR(INDEX(Отделения[отделение],SMALL(IF(Отделения[Город]=$CD$1,ROW(Отделения[Город])-1),ROW(AV22)-ROW($A$2)+1)),\"\")","v":""},{"$f":"IFERROR(INDEX(Отделения[отделение],SMALL(IF(Отделения[Город]=$CE$1,ROW(Отделения[Город])-1),ROW(AV22)-ROW($A$2)+1)),\"\")","v":""},{"$f":"IFERROR(INDEX(Отделения[отделение],SMALL(IF(Отделения[Город]=$CF$1,ROW(Отделения[Город])-1),ROW(AV22)-ROW($A$2)+1)),\"\")","v":""},{"$f":"IFERROR(INDEX(Отделения[отделение],SMALL(IF(Отделения[Город]=$CG$1,ROW(Отделения[Город])-1),ROW(AV22)-ROW($A$2)+1)),\"\")","v":""},{"$f":"IFERROR(INDEX(Отделения[отделение],SMALL(IF(Отделения[Город]=$CH$1,ROW(Отделения[Город])-1),ROW(AW22)-ROW($A$2)+1)),\"\")","v":""},{"$f":"IFERROR(INDEX(Отделения[отделение],SMALL(IF(Отделения[Город]=$CI$1,ROW(Отделения[Город])-1),ROW(AX22)-ROW($A$2)+1)),\"\")","v":""},{"$f":"IFERROR(INDEX(Отделения[отделение],SMALL(IF(Отделения[Город]=$CJ$1,ROW(Отделения[Город])-1),ROW(AY22)-ROW($A$2)+1)),\"\")","v":""},{"$f":"IFERROR(INDEX(Отделения[отделение],SMALL(IF(Отделения[Город]=$CK$1,ROW(Отделения[Город])-1),ROW(AZ22)-ROW($A$2)+1)),\"\")","v":""},{"$f":"IFERROR(INDEX(Отделения[отделение],SMALL(IF(Отделения[Город]=$CL$1,ROW(Отделения[Город])-1),ROW(BA22)-ROW($A$2)+1)),\"\")","v":""},{"$f":"IFERROR(INDEX(Отделения[отделение],SMALL(IF(Отделения[Город]=$CM$1,ROW(Отделения[Город])-1),ROW(BB22)-ROW($A$2)+1)),\"\")","v":""},{"$f":"IFERROR(INDEX(Отделения[отделение],SMALL(IF(Отделения[Город]=$CN$1,ROW(Отделения[Город])-1),ROW(BC22)-ROW($A$2)+1)),\"\")","v":""},{"$f":"IFERROR(INDEX(Отделения[отделение],SMALL(IF(Отделения[Город]=$CO$1,ROW(Отделения[Город])-1),ROW(BD22)-ROW($A$2)+1)),\"\")","v":""},{"$f":"IFERROR(INDEX(Отделения[отделение],SMALL(IF(Отделения[Город]=$CP$1,ROW(Отделения[Город])-1),ROW(BE22)-ROW($A$2)+1)),\"\")","v":""},{"$f":"IFERROR(INDEX(Отделения[отделение],SMALL(IF(Отделения[Город]=$CQ$1,ROW(Отделения[Город])-1),ROW(BF22)-ROW($A$2)+1)),\"\")","v":""},{"$f":"IFERROR(INDEX(Отделения[отделение],SMALL(IF(Отделения[Город]=$CR$1,ROW(Отделения[Город])-1),ROW(BG22)-ROW($A$2)+1)),\"\")","v":""},{"$f":"IFERROR(INDEX(Отделения[отделение],SMALL(IF(Отделения[Город]=$CS$1,ROW(Отделения[Город])-1),ROW(BH22)-ROW($A$2)+1)),\"\")","v":""},{"$f":"IFERROR(INDEX(Отделения[отделение],SMALL(IF(Отделения[Город]=$CT$1,ROW(Отделения[Город])-1),ROW(BI22)-ROW($A$2)+1)),\"\")","v":""},{"$f":"IFERROR(INDEX(Отделения[отделение],SMALL(IF(Отделения[Город]=$CU$1,ROW(Отделения[Город])-1),ROW(BJ22)-ROW($A$2)+1)),\"\")","v":""},{"$f":"IFERROR(INDEX(Отделения[отделение],SMALL(IF(Отделения[Город]=$CV$1,ROW(Отделения[Город])-1),ROW(BK22)-ROW($A$2)+1)),\"\")","v":""},{"$f":"IFERROR(INDEX(Отделения[отделение],SMALL(IF(Отделения[Город]=$CW$1,ROW(Отделения[Город])-1),ROW(BL22)-ROW($A$2)+1)),\"\")","v":""},{"$f":"IFERROR(INDEX(Отделения[отделение],SMALL(IF(Отделения[Город]=$CX$1,ROW(Отделения[Город])-1),ROW(BM22)-ROW($A$2)+1)),\"\")","v":""},{"$f":"IFERROR(INDEX(Отделения[отделение],SMALL(IF(Отделения[Город]=$CY$1,ROW(Отделения[Город])-1),ROW(BM22)-ROW($A$2)+1)),\"\")","v":""},{"$f":"IFERROR(INDEX(Отделения[отделение],SMALL(IF(Отделения[Город]=$CZ$1,ROW(Отделения[Город])-1),ROW(BM22)-ROW($A$2)+1)),\"\")","v":""},{"$f":"IFERROR(INDEX(Отделения[отделение],SMALL(IF(Отделения[Город]=$DA$1,ROW(Отделения[Город])-1),ROW(BM22)-ROW($A$2)+1)),\"\")","v":""},{"$f":"IFERROR(INDEX(Отделения[отделение],SMALL(IF(Отделения[Город]=$DB$1,ROW(Отделения[Город])-1),ROW(BM22)-ROW($A$2)+1)),\"\")","v":""}]
["Мурманск","ДО \"Мурманск-площадь Пять углов\" , 183038, Мурманская область, г. Мурманск, пр-кт Ленина, д. 82","0445","MOMO",null,null,{"$f":"IFERROR(INDEX(Отделения[отделение],SMALL(IF(Отделения[Город]=$G$1,ROW(Отделения[Город])-1),ROW(A23)-ROW($A$2)+1)),\"\")","v":""},{"$f":"IFERROR(INDEX(Отделения[отделение],SMALL(IF(Отделения[Город]=$H$1,ROW(Отделения[Город])-1),ROW(A23)-ROW($A$2)+1)),\"\")","v":""},{"$f":"IFERROR(INDEX(Отделения[отделение],SMALL(IF(Отделения[Город]=$I$1,ROW(Отделения[Город])-1),ROW(A23)-ROW($A$2)+1)),\"\")","v":""},{"$f":"IFERROR(INDEX(Отделения[отделение],SMALL(IF(Отделения[Город]=$J$1,ROW(Отделения[Город])-1),ROW(A23)-ROW($A$2)+1)),\"\")","v":""},{"$f":"IFERROR(INDEX(Отделения[отделение],SMALL(IF(Отделения[Город]=$K$1,ROW(Отделения[Город])-1),ROW(A23)-ROW($A$2)+1)),\"\")","v":""},{"$f":"IFERROR(INDEX(Отделения[отделение],SMALL(IF(Отделения[Город]=$L$1,ROW(Отделения[Город])-1),ROW(A23)-ROW($A$2)+1)),\"\")","v":""},{"$f":"IFERROR(INDEX(Отделения[отделение],SMALL(IF(Отделения[Город]=$M$1,ROW(Отделения[Город])-1),ROW(B23)-ROW($A$2)+1)),\"\")","v":""},{"$f":"IFERROR(INDEX(Отделения[отделение],SMALL(IF(Отделения[Город]=$N$1,ROW(Отделения[Город])-1),ROW(#REF!)-ROW($A$2)+1)),\"\")","v":""},{"$f":"IFERROR(INDEX(Отделения[отделение],SMALL(IF(Отделения[Город]=$O$1,ROW(Отделения[Город])-1),ROW(C23)-ROW($A$2)+1)),\"\")","v":""},{"$f":"IFERROR(INDEX(Отделения[отделение],SMALL(IF(Отделения[Город]=$P$1,ROW(Отделения[Город])-1),ROW(D23)-ROW($A$2)+1)),\"\")","v":""},{"$f":"IFERROR(INDEX(Отделения[отделение],SMALL(IF(Отделения[Город]=$Q$1,ROW(Отделения[Город])-1),ROW(F23)-ROW($A$2)+1)),\"\")","v":""},{"$f":"IFERROR(INDEX(Отделения[отделение],SMALL(IF(Отделения[Город]=$R$1,ROW(Отделения[Город])-1),ROW(#REF!)-ROW($A$2)+1)),\"\")","v":""},{"$f":"IFERROR(INDEX(Отделения[отделение],SMALL(IF(Отделения[Город]=$S$1,ROW(Отделения[Город])-1),ROW(G23)-ROW($A$2)+1)),\"\")","v":""},{"$f":"IFERROR(INDEX(Отделения[отделение],SMALL(IF(Отделения[Город]=$T$1,ROW(Отделения[Город])-1),ROW(H23)-ROW($A$2)+1)),\"\")","v":""},{"$f":"IFERROR(INDEX(Отделения[отделение],SMALL(IF(Отделения[Город]=$U$1,ROW(Отделения[Город])-1),ROW(I23)-ROW($A$2)+1)),\"\")","v":""},{"$f":"IFERROR(INDEX(Отделения[отделение],SMALL(IF(Отделения[Город]=$V$1,ROW(Отделения[Город])-1),ROW(J23)-ROW($A$2)+1)),\"\")","v":""},{"$f":"IFERROR(INDEX(Отделения[отделение],SMALL(IF(Отделения[Город]=$W$1,ROW(Отделения[Город])-1),ROW(K23)-ROW($A$2)+1)),\"\")","v":""},{"$f":"IFERROR(INDEX(Отделения[отделение],SMALL(IF(Отделения[Город]=$X$1,ROW(Отделения[Город])-1),ROW(L23)-ROW($A$2)+1)),\"\")","v":""},{"$f":"IFERROR(INDEX(Отделения[отделение],SMALL(IF(Отделения[Город]=$Y$1,ROW(Отделения[Город])-1),ROW(M23)-ROW($A$2)+1)),\"\")","v":""},{"$f":"IFERROR(INDEX(Отделения[отделение],SMALL(IF(Отделения[Город]=$Z$1,ROW(Отделения[Город])-1),ROW(N23)-ROW($A$2)+1)),\"\")","v":""},{"$f":"IFERROR(INDEX(Отделения[отделение],SMALL(IF(Отделения[Город]=$AA$1,ROW(Отделения[Город])-1),ROW(O23)-ROW($A$2)+1)),\"\")","v":""},{"$f":"IFERROR(INDEX(Отделения[отделение],SMALL(IF(Отделения[Город]=$AB$1,ROW(Отделения[Город])-1),ROW(P23)-ROW($A$2)+1)),\"\")","v":""},{"$f":"IFERROR(INDEX(Отделения[отделение],SMALL(IF(Отделения[Город]=$AC$1,ROW(Отделения[Город])-1),ROW(Q23)-ROW($A$2)+1)),\"\")","v":""},{"$f":"IFERROR(INDEX(Отделения[отделение],SMALL(IF(Отделения[Город]=$AD$1,ROW(Отделения[Город])-1),ROW(R23)-ROW($A$2)+1)),\"\")","v":""},{"$f":"IFERROR(INDEX(Отделения[отделение],SMALL(IF(Отделения[Город]=$AE$1,ROW(Отделения[Город])-1),ROW(S23)-ROW($A$2)+1)),\"\")","v":""},{"$f":"IFERROR(INDEX(Отделения[отделение],SMALL(IF(Отделения[Город]=$AF$1,ROW(Отделения[Город])-1),ROW(T23)-ROW($A$2)+1)),\"\")","v":""},{"$f":"IFERROR(INDEX(Отделения[отделение],SMALL(IF(Отделения[Город]=$AG$1,ROW(Отделения[Город])-1),ROW(U23)-ROW($A$2)+1)),\"\")","v":""},{"$f":"IFERROR(INDEX(Отделения[отделение],SMALL(IF(Отделения[Город]=$AH$1,ROW(Отделения[Город])-1),ROW(V23)-ROW($A$2)+1)),\"\")","v":""},{"$f":"IFERROR(INDEX(Отделения[отделение],SMALL(IF(Отделения[Город]=$AI$1,ROW(Отделения[Город])-1),ROW(AB23)-ROW($A$2)+1)),\"\")","v":""},{"$f":"IFERROR(INDEX(Отделения[отделение],SMALL(IF(Отделения[Город]=$AJ$1,ROW(Отделения[Город])-1),ROW(AB23)-ROW($A$2)+1)),\"\")","v":""},{"$f":"IFERROR(INDEX(Отделения[отделение],SMALL(IF(Отделения[Город]=$AK$1,ROW(Отделения[Город])-1),ROW(AB23)-ROW($A$2)+1)),\"\")","v":""},{"$f":"IFERROR(INDEX(Отделения[отделение],SMALL(IF(Отделения[Город]=$AL$1,ROW(Отделения[Город])-1),ROW(AB23)-ROW($A$2)+1)),\"\")","v":""},{"$f":"IFERROR(INDEX(Отделения[отделение],SMALL(IF(Отделения[Город]=$AM$1,ROW(Отделения[Город])-1),ROW(AB23)-ROW($A$2)+1)),\"\")","v":""},{"$f":"IFERROR(INDEX(Отделения[отделение],SMALL(IF(Отделения[Город]=$AN$1,ROW(Отделения[Город])-1),ROW(AB23)-ROW($A$2)+1)),\"\")","v":""},{"$f":"IFERROR(INDEX(Отделения[отделение],SMALL(IF(Отделения[Город]=$AO$1,ROW(Отделения[Город])-1),ROW(AB23)-ROW($A$2)+1)),\"\")","v":""},{"$f":"IFERROR(INDEX(Отделения[отделение],SMALL(IF(Отделения[Город]=$AP$1,ROW(Отделения[Город])-1),ROW(AB23)-ROW($A$2)+1)),\"\")","v":""},{"$f":"IFERROR(INDEX(Отделения[отделение],SMALL(IF(Отделения[Город]=$AQ$1,ROW(Отделения[Город])-1),ROW(AB23)-ROW($A$2)+1)),\"\")","v":""},{"$f":"IFERROR(INDEX(Отделения[отделение],SMALL(IF(Отделения[Город]=$AR$1,ROW(Отделения[Город])-1),ROW(AB23)-ROW($A$2)+1)),\"\")","v":""},{"$f":"IFERROR(INDEX(Отделения[отделение],SMALL(IF(Отделения[Город]=$AS$1,ROW(Отделения[Город])-1),ROW(AB23)-ROW($A$2)+1)),\"\")","v":""},{"$f":"IFERROR(INDEX(Отделения[отделение],SMALL(IF(Отделения[Город]=$AT$1,ROW(Отделения[Город])-1),ROW(AB23)-ROW($A$2)+1)),\"\")","v":""},{"$f":"IFERROR(INDEX(Отделения[отделение],SMALL(IF(Отделения[Город]=$AU$1,ROW(Отделения[Город])-1),ROW(AB23)-ROW($A$2)+1)),\"\")","v":""},{"$f":"IFERROR(INDEX(Отделения[отделение],SMALL(IF(Отделения[Город]=$AV$1,ROW(Отделения[Город])-1),ROW(AB23)-ROW($A$2)+1)),\"\")","v":""},{"$f":"IFERROR(INDEX(Отделения[отделение],SMALL(IF(Отделения[Город]=$AW$1,ROW(Отделения[Город])-1),ROW(AB23)-ROW($A$2)+1)),\"\")","v":""},{"$f":"IFERROR(INDEX(Отделения[отделение],SMALL(IF(Отделения[Город]=$AX$1,ROW(Отделения[Город])-1),ROW(AB23)-ROW($A$2)+1)),\"\")","v":""},{"$f":"IFERROR(INDEX(Отделения[отделение],SMALL(IF(Отделения[Город]=$AY$1,ROW(Отделения[Город])-1),ROW(AB23)-ROW($A$2)+1)),\"\")","v":""},{"$f":"IFERROR(INDEX(Отделения[отделение],SMALL(IF(Отделения[Город]=$AZ$1,ROW(Отделения[Город])-1),ROW(AB23)-ROW($A$2)+1)),\"\")","v":""},{"$f":"IFERROR(INDEX(Отделения[отделение],SMALL(IF(Отделения[Город]=$BA$1,ROW(Отделения[Город])-1),ROW(AB23)-ROW($A$2)+1)),\"\")","v":""},{"$f":"IFERROR(INDEX(Отделения[отделение],SMALL(IF(Отделения[Город]=$BB$1,ROW(Отделения[Город])-1),ROW(AB23)-ROW($A$2)+1)),\"\")","v":""},{"$f":"IFERROR(INDEX(Отделения[отделение],SMALL(IF(Отделения[Город]=$BC$1,ROW(Отделения[Город])-1),ROW(AC23)-ROW($A$2)+1)),\"\")","v":""},{"$f":"IFERROR(INDEX(Отделения[отделение],SMALL(IF(Отделения[Город]=$BD$1,ROW(Отделения[Город])-1),ROW(AD23)-ROW($A$2)+1)),\"\")","v":""},{"$f":"IFERROR(INDEX(Отделения[отделение],SMALL(IF(Отделения[Город]=$BE$1,ROW(Отделения[Город])-1),ROW(AE23)-ROW($A$2)+1)),\"\")","v":""},{"$f":"IFERROR(INDEX(Отделения[отделение],SMALL(IF(Отделения[Город]=$BF$1,ROW(Отделения[Город])-1),ROW(AF23)-ROW($A$2)+1)),\"\")","v":""},{"$f":"IFERROR(INDEX(Отделения[отделение],SMALL(IF(Отделения[Город]=$BG$1,ROW(Отделения[Город])-1),ROW(AG23)-ROW($A$2)+1)),\"\")","v":""},{"$f":"IFERROR(INDEX(Отделения[отделение],SMALL(IF(Отделения[Город]=$BH$1,ROW(Отделения[Город])-1),ROW(AH23)-ROW($A$2)+1)),\"\")","v":""},{"$f":"IFERROR(INDEX(Отделения[отделение],SMALL(IF(Отделения[Город]=$BI$1,ROW(Отделения[Город])-1),ROW(AI23)-ROW($A$2)+1)),\"\")","v":""},{"$f":"IFERROR(INDEX(Отделения[отделение],SMALL(IF(Отделения[Город]=$BJ$1,ROW(Отделения[Город])-1),ROW(AJ23)-ROW($A$2)+1)),\"\")","v":""},{"$f":"IFERROR(INDEX(Отделения[отделение],SMALL(IF(Отделения[Город]=$BK$1,ROW(Отделения[Город])-1),ROW(AK23)-ROW($A$2)+1)),\"\")","v":""},{"$f":"IFERROR(INDEX(Отделения[отделение],SMALL(IF(Отделения[Город]=$BL$1,ROW(Отделения[Город])-1),ROW(AL23)-ROW($A$2)+1)),\"\")","v":""},{"$f":"IFERROR(INDEX(Отделения[отделение],SMALL(IF(Отделения[Город]=$BM$1,ROW(Отделения[Город])-1),ROW(AM23)-ROW($A$2)+1)),\"\")","v":""},{"$f":"IFERROR(INDEX(Отделения[отделение],SMALL(IF(Отделения[Город]=$BN$1,ROW(Отделения[Город])-1),ROW(AN23)-ROW($A$2)+1)),\"\")","v":""},{"$f":"IFERROR(INDEX(Отделения[отделение],SMALL(IF(Отделения[Город]=$BO$1,ROW(Отделения[Город])-1),ROW(AO23)-ROW($A$2)+1)),\"\")","v":""},{"$f":"IFERROR(INDEX(Отделения[отделение],SMALL(IF(Отделения[Город]=$BP$1,ROW(Отделения[Город])-1),ROW(AP23)-ROW($A$2)+1)),\"\")","v":""},{"$f":"IFERROR(INDEX(Отделения[отделение],SMALL(IF(Отделения[Город]=$BQ$1,ROW(Отделения[Город])-1),ROW(AQ23)-ROW($A$2)+1)),\"\")","v":""},{"$f":"IFERROR(INDEX(Отделения[отделение],SMALL(IF(Отделения[Город]=$BR$1,ROW(Отделения[Город])-1),ROW(AR23)-ROW($A$2)+1)),\"\")","v":""},{"$f":"IFERROR(INDEX(Отделения[отделение],SMALL(IF(Отделения[Город]=$BS$1,ROW(Отделения[Город])-1),ROW(AS23)-ROW($A$2)+1)),\"\")","v":""},{"$f":"IFERROR(INDEX(Отделения[отделение],SMALL(IF(Отделения[Город]=$BT$1,ROW(Отделения[Город])-1),ROW(AT23)-ROW($A$2)+1)),\"\")","v":""},{"$f":"IFERROR(INDEX(Отделения[отделение],SMALL(IF(Отделения[Город]=$BU$1,ROW(Отделения[Город])-1),ROW(AU23)-ROW($A$2)+1)),\"\")","v":""},{"$f":"IFERROR(INDEX(Отделения[отделение],SMALL(IF(Отделения[Город]=$BV$1,ROW(Отделения[Город])-1),ROW(AV23)-ROW($A$2)+1)),\"\")","v":""},{"$f":"IFERROR(INDEX(Отделения[отделение],SMALL(IF(Отделения[Город]=$BW$1,ROW(Отделения[Город])-1),ROW(AV23)-ROW($A$2)+1)),\"\")","v":""},{"$f":"IFERROR(INDEX(Отделения[отделение],SMALL(IF(Отделения[Город]=$BX$1,ROW(Отделения[Город])-1),ROW(AV23)-ROW($A$2)+1)),\"\")","v":""},{"$f":"IFERROR(INDEX(Отделения[отделение],SMALL(IF(Отделения[Город]=$BY$1,ROW(Отделения[Город])-1),ROW(AV23)-ROW($A$2)+1)),\"\")","v":""},{"$f":"IFERROR(INDEX(Отделения[отделение],SMALL(IF(Отделения[Город]=$BZ$1,ROW(Отделения[Город])-1),ROW(AV23)-ROW($A$2)+1)),\"\")","v":""},{"$f":"IFERROR(INDEX(Отделения[отделение],SMALL(IF(Отделения[Город]=$CA$1,ROW(Отделения[Город])-1),ROW(AV23)-ROW($A$2)+1)),\"\")","v":""},{"$f":"IFERROR(INDEX(Отделения[отделение],SMALL(IF(Отделения[Город]=$CB$1,ROW(Отделения[Город])-1),ROW(AV23)-ROW($A$2)+1)),\"\")","v":""},{"$f":"IFERROR(INDEX(Отделения[отделение],SMALL(IF(Отделения[Город]=$CC$1,ROW(Отделения[Город])-1),ROW(AV23)-ROW($A$2)+1)),\"\")","v":""},{"$f":"IFERROR(INDEX(Отделения[отделение],SMALL(IF(Отделения[Город]=$CD$1,ROW(Отделения[Город])-1),ROW(AV23)-ROW($A$2)+1)),\"\")","v":""},{"$f":"IFERROR(INDEX(Отделения[отделение],SMALL(IF(Отделения[Город]=$CE$1,ROW(Отделения[Город])-1),ROW(AV23)-ROW($A$2)+1)),\"\")","v":""},{"$f":"IFERROR(INDEX(Отделения[отделение],SMALL(IF(Отделения[Город]=$CF$1,ROW(Отделения[Город])-1),ROW(AV23)-ROW($A$2)+1)),\"\")","v":""},{"$f":"IFERROR(INDEX(Отделения[отделение],SMALL(IF(Отделения[Город]=$CG$1,ROW(Отделения[Город])-1),ROW(AV23)-ROW($A$2)+1)),\"\")","v":""},{"$f":"IFERROR(INDEX(Отделения[отделение],SMALL(IF(Отделения[Город]=$CH$1,ROW(Отделения[Город])-1),ROW(AW23)-ROW($A$2)+1)),\"\")","v":""},{"$f":"IFERROR(INDEX(Отделения[отделение],SMALL(IF(Отделения[Город]=$CI$1,ROW(Отделения[Город])-1),ROW(AX23)-ROW($A$2)+1)),\"\")","v":""},{"$f":"IFERROR(INDEX(Отделения[отделение],SMALL(IF(Отделения[Город]=$CJ$1,ROW(Отделения[Город])-1),ROW(AY23)-ROW($A$2)+1)),\"\")","v":""},{"$f":"IFERROR(INDEX(Отделения[отделение],SMALL(IF(Отделения[Город]=$CK$1,ROW(Отделения[Город])-1),ROW(AZ23)-ROW($A$2)+1)),\"\")","v":""},{"$f":"IFERROR(INDEX(Отделения[отделение],SMALL(IF(Отделения[Город]=$CL$1,ROW(Отделения[Город])-1),ROW(BA23)-ROW($A$2)+1)),\"\")","v":""},{"$f":"IFERROR(INDEX(Отделения[отделение],SMALL(IF(Отделения[Город]=$CM$1,ROW(Отделения[Город])-1),ROW(BB23)-ROW($A$2)+1)),\"\")","v":""},{"$f":"IFERROR(INDEX(Отделения[отделение],SMALL(IF(Отделения[Город]=$CN$1,ROW(Отделения[Город])-1),ROW(BC23)-ROW($A$2)+1)),\"\")","v":""},{"$f":"IFERROR(INDEX(Отделения[отделение],SMALL(IF(Отделения[Город]=$CO$1,ROW(Отделения[Город])-1),ROW(BD23)-ROW($A$2)+1)),\"\")","v":""},{"$f":"IFERROR(INDEX(Отделения[отделение],SMALL(IF(Отделения[Город]=$CP$1,ROW(Отделения[Город])-1),ROW(BE23)-ROW($A$2)+1)),\"\")","v":""},{"$f":"IFERROR(INDEX(Отделения[отделение],SMALL(IF(Отделения[Город]=$CQ$1,ROW(Отделения[Город])-1),ROW(BF23)-ROW($A$2)+1)),\"\")","v":""},{"$f":"IFERROR(INDEX(Отделения[отделение],SMALL(IF(Отделения[Город]=$CR$1,ROW(Отделения[Город])-1),ROW(BG23)-ROW($A$2)+1)),\"\")","v":""},{"$f":"IFERROR(INDEX(Отделения[отделение],SMALL(IF(Отделения[Город]=$CS$1,ROW(Отделения[Город])-1),ROW(BH23)-ROW($A$2)+1)),\"\")","v":""},{"$f":"IFERROR(INDEX(Отделения[отделение],SMALL(IF(Отделения[Город]=$CT$1,ROW(Отделения[Город])-1),ROW(BI23)-ROW($A$2)+1)),\"\")","v":""},{"$f":"IFERROR(INDEX(Отделения[отделение],SMALL(IF(Отделения[Город]=$CU$1,ROW(Отделения[Город])-1),ROW(BJ23)-ROW($A$2)+1)),\"\")","v":""},{"$f":"IFERROR(INDEX(Отделения[отделение],SMALL(IF(Отделения[Город]=$CV$1,ROW(Отделения[Город])-1),ROW(BK23)-ROW($A$2)+1)),\"\")","v":""},{"$f":"IFERROR(INDEX(Отделения[отделение],SMALL(IF(Отделения[Город]=$CW$1,ROW(Отделения[Город])-1),ROW(BL23)-ROW($A$2)+1)),\"\")","v":""},{"$f":"IFERROR(INDEX(Отделения[отделение],SMALL(IF(Отделения[Город]=$CX$1,ROW(Отделения[Город])-1),ROW(BM23)-ROW($A$2)+1)),\"\")","v":""},{"$f":"IFERROR(INDEX(Отделения[отделение],SMALL(IF(Отделения[Город]=$CY$1,ROW(Отделения[Город])-1),ROW(BM23)-ROW($A$2)+1)),\"\")","v":""},{"$f":"IFERROR(INDEX(Отделения[отделение],SMALL(IF(Отделения[Город]=$CZ$1,ROW(Отделения[Город])-1),ROW(BM23)-ROW($A$2)+1)),\"\")","v":""},{"$f":"IFERROR(INDEX(Отделения[отделение],SMALL(IF(Отделения[Город]=$DA$1,ROW(Отделения[Город])-1),ROW(BM23)-ROW($A$2)+1)),\"\")","v":""},{"$f":"IFERROR(INDEX(Отделения[отделение],SMALL(IF(Отделения[Город]=$DB$1,ROW(Отделения[Город])-1),ROW(BM23)-ROW($A$2)+1)),\"\")","v":""}]
["Омск","ДО \"Омск-Центральный\" , 644024, Российская Федерация, Омская область, г. Омск, ул. Маршала Жукова угол ул. 10 Лет Октября, д. 25/","0447","MOKJ",null,null,{"$f":"IFERROR(INDEX(Отделения[отделение],SMALL(IF(Отделения[Город]=$G$1,ROW(Отделения[Город])-1),ROW(A24)-ROW($A$2)+1)),\"\")","v":""},{"$f":"IFERROR(INDEX(Отделения[отделение],SMALL(IF(Отделения[Город]=$H$1,ROW(Отделения[Город])-1),ROW(A24)-ROW($A$2)+1)),\"\")","v":""},{"$f":"IFERROR(INDEX(Отделения[отделение],SMALL(IF(Отделения[Город]=$I$1,ROW(Отделения[Город])-1),ROW(A24)-ROW($A$2)+1)),\"\")","v":""},{"$f":"IFERROR(INDEX(Отделения[отделение],SMALL(IF(Отделения[Город]=$J$1,ROW(Отделения[Город])-1),ROW(A24)-ROW($A$2)+1)),\"\")","v":""},{"$f":"IFERROR(INDEX(Отделения[отделение],SMALL(IF(Отделения[Город]=$K$1,ROW(Отделения[Город])-1),ROW(A24)-ROW($A$2)+1)),\"\")","v":""},{"$f":"IFERROR(INDEX(Отделения[отделение],SMALL(IF(Отделения[Город]=$L$1,ROW(Отделения[Город])-1),ROW(A24)-ROW($A$2)+1)),\"\")","v":""},{"$f":"IFERROR(INDEX(Отделения[отделение],SMALL(IF(Отделения[Город]=$M$1,ROW(Отделения[Город])-1),ROW(B24)-ROW($A$2)+1)),\"\")","v":""},{"$f":"IFERROR(INDEX(Отделения[отделение],SMALL(IF(Отделения[Город]=$N$1,ROW(Отделения[Город])-1),ROW(#REF!)-ROW($A$2)+1)),\"\")","v":""},{"$f":"IFERROR(INDEX(Отделения[отделение],SMALL(IF(Отделения[Город]=$O$1,ROW(Отделения[Город])-1),ROW(C24)-ROW($A$2)+1)),\"\")","v":""},{"$f":"IFERROR(INDEX(Отделения[отделение],SMALL(IF(Отделения[Город]=$P$1,ROW(Отделения[Город])-1),ROW(D24)-ROW($A$2)+1)),\"\")","v":""},{"$f":"IFERROR(INDEX(Отделения[отделение],SMALL(IF(Отделения[Город]=$Q$1,ROW(Отделения[Город])-1),ROW(F24)-ROW($A$2)+1)),\"\")","v":""},{"$f":"IFERROR(INDEX(Отделения[отделение],SMALL(IF(Отделения[Город]=$R$1,ROW(Отделения[Город])-1),ROW(#REF!)-ROW($A$2)+1)),\"\")","v":""},{"$f":"IFERROR(INDEX(Отделения[отделение],SMALL(IF(Отделения[Город]=$S$1,ROW(Отделения[Город])-1),ROW(G24)-ROW($A$2)+1)),\"\")","v":""},{"$f":"IFERROR(INDEX(Отделения[отделение],SMALL(IF(Отделения[Город]=$T$1,ROW(Отделения[Город])-1),ROW(H24)-ROW($A$2)+1)),\"\")","v":""},{"$f":"IFERROR(INDEX(Отделения[отделение],SMALL(IF(Отделения[Город]=$U$1,ROW(Отделения[Город])-1),ROW(I24)-ROW($A$2)+1)),\"\")","v":""},{"$f":"IFERROR(INDEX(Отделения[отделение],SMALL(IF(Отделения[Город]=$V$1,ROW(Отделения[Город])-1),ROW(J24)-ROW($A$2)+1)),\"\")","v":""},{"$f":"IFERROR(INDEX(Отделения[отделение],SMALL(IF(Отделения[Город]=$W$1,ROW(Отделения[Город])-1),ROW(K24)-ROW($A$2)+1)),\"\")","v":""},{"$f":"IFERROR(INDEX(Отделения[отделение],SMALL(IF(Отделения[Город]=$X$1,ROW(Отделения[Город])-1),ROW(L24)-ROW($A$2)+1)),\"\")","v":""},{"$f":"IFERROR(INDEX(Отделения[отделение],SMALL(IF(Отделения[Город]=$Y$1,ROW(Отделения[Город])-1),ROW(M24)-ROW($A$2)+1)),\"\")","v":""},{"$f":"IFERROR(INDEX(Отделения[отделение],SMALL(IF(Отделения[Город]=$Z$1,ROW(Отделения[Город])-1),ROW(N24)-ROW($A$2)+1)),\"\")","v":""},{"$f":"IFERROR(INDEX(Отделения[отделение],SMALL(IF(Отделения[Город]=$AA$1,ROW(Отделения[Город])-1),ROW(O24)-ROW($A$2)+1)),\"\")","v":""},{"$f":"IFERROR(INDEX(Отделения[отделение],SMALL(IF(Отделения[Город]=$AB$1,ROW(Отделения[Город])-1),ROW(P24)-ROW($A$2)+1)),\"\")","v":""},{"$f":"IFERROR(INDEX(Отделения[отделение],SMALL(IF(Отделения[Город]=$AC$1,ROW(Отделения[Город])-1),ROW(Q24)-ROW($A$2)+1)),\"\")","v":""},{"$f":"IFERROR(INDEX(Отделения[отделение],SMALL(IF(Отделения[Город]=$AD$1,ROW(Отделения[Город])-1),ROW(R24)-ROW($A$2)+1)),\"\")","v":""},{"$f":"IFERROR(INDEX(Отделения[отделение],SMALL(IF(Отделения[Город]=$AE$1,ROW(Отделения[Город])-1),ROW(S24)-ROW($A$2)+1)),\"\")","v":""},{"$f":"IFERROR(INDEX(Отделения[отделение],SMALL(IF(Отделения[Город]=$AF$1,ROW(Отделения[Город])-1),ROW(T24)-ROW($A$2)+1)),\"\")","v":""},{"$f":"IFERROR(INDEX(Отделения[отделение],SMALL(IF(Отделения[Город]=$AG$1,ROW(Отделения[Город])-1),ROW(U24)-ROW($A$2)+1)),\"\")","v":""},{"$f":"IFERROR(INDEX(Отделения[отделение],SMALL(IF(Отделения[Город]=$AH$1,ROW(Отделения[Город])-1),ROW(V24)-ROW($A$2)+1)),\"\")","v":""},{"$f":"IFERROR(INDEX(Отделения[отделение],SMALL(IF(Отделения[Город]=$AI$1,ROW(Отделения[Город])-1),ROW(AB24)-ROW($A$2)+1)),\"\")","v":""},{"$f":"IFERROR(INDEX(Отделения[отделение],SMALL(IF(Отделения[Город]=$AJ$1,ROW(Отделения[Город])-1),ROW(AB24)-ROW($A$2)+1)),\"\")","v":""},{"$f":"IFERROR(INDEX(Отделения[отделение],SMALL(IF(Отделения[Город]=$AK$1,ROW(Отделения[Город])-1),ROW(AB24)-ROW($A$2)+1)),\"\")","v":""},{"$f":"IFERROR(INDEX(Отделения[отделение],SMALL(IF(Отделения[Город]=$AL$1,ROW(Отделения[Город])-1),ROW(AB24)-ROW($A$2)+1)),\"\")","v":""},{"$f":"IFERROR(INDEX(Отделения[отделение],SMALL(IF(Отделения[Город]=$AM$1,ROW(Отделения[Город])-1),ROW(AB24)-ROW($A$2)+1)),\"\")","v":""},{"$f":"IFERROR(INDEX(Отделения[отделение],SMALL(IF(Отделения[Город]=$AN$1,ROW(Отделения[Город])-1),ROW(AB24)-ROW($A$2)+1)),\"\")","v":""},{"$f":"IFERROR(INDEX(Отделения[отделение],SMALL(IF(Отделения[Город]=$AO$1,ROW(Отделения[Город])-1),ROW(AB24)-ROW($A$2)+1)),\"\")","v":""},{"$f":"IFERROR(INDEX(Отделения[отделение],SMALL(IF(Отделения[Город]=$AP$1,ROW(Отделения[Город])-1),ROW(AB24)-ROW($A$2)+1)),\"\")","v":""},{"$f":"IFERROR(INDEX(Отделения[отделение],SMALL(IF(Отделения[Город]=$AQ$1,ROW(Отделения[Город])-1),ROW(AB24)-ROW($A$2)+1)),\"\")","v":""},{"$f":"IFERROR(INDEX(Отделения[отделение],SMALL(IF(Отделения[Город]=$AR$1,ROW(Отделения[Город])-1),ROW(AB24)-ROW($A$2)+1)),\"\")","v":""},{"$f":"IFERROR(INDEX(Отделения[отделение],SMALL(IF(Отделения[Город]=$AS$1,ROW(Отделения[Город])-1),ROW(AB24)-ROW($A$2)+1)),\"\")","v":""},{"$f":"IFERROR(INDEX(Отделения[отделение],SMALL(IF(Отделения[Город]=$AT$1,ROW(Отделения[Город])-1),ROW(AB24)-ROW($A$2)+1)),\"\")","v":""},{"$f":"IFERROR(INDEX(Отделения[отделение],SMALL(IF(Отделения[Город]=$AU$1,ROW(Отделения[Город])-1),ROW(AB24)-ROW($A$2)+1)),\"\")","v":""},{"$f":"IFERROR(INDEX(Отделения[отделение],SMALL(IF(Отделения[Город]=$AV$1,ROW(Отделения[Город])-1),ROW(AB24)-ROW($A$2)+1)),\"\")","v":""},{"$f":"IFERROR(INDEX(Отделения[отделение],SMALL(IF(Отделения[Город]=$AW$1,ROW(Отделения[Город])-1),ROW(AB24)-ROW($A$2)+1)),\"\")","v":""},{"$f":"IFERROR(INDEX(Отделения[отделение],SMALL(IF(Отделения[Город]=$AX$1,ROW(Отделения[Город])-1),ROW(AB24)-ROW($A$2)+1)),\"\")","v":""},{"$f":"IFERROR(INDEX(Отделения[отделение],SMALL(IF(Отделения[Город]=$AY$1,ROW(Отделения[Город])-1),ROW(AB24)-ROW($A$2)+1)),\"\")","v":""},{"$f":"IFERROR(INDEX(Отделения[отделение],SMALL(IF(Отделения[Город]=$AZ$1,ROW(Отделения[Город])-1),ROW(AB24)-ROW($A$2)+1)),\"\")","v":""},{"$f":"IFERROR(INDEX(Отделения[отделение],SMALL(IF(Отделения[Город]=$BA$1,ROW(Отделения[Город])-1),ROW(AB24)-ROW($A$2)+1)),\"\")","v":""},{"$f":"IFERROR(INDEX(Отделения[отделение],SMALL(IF(Отделения[Город]=$BB$1,ROW(Отделения[Город])-1),ROW(AB24)-ROW($A$2)+1)),\"\")","v":""},{"$f":"IFERROR(INDEX(Отделения[отделение],SMALL(IF(Отделения[Город]=$BC$1,ROW(Отделения[Город])-1),ROW(AC24)-ROW($A$2)+1)),\"\")","v":""},{"$f":"IFERROR(INDEX(Отделения[отделение],SMALL(IF(Отделения[Город]=$BD$1,ROW(Отделения[Город])-1),ROW(AD24)-ROW($A$2)+1)),\"\")","v":""},{"$f":"IFERROR(INDEX(Отделения[отделение],SMALL(IF(Отделения[Город]=$BE$1,ROW(Отделения[Город])-1),ROW(AE24)-ROW($A$2)+1)),\"\")","v":""},{"$f":"IFERROR(INDEX(Отделения[отделение],SMALL(IF(Отделения[Город]=$BF$1,ROW(Отделения[Город])-1),ROW(AF24)-ROW($A$2)+1)),\"\")","v":""},{"$f":"IFERROR(INDEX(Отделения[отделение],SMALL(IF(Отделения[Город]=$BG$1,ROW(Отделения[Город])-1),ROW(AG24)-ROW($A$2)+1)),\"\")","v":""},{"$f":"IFERROR(INDEX(Отделения[отделение],SMALL(IF(Отделения[Город]=$BH$1,ROW(Отделения[Город])-1),ROW(AH24)-ROW($A$2)+1)),\"\")","v":""},{"$f":"IFERROR(INDEX(Отделения[отделение],SMALL(IF(Отделения[Город]=$BI$1,ROW(Отделения[Город])-1),ROW(AI24)-ROW($A$2)+1)),\"\")","v":""},{"$f":"IFERROR(INDEX(Отделения[отделение],SMALL(IF(Отделения[Город]=$BJ$1,ROW(Отделения[Город])-1),ROW(AJ24)-ROW($A$2)+1)),\"\")","v":""},{"$f":"IFERROR(INDEX(Отделения[отделение],SMALL(IF(Отделения[Город]=$BK$1,ROW(Отделения[Город])-1),ROW(AK24)-ROW($A$2)+1)),\"\")","v":""},{"$f":"IFERROR(INDEX(Отделения[отделение],SMALL(IF(Отделения[Город]=$BL$1,ROW(Отделения[Город])-1),ROW(AL24)-ROW($A$2)+1)),\"\")","v":""},{"$f":"IFERROR(INDEX(Отделения[отделение],SMALL(IF(Отделения[Город]=$BM$1,ROW(Отделения[Город])-1),ROW(AM24)-ROW($A$2)+1)),\"\")","v":""},{"$f":"IFERROR(INDEX(Отделения[отделение],SMALL(IF(Отделения[Город]=$BN$1,ROW(Отделения[Город])-1),ROW(AN24)-ROW($A$2)+1)),\"\")","v":""},{"$f":"IFERROR(INDEX(Отделения[отделение],SMALL(IF(Отделения[Город]=$BO$1,ROW(Отделения[Город])-1),ROW(AO24)-ROW($A$2)+1)),\"\")","v":""},{"$f":"IFERROR(INDEX(Отделения[отделение],SMALL(IF(Отделения[Город]=$BP$1,ROW(Отделения[Город])-1),ROW(AP24)-ROW($A$2)+1)),\"\")","v":""},{"$f":"IFERROR(INDEX(Отделения[отделение],SMALL(IF(Отделения[Город]=$BQ$1,ROW(Отделения[Город])-1),ROW(AQ24)-ROW($A$2)+1)),\"\")","v":""},{"$f":"IFERROR(INDEX(Отделения[отделение],SMALL(IF(Отделения[Город]=$BR$1,ROW(Отделения[Город])-1),ROW(AR24)-ROW($A$2)+1)),\"\")","v":""},{"$f":"IFERROR(INDEX(Отделения[отделение],SMALL(IF(Отделения[Город]=$BS$1,ROW(Отделения[Город])-1),ROW(AS24)-ROW($A$2)+1)),\"\")","v":""},{"$f":"IFERROR(INDEX(Отделения[отделение],SMALL(IF(Отделения[Город]=$BT$1,ROW(Отделения[Город])-1),ROW(AT24)-ROW($A$2)+1)),\"\")","v":""},{"$f":"IFERROR(INDEX(Отделения[отделение],SMALL(IF(Отделения[Город]=$BU$1,ROW(Отделения[Город])-1),ROW(AU24)-ROW($A$2)+1)),\"\")","v":""},{"$f":"IFERROR(INDEX(Отделения[отделение],SMALL(IF(Отделения[Город]=$BV$1,ROW(Отделения[Город])-1),ROW(AV24)-ROW($A$2)+1)),\"\")","v":""},{"$f":"IFERROR(INDEX(Отделения[отделение],SMALL(IF(Отделения[Город]=$BW$1,ROW(Отделения[Город])-1),ROW(AV24)-ROW($A$2)+1)),\"\")","v":""},{"$f":"IFERROR(INDEX(Отделения[отделение],SMALL(IF(Отделения[Город]=$BX$1,ROW(Отделения[Город])-1),ROW(AV24)-ROW($A$2)+1)),\"\")","v":""},{"$f":"IFERROR(INDEX(Отделения[отделение],SMALL(IF(Отделения[Город]=$BY$1,ROW(Отделения[Город])-1),ROW(AV24)-ROW($A$2)+1)),\"\")","v":""},{"$f":"IFERROR(INDEX(Отделения[отделение],SMALL(IF(Отделения[Город]=$BZ$1,ROW(Отделения[Город])-1),ROW(AV24)-ROW($A$2)+1)),\"\")","v":""},{"$f":"IFERROR(INDEX(Отделения[отделение],SMALL(IF(Отделения[Город]=$CA$1,ROW(Отделения[Город])-1),ROW(AV24)-ROW($A$2)+1)),\"\")","v":""},{"$f":"IFERROR(INDEX(Отделения[отделение],SMALL(IF(Отделения[Город]=$CB$1,ROW(Отделения[Город])-1),ROW(AV24)-ROW($A$2)+1)),\"\")","v":""},{"$f":"IFERROR(INDEX(Отделения[отделение],SMALL(IF(Отделения[Город]=$CC$1,ROW(Отделения[Город])-1),ROW(AV24)-ROW($A$2)+1)),\"\")","v":""},{"$f":"IFERROR(INDEX(Отделения[отделение],SMALL(IF(Отделения[Город]=$CD$1,ROW(Отделения[Город])-1),ROW(AV24)-ROW($A$2)+1)),\"\")","v":""},{"$f":"IFERROR(INDEX(Отделения[отделение],SMALL(IF(Отделения[Город]=$CE$1,ROW(Отделения[Город])-1),ROW(AV24)-ROW($A$2)+1)),\"\")","v":""},{"$f":"IFERROR(INDEX(Отделения[отделение],SMALL(IF(Отделения[Город]=$CF$1,ROW(Отделения[Город])-1),ROW(AV24)-ROW($A$2)+1)),\"\")","v":""},{"$f":"IFERROR(INDEX(Отделения[отделение],SMALL(IF(Отделения[Город]=$CG$1,ROW(Отделения[Город])-1),ROW(AV24)-ROW($A$2)+1)),\"\")","v":""},{"$f":"IFERROR(INDEX(Отделения[отделение],SMALL(IF(Отделения[Город]=$CH$1,ROW(Отделения[Город])-1),ROW(AW24)-ROW($A$2)+1)),\"\")","v":""},{"$f":"IFERROR(INDEX(Отделения[отделение],SMALL(IF(Отделения[Город]=$CI$1,ROW(Отделения[Город])-1),ROW(AX24)-ROW($A$2)+1)),\"\")","v":""},{"$f":"IFERROR(INDEX(Отделения[отделение],SMALL(IF(Отделения[Город]=$CJ$1,ROW(Отделения[Город])-1),ROW(AY24)-ROW($A$2)+1)),\"\")","v":""},{"$f":"IFERROR(INDEX(Отделения[отделение],SMALL(IF(Отделения[Город]=$CK$1,ROW(Отделения[Город])-1),ROW(AZ24)-ROW($A$2)+1)),\"\")","v":""},{"$f":"IFERROR(INDEX(Отделения[отделение],SMALL(IF(Отделения[Город]=$CL$1,ROW(Отделения[Город])-1),ROW(BA24)-ROW($A$2)+1)),\"\")","v":""},{"$f":"IFERROR(INDEX(Отделения[отделение],SMALL(IF(Отделения[Город]=$CM$1,ROW(Отделения[Город])-1),ROW(BB24)-ROW($A$2)+1)),\"\")","v":""},{"$f":"IFERROR(INDEX(Отделения[отделение],SMALL(IF(Отделения[Город]=$CN$1,ROW(Отделения[Город])-1),ROW(BC24)-ROW($A$2)+1)),\"\")","v":""},{"$f":"IFERROR(INDEX(Отделения[отделение],SMALL(IF(Отделения[Город]=$CO$1,ROW(Отделения[Город])-1),ROW(BD24)-ROW($A$2)+1)),\"\")","v":""},{"$f":"IFERROR(INDEX(Отделения[отделение],SMALL(IF(Отделения[Город]=$CP$1,ROW(Отделения[Город])-1),ROW(BE24)-ROW($A$2)+1)),\"\")","v":""},{"$f":"IFERROR(INDEX(Отделения[отделение],SMALL(IF(Отделения[Город]=$CQ$1,ROW(Отделения[Город])-1),ROW(BF24)-ROW($A$2)+1)),\"\")","v":""},{"$f":"IFERROR(INDEX(Отделения[отделение],SMALL(IF(Отделения[Город]=$CR$1,ROW(Отделения[Город])-1),ROW(BG24)-ROW($A$2)+1)),\"\")","v":""},{"$f":"IFERROR(INDEX(Отделения[отделение],SMALL(IF(Отделения[Город]=$CS$1,ROW(Отделения[Город])-1),ROW(BH24)-ROW($A$2)+1)),\"\")","v":""},{"$f":"IFERROR(INDEX(Отделения[отделение],SMALL(IF(Отделения[Город]=$CT$1,ROW(Отделения[Город])-1),ROW(BI24)-ROW($A$2)+1)),\"\")","v":""},{"$f":"IFERROR(INDEX(Отделения[отделение],SMALL(IF(Отделения[Город]=$CU$1,ROW(Отделения[Город])-1),ROW(BJ24)-ROW($A$2)+1)),\"\")","v":""},{"$f":"IFERROR(INDEX(Отделения[отделение],SMALL(IF(Отделения[Город]=$CV$1,ROW(Отделения[Город])-1),ROW(BK24)-ROW($A$2)+1)),\"\")","v":""},{"$f":"IFERROR(INDEX(Отделения[отделение],SMALL(IF(Отделения[Город]=$CW$1,ROW(Отделения[Город])-1),ROW(BL24)-ROW($A$2)+1)),\"\")","v":""},{"$f":"IFERROR(INDEX(Отделения[отделение],SMALL(IF(Отделения[Город]=$CX$1,ROW(Отделения[Город])-1),ROW(BM24)-ROW($A$2)+1)),\"\")","v":""},{"$f":"IFERROR(INDEX(Отделения[отделение],SMALL(IF(Отделения[Город]=$CY$1,ROW(Отделения[Город])-1),ROW(BM24)-ROW($A$2)+1)),\"\")","v":""},{"$f":"IFERROR(INDEX(Отделения[отделение],SMALL(IF(Отделения[Город]=$CZ$1,ROW(Отделения[Город])-1),ROW(BM24)-ROW($A$2)+1)),\"\")","v":""},{"$f":"IFERROR(INDEX(Отделения[отделение],SMALL(IF(Отделения[Город]=$DA$1,ROW(Отделения[Город])-1),ROW(BM24)-ROW($A$2)+1)),\"\")","v":""},{"$f":"IFERROR(INDEX(Отделения[отделение],SMALL(IF(Отделения[Город]=$DB$1,ROW(Отделения[Город])-1),ROW(BM24)-ROW($A$2)+1)),\"\")","v":""}]
["Москва","ДО \"БАЛТИЙСКИЙ\" , 125315, г.Москва, пр-кт Ленинградский, д.74, к. 1","0450","MOBA",null,null,{"$f":"IFERROR(INDEX(Отделения[отделение],SMALL(IF(Отделения[Город]=$G$1,ROW(Отделения[Город])-1),ROW(A25)-ROW($A$2)+1)),\"\")","v":""},{"$f":"IFERROR(INDEX(Отделения[отделение],SMALL(IF(Отделения[Город]=$H$1,ROW(Отделения[Город])-1),ROW(A25)-ROW($A$2)+1)),\"\")","v":""},{"$f":"IFERROR(INDEX(Отделения[отделение],SMALL(IF(Отделения[Город]=$I$1,ROW(Отделения[Город])-1),ROW(A25)-ROW($A$2)+1)),\"\")","v":""},{"$f":"IFERROR(INDEX(Отделения[отделение],SMALL(IF(Отделения[Город]=$J$1,ROW(Отделения[Город])-1),ROW(A25)-ROW($A$2)+1)),\"\")","v":""},{"$f":"IFERROR(INDEX(Отделения[отделение],SMALL(IF(Отделения[Город]=$K$1,ROW(Отделения[Город])-1),ROW(A25)-ROW($A$2)+1)),\"\")","v":""},{"$f":"IFERROR(INDEX(Отделения[отделение],SMALL(IF(Отделения[Город]=$L$1,ROW(Отделения[Город])-1),ROW(A25)-ROW($A$2)+1)),\"\")","v":""},{"$f":"IFERROR(INDEX(Отделения[отделение],SMALL(IF(Отделения[Город]=$M$1,ROW(Отделения[Город])-1),ROW(B25)-ROW($A$2)+1)),\"\")","v":""},{"$f":"IFERROR(INDEX(Отделения[отделение],SMALL(IF(Отделения[Город]=$N$1,ROW(Отделения[Город])-1),ROW(#REF!)-ROW($A$2)+1)),\"\")","v":""},{"$f":"IFERROR(INDEX(Отделения[отделение],SMALL(IF(Отделения[Город]=$O$1,ROW(Отделения[Город])-1),ROW(C25)-ROW($A$2)+1)),\"\")","v":""},{"$f":"IFERROR(INDEX(Отделения[отделение],SMALL(IF(Отделения[Город]=$P$1,ROW(Отделения[Город])-1),ROW(D25)-ROW($A$2)+1)),\"\")","v":""},{"$f":"IFERROR(INDEX(Отделения[отделение],SMALL(IF(Отделения[Город]=$Q$1,ROW(Отделения[Город])-1),ROW(F25)-ROW($A$2)+1)),\"\")","v":""},{"$f":"IFERROR(INDEX(Отделения[отделение],SMALL(IF(Отделения[Город]=$R$1,ROW(Отделения[Город])-1),ROW(#REF!)-ROW($A$2)+1)),\"\")","v":""},{"$f":"IFERROR(INDEX(Отделения[отделение],SMALL(IF(Отделения[Город]=$S$1,ROW(Отделения[Город])-1),ROW(G25)-ROW($A$2)+1)),\"\")","v":""},{"$f":"IFERROR(INDEX(Отделения[отделение],SMALL(IF(Отделения[Город]=$T$1,ROW(Отделения[Город])-1),ROW(H25)-ROW($A$2)+1)),\"\")","v":""},{"$f":"IFERROR(INDEX(Отделения[отделение],SMALL(IF(Отделения[Город]=$U$1,ROW(Отделения[Город])-1),ROW(I25)-ROW($A$2)+1)),\"\")","v":""},{"$f":"IFERROR(INDEX(Отделения[отделение],SMALL(IF(Отделения[Город]=$V$1,ROW(Отделения[Город])-1),ROW(J25)-ROW($A$2)+1)),\"\")","v":""},{"$f":"IFERROR(INDEX(Отделения[отделение],SMALL(IF(Отделения[Город]=$W$1,ROW(Отделения[Город])-1),ROW(K25)-ROW($A$2)+1)),\"\")","v":""},{"$f":"IFERROR(INDEX(Отделения[отделение],SMALL(IF(Отделения[Город]=$X$1,ROW(Отделения[Город])-1),ROW(L25)-ROW($A$2)+1)),\"\")","v":""},{"$f":"IFERROR(INDEX(Отделения[отделение],SMALL(IF(Отделения[Город]=$Y$1,ROW(Отделения[Город])-1),ROW(M25)-ROW($A$2)+1)),\"\")","v":""},{"$f":"IFERROR(INDEX(Отделения[отделение],SMALL(IF(Отделения[Город]=$Z$1,ROW(Отделения[Город])-1),ROW(N25)-ROW($A$2)+1)),\"\")","v":""},{"$f":"IFERROR(INDEX(Отделения[отделение],SMALL(IF(Отделения[Город]=$AA$1,ROW(Отделения[Город])-1),ROW(O25)-ROW($A$2)+1)),\"\")","v":""},{"$f":"IFERROR(INDEX(Отделения[отделение],SMALL(IF(Отделения[Город]=$AB$1,ROW(Отделения[Город])-1),ROW(P25)-ROW($A$2)+1)),\"\")","v":""},{"$f":"IFERROR(INDEX(Отделения[отделение],SMALL(IF(Отделения[Город]=$AC$1,ROW(Отделения[Город])-1),ROW(Q25)-ROW($A$2)+1)),\"\")","v":""},{"$f":"IFERROR(INDEX(Отделения[отделение],SMALL(IF(Отделения[Город]=$AD$1,ROW(Отделения[Город])-1),ROW(R25)-ROW($A$2)+1)),\"\")","v":""},{"$f":"IFERROR(INDEX(Отделения[отделение],SMALL(IF(Отделения[Город]=$AE$1,ROW(Отделения[Город])-1),ROW(S25)-ROW($A$2)+1)),\"\")","v":""},{"$f":"IFERROR(INDEX(Отделения[отделение],SMALL(IF(Отделения[Город]=$AF$1,ROW(Отделения[Город])-1),ROW(T25)-ROW($A$2)+1)),\"\")","v":""},{"$f":"IFERROR(INDEX(Отделения[отделение],SMALL(IF(Отделения[Город]=$AG$1,ROW(Отделения[Город])-1),ROW(U25)-ROW($A$2)+1)),\"\")","v":""},{"$f":"IFERROR(INDEX(Отделения[отделение],SMALL(IF(Отделения[Город]=$AH$1,ROW(Отделения[Город])-1),ROW(V25)-ROW($A$2)+1)),\"\")","v":""},{"$f":"IFERROR(INDEX(Отделения[отделение],SMALL(IF(Отделения[Город]=$AI$1,ROW(Отделения[Город])-1),ROW(AB25)-ROW($A$2)+1)),\"\")","v":""},{"$f":"IFERROR(INDEX(Отделения[отделение],SMALL(IF(Отделения[Город]=$AJ$1,ROW(Отделения[Город])-1),ROW(AB25)-ROW($A$2)+1)),\"\")","v":""},{"$f":"IFERROR(INDEX(Отделения[отделение],SMALL(IF(Отделения[Город]=$AK$1,ROW(Отделения[Город])-1),ROW(AB25)-ROW($A$2)+1)),\"\")","v":""},{"$f":"IFERROR(INDEX(Отделения[отделение],SMALL(IF(Отделения[Город]=$AL$1,ROW(Отделения[Город])-1),ROW(AB25)-ROW($A$2)+1)),\"\")","v":""},{"$f":"IFERROR(INDEX(Отделения[отделение],SMALL(IF(Отделения[Город]=$AM$1,ROW(Отделения[Город])-1),ROW(AB25)-ROW($A$2)+1)),\"\")","v":""},{"$f":"IFERROR(INDEX(Отделения[отделение],SMALL(IF(Отделения[Город]=$AN$1,ROW(Отделения[Город])-1),ROW(AB25)-ROW($A$2)+1)),\"\")","v":""},{"$f":"IFERROR(INDEX(Отделения[отделение],SMALL(IF(Отделения[Город]=$AO$1,ROW(Отделения[Город])-1),ROW(AB25)-ROW($A$2)+1)),\"\")","v":""},{"$f":"IFERROR(INDEX(Отделения[отделение],SMALL(IF(Отделения[Город]=$AP$1,ROW(Отделения[Город])-1),ROW(AB25)-ROW($A$2)+1)),\"\")","v":""},{"$f":"IFERROR(INDEX(Отделения[отделение],SMALL(IF(Отделения[Город]=$AQ$1,ROW(Отделения[Город])-1),ROW(AB25)-ROW($A$2)+1)),\"\")","v":""},{"$f":"IFERROR(INDEX(Отделения[отделение],SMALL(IF(Отделения[Город]=$AR$1,ROW(Отделения[Город])-1),ROW(AB25)-ROW($A$2)+1)),\"\")","v":""},{"$f":"IFERROR(INDEX(Отделения[отделение],SMALL(IF(Отделения[Город]=$AS$1,ROW(Отделения[Город])-1),ROW(AB25)-ROW($A$2)+1)),\"\")","v":""},{"$f":"IFERROR(INDEX(Отделения[отделение],SMALL(IF(Отделения[Город]=$AT$1,ROW(Отделения[Город])-1),ROW(AB25)-ROW($A$2)+1)),\"\")","v":""},{"$f":"IFERROR(INDEX(Отделения[отделение],SMALL(IF(Отделения[Город]=$AU$1,ROW(Отделения[Город])-1),ROW(AB25)-ROW($A$2)+1)),\"\")","v":""},{"$f":"IFERROR(INDEX(Отделения[отделение],SMALL(IF(Отделения[Город]=$AV$1,ROW(Отделения[Город])-1),ROW(AB25)-ROW($A$2)+1)),\"\")","v":""},{"$f":"IFERROR(INDEX(Отделения[отделение],SMALL(IF(Отделения[Город]=$AW$1,ROW(Отделения[Город])-1),ROW(AB25)-ROW($A$2)+1)),\"\")","v":""},{"$f":"IFERROR(INDEX(Отделения[отделение],SMALL(IF(Отделения[Город]=$AX$1,ROW(Отделения[Город])-1),ROW(AB25)-ROW($A$2)+1)),\"\")","v":""},{"$f":"IFERROR(INDEX(Отделения[отделение],SMALL(IF(Отделения[Город]=$AY$1,ROW(Отделения[Город])-1),ROW(AB25)-ROW($A$2)+1)),\"\")","v":""},{"$f":"IFERROR(INDEX(Отделения[отделение],SMALL(IF(Отделения[Город]=$AZ$1,ROW(Отделения[Город])-1),ROW(AB25)-ROW($A$2)+1)),\"\")","v":""},{"$f":"IFERROR(INDEX(Отделения[отделение],SMALL(IF(Отделения[Город]=$BA$1,ROW(Отделения[Город])-1),ROW(AB25)-ROW($A$2)+1)),\"\")","v":""},{"$f":"IFERROR(INDEX(Отделения[отделение],SMALL(IF(Отделения[Город]=$BB$1,ROW(Отделения[Город])-1),ROW(AB25)-ROW($A$2)+1)),\"\")","v":""},{"$f":"IFERROR(INDEX(Отделения[отделение],SMALL(IF(Отделения[Город]=$BC$1,ROW(Отделения[Город])-1),ROW(AC25)-ROW($A$2)+1)),\"\")","v":""},{"$f":"IFERROR(INDEX(Отделения[отделение],SMALL(IF(Отделения[Город]=$BD$1,ROW(Отделения[Город])-1),ROW(AD25)-ROW($A$2)+1)),\"\")","v":""},{"$f":"IFERROR(INDEX(Отделения[отделение],SMALL(IF(Отделения[Город]=$BE$1,ROW(Отделения[Город])-1),ROW(AE25)-ROW($A$2)+1)),\"\")","v":""},{"$f":"IFERROR(INDEX(Отделения[отделение],SMALL(IF(Отделения[Город]=$BF$1,ROW(Отделения[Город])-1),ROW(AF25)-ROW($A$2)+1)),\"\")","v":""},{"$f":"IFERROR(INDEX(Отделения[отделение],SMALL(IF(Отделения[Город]=$BG$1,ROW(Отделения[Город])-1),ROW(AG25)-ROW($A$2)+1)),\"\")","v":""},{"$f":"IFERROR(INDEX(Отделения[отделение],SMALL(IF(Отделения[Город]=$BH$1,ROW(Отделения[Город])-1),ROW(AH25)-ROW($A$2)+1)),\"\")","v":""},{"$f":"IFERROR(INDEX(Отделения[отделение],SMALL(IF(Отделения[Город]=$BI$1,ROW(Отделения[Город])-1),ROW(AI25)-ROW($A$2)+1)),\"\")","v":""},{"$f":"IFERROR(INDEX(Отделения[отделение],SMALL(IF(Отделения[Город]=$BJ$1,ROW(Отделения[Город])-1),ROW(AJ25)-ROW($A$2)+1)),\"\")","v":""},{"$f":"IFERROR(INDEX(Отделения[отделение],SMALL(IF(Отделения[Город]=$BK$1,ROW(Отделения[Город])-1),ROW(AK25)-ROW($A$2)+1)),\"\")","v":""},{"$f":"IFERROR(INDEX(Отделения[отделение],SMALL(IF(Отделения[Город]=$BL$1,ROW(Отделения[Город])-1),ROW(AL25)-ROW($A$2)+1)),\"\")","v":""},{"$f":"IFERROR(INDEX(Отделения[отделение],SMALL(IF(Отделения[Город]=$BM$1,ROW(Отделения[Город])-1),ROW(AM25)-ROW($A$2)+1)),\"\")","v":""},{"$f":"IFERROR(INDEX(Отделения[отделение],SMALL(IF(Отделения[Город]=$BN$1,ROW(Отделения[Город])-1),ROW(AN25)-ROW($A$2)+1)),\"\")","v":""},{"$f":"IFERROR(INDEX(Отделения[отделение],SMALL(IF(Отделения[Город]=$BO$1,ROW(Отделения[Город])-1),ROW(AO25)-ROW($A$2)+1)),\"\")","v":""},{"$f":"IFERROR(INDEX(Отделения[отделение],SMALL(IF(Отделения[Город]=$BP$1,ROW(Отделения[Город])-1),ROW(AP25)-ROW($A$2)+1)),\"\")","v":""},{"$f":"IFERROR(INDEX(Отделения[отделение],SMALL(IF(Отделения[Город]=$BQ$1,ROW(Отделения[Город])-1),ROW(AQ25)-ROW($A$2)+1)),\"\")","v":""},{"$f":"IFERROR(INDEX(Отделения[отделение],SMALL(IF(Отделения[Город]=$BR$1,ROW(Отделения[Город])-1),ROW(AR25)-ROW($A$2)+1)),\"\")","v":""},{"$f":"IFERROR(INDEX(Отделения[отделение],SMALL(IF(Отделения[Город]=$BS$1,ROW(Отделения[Город])-1),ROW(AS25)-ROW($A$2)+1)),\"\")","v":""},{"$f":"IFERROR(INDEX(Отделения[отделение],SMALL(IF(Отделения[Город]=$BT$1,ROW(Отделения[Город])-1),ROW(AT25)-ROW($A$2)+1)),\"\")","v":""},{"$f":"IFERROR(INDEX(Отделения[отделение],SMALL(IF(Отделения[Город]=$BU$1,ROW(Отделения[Город])-1),ROW(AU25)-ROW($A$2)+1)),\"\")","v":""},{"$f":"IFERROR(INDEX(Отделения[отделение],SMALL(IF(Отделения[Город]=$BV$1,ROW(Отделения[Город])-1),ROW(AV25)-ROW($A$2)+1)),\"\")","v":""},{"$f":"IFERROR(INDEX(Отделения[отделение],SMALL(IF(Отделения[Город]=$BW$1,ROW(Отделения[Город])-1),ROW(AV25)-ROW($A$2)+1)),\"\")","v":""},{"$f":"IFERROR(INDEX(Отделения[отделение],SMALL(IF(Отделения[Город]=$BX$1,ROW(Отделения[Город])-1),ROW(AV25)-ROW($A$2)+1)),\"\")","v":""},{"$f":"IFERROR(INDEX(Отделения[отделение],SMALL(IF(Отделения[Город]=$BY$1,ROW(Отделения[Город])-1),ROW(AV25)-ROW($A$2)+1)),\"\")","v":""},{"$f":"IFERROR(INDEX(Отделения[отделение],SMALL(IF(Отделения[Город]=$BZ$1,ROW(Отделения[Город])-1),ROW(AV25)-ROW($A$2)+1)),\"\")","v":""},{"$f":"IFERROR(INDEX(Отделения[отделение],SMALL(IF(Отделения[Город]=$CA$1,ROW(Отделения[Город])-1),ROW(AV25)-ROW($A$2)+1)),\"\")","v":""},{"$f":"IFERROR(INDEX(Отделения[отделение],SMALL(IF(Отделения[Город]=$CB$1,ROW(Отделения[Город])-1),ROW(AV25)-ROW($A$2)+1)),\"\")","v":""},{"$f":"IFERROR(INDEX(Отделения[отделение],SMALL(IF(Отделения[Город]=$CC$1,ROW(Отделения[Город])-1),ROW(AV25)-ROW($A$2)+1)),\"\")","v":""},{"$f":"IFERROR(INDEX(Отделения[отделение],SMALL(IF(Отделения[Город]=$CD$1,ROW(Отделения[Город])-1),ROW(AV25)-ROW($A$2)+1)),\"\")","v":""},{"$f":"IFERROR(INDEX(Отделения[отделение],SMALL(IF(Отделения[Город]=$CE$1,ROW(Отделения[Город])-1),ROW(AV25)-ROW($A$2)+1)),\"\")","v":""},{"$f":"IFERROR(INDEX(Отделения[отделение],SMALL(IF(Отделения[Город]=$CF$1,ROW(Отделения[Город])-1),ROW(AV25)-ROW($A$2)+1)),\"\")","v":""},{"$f":"IFERROR(INDEX(Отделения[отделение],SMALL(IF(Отделения[Город]=$CG$1,ROW(Отделения[Город])-1),ROW(AV25)-ROW($A$2)+1)),\"\")","v":""},{"$f":"IFERROR(INDEX(Отделения[отделение],SMALL(IF(Отделения[Город]=$CH$1,ROW(Отделения[Город])-1),ROW(AW25)-ROW($A$2)+1)),\"\")","v":""},{"$f":"IFERROR(INDEX(Отделения[отделение],SMALL(IF(Отделения[Город]=$CI$1,ROW(Отделения[Город])-1),ROW(AX25)-ROW($A$2)+1)),\"\")","v":""},{"$f":"IFERROR(INDEX(Отделения[отделение],SMALL(IF(Отделения[Город]=$CJ$1,ROW(Отделения[Город])-1),ROW(AY25)-ROW($A$2)+1)),\"\")","v":""},{"$f":"IFERROR(INDEX(Отделения[отделение],SMALL(IF(Отделения[Город]=$CK$1,ROW(Отделения[Город])-1),ROW(AZ25)-ROW($A$2)+1)),\"\")","v":""},{"$f":"IFERROR(INDEX(Отделения[отделение],SMALL(IF(Отделения[Город]=$CL$1,ROW(Отделения[Город])-1),ROW(BA25)-ROW($A$2)+1)),\"\")","v":""},{"$f":"IFERROR(INDEX(Отделения[отделение],SMALL(IF(Отделения[Город]=$CM$1,ROW(Отделения[Город])-1),ROW(BB25)-ROW($A$2)+1)),\"\")","v":""},{"$f":"IFERROR(INDEX(Отделения[отделение],SMALL(IF(Отделения[Город]=$CN$1,ROW(Отделения[Город])-1),ROW(BC25)-ROW($A$2)+1)),\"\")","v":""},{"$f":"IFERROR(INDEX(Отделения[отделение],SMALL(IF(Отделения[Город]=$CO$1,ROW(Отделения[Город])-1),ROW(BD25)-ROW($A$2)+1)),\"\")","v":""},{"$f":"IFERROR(INDEX(Отделения[отделение],SMALL(IF(Отделения[Город]=$CP$1,ROW(Отделения[Город])-1),ROW(BE25)-ROW($A$2)+1)),\"\")","v":""},{"$f":"IFERROR(INDEX(Отделения[отделение],SMALL(IF(Отделения[Город]=$CQ$1,ROW(Отделения[Город])-1),ROW(BF25)-ROW($A$2)+1)),\"\")","v":""},{"$f":"IFERROR(INDEX(Отделения[отделение],SMALL(IF(Отделения[Город]=$CR$1,ROW(Отделения[Город])-1),ROW(BG25)-ROW($A$2)+1)),\"\")","v":""},{"$f":"IFERROR(INDEX(Отделения[отделение],SMALL(IF(Отделения[Город]=$CS$1,ROW(Отделения[Город])-1),ROW(BH25)-ROW($A$2)+1)),\"\")","v":""},{"$f":"IFERROR(INDEX(Отделения[отделение],SMALL(IF(Отделения[Город]=$CT$1,ROW(Отделения[Город])-1),ROW(BI25)-ROW($A$2)+1)),\"\")","v":""},{"$f":"IFERROR(INDEX(Отделения[отделение],SMALL(IF(Отделения[Город]=$CU$1,ROW(Отделения[Город])-1),ROW(BJ25)-ROW($A$2)+1)),\"\")","v":""},{"$f":"IFERROR(INDEX(Отделения[отделение],SMALL(IF(Отделения[Город]=$CV$1,ROW(Отделения[Город])-1),ROW(BK25)-ROW($A$2)+1)),\"\")","v":""},{"$f":"IFERROR(INDEX(Отделения[отделение],SMALL(IF(Отделения[Город]=$CW$1,ROW(Отделения[Город])-1),ROW(BL25)-ROW($A$2)+1)),\"\")","v":""},{"$f":"IFERROR(INDEX(Отделения[отделение],SMALL(IF(Отделения[Город]=$CX$1,ROW(Отделения[Город])-1),ROW(BM25)-ROW($A$2)+1)),\"\")","v":""},{"$f":"IFERROR(INDEX(Отделения[отделение],SMALL(IF(Отделения[Город]=$CY$1,ROW(Отделения[Город])-1),ROW(BM25)-ROW($A$2)+1)),\"\")","v":""},{"$f":"IFERROR(INDEX(Отделения[отделение],SMALL(IF(Отделения[Город]=$CZ$1,ROW(Отделения[Город])-1),ROW(BM25)-ROW($A$2)+1)),\"\")","v":""},{"$f":"IFERROR(INDEX(Отделения[отделение],SMALL(IF(Отделения[Город]=$DA$1,ROW(Отделения[Город])-1),ROW(BM25)-ROW($A$2)+1)),\"\")","v":""},{"$f":"IFERROR(INDEX(Отделения[отделение],SMALL(IF(Отделения[Город]=$DB$1,ROW(Отделения[Город])-1),ROW(BM25)-ROW($A$2)+1)),\"\")","v":""}]
["Воронеж","ДО \"Воронеж-улица Кольцовская\" , 394030, Воронежская область, г. Воронеж, ул. Кольцовская, д. 31","0452","MOKF",null,null,{"$f":"IFERROR(INDEX(Отделения[отделение],SMALL(IF(Отделения[Город]=$G$1,ROW(Отделения[Город])-1),ROW(A26)-ROW($A$2)+1)),\"\")","v":""},{"$f":"IFERROR(INDEX(Отделения[отделение],SMALL(IF(Отделения[Город]=$H$1,ROW(Отделения[Город])-1),ROW(A26)-ROW($A$2)+1)),\"\")","v":""},{"$f":"IFERROR(INDEX(Отделения[отделение],SMALL(IF(Отделения[Город]=$I$1,ROW(Отделения[Город])-1),ROW(A26)-ROW($A$2)+1)),\"\")","v":""},{"$f":"IFERROR(INDEX(Отделения[отделение],SMALL(IF(Отделения[Город]=$J$1,ROW(Отделения[Город])-1),ROW(A26)-ROW($A$2)+1)),\"\")","v":""},{"$f":"IFERROR(INDEX(Отделения[отделение],SMALL(IF(Отделения[Город]=$K$1,ROW(Отделения[Город])-1),ROW(A26)-ROW($A$2)+1)),\"\")","v":""},{"$f":"IFERROR(INDEX(Отделения[отделение],SMALL(IF(Отделения[Город]=$L$1,ROW(Отделения[Город])-1),ROW(A26)-ROW($A$2)+1)),\"\")","v":""},{"$f":"IFERROR(INDEX(Отделения[отделение],SMALL(IF(Отделения[Город]=$M$1,ROW(Отделения[Город])-1),ROW(B26)-ROW($A$2)+1)),\"\")","v":""},{"$f":"IFERROR(INDEX(Отделения[отделение],SMALL(IF(Отделения[Город]=$N$1,ROW(Отделения[Город])-1),ROW(#REF!)-ROW($A$2)+1)),\"\")","v":""},{"$f":"IFERROR(INDEX(Отделения[отделение],SMALL(IF(Отделения[Город]=$O$1,ROW(Отделения[Город])-1),ROW(C26)-ROW($A$2)+1)),\"\")","v":""},{"$f":"IFERROR(INDEX(Отделения[отделение],SMALL(IF(Отделения[Город]=$P$1,ROW(Отделения[Город])-1),ROW(D26)-ROW($A$2)+1)),\"\")","v":""},{"$f":"IFERROR(INDEX(Отделения[отделение],SMALL(IF(Отделения[Город]=$Q$1,ROW(Отделения[Город])-1),ROW(F26)-ROW($A$2)+1)),\"\")","v":""},{"$f":"IFERROR(INDEX(Отделения[отделение],SMALL(IF(Отделения[Город]=$R$1,ROW(Отделения[Город])-1),ROW(#REF!)-ROW($A$2)+1)),\"\")","v":""},{"$f":"IFERROR(INDEX(Отделения[отделение],SMALL(IF(Отделения[Город]=$S$1,ROW(Отделения[Город])-1),ROW(G26)-ROW($A$2)+1)),\"\")","v":""},{"$f":"IFERROR(INDEX(Отделения[отделение],SMALL(IF(Отделения[Город]=$T$1,ROW(Отделения[Город])-1),ROW(H26)-ROW($A$2)+1)),\"\")","v":""},{"$f":"IFERROR(INDEX(Отделения[отделение],SMALL(IF(Отделения[Город]=$U$1,ROW(Отделения[Город])-1),ROW(I26)-ROW($A$2)+1)),\"\")","v":""},{"$f":"IFERROR(INDEX(Отделения[отделение],SMALL(IF(Отделения[Город]=$V$1,ROW(Отделения[Город])-1),ROW(J26)-ROW($A$2)+1)),\"\")","v":""},{"$f":"IFERROR(INDEX(Отделения[отделение],SMALL(IF(Отделения[Город]=$W$1,ROW(Отделения[Город])-1),ROW(K26)-ROW($A$2)+1)),\"\")","v":""},{"$f":"IFERROR(INDEX(Отделения[отделение],SMALL(IF(Отделения[Город]=$X$1,ROW(Отделения[Город])-1),ROW(L26)-ROW($A$2)+1)),\"\")","v":""},{"$f":"IFERROR(INDEX(Отделения[отделение],SMALL(IF(Отделения[Город]=$Y$1,ROW(Отделения[Город])-1),ROW(M26)-ROW($A$2)+1)),\"\")","v":""},{"$f":"IFERROR(INDEX(Отделения[отделение],SMALL(IF(Отделения[Город]=$Z$1,ROW(Отделения[Город])-1),ROW(N26)-ROW($A$2)+1)),\"\")","v":""},{"$f":"IFERROR(INDEX(Отделения[отделение],SMALL(IF(Отделения[Город]=$AA$1,ROW(Отделения[Город])-1),ROW(O26)-ROW($A$2)+1)),\"\")","v":""},{"$f":"IFERROR(INDEX(Отделения[отделение],SMALL(IF(Отделения[Город]=$AB$1,ROW(Отделения[Город])-1),ROW(P26)-ROW($A$2)+1)),\"\")","v":""},{"$f":"IFERROR(INDEX(Отделения[отделение],SMALL(IF(Отделения[Город]=$AC$1,ROW(Отделения[Город])-1),ROW(Q26)-ROW($A$2)+1)),\"\")","v":""},{"$f":"IFERROR(INDEX(Отделения[отделение],SMALL(IF(Отделения[Город]=$AD$1,ROW(Отделения[Город])-1),ROW(R26)-ROW($A$2)+1)),\"\")","v":""},{"$f":"IFERROR(INDEX(Отделения[отделение],SMALL(IF(Отделения[Город]=$AE$1,ROW(Отделения[Город])-1),ROW(S26)-ROW($A$2)+1)),\"\")","v":""},{"$f":"IFERROR(INDEX(Отделения[отделение],SMALL(IF(Отделения[Город]=$AF$1,ROW(Отделения[Город])-1),ROW(T26)-ROW($A$2)+1)),\"\")","v":""},{"$f":"IFERROR(INDEX(Отделения[отделение],SMALL(IF(Отделения[Город]=$AG$1,ROW(Отделения[Город])-1),ROW(U26)-ROW($A$2)+1)),\"\")","v":""},{"$f":"IFERROR(INDEX(Отделения[отделение],SMALL(IF(Отделения[Город]=$AH$1,ROW(Отделения[Город])-1),ROW(V26)-ROW($A$2)+1)),\"\")","v":""},{"$f":"IFERROR(INDEX(Отделения[отделение],SMALL(IF(Отделения[Город]=$AI$1,ROW(Отделения[Город])-1),ROW(AB26)-ROW($A$2)+1)),\"\")","v":""},{"$f":"IFERROR(INDEX(Отделения[отделение],SMALL(IF(Отделения[Город]=$AJ$1,ROW(Отделения[Город])-1),ROW(AB26)-ROW($A$2)+1)),\"\")","v":""},{"$f":"IFERROR(INDEX(Отделения[отделение],SMALL(IF(Отделения[Город]=$AK$1,ROW(Отделения[Город])-1),ROW(AB26)-ROW($A$2)+1)),\"\")","v":""},{"$f":"IFERROR(INDEX(Отделения[отделение],SMALL(IF(Отделения[Город]=$AL$1,ROW(Отделения[Город])-1),ROW(AB26)-ROW($A$2)+1)),\"\")","v":""},{"$f":"IFERROR(INDEX(Отделения[отделение],SMALL(IF(Отделения[Город]=$AM$1,ROW(Отделения[Город])-1),ROW(AB26)-ROW($A$2)+1)),\"\")","v":""},{"$f":"IFERROR(INDEX(Отделения[отделение],SMALL(IF(Отделения[Город]=$AN$1,ROW(Отделения[Город])-1),ROW(AB26)-ROW($A$2)+1)),\"\")","v":""},{"$f":"IFERROR(INDEX(Отделения[отделение],SMALL(IF(Отделения[Город]=$AO$1,ROW(Отделения[Город])-1),ROW(AB26)-ROW($A$2)+1)),\"\")","v":""},{"$f":"IFERROR(INDEX(Отделения[отделение],SMALL(IF(Отделения[Город]=$AP$1,ROW(Отделения[Город])-1),ROW(AB26)-ROW($A$2)+1)),\"\")","v":""},{"$f":"IFERROR(INDEX(Отделения[отделение],SMALL(IF(Отделения[Город]=$AQ$1,ROW(Отделения[Город])-1),ROW(AB26)-ROW($A$2)+1)),\"\")","v":""},{"$f":"IFERROR(INDEX(Отделения[отделение],SMALL(IF(Отделения[Город]=$AR$1,ROW(Отделения[Город])-1),ROW(AB26)-ROW($A$2)+1)),\"\")","v":""},{"$f":"IFERROR(INDEX(Отделения[отделение],SMALL(IF(Отделения[Город]=$AS$1,ROW(Отделения[Город])-1),ROW(AB26)-ROW($A$2)+1)),\"\")","v":""},{"$f":"IFERROR(INDEX(Отделения[отделение],SMALL(IF(Отделения[Город]=$AT$1,ROW(Отделения[Город])-1),ROW(AB26)-ROW($A$2)+1)),\"\")","v":""},{"$f":"IFERROR(INDEX(Отделения[отделение],SMALL(IF(Отделения[Город]=$AU$1,ROW(Отделения[Город])-1),ROW(AB26)-ROW($A$2)+1)),\"\")","v":""},{"$f":"IFERROR(INDEX(Отделения[отделение],SMALL(IF(Отделения[Город]=$AV$1,ROW(Отделения[Город])-1),ROW(AB26)-ROW($A$2)+1)),\"\")","v":""},{"$f":"IFERROR(INDEX(Отделения[отделение],SMALL(IF(Отделения[Город]=$AW$1,ROW(Отделения[Город])-1),ROW(AB26)-ROW($A$2)+1)),\"\")","v":""},{"$f":"IFERROR(INDEX(Отделения[отделение],SMALL(IF(Отделения[Город]=$AX$1,ROW(Отделения[Город])-1),ROW(AB26)-ROW($A$2)+1)),\"\")","v":""},{"$f":"IFERROR(INDEX(Отделения[отделение],SMALL(IF(Отделения[Город]=$AY$1,ROW(Отделения[Город])-1),ROW(AB26)-ROW($A$2)+1)),\"\")","v":""},{"$f":"IFERROR(INDEX(Отделения[отделение],SMALL(IF(Отделения[Город]=$AZ$1,ROW(Отделения[Город])-1),ROW(AB26)-ROW($A$2)+1)),\"\")","v":""},{"$f":"IFERROR(INDEX(Отделения[отделение],SMALL(IF(Отделения[Город]=$BA$1,ROW(Отделения[Город])-1),ROW(AB26)-ROW($A$2)+1)),\"\")","v":""},{"$f":"IFERROR(INDEX(Отделения[отделение],SMALL(IF(Отделения[Город]=$BB$1,ROW(Отделения[Город])-1),ROW(AB26)-ROW($A$2)+1)),\"\")","v":""},{"$f":"IFERROR(INDEX(Отделения[отделение],SMALL(IF(Отделения[Город]=$BC$1,ROW(Отделения[Город])-1),ROW(AC26)-ROW($A$2)+1)),\"\")","v":""},{"$f":"IFERROR(INDEX(Отделения[отделение],SMALL(IF(Отделения[Город]=$BD$1,ROW(Отделения[Город])-1),ROW(AD26)-ROW($A$2)+1)),\"\")","v":""},{"$f":"IFERROR(INDEX(Отделения[отделение],SMALL(IF(Отделения[Город]=$BE$1,ROW(Отделения[Город])-1),ROW(AE26)-ROW($A$2)+1)),\"\")","v":""},{"$f":"IFERROR(INDEX(Отделения[отделение],SMALL(IF(Отделения[Город]=$BF$1,ROW(Отделения[Город])-1),ROW(AF26)-ROW($A$2)+1)),\"\")","v":""},{"$f":"IFERROR(INDEX(Отделения[отделение],SMALL(IF(Отделения[Город]=$BG$1,ROW(Отделения[Город])-1),ROW(AG26)-ROW($A$2)+1)),\"\")","v":""},{"$f":"IFERROR(INDEX(Отделения[отделение],SMALL(IF(Отделения[Город]=$BH$1,ROW(Отделения[Город])-1),ROW(AH26)-ROW($A$2)+1)),\"\")","v":""},{"$f":"IFERROR(INDEX(Отделения[отделение],SMALL(IF(Отделения[Город]=$BI$1,ROW(Отделения[Город])-1),ROW(AI26)-ROW($A$2)+1)),\"\")","v":""},{"$f":"IFERROR(INDEX(Отделения[отделение],SMALL(IF(Отделения[Город]=$BJ$1,ROW(Отделения[Город])-1),ROW(AJ26)-ROW($A$2)+1)),\"\")","v":""},{"$f":"IFERROR(INDEX(Отделения[отделение],SMALL(IF(Отделения[Город]=$BK$1,ROW(Отделения[Город])-1),ROW(AK26)-ROW($A$2)+1)),\"\")","v":""},{"$f":"IFERROR(INDEX(Отделения[отделение],SMALL(IF(Отделения[Город]=$BL$1,ROW(Отделения[Город])-1),ROW(AL26)-ROW($A$2)+1)),\"\")","v":""},{"$f":"IFERROR(INDEX(Отделения[отделение],SMALL(IF(Отделения[Город]=$BM$1,ROW(Отделения[Город])-1),ROW(AM26)-ROW($A$2)+1)),\"\")","v":""},{"$f":"IFERROR(INDEX(Отделения[отделение],SMALL(IF(Отделения[Город]=$BN$1,ROW(Отделения[Город])-1),ROW(AN26)-ROW($A$2)+1)),\"\")","v":""},{"$f":"IFERROR(INDEX(Отделения[отделение],SMALL(IF(Отделения[Город]=$BO$1,ROW(Отделения[Город])-1),ROW(AO26)-ROW($A$2)+1)),\"\")","v":""},{"$f":"IFERROR(INDEX(Отделения[отделение],SMALL(IF(Отделения[Город]=$BP$1,ROW(Отделения[Город])-1),ROW(AP26)-ROW($A$2)+1)),\"\")","v":""},{"$f":"IFERROR(INDEX(Отделения[отделение],SMALL(IF(Отделения[Город]=$BQ$1,ROW(Отделения[Город])-1),ROW(AQ26)-ROW($A$2)+1)),\"\")","v":""},{"$f":"IFERROR(INDEX(Отделения[отделение],SMALL(IF(Отделения[Город]=$BR$1,ROW(Отделения[Город])-1),ROW(AR26)-ROW($A$2)+1)),\"\")","v":""},{"$f":"IFERROR(INDEX(Отделения[отделение],SMALL(IF(Отделения[Город]=$BS$1,ROW(Отделения[Город])-1),ROW(AS26)-ROW($A$2)+1)),\"\")","v":""},{"$f":"IFERROR(INDEX(Отделения[отделение],SMALL(IF(Отделения[Город]=$BT$1,ROW(Отделения[Город])-1),ROW(AT26)-ROW($A$2)+1)),\"\")","v":""},{"$f":"IFERROR(INDEX(Отделения[отделение],SMALL(IF(Отделения[Город]=$BU$1,ROW(Отделения[Город])-1),ROW(AU26)-ROW($A$2)+1)),\"\")","v":""},{"$f":"IFERROR(INDEX(Отделения[отделение],SMALL(IF(Отделения[Город]=$BV$1,ROW(Отделения[Город])-1),ROW(AV26)-ROW($A$2)+1)),\"\")","v":""},{"$f":"IFERROR(INDEX(Отделения[отделение],SMALL(IF(Отделения[Город]=$BW$1,ROW(Отделения[Город])-1),ROW(AV26)-ROW($A$2)+1)),\"\")","v":""},{"$f":"IFERROR(INDEX(Отделения[отделение],SMALL(IF(Отделения[Город]=$BX$1,ROW(Отделения[Город])-1),ROW(AV26)-ROW($A$2)+1)),\"\")","v":""},{"$f":"IFERROR(INDEX(Отделения[отделение],SMALL(IF(Отделения[Город]=$BY$1,ROW(Отделения[Город])-1),ROW(AV26)-ROW($A$2)+1)),\"\")","v":""},{"$f":"IFERROR(INDEX(Отделения[отделение],SMALL(IF(Отделения[Город]=$BZ$1,ROW(Отделения[Город])-1),ROW(AV26)-ROW($A$2)+1)),\"\")","v":""},{"$f":"IFERROR(INDEX(Отделения[отделение],SMALL(IF(Отделения[Город]=$CA$1,ROW(Отделения[Город])-1),ROW(AV26)-ROW($A$2)+1)),\"\")","v":""},{"$f":"IFERROR(INDEX(Отделения[отделение],SMALL(IF(Отделения[Город]=$CB$1,ROW(Отделения[Город])-1),ROW(AV26)-ROW($A$2)+1)),\"\")","v":""},{"$f":"IFERROR(INDEX(Отделения[отделение],SMALL(IF(Отделения[Город]=$CC$1,ROW(Отделения[Город])-1),ROW(AV26)-ROW($A$2)+1)),\"\")","v":""},{"$f":"IFERROR(INDEX(Отделения[отделение],SMALL(IF(Отделения[Город]=$CD$1,ROW(Отделения[Город])-1),ROW(AV26)-ROW($A$2)+1)),\"\")","v":""},{"$f":"IFERROR(INDEX(Отделения[отделение],SMALL(IF(Отделения[Город]=$CE$1,ROW(Отделения[Город])-1),ROW(AV26)-ROW($A$2)+1)),\"\")","v":""},{"$f":"IFERROR(INDEX(Отделения[отделение],SMALL(IF(Отделения[Город]=$CF$1,ROW(Отделения[Город])-1),ROW(AV26)-ROW($A$2)+1)),\"\")","v":""},{"$f":"IFERROR(INDEX(Отделения[отделение],SMALL(IF(Отделения[Город]=$CG$1,ROW(Отделения[Город])-1),ROW(AV26)-ROW($A$2)+1)),\"\")","v":""},{"$f":"IFERROR(INDEX(Отделения[отделение],SMALL(IF(Отделения[Город]=$CH$1,ROW(Отделения[Город])-1),ROW(AW26)-ROW($A$2)+1)),\"\")","v":""},{"$f":"IFERROR(INDEX(Отделения[отделение],SMALL(IF(Отделения[Город]=$CI$1,ROW(Отделения[Город])-1),ROW(AX26)-ROW($A$2)+1)),\"\")","v":""},{"$f":"IFERROR(INDEX(Отделения[отделение],SMALL(IF(Отделения[Город]=$CJ$1,ROW(Отделения[Город])-1),ROW(AY26)-ROW($A$2)+1)),\"\")","v":""},{"$f":"IFERROR(INDEX(Отделения[отделение],SMALL(IF(Отделения[Город]=$CK$1,ROW(Отделения[Город])-1),ROW(AZ26)-ROW($A$2)+1)),\"\")","v":""},{"$f":"IFERROR(INDEX(Отделения[отделение],SMALL(IF(Отделения[Город]=$CL$1,ROW(Отделения[Город])-1),ROW(BA26)-ROW($A$2)+1)),\"\")","v":""},{"$f":"IFERROR(INDEX(Отделения[отделение],SMALL(IF(Отделения[Город]=$CM$1,ROW(Отделения[Город])-1),ROW(BB26)-ROW($A$2)+1)),\"\")","v":""},{"$f":"IFERROR(INDEX(Отделения[отделение],SMALL(IF(Отделения[Город]=$CN$1,ROW(Отделения[Город])-1),ROW(BC26)-ROW($A$2)+1)),\"\")","v":""},{"$f":"IFERROR(INDEX(Отделения[отделение],SMALL(IF(Отделения[Город]=$CO$1,ROW(Отделения[Город])-1),ROW(BD26)-ROW($A$2)+1)),\"\")","v":""},{"$f":"IFERROR(INDEX(Отделения[отделение],SMALL(IF(Отделения[Город]=$CP$1,ROW(Отделения[Город])-1),ROW(BE26)-ROW($A$2)+1)),\"\")","v":""},{"$f":"IFERROR(INDEX(Отделения[отделение],SMALL(IF(Отделения[Город]=$CQ$1,ROW(Отделения[Город])-1),ROW(BF26)-ROW($A$2)+1)),\"\")","v":""},{"$f":"IFERROR(INDEX(Отделения[отделение],SMALL(IF(Отделения[Город]=$CR$1,ROW(Отделения[Город])-1),ROW(BG26)-ROW($A$2)+1)),\"\")","v":""},{"$f":"IFERROR(INDEX(Отделения[отделение],SMALL(IF(Отделения[Город]=$CS$1,ROW(Отделения[Город])-1),ROW(BH26)-ROW($A$2)+1)),\"\")","v":""},{"$f":"IFERROR(INDEX(Отделения[отделение],SMALL(IF(Отделения[Город]=$CT$1,ROW(Отделения[Город])-1),ROW(BI26)-ROW($A$2)+1)),\"\")","v":""},{"$f":"IFERROR(INDEX(Отделения[отделение],SMALL(IF(Отделения[Город]=$CU$1,ROW(Отделения[Город])-1),ROW(BJ26)-ROW($A$2)+1)),\"\")","v":""},{"$f":"IFERROR(INDEX(Отделения[отделение],SMALL(IF(Отделения[Город]=$CV$1,ROW(Отделения[Город])-1),ROW(BK26)-ROW($A$2)+1)),\"\")","v":""},{"$f":"IFERROR(INDEX(Отделения[отделение],SMALL(IF(Отделения[Город]=$CW$1,ROW(Отделения[Город])-1),ROW(BL26)-ROW($A$2)+1)),\"\")","v":""},{"$f":"IFERROR(INDEX(Отделения[отделение],SMALL(IF(Отделения[Город]=$CX$1,ROW(Отделения[Город])-1),ROW(BM26)-ROW($A$2)+1)),\"\")","v":""},{"$f":"IFERROR(INDEX(Отделения[отделение],SMALL(IF(Отделения[Город]=$CY$1,ROW(Отделения[Город])-1),ROW(BM26)-ROW($A$2)+1)),\"\")","v":""},{"$f":"IFERROR(INDEX(Отделения[отделение],SMALL(IF(Отделения[Город]=$CZ$1,ROW(Отделения[Город])-1),ROW(BM26)-ROW($A$2)+1)),\"\")","v":""},{"$f":"IFERROR(INDEX(Отделения[отделение],SMALL(IF(Отделения[Город]=$DA$1,ROW(Отделения[Город])-1),ROW(BM26)-ROW($A$2)+1)),\"\")","v":""},{"$f":"IFERROR(INDEX(Отделения[отделение],SMALL(IF(Отделения[Город]=$DB$1,ROW(Отделения[Город])-1),ROW(BM26)-ROW($A$2)+1)),\"\")","v":""}]
["Калининград","ДО \"Калининград-Янтарь\" , 236022, Россия, Калининградская область, г. Калининград, площадь Победы, д. 4","0455","MOKB",null,null,{"$f":"IFERROR(INDEX(Отделения[отделение],SMALL(IF(Отделения[Город]=$G$1,ROW(Отделения[Город])-1),ROW(A27)-ROW($A$2)+1)),\"\")","v":""},{"$f":"IFERROR(INDEX(Отделения[отделение],SMALL(IF(Отделения[Город]=$H$1,ROW(Отделения[Город])-1),ROW(A27)-ROW($A$2)+1)),\"\")","v":""},{"$f":"IFERROR(INDEX(Отделения[отделение],SMALL(IF(Отделения[Город]=$I$1,ROW(Отделения[Город])-1),ROW(A27)-ROW($A$2)+1)),\"\")","v":""},{"$f":"IFERROR(INDEX(Отделения[отделение],SMALL(IF(Отделения[Город]=$J$1,ROW(Отделения[Город])-1),ROW(A27)-ROW($A$2)+1)),\"\")","v":""},{"$f":"IFERROR(INDEX(Отделения[отделение],SMALL(IF(Отделения[Город]=$K$1,ROW(Отделения[Город])-1),ROW(A27)-ROW($A$2)+1)),\"\")","v":""},{"$f":"IFERROR(INDEX(Отделения[отделение],SMALL(IF(Отделения[Город]=$L$1,ROW(Отделения[Город])-1),ROW(A27)-ROW($A$2)+1)),\"\")","v":""},{"$f":"IFERROR(INDEX(Отделения[отделение],SMALL(IF(Отделения[Город]=$M$1,ROW(Отделения[Город])-1),ROW(B27)-ROW($A$2)+1)),\"\")","v":""},{"$f":"IFERROR(INDEX(Отделения[отделение],SMALL(IF(Отделения[Город]=$N$1,ROW(Отделения[Город])-1),ROW(#REF!)-ROW($A$2)+1)),\"\")","v":""},{"$f":"IFERROR(INDEX(Отделения[отделение],SMALL(IF(Отделения[Город]=$O$1,ROW(Отделения[Город])-1),ROW(C27)-ROW($A$2)+1)),\"\")","v":""},{"$f":"IFERROR(INDEX(Отделения[отделение],SMALL(IF(Отделения[Город]=$P$1,ROW(Отделения[Город])-1),ROW(D27)-ROW($A$2)+1)),\"\")","v":""},{"$f":"IFERROR(INDEX(Отделения[отделение],SMALL(IF(Отделения[Город]=$Q$1,ROW(Отделения[Город])-1),ROW(F27)-ROW($A$2)+1)),\"\")","v":""},{"$f":"IFERROR(INDEX(Отделения[отделение],SMALL(IF(Отделения[Город]=$R$1,ROW(Отделения[Город])-1),ROW(#REF!)-ROW($A$2)+1)),\"\")","v":""},{"$f":"IFERROR(INDEX(Отделения[отделение],SMALL(IF(Отделения[Город]=$S$1,ROW(Отделения[Город])-1),ROW(G27)-ROW($A$2)+1)),\"\")","v":""},{"$f":"IFERROR(INDEX(Отделения[отделение],SMALL(IF(Отделения[Город]=$T$1,ROW(Отделения[Город])-1),ROW(H27)-ROW($A$2)+1)),\"\")","v":""},{"$f":"IFERROR(INDEX(Отделения[отделение],SMALL(IF(Отделения[Город]=$U$1,ROW(Отделения[Город])-1),ROW(I27)-ROW($A$2)+1)),\"\")","v":""},{"$f":"IFERROR(INDEX(Отделения[отделение],SMALL(IF(Отделения[Город]=$V$1,ROW(Отделения[Город])-1),ROW(J27)-ROW($A$2)+1)),\"\")","v":""},{"$f":"IFERROR(INDEX(Отделения[отделение],SMALL(IF(Отделения[Город]=$W$1,ROW(Отделения[Город])-1),ROW(K27)-ROW($A$2)+1)),\"\")","v":""},{"$f":"IFERROR(INDEX(Отделения[отделение],SMALL(IF(Отделения[Город]=$X$1,ROW(Отделения[Город])-1),ROW(L27)-ROW($A$2)+1)),\"\")","v":""},{"$f":"IFERROR(INDEX(Отделения[отделение],SMALL(IF(Отделения[Город]=$Y$1,ROW(Отделения[Город])-1),ROW(M27)-ROW($A$2)+1)),\"\")","v":""},{"$f":"IFERROR(INDEX(Отделения[отделение],SMALL(IF(Отделения[Город]=$Z$1,ROW(Отделения[Город])-1),ROW(N27)-ROW($A$2)+1)),\"\")","v":""},{"$f":"IFERROR(INDEX(Отделения[отделение],SMALL(IF(Отделения[Город]=$AA$1,ROW(Отделения[Город])-1),ROW(O27)-ROW($A$2)+1)),\"\")","v":""},{"$f":"IFERROR(INDEX(Отделения[отделение],SMALL(IF(Отделения[Город]=$AB$1,ROW(Отделения[Город])-1),ROW(P27)-ROW($A$2)+1)),\"\")","v":""},{"$f":"IFERROR(INDEX(Отделения[отделение],SMALL(IF(Отделения[Город]=$AC$1,ROW(Отделения[Город])-1),ROW(Q27)-ROW($A$2)+1)),\"\")","v":""},{"$f":"IFERROR(INDEX(Отделения[отделение],SMALL(IF(Отделения[Город]=$AD$1,ROW(Отделения[Город])-1),ROW(R27)-ROW($A$2)+1)),\"\")","v":""},{"$f":"IFERROR(INDEX(Отделения[отделение],SMALL(IF(Отделения[Город]=$AE$1,ROW(Отделения[Город])-1),ROW(S27)-ROW($A$2)+1)),\"\")","v":""},{"$f":"IFERROR(INDEX(Отделения[отделение],SMALL(IF(Отделения[Город]=$AF$1,ROW(Отделения[Город])-1),ROW(T27)-ROW($A$2)+1)),\"\")","v":""},{"$f":"IFERROR(INDEX(Отделения[отделение],SMALL(IF(Отделения[Город]=$AG$1,ROW(Отделения[Город])-1),ROW(U27)-ROW($A$2)+1)),\"\")","v":""},{"$f":"IFERROR(INDEX(Отделения[отделение],SMALL(IF(Отделения[Город]=$AH$1,ROW(Отделения[Город])-1),ROW(V27)-ROW($A$2)+1)),\"\")","v":""},{"$f":"IFERROR(INDEX(Отделения[отделение],SMALL(IF(Отделения[Город]=$AI$1,ROW(Отделения[Город])-1),ROW(AB27)-ROW($A$2)+1)),\"\")","v":""},{"$f":"IFERROR(INDEX(Отделения[отделение],SMALL(IF(Отделения[Город]=$AJ$1,ROW(Отделения[Город])-1),ROW(AB27)-ROW($A$2)+1)),\"\")","v":""},{"$f":"IFERROR(INDEX(Отделения[отделение],SMALL(IF(Отделения[Город]=$AK$1,ROW(Отделения[Город])-1),ROW(AB27)-ROW($A$2)+1)),\"\")","v":""},{"$f":"IFERROR(INDEX(Отделения[отделение],SMALL(IF(Отделения[Город]=$AL$1,ROW(Отделения[Город])-1),ROW(AB27)-ROW($A$2)+1)),\"\")","v":""},{"$f":"IFERROR(INDEX(Отделения[отделение],SMALL(IF(Отделения[Город]=$AM$1,ROW(Отделения[Город])-1),ROW(AB27)-ROW($A$2)+1)),\"\")","v":""},{"$f":"IFERROR(INDEX(Отделения[отделение],SMALL(IF(Отделения[Город]=$AN$1,ROW(Отделения[Город])-1),ROW(AB27)-ROW($A$2)+1)),\"\")","v":""},{"$f":"IFERROR(INDEX(Отделения[отделение],SMALL(IF(Отделения[Город]=$AO$1,ROW(Отделения[Город])-1),ROW(AB27)-ROW($A$2)+1)),\"\")","v":""},{"$f":"IFERROR(INDEX(Отделения[отделение],SMALL(IF(Отделения[Город]=$AP$1,ROW(Отделения[Город])-1),ROW(AB27)-ROW($A$2)+1)),\"\")","v":""},{"$f":"IFERROR(INDEX(Отделения[отделение],SMALL(IF(Отделения[Город]=$AQ$1,ROW(Отделения[Город])-1),ROW(AB27)-ROW($A$2)+1)),\"\")","v":""},{"$f":"IFERROR(INDEX(Отделения[отделение],SMALL(IF(Отделения[Город]=$AR$1,ROW(Отделения[Город])-1),ROW(AB27)-ROW($A$2)+1)),\"\")","v":""},{"$f":"IFERROR(INDEX(Отделения[отделение],SMALL(IF(Отделения[Город]=$AS$1,ROW(Отделения[Город])-1),ROW(AB27)-ROW($A$2)+1)),\"\")","v":""},{"$f":"IFERROR(INDEX(Отделения[отделение],SMALL(IF(Отделения[Город]=$AT$1,ROW(Отделения[Город])-1),ROW(AB27)-ROW($A$2)+1)),\"\")","v":""},{"$f":"IFERROR(INDEX(Отделения[отделение],SMALL(IF(Отделения[Город]=$AU$1,ROW(Отделения[Город])-1),ROW(AB27)-ROW($A$2)+1)),\"\")","v":""},{"$f":"IFERROR(INDEX(Отделения[отделение],SMALL(IF(Отделения[Город]=$AV$1,ROW(Отделения[Город])-1),ROW(AB27)-ROW($A$2)+1)),\"\")","v":""},{"$f":"IFERROR(INDEX(Отделения[отделение],SMALL(IF(Отделения[Город]=$AW$1,ROW(Отделения[Город])-1),ROW(AB27)-ROW($A$2)+1)),\"\")","v":""},{"$f":"IFERROR(INDEX(Отделения[отделение],SMALL(IF(Отделения[Город]=$AX$1,ROW(Отделения[Город])-1),ROW(AB27)-ROW($A$2)+1)),\"\")","v":""},{"$f":"IFERROR(INDEX(Отделения[отделение],SMALL(IF(Отделения[Город]=$AY$1,ROW(Отделения[Город])-1),ROW(AB27)-ROW($A$2)+1)),\"\")","v":""},{"$f":"IFERROR(INDEX(Отделения[отделение],SMALL(IF(Отделения[Город]=$AZ$1,ROW(Отделения[Город])-1),ROW(AB27)-ROW($A$2)+1)),\"\")","v":""},{"$f":"IFERROR(INDEX(Отделения[отделение],SMALL(IF(Отделения[Город]=$BA$1,ROW(Отделения[Город])-1),ROW(AB27)-ROW($A$2)+1)),\"\")","v":""},{"$f":"IFERROR(INDEX(Отделения[отделение],SMALL(IF(Отделения[Город]=$BB$1,ROW(Отделения[Город])-1),ROW(AB27)-ROW($A$2)+1)),\"\")","v":""},{"$f":"IFERROR(INDEX(Отделения[отделение],SMALL(IF(Отделения[Город]=$BC$1,ROW(Отделения[Город])-1),ROW(AC27)-ROW($A$2)+1)),\"\")","v":""},{"$f":"IFERROR(INDEX(Отделения[отделение],SMALL(IF(Отделения[Город]=$BD$1,ROW(Отделения[Город])-1),ROW(AD27)-ROW($A$2)+1)),\"\")","v":""},{"$f":"IFERROR(INDEX(Отделения[отделение],SMALL(IF(Отделения[Город]=$BE$1,ROW(Отделения[Город])-1),ROW(AE27)-ROW($A$2)+1)),\"\")","v":""},{"$f":"IFERROR(INDEX(Отделения[отделение],SMALL(IF(Отделения[Город]=$BF$1,ROW(Отделения[Город])-1),ROW(AF27)-ROW($A$2)+1)),\"\")","v":""},{"$f":"IFERROR(INDEX(Отделения[отделение],SMALL(IF(Отделения[Город]=$BG$1,ROW(Отделения[Город])-1),ROW(AG27)-ROW($A$2)+1)),\"\")","v":""},{"$f":"IFERROR(INDEX(Отделения[отделение],SMALL(IF(Отделения[Город]=$BH$1,ROW(Отделения[Город])-1),ROW(AH27)-ROW($A$2)+1)),\"\")","v":""},{"$f":"IFERROR(INDEX(Отделения[отделение],SMALL(IF(Отделения[Город]=$BI$1,ROW(Отделения[Город])-1),ROW(AI27)-ROW($A$2)+1)),\"\")","v":""},{"$f":"IFERROR(INDEX(Отделения[отделение],SMALL(IF(Отделения[Город]=$BJ$1,ROW(Отделения[Город])-1),ROW(AJ27)-ROW($A$2)+1)),\"\")","v":""},{"$f":"IFERROR(INDEX(Отделения[отделение],SMALL(IF(Отделения[Город]=$BK$1,ROW(Отделения[Город])-1),ROW(AK27)-ROW($A$2)+1)),\"\")","v":""},{"$f":"IFERROR(INDEX(Отделения[отделение],SMALL(IF(Отделения[Город]=$BL$1,ROW(Отделения[Город])-1),ROW(AL27)-ROW($A$2)+1)),\"\")","v":""},{"$f":"IFERROR(INDEX(Отделения[отделение],SMALL(IF(Отделения[Город]=$BM$1,ROW(Отделения[Город])-1),ROW(AM27)-ROW($A$2)+1)),\"\")","v":""},{"$f":"IFERROR(INDEX(Отделения[отделение],SMALL(IF(Отделения[Город]=$BN$1,ROW(Отделения[Город])-1),ROW(AN27)-ROW($A$2)+1)),\"\")","v":""},{"$f":"IFERROR(INDEX(Отделения[отделение],SMALL(IF(Отделения[Город]=$BO$1,ROW(Отделения[Город])-1),ROW(AO27)-ROW($A$2)+1)),\"\")","v":""},{"$f":"IFERROR(INDEX(Отделения[отделение],SMALL(IF(Отделения[Город]=$BP$1,ROW(Отделения[Город])-1),ROW(AP27)-ROW($A$2)+1)),\"\")","v":""},{"$f":"IFERROR(INDEX(Отделения[отделение],SMALL(IF(Отделения[Город]=$BQ$1,ROW(Отделения[Город])-1),ROW(AQ27)-ROW($A$2)+1)),\"\")","v":""},{"$f":"IFERROR(INDEX(Отделения[отделение],SMALL(IF(Отделения[Город]=$BR$1,ROW(Отделения[Город])-1),ROW(AR27)-ROW($A$2)+1)),\"\")","v":""},{"$f":"IFERROR(INDEX(Отделения[отделение],SMALL(IF(Отделения[Город]=$BS$1,ROW(Отделения[Город])-1),ROW(AS27)-ROW($A$2)+1)),\"\")","v":""},{"$f":"IFERROR(INDEX(Отделения[отделение],SMALL(IF(Отделения[Город]=$BT$1,ROW(Отделения[Город])-1),ROW(AT27)-ROW($A$2)+1)),\"\")","v":""},{"$f":"IFERROR(INDEX(Отделения[отделение],SMALL(IF(Отделения[Город]=$BU$1,ROW(Отделения[Город])-1),ROW(AU27)-ROW($A$2)+1)),\"\")","v":""},{"$f":"IFERROR(INDEX(Отделения[отделение],SMALL(IF(Отделения[Город]=$BV$1,ROW(Отделения[Город])-1),ROW(AV27)-ROW($A$2)+1)),\"\")","v":""},{"$f":"IFERROR(INDEX(Отделения[отделение],SMALL(IF(Отделения[Город]=$BW$1,ROW(Отделения[Город])-1),ROW(AV27)-ROW($A$2)+1)),\"\")","v":""},{"$f":"IFERROR(INDEX(Отделения[отделение],SMALL(IF(Отделения[Город]=$BX$1,ROW(Отделения[Город])-1),ROW(AV27)-ROW($A$2)+1)),\"\")","v":""},{"$f":"IFERROR(INDEX(Отделения[отделение],SMALL(IF(Отделения[Город]=$BY$1,ROW(Отделения[Город])-1),ROW(AV27)-ROW($A$2)+1)),\"\")","v":""},{"$f":"IFERROR(INDEX(Отделения[отделение],SMALL(IF(Отделения[Город]=$BZ$1,ROW(Отделения[Город])-1),ROW(AV27)-ROW($A$2)+1)),\"\")","v":""},{"$f":"IFERROR(INDEX(Отделения[отделение],SMALL(IF(Отделения[Город]=$CA$1,ROW(Отделения[Город])-1),ROW(AV27)-ROW($A$2)+1)),\"\")","v":""},{"$f":"IFERROR(INDEX(Отделения[отделение],SMALL(IF(Отделения[Город]=$CB$1,ROW(Отделения[Город])-1),ROW(AV27)-ROW($A$2)+1)),\"\")","v":""},{"$f":"IFERROR(INDEX(Отделения[отделение],SMALL(IF(Отделения[Город]=$CC$1,ROW(Отделения[Город])-1),ROW(AV27)-ROW($A$2)+1)),\"\")","v":""},{"$f":"IFERROR(INDEX(Отделения[отделение],SMALL(IF(Отделения[Город]=$CD$1,ROW(Отделения[Город])-1),ROW(AV27)-ROW($A$2)+1)),\"\")","v":""},{"$f":"IFERROR(INDEX(Отделения[отделение],SMALL(IF(Отделения[Город]=$CE$1,ROW(Отделения[Город])-1),ROW(AV27)-ROW($A$2)+1)),\"\")","v":""},{"$f":"IFERROR(INDEX(Отделения[отделение],SMALL(IF(Отделения[Город]=$CF$1,ROW(Отделения[Город])-1),ROW(AV27)-ROW($A$2)+1)),\"\")","v":""},{"$f":"IFERROR(INDEX(Отделения[отделение],SMALL(IF(Отделения[Город]=$CG$1,ROW(Отделения[Город])-1),ROW(AV27)-ROW($A$2)+1)),\"\")","v":""},{"$f":"IFERROR(INDEX(Отделения[отделение],SMALL(IF(Отделения[Город]=$CH$1,ROW(Отделения[Город])-1),ROW(AW27)-ROW($A$2)+1)),\"\")","v":""},{"$f":"IFERROR(INDEX(Отделения[отделение],SMALL(IF(Отделения[Город]=$CI$1,ROW(Отделения[Город])-1),ROW(AX27)-ROW($A$2)+1)),\"\")","v":""},{"$f":"IFERROR(INDEX(Отделения[отделение],SMALL(IF(Отделения[Город]=$CJ$1,ROW(Отделения[Город])-1),ROW(AY27)-ROW($A$2)+1)),\"\")","v":""},{"$f":"IFERROR(INDEX(Отделения[отделение],SMALL(IF(Отделения[Город]=$CK$1,ROW(Отделения[Город])-1),ROW(AZ27)-ROW($A$2)+1)),\"\")","v":""},{"$f":"IFERROR(INDEX(Отделения[отделение],SMALL(IF(Отделения[Город]=$CL$1,ROW(Отделения[Город])-1),ROW(BA27)-ROW($A$2)+1)),\"\")","v":""},{"$f":"IFERROR(INDEX(Отделения[отделение],SMALL(IF(Отделения[Город]=$CM$1,ROW(Отделения[Город])-1),ROW(BB27)-ROW($A$2)+1)),\"\")","v":""},{"$f":"IFERROR(INDEX(Отделения[отделение],SMALL(IF(Отделения[Город]=$CN$1,ROW(Отделения[Город])-1),ROW(BC27)-ROW($A$2)+1)),\"\")","v":""},{"$f":"IFERROR(INDEX(Отделения[отделение],SMALL(IF(Отделения[Город]=$CO$1,ROW(Отделения[Город])-1),ROW(BD27)-ROW($A$2)+1)),\"\")","v":""},{"$f":"IFERROR(INDEX(Отделения[отделение],SMALL(IF(Отделения[Город]=$CP$1,ROW(Отделения[Город])-1),ROW(BE27)-ROW($A$2)+1)),\"\")","v":""},{"$f":"IFERROR(INDEX(Отделения[отделение],SMALL(IF(Отделения[Город]=$CQ$1,ROW(Отделения[Город])-1),ROW(BF27)-ROW($A$2)+1)),\"\")","v":""},{"$f":"IFERROR(INDEX(Отделения[отделение],SMALL(IF(Отделения[Город]=$CR$1,ROW(Отделения[Город])-1),ROW(BG27)-ROW($A$2)+1)),\"\")","v":""},{"$f":"IFERROR(INDEX(Отделения[отделение],SMALL(IF(Отделения[Город]=$CS$1,ROW(Отделения[Город])-1),ROW(BH27)-ROW($A$2)+1)),\"\")","v":""},{"$f":"IFERROR(INDEX(Отделения[отделение],SMALL(IF(Отделения[Город]=$CT$1,ROW(Отделения[Город])-1),ROW(BI27)-ROW($A$2)+1)),\"\")","v":""},{"$f":"IFERROR(INDEX(Отделения[отделение],SMALL(IF(Отделения[Город]=$CU$1,ROW(Отделения[Город])-1),ROW(BJ27)-ROW($A$2)+1)),\"\")","v":""},{"$f":"IFERROR(INDEX(Отделения[отделение],SMALL(IF(Отделения[Город]=$CV$1,ROW(Отделения[Город])-1),ROW(BK27)-ROW($A$2)+1)),\"\")","v":""},{"$f":"IFERROR(INDEX(Отделения[отделение],SMALL(IF(Отделения[Город]=$CW$1,ROW(Отделения[Город])-1),ROW(BL27)-ROW($A$2)+1)),\"\")","v":""},{"$f":"IFERROR(INDEX(Отделения[отделение],SMALL(IF(Отделения[Город]=$CX$1,ROW(Отделения[Город])-1),ROW(BM27)-ROW($A$2)+1)),\"\")","v":""},{"$f":"IFERROR(INDEX(Отделения[отделение],SMALL(IF(Отделения[Город]=$CY$1,ROW(Отделения[Город])-1),ROW(BM27)-ROW($A$2)+1)),\"\")","v":""},{"$f":"IFERROR(INDEX(Отделения[отделение],SMALL(IF(Отделения[Город]=$CZ$1,ROW(Отделения[Город])-1),ROW(BM27)-ROW($A$2)+1)),\"\")","v":""},{"$f":"IFERROR(INDEX(Отделения[отделение],SMALL(IF(Отделения[Город]=$DA$1,ROW(Отделения[Город])-1),ROW(BM27)-ROW($A$2)+1)),\"\")","v":""},{"$f":"IFERROR(INDEX(Отделения[отделение],SMALL(IF(Отделения[Город]=$DB$1,ROW(Отделения[Город])-1),ROW(BM27)-ROW($A$2)+1)),\"\")","v":""}]
["Красноярск","ДО \"Красноярск-Енисей\" , 660017, Красноярский край, г. Красноярск, ул. Горького, д. 10","0456","MOKY",null,null,{"$f":"IFERROR(INDEX(Отделения[отделение],SMALL(IF(Отделения[Город]=$G$1,ROW(Отделения[Город])-1),ROW(A28)-ROW($A$2)+1)),\"\")","v":""},{"$f":"IFERROR(INDEX(Отделения[отделение],SMALL(IF(Отделения[Город]=$H$1,ROW(Отделения[Город])-1),ROW(A28)-ROW($A$2)+1)),\"\")","v":""},{"$f":"IFERROR(INDEX(Отделения[отделение],SMALL(IF(Отделения[Город]=$I$1,ROW(Отделения[Город])-1),ROW(A28)-ROW($A$2)+1)),\"\")","v":""},{"$f":"IFERROR(INDEX(Отделения[отделение],SMALL(IF(Отделения[Город]=$J$1,ROW(Отделения[Город])-1),ROW(A28)-ROW($A$2)+1)),\"\")","v":""},{"$f":"IFERROR(INDEX(Отделения[отделение],SMALL(IF(Отделения[Город]=$K$1,ROW(Отделения[Город])-1),ROW(A28)-ROW($A$2)+1)),\"\")","v":""},{"$f":"IFERROR(INDEX(Отделения[отделение],SMALL(IF(Отделения[Город]=$L$1,ROW(Отделения[Город])-1),ROW(A28)-ROW($A$2)+1)),\"\")","v":""},{"$f":"IFERROR(INDEX(Отделения[отделение],SMALL(IF(Отделения[Город]=$M$1,ROW(Отделения[Город])-1),ROW(B28)-ROW($A$2)+1)),\"\")","v":""},{"$f":"IFERROR(INDEX(Отделения[отделение],SMALL(IF(Отделения[Город]=$N$1,ROW(Отделения[Город])-1),ROW(#REF!)-ROW($A$2)+1)),\"\")","v":""},{"$f":"IFERROR(INDEX(Отделения[отделение],SMALL(IF(Отделения[Город]=$O$1,ROW(Отделения[Город])-1),ROW(C28)-ROW($A$2)+1)),\"\")","v":""},{"$f":"IFERROR(INDEX(Отделения[отделение],SMALL(IF(Отделения[Город]=$P$1,ROW(Отделения[Город])-1),ROW(D28)-ROW($A$2)+1)),\"\")","v":""},{"$f":"IFERROR(INDEX(Отделения[отделение],SMALL(IF(Отделения[Город]=$Q$1,ROW(Отделения[Город])-1),ROW(F28)-ROW($A$2)+1)),\"\")","v":""},{"$f":"IFERROR(INDEX(Отделения[отделение],SMALL(IF(Отделения[Город]=$R$1,ROW(Отделения[Город])-1),ROW(#REF!)-ROW($A$2)+1)),\"\")","v":""},{"$f":"IFERROR(INDEX(Отделения[отделение],SMALL(IF(Отделения[Город]=$S$1,ROW(Отделения[Город])-1),ROW(G28)-ROW($A$2)+1)),\"\")","v":""},{"$f":"IFERROR(INDEX(Отделения[отделение],SMALL(IF(Отделения[Город]=$T$1,ROW(Отделения[Город])-1),ROW(H28)-ROW($A$2)+1)),\"\")","v":""},{"$f":"IFERROR(INDEX(Отделения[отделение],SMALL(IF(Отделения[Город]=$U$1,ROW(Отделения[Город])-1),ROW(I28)-ROW($A$2)+1)),\"\")","v":""},{"$f":"IFERROR(INDEX(Отделения[отделение],SMALL(IF(Отделения[Город]=$V$1,ROW(Отделения[Город])-1),ROW(J28)-ROW($A$2)+1)),\"\")","v":""},{"$f":"IFERROR(INDEX(Отделения[отделение],SMALL(IF(Отделения[Город]=$W$1,ROW(Отделения[Город])-1),ROW(K28)-ROW($A$2)+1)),\"\")","v":""},{"$f":"IFERROR(INDEX(Отделения[отделение],SMALL(IF(Отделения[Город]=$X$1,ROW(Отделения[Город])-1),ROW(L28)-ROW($A$2)+1)),\"\")","v":""},{"$f":"IFERROR(INDEX(Отделения[отделение],SMALL(IF(Отделения[Город]=$Y$1,ROW(Отделения[Город])-1),ROW(M28)-ROW($A$2)+1)),\"\")","v":""},{"$f":"IFERROR(INDEX(Отделения[отделение],SMALL(IF(Отделения[Город]=$Z$1,ROW(Отделения[Город])-1),ROW(N28)-ROW($A$2)+1)),\"\")","v":""},{"$f":"IFERROR(INDEX(Отделения[отделение],SMALL(IF(Отделения[Город]=$AA$1,ROW(Отделения[Город])-1),ROW(O28)-ROW($A$2)+1)),\"\")","v":""},{"$f":"IFERROR(INDEX(Отделения[отделение],SMALL(IF(Отделения[Город]=$AB$1,ROW(Отделения[Город])-1),ROW(P28)-ROW($A$2)+1)),\"\")","v":""},{"$f":"IFERROR(INDEX(Отделения[отделение],SMALL(IF(Отделения[Город]=$AC$1,ROW(Отделения[Город])-1),ROW(Q28)-ROW($A$2)+1)),\"\")","v":""},{"$f":"IFERROR(INDEX(Отделения[отделение],SMALL(IF(Отделения[Город]=$AD$1,ROW(Отделения[Город])-1),ROW(R28)-ROW($A$2)+1)),\"\")","v":""},{"$f":"IFERROR(INDEX(Отделения[отделение],SMALL(IF(Отделения[Город]=$AE$1,ROW(Отделения[Город])-1),ROW(S28)-ROW($A$2)+1)),\"\")","v":""},{"$f":"IFERROR(INDEX(Отделения[отделение],SMALL(IF(Отделения[Город]=$AF$1,ROW(Отделения[Город])-1),ROW(T28)-ROW($A$2)+1)),\"\")","v":""},{"$f":"IFERROR(INDEX(Отделения[отделение],SMALL(IF(Отделения[Город]=$AG$1,ROW(Отделения[Город])-1),ROW(U28)-ROW($A$2)+1)),\"\")","v":""},{"$f":"IFERROR(INDEX(Отделения[отделение],SMALL(IF(Отделения[Город]=$AH$1,ROW(Отделения[Город])-1),ROW(V28)-ROW($A$2)+1)),\"\")","v":""},{"$f":"IFERROR(INDEX(Отделения[отделение],SMALL(IF(Отделения[Город]=$AI$1,ROW(Отделения[Город])-1),ROW(AB28)-ROW($A$2)+1)),\"\")","v":""},{"$f":"IFERROR(INDEX(Отделения[отделение],SMALL(IF(Отделения[Город]=$AJ$1,ROW(Отделения[Город])-1),ROW(AB28)-ROW($A$2)+1)),\"\")","v":""},{"$f":"IFERROR(INDEX(Отделения[отделение],SMALL(IF(Отделения[Город]=$AK$1,ROW(Отделения[Город])-1),ROW(AB28)-ROW($A$2)+1)),\"\")","v":""},{"$f":"IFERROR(INDEX(Отделения[отделение],SMALL(IF(Отделения[Город]=$AL$1,ROW(Отделения[Город])-1),ROW(AB28)-ROW($A$2)+1)),\"\")","v":""},{"$f":"IFERROR(INDEX(Отделения[отделение],SMALL(IF(Отделения[Город]=$AM$1,ROW(Отделения[Город])-1),ROW(AB28)-ROW($A$2)+1)),\"\")","v":""},{"$f":"IFERROR(INDEX(Отделения[отделение],SMALL(IF(Отделения[Город]=$AN$1,ROW(Отделения[Город])-1),ROW(AB28)-ROW($A$2)+1)),\"\")","v":""},{"$f":"IFERROR(INDEX(Отделения[отделение],SMALL(IF(Отделения[Город]=$AO$1,ROW(Отделения[Город])-1),ROW(AB28)-ROW($A$2)+1)),\"\")","v":""},{"$f":"IFERROR(INDEX(Отделения[отделение],SMALL(IF(Отделения[Город]=$AP$1,ROW(Отделения[Город])-1),ROW(AB28)-ROW($A$2)+1)),\"\")","v":""},{"$f":"IFERROR(INDEX(Отделения[отделение],SMALL(IF(Отделения[Город]=$AQ$1,ROW(Отделения[Город])-1),ROW(AB28)-ROW($A$2)+1)),\"\")","v":""},{"$f":"IFERROR(INDEX(Отделения[отделение],SMALL(IF(Отделения[Город]=$AR$1,ROW(Отделения[Город])-1),ROW(AB28)-ROW($A$2)+1)),\"\")","v":""},{"$f":"IFERROR(INDEX(Отделения[отделение],SMALL(IF(Отделения[Город]=$AS$1,ROW(Отделения[Город])-1),ROW(AB28)-ROW($A$2)+1)),\"\")","v":""},{"$f":"IFERROR(INDEX(Отделения[отделение],SMALL(IF(Отделения[Город]=$AT$1,ROW(Отделения[Город])-1),ROW(AB28)-ROW($A$2)+1)),\"\")","v":""},{"$f":"IFERROR(INDEX(Отделения[отделение],SMALL(IF(Отделения[Город]=$AU$1,ROW(Отделения[Город])-1),ROW(AB28)-ROW($A$2)+1)),\"\")","v":""},{"$f":"IFERROR(INDEX(Отделения[отделение],SMALL(IF(Отделения[Город]=$AV$1,ROW(Отделения[Город])-1),ROW(AB28)-ROW($A$2)+1)),\"\")","v":""},{"$f":"IFERROR(INDEX(Отделения[отделение],SMALL(IF(Отделения[Город]=$AW$1,ROW(Отделения[Город])-1),ROW(AB28)-ROW($A$2)+1)),\"\")","v":""},{"$f":"IFERROR(INDEX(Отделения[отделение],SMALL(IF(Отделения[Город]=$AX$1,ROW(Отделения[Город])-1),ROW(AB28)-ROW($A$2)+1)),\"\")","v":""},{"$f":"IFERROR(INDEX(Отделения[отделение],SMALL(IF(Отделения[Город]=$AY$1,ROW(Отделения[Город])-1),ROW(AB28)-ROW($A$2)+1)),\"\")","v":""},{"$f":"IFERROR(INDEX(Отделения[отделение],SMALL(IF(Отделения[Город]=$AZ$1,ROW(Отделения[Город])-1),ROW(AB28)-ROW($A$2)+1)),\"\")","v":""},{"$f":"IFERROR(INDEX(Отделения[отделение],SMALL(IF(Отделения[Город]=$BA$1,ROW(Отделения[Город])-1),ROW(AB28)-ROW($A$2)+1)),\"\")","v":""},{"$f":"IFERROR(INDEX(Отделения[отделение],SMALL(IF(Отделения[Город]=$BB$1,ROW(Отделения[Город])-1),ROW(AB28)-ROW($A$2)+1)),\"\")","v":""},{"$f":"IFERROR(INDEX(Отделения[отделение],SMALL(IF(Отделения[Город]=$BC$1,ROW(Отделения[Город])-1),ROW(AC28)-ROW($A$2)+1)),\"\")","v":""},{"$f":"IFERROR(INDEX(Отделения[отделение],SMALL(IF(Отделения[Город]=$BD$1,ROW(Отделения[Город])-1),ROW(AD28)-ROW($A$2)+1)),\"\")","v":""},{"$f":"IFERROR(INDEX(Отделения[отделение],SMALL(IF(Отделения[Город]=$BE$1,ROW(Отделения[Город])-1),ROW(AE28)-ROW($A$2)+1)),\"\")","v":""},{"$f":"IFERROR(INDEX(Отделения[отделение],SMALL(IF(Отделения[Город]=$BF$1,ROW(Отделения[Город])-1),ROW(AF28)-ROW($A$2)+1)),\"\")","v":""},{"$f":"IFERROR(INDEX(Отделения[отделение],SMALL(IF(Отделения[Город]=$BG$1,ROW(Отделения[Город])-1),ROW(AG28)-ROW($A$2)+1)),\"\")","v":""},{"$f":"IFERROR(INDEX(Отделения[отделение],SMALL(IF(Отделения[Город]=$BH$1,ROW(Отделения[Город])-1),ROW(AH28)-ROW($A$2)+1)),\"\")","v":""},{"$f":"IFERROR(INDEX(Отделения[отделение],SMALL(IF(Отделения[Город]=$BI$1,ROW(Отделения[Город])-1),ROW(AI28)-ROW($A$2)+1)),\"\")","v":""},{"$f":"IFERROR(INDEX(Отделения[отделение],SMALL(IF(Отделения[Город]=$BJ$1,ROW(Отделения[Город])-1),ROW(AJ28)-ROW($A$2)+1)),\"\")","v":""},{"$f":"IFERROR(INDEX(Отделения[отделение],SMALL(IF(Отделения[Город]=$BK$1,ROW(Отделения[Город])-1),ROW(AK28)-ROW($A$2)+1)),\"\")","v":""},{"$f":"IFERROR(INDEX(Отделения[отделение],SMALL(IF(Отделения[Город]=$BL$1,ROW(Отделения[Город])-1),ROW(AL28)-ROW($A$2)+1)),\"\")","v":""},{"$f":"IFERROR(INDEX(Отделения[отделение],SMALL(IF(Отделения[Город]=$BM$1,ROW(Отделения[Город])-1),ROW(AM28)-ROW($A$2)+1)),\"\")","v":""},{"$f":"IFERROR(INDEX(Отделения[отделение],SMALL(IF(Отделения[Город]=$BN$1,ROW(Отделения[Город])-1),ROW(AN28)-ROW($A$2)+1)),\"\")","v":""},{"$f":"IFERROR(INDEX(Отделения[отделение],SMALL(IF(Отделения[Город]=$BO$1,ROW(Отделения[Город])-1),ROW(AO28)-ROW($A$2)+1)),\"\")","v":""},{"$f":"IFERROR(INDEX(Отделения[отделение],SMALL(IF(Отделения[Город]=$BP$1,ROW(Отделения[Город])-1),ROW(AP28)-ROW($A$2)+1)),\"\")","v":""},{"$f":"IFERROR(INDEX(Отделения[отделение],SMALL(IF(Отделения[Город]=$BQ$1,ROW(Отделения[Город])-1),ROW(AQ28)-ROW($A$2)+1)),\"\")","v":""},{"$f":"IFERROR(INDEX(Отделения[отделение],SMALL(IF(Отделения[Город]=$BR$1,ROW(Отделения[Город])-1),ROW(AR28)-ROW($A$2)+1)),\"\")","v":""},{"$f":"IFERROR(INDEX(Отделения[отделение],SMALL(IF(Отделения[Город]=$BS$1,ROW(Отделения[Город])-1),ROW(AS28)-ROW($A$2)+1)),\"\")","v":""},{"$f":"IFERROR(INDEX(Отделения[отделение],SMALL(IF(Отделения[Город]=$BT$1,ROW(Отделения[Город])-1),ROW(AT28)-ROW($A$2)+1)),\"\")","v":""},{"$f":"IFERROR(INDEX(Отделения[отделение],SMALL(IF(Отделения[Город]=$BU$1,ROW(Отделения[Город])-1),ROW(AU28)-ROW($A$2)+1)),\"\")","v":""},{"$f":"IFERROR(INDEX(Отделения[отделение],SMALL(IF(Отделения[Город]=$BV$1,ROW(Отделения[Город])-1),ROW(AV28)-ROW($A$2)+1)),\"\")","v":""},{"$f":"IFERROR(INDEX(Отделения[отделение],SMALL(IF(Отделения[Город]=$BW$1,ROW(Отделения[Город])-1),ROW(AV28)-ROW($A$2)+1)),\"\")","v":""},{"$f":"IFERROR(INDEX(Отделения[отделение],SMALL(IF(Отделения[Город]=$BX$1,ROW(Отделения[Город])-1),ROW(AV28)-ROW($A$2)+1)),\"\")","v":""},{"$f":"IFERROR(INDEX(Отделения[отделение],SMALL(IF(Отделения[Город]=$BY$1,ROW(Отделения[Город])-1),ROW(AV28)-ROW($A$2)+1)),\"\")","v":""},{"$f":"IFERROR(INDEX(Отделения[отделение],SMALL(IF(Отделения[Город]=$BZ$1,ROW(Отделения[Город])-1),ROW(AV28)-ROW($A$2)+1)),\"\")","v":""},{"$f":"IFERROR(INDEX(Отделения[отделение],SMALL(IF(Отделения[Город]=$CA$1,ROW(Отделения[Город])-1),ROW(AV28)-ROW($A$2)+1)),\"\")","v":""},{"$f":"IFERROR(INDEX(Отделения[отделение],SMALL(IF(Отделения[Город]=$CB$1,ROW(Отделения[Город])-1),ROW(AV28)-ROW($A$2)+1)),\"\")","v":""},{"$f":"IFERROR(INDEX(Отделения[отделение],SMALL(IF(Отделения[Город]=$CC$1,ROW(Отделения[Город])-1),ROW(AV28)-ROW($A$2)+1)),\"\")","v":""},{"$f":"IFERROR(INDEX(Отделения[отделение],SMALL(IF(Отделения[Город]=$CD$1,ROW(Отделения[Город])-1),ROW(AV28)-ROW($A$2)+1)),\"\")","v":""},{"$f":"IFERROR(INDEX(Отделения[отделение],SMALL(IF(Отделения[Город]=$CE$1,ROW(Отделения[Город])-1),ROW(AV28)-ROW($A$2)+1)),\"\")","v":""},{"$f":"IFERROR(INDEX(Отделения[отделение],SMALL(IF(Отделения[Город]=$CF$1,ROW(Отделения[Город])-1),ROW(AV28)-ROW($A$2)+1)),\"\")","v":""},{"$f":"IFERROR(INDEX(Отделения[отделение],SMALL(IF(Отделения[Город]=$CG$1,ROW(Отделения[Город])-1),ROW(AV28)-ROW($A$2)+1)),\"\")","v":""},{"$f":"IFERROR(INDEX(Отделения[отделение],SMALL(IF(Отделения[Город]=$CH$1,ROW(Отделения[Город])-1),ROW(AW28)-ROW($A$2)+1)),\"\")","v":""},{"$f":"IFERROR(INDEX(Отделения[отделение],SMALL(IF(Отделения[Город]=$CI$1,ROW(Отделения[Город])-1),ROW(AX28)-ROW($A$2)+1)),\"\")","v":""},{"$f":"IFERROR(INDEX(Отделения[отделение],SMALL(IF(Отделения[Город]=$CJ$1,ROW(Отделения[Город])-1),ROW(AY28)-ROW($A$2)+1)),\"\")","v":""},{"$f":"IFERROR(INDEX(Отделения[отделение],SMALL(IF(Отделения[Город]=$CK$1,ROW(Отделения[Город])-1),ROW(AZ28)-ROW($A$2)+1)),\"\")","v":""},{"$f":"IFERROR(INDEX(Отделения[отделение],SMALL(IF(Отделения[Город]=$CL$1,ROW(Отделения[Город])-1),ROW(BA28)-ROW($A$2)+1)),\"\")","v":""},{"$f":"IFERROR(INDEX(Отделения[отделение],SMALL(IF(Отделения[Город]=$CM$1,ROW(Отделения[Город])-1),ROW(BB28)-ROW($A$2)+1)),\"\")","v":""},{"$f":"IFERROR(INDEX(Отделения[отделение],SMALL(IF(Отделения[Город]=$CN$1,ROW(Отделения[Город])-1),ROW(BC28)-ROW($A$2)+1)),\"\")","v":""},{"$f":"IFERROR(INDEX(Отделения[отделение],SMALL(IF(Отделения[Город]=$CO$1,ROW(Отделения[Город])-1),ROW(BD28)-ROW($A$2)+1)),\"\")","v":""},{"$f":"IFERROR(INDEX(Отделения[отделение],SMALL(IF(Отделения[Город]=$CP$1,ROW(Отделения[Город])-1),ROW(BE28)-ROW($A$2)+1)),\"\")","v":""},{"$f":"IFERROR(INDEX(Отделения[отделение],SMALL(IF(Отделения[Город]=$CQ$1,ROW(Отделения[Город])-1),ROW(BF28)-ROW($A$2)+1)),\"\")","v":""},{"$f":"IFERROR(INDEX(Отделения[отделение],SMALL(IF(Отделения[Город]=$CR$1,ROW(Отделения[Город])-1),ROW(BG28)-ROW($A$2)+1)),\"\")","v":""},{"$f":"IFERROR(INDEX(Отделения[отделение],SMALL(IF(Отделения[Город]=$CS$1,ROW(Отделения[Город])-1),ROW(BH28)-ROW($A$2)+1)),\"\")","v":""},{"$f":"IFERROR(INDEX(Отделения[отделение],SMALL(IF(Отделения[Город]=$CT$1,ROW(Отделения[Город])-1),ROW(BI28)-ROW($A$2)+1)),\"\")","v":""},{"$f":"IFERROR(INDEX(Отделения[отделение],SMALL(IF(Отделения[Город]=$CU$1,ROW(Отделения[Город])-1),ROW(BJ28)-ROW($A$2)+1)),\"\")","v":""},{"$f":"IFERROR(INDEX(Отделения[отделение],SMALL(IF(Отделения[Город]=$CV$1,ROW(Отделения[Город])-1),ROW(BK28)-ROW($A$2)+1)),\"\")","v":""},{"$f":"IFERROR(INDEX(Отделения[отделение],SMALL(IF(Отделения[Город]=$CW$1,ROW(Отделения[Город])-1),ROW(BL28)-ROW($A$2)+1)),\"\")","v":""},{"$f":"IFERROR(INDEX(Отделения[отделение],SMALL(IF(Отделения[Город]=$CX$1,ROW(Отделения[Город])-1),ROW(BM28)-ROW($A$2)+1)),\"\")","v":""},{"$f":"IFERROR(INDEX(Отделения[отделение],SMALL(IF(Отделения[Город]=$CY$1,ROW(Отделения[Город])-1),ROW(BM28)-ROW($A$2)+1)),\"\")","v":""},{"$f":"IFERROR(INDEX(Отделения[отделение],SMALL(IF(Отделения[Город]=$CZ$1,ROW(Отделения[Город])-1),ROW(BM28)-ROW($A$2)+1)),\"\")","v":""},{"$f":"IFERROR(INDEX(Отделения[отделение],SMALL(IF(Отделения[Город]=$DA$1,ROW(Отделения[Город])-1),ROW(BM28)-ROW($A$2)+1)),\"\")","v":""},{"$f":"IFERROR(INDEX(Отделения[отделение],SMALL(IF(Отделения[Город]=$DB$1,ROW(Отделения[Город])-1),ROW(BM28)-ROW($A$2)+1)),\"\")","v":""}]
["Оренбург","ДО \"Оренбург-Центральный\" , 460024, Оренбургская область,г.Оренбург, ул.Маршала Жукова, 26","0461","MORE",null,null,{"$f":"IFERROR(INDEX(Отделения[отделение],SMALL(IF(Отделения[Город]=$G$1,ROW(Отделения[Город])-1),ROW(A29)-ROW($A$2)+1)),\"\")","v":""},{"$f":"IFERROR(INDEX(Отделения[отделение],SMALL(IF(Отделения[Город]=$H$1,ROW(Отделения[Город])-1),ROW(A29)-ROW($A$2)+1)),\"\")","v":""},{"$f":"IFERROR(INDEX(Отделения[отделение],SMALL(IF(Отделения[Город]=$I$1,ROW(Отделения[Город])-1),ROW(A29)-ROW($A$2)+1)),\"\")","v":""},{"$f":"IFERROR(INDEX(Отделения[отделение],SMALL(IF(Отделения[Город]=$J$1,ROW(Отделения[Город])-1),ROW(A29)-ROW($A$2)+1)),\"\")","v":""},{"$f":"IFERROR(INDEX(Отделения[отделение],SMALL(IF(Отделения[Город]=$K$1,ROW(Отделения[Город])-1),ROW(A29)-ROW($A$2)+1)),\"\")","v":""},{"$f":"IFERROR(INDEX(Отделения[отделение],SMALL(IF(Отделения[Город]=$L$1,ROW(Отделения[Город])-1),ROW(A29)-ROW($A$2)+1)),\"\")","v":""},{"$f":"IFERROR(INDEX(Отделения[отделение],SMALL(IF(Отделения[Город]=$M$1,ROW(Отделения[Город])-1),ROW(B29)-ROW($A$2)+1)),\"\")","v":""},{"$f":"IFERROR(INDEX(Отделения[отделение],SMALL(IF(Отделения[Город]=$N$1,ROW(Отделения[Город])-1),ROW(#REF!)-ROW($A$2)+1)),\"\")","v":""},{"$f":"IFERROR(INDEX(Отделения[отделение],SMALL(IF(Отделения[Город]=$O$1,ROW(Отделения[Город])-1),ROW(C29)-ROW($A$2)+1)),\"\")","v":""},{"$f":"IFERROR(INDEX(Отделения[отделение],SMALL(IF(Отделения[Город]=$P$1,ROW(Отделения[Город])-1),ROW(D29)-ROW($A$2)+1)),\"\")","v":""},{"$f":"IFERROR(INDEX(Отделения[отделение],SMALL(IF(Отделения[Город]=$Q$1,ROW(Отделения[Город])-1),ROW(F29)-ROW($A$2)+1)),\"\")","v":""},{"$f":"IFERROR(INDEX(Отделения[отделение],SMALL(IF(Отделения[Город]=$R$1,ROW(Отделения[Город])-1),ROW(#REF!)-ROW($A$2)+1)),\"\")","v":""},{"$f":"IFERROR(INDEX(Отделения[отделение],SMALL(IF(Отделения[Город]=$S$1,ROW(Отделения[Город])-1),ROW(G29)-ROW($A$2)+1)),\"\")","v":""},{"$f":"IFERROR(INDEX(Отделения[отделение],SMALL(IF(Отделения[Город]=$T$1,ROW(Отделения[Город])-1),ROW(H29)-ROW($A$2)+1)),\"\")","v":""},{"$f":"IFERROR(INDEX(Отделения[отделение],SMALL(IF(Отделения[Город]=$U$1,ROW(Отделения[Город])-1),ROW(I29)-ROW($A$2)+1)),\"\")","v":""},{"$f":"IFERROR(INDEX(Отделения[отделение],SMALL(IF(Отделения[Город]=$V$1,ROW(Отделения[Город])-1),ROW(J29)-ROW($A$2)+1)),\"\")","v":""},{"$f":"IFERROR(INDEX(Отделения[отделение],SMALL(IF(Отделения[Город]=$W$1,ROW(Отделения[Город])-1),ROW(K29)-ROW($A$2)+1)),\"\")","v":""},{"$f":"IFERROR(INDEX(Отделения[отделение],SMALL(IF(Отделения[Город]=$X$1,ROW(Отделения[Город])-1),ROW(L29)-ROW($A$2)+1)),\"\")","v":""},{"$f":"IFERROR(INDEX(Отделения[отделение],SMALL(IF(Отделения[Город]=$Y$1,ROW(Отделения[Город])-1),ROW(M29)-ROW($A$2)+1)),\"\")","v":""},{"$f":"IFERROR(INDEX(Отделения[отделение],SMALL(IF(Отделения[Город]=$Z$1,ROW(Отделения[Город])-1),ROW(N29)-ROW($A$2)+1)),\"\")","v":""},{"$f":"IFERROR(INDEX(Отделения[отделение],SMALL(IF(Отделения[Город]=$AA$1,ROW(Отделения[Город])-1),ROW(O29)-ROW($A$2)+1)),\"\")","v":""},{"$f":"IFERROR(INDEX(Отделения[отделение],SMALL(IF(Отделения[Город]=$AB$1,ROW(Отделения[Город])-1),ROW(P29)-ROW($A$2)+1)),\"\")","v":""},{"$f":"IFERROR(INDEX(Отделения[отделение],SMALL(IF(Отделения[Город]=$AC$1,ROW(Отделения[Город])-1),ROW(Q29)-ROW($A$2)+1)),\"\")","v":""},{"$f":"IFERROR(INDEX(Отделения[отделение],SMALL(IF(Отделения[Город]=$AD$1,ROW(Отделения[Город])-1),ROW(R29)-ROW($A$2)+1)),\"\")","v":""},{"$f":"IFERROR(INDEX(Отделения[отделение],SMALL(IF(Отделения[Город]=$AE$1,ROW(Отделения[Город])-1),ROW(S29)-ROW($A$2)+1)),\"\")","v":""},{"$f":"IFERROR(INDEX(Отделения[отделение],SMALL(IF(Отделения[Город]=$AF$1,ROW(Отделения[Город])-1),ROW(T29)-ROW($A$2)+1)),\"\")","v":""},{"$f":"IFERROR(INDEX(Отделения[отделение],SMALL(IF(Отделения[Город]=$AG$1,ROW(Отделения[Город])-1),ROW(U29)-ROW($A$2)+1)),\"\")","v":""},{"$f":"IFERROR(INDEX(Отделения[отделение],SMALL(IF(Отделения[Город]=$AH$1,ROW(Отделения[Город])-1),ROW(V29)-ROW($A$2)+1)),\"\")","v":""},{"$f":"IFERROR(INDEX(Отделения[отделение],SMALL(IF(Отделения[Город]=$AI$1,ROW(Отделения[Город])-1),ROW(AB29)-ROW($A$2)+1)),\"\")","v":""},{"$f":"IFERROR(INDEX(Отделения[отделение],SMALL(IF(Отделения[Город]=$AJ$1,ROW(Отделения[Город])-1),ROW(AB29)-ROW($A$2)+1)),\"\")","v":""},{"$f":"IFERROR(INDEX(Отделения[отделение],SMALL(IF(Отделения[Город]=$AK$1,ROW(Отделения[Город])-1),ROW(AB29)-ROW($A$2)+1)),\"\")","v":""},{"$f":"IFERROR(INDEX(Отделения[отделение],SMALL(IF(Отделения[Город]=$AL$1,ROW(Отделения[Город])-1),ROW(AB29)-ROW($A$2)+1)),\"\")","v":""},{"$f":"IFERROR(INDEX(Отделения[отделение],SMALL(IF(Отделения[Город]=$AM$1,ROW(Отделения[Город])-1),ROW(AB29)-ROW($A$2)+1)),\"\")","v":""},{"$f":"IFERROR(INDEX(Отделения[отделение],SMALL(IF(Отделения[Город]=$AN$1,ROW(Отделения[Город])-1),ROW(AB29)-ROW($A$2)+1)),\"\")","v":""},{"$f":"IFERROR(INDEX(Отделения[отделение],SMALL(IF(Отделения[Город]=$AO$1,ROW(Отделения[Город])-1),ROW(AB29)-ROW($A$2)+1)),\"\")","v":""},{"$f":"IFERROR(INDEX(Отделения[отделение],SMALL(IF(Отделения[Город]=$AP$1,ROW(Отделения[Город])-1),ROW(AB29)-ROW($A$2)+1)),\"\")","v":""},{"$f":"IFERROR(INDEX(Отделения[отделение],SMALL(IF(Отделения[Город]=$AQ$1,ROW(Отделения[Город])-1),ROW(AB29)-ROW($A$2)+1)),\"\")","v":""},{"$f":"IFERROR(INDEX(Отделения[отделение],SMALL(IF(Отделения[Город]=$AR$1,ROW(Отделения[Город])-1),ROW(AB29)-ROW($A$2)+1)),\"\")","v":""},{"$f":"IFERROR(INDEX(Отделения[отделение],SMALL(IF(Отделения[Город]=$AS$1,ROW(Отделения[Город])-1),ROW(AB29)-ROW($A$2)+1)),\"\")","v":""},{"$f":"IFERROR(INDEX(Отделения[отделение],SMALL(IF(Отделения[Город]=$AT$1,ROW(Отделения[Город])-1),ROW(AB29)-ROW($A$2)+1)),\"\")","v":""},{"$f":"IFERROR(INDEX(Отделения[отделение],SMALL(IF(Отделения[Город]=$AU$1,ROW(Отделения[Город])-1),ROW(AB29)-ROW($A$2)+1)),\"\")","v":""},{"$f":"IFERROR(INDEX(Отделения[отделение],SMALL(IF(Отделения[Город]=$AV$1,ROW(Отделения[Город])-1),ROW(AB29)-ROW($A$2)+1)),\"\")","v":""},{"$f":"IFERROR(INDEX(Отделения[отделение],SMALL(IF(Отделения[Город]=$AW$1,ROW(Отделения[Город])-1),ROW(AB29)-ROW($A$2)+1)),\"\")","v":""},{"$f":"IFERROR(INDEX(Отделения[отделение],SMALL(IF(Отделения[Город]=$AX$1,ROW(Отделения[Город])-1),ROW(AB29)-ROW($A$2)+1)),\"\")","v":""},{"$f":"IFERROR(INDEX(Отделения[отделение],SMALL(IF(Отделения[Город]=$AY$1,ROW(Отделения[Город])-1),ROW(AB29)-ROW($A$2)+1)),\"\")","v":""},{"$f":"IFERROR(INDEX(Отделения[отделение],SMALL(IF(Отделения[Город]=$AZ$1,ROW(Отделения[Город])-1),ROW(AB29)-ROW($A$2)+1)),\"\")","v":""},{"$f":"IFERROR(INDEX(Отделения[отделение],SMALL(IF(Отделения[Город]=$BA$1,ROW(Отделения[Город])-1),ROW(AB29)-ROW($A$2)+1)),\"\")","v":""},{"$f":"IFERROR(INDEX(Отделения[отделение],SMALL(IF(Отделения[Город]=$BB$1,ROW(Отделения[Город])-1),ROW(AB29)-ROW($A$2)+1)),\"\")","v":""},{"$f":"IFERROR(INDEX(Отделения[отделение],SMALL(IF(Отделения[Город]=$BC$1,ROW(Отделения[Город])-1),ROW(AC29)-ROW($A$2)+1)),\"\")","v":""},{"$f":"IFERROR(INDEX(Отделения[отделение],SMALL(IF(Отделения[Город]=$BD$1,ROW(Отделения[Город])-1),ROW(AD29)-ROW($A$2)+1)),\"\")","v":""},{"$f":"IFERROR(INDEX(Отделения[отделение],SMALL(IF(Отделения[Город]=$BE$1,ROW(Отделения[Город])-1),ROW(AE29)-ROW($A$2)+1)),\"\")","v":""},{"$f":"IFERROR(INDEX(Отделения[отделение],SMALL(IF(Отделения[Город]=$BF$1,ROW(Отделения[Город])-1),ROW(AF29)-ROW($A$2)+1)),\"\")","v":""},{"$f":"IFERROR(INDEX(Отделения[отделение],SMALL(IF(Отделения[Город]=$BG$1,ROW(Отделения[Город])-1),ROW(AG29)-ROW($A$2)+1)),\"\")","v":""},{"$f":"IFERROR(INDEX(Отделения[отделение],SMALL(IF(Отделения[Город]=$BH$1,ROW(Отделения[Город])-1),ROW(AH29)-ROW($A$2)+1)),\"\")","v":""},{"$f":"IFERROR(INDEX(Отделения[отделение],SMALL(IF(Отделения[Город]=$BI$1,ROW(Отделения[Город])-1),ROW(AI29)-ROW($A$2)+1)),\"\")","v":""},{"$f":"IFERROR(INDEX(Отделения[отделение],SMALL(IF(Отделения[Город]=$BJ$1,ROW(Отделения[Город])-1),ROW(AJ29)-ROW($A$2)+1)),\"\")","v":""},{"$f":"IFERROR(INDEX(Отделения[отделение],SMALL(IF(Отделения[Город]=$BK$1,ROW(Отделения[Город])-1),ROW(AK29)-ROW($A$2)+1)),\"\")","v":""},{"$f":"IFERROR(INDEX(Отделения[отделение],SMALL(IF(Отделения[Город]=$BL$1,ROW(Отделения[Город])-1),ROW(AL29)-ROW($A$2)+1)),\"\")","v":""},{"$f":"IFERROR(INDEX(Отделения[отделение],SMALL(IF(Отделения[Город]=$BM$1,ROW(Отделения[Город])-1),ROW(AM29)-ROW($A$2)+1)),\"\")","v":""},{"$f":"IFERROR(INDEX(Отделения[отделение],SMALL(IF(Отделения[Город]=$BN$1,ROW(Отделения[Город])-1),ROW(AN29)-ROW($A$2)+1)),\"\")","v":""},{"$f":"IFERROR(INDEX(Отделения[отделение],SMALL(IF(Отделения[Город]=$BO$1,ROW(Отделения[Город])-1),ROW(AO29)-ROW($A$2)+1)),\"\")","v":""},{"$f":"IFERROR(INDEX(Отделения[отделение],SMALL(IF(Отделения[Город]=$BP$1,ROW(Отделения[Город])-1),ROW(AP29)-ROW($A$2)+1)),\"\")","v":""},{"$f":"IFERROR(INDEX(Отделения[отделение],SMALL(IF(Отделения[Город]=$BQ$1,ROW(Отделения[Город])-1),ROW(AQ29)-ROW($A$2)+1)),\"\")","v":""},{"$f":"IFERROR(INDEX(Отделения[отделение],SMALL(IF(Отделения[Город]=$BR$1,ROW(Отделения[Город])-1),ROW(AR29)-ROW($A$2)+1)),\"\")","v":""},{"$f":"IFERROR(INDEX(Отделения[отделение],SMALL(IF(Отделения[Город]=$BS$1,ROW(Отделения[Город])-1),ROW(AS29)-ROW($A$2)+1)),\"\")","v":""},{"$f":"IFERROR(INDEX(Отделения[отделение],SMALL(IF(Отделения[Город]=$BT$1,ROW(Отделения[Город])-1),ROW(AT29)-ROW($A$2)+1)),\"\")","v":""},{"$f":"IFERROR(INDEX(Отделения[отделение],SMALL(IF(Отделения[Город]=$BU$1,ROW(Отделения[Город])-1),ROW(AU29)-ROW($A$2)+1)),\"\")","v":""},{"$f":"IFERROR(INDEX(Отделения[отделение],SMALL(IF(Отделения[Город]=$BV$1,ROW(Отделения[Город])-1),ROW(AV29)-ROW($A$2)+1)),\"\")","v":""},{"$f":"IFERROR(INDEX(Отделения[отделение],SMALL(IF(Отделения[Город]=$BW$1,ROW(Отделения[Город])-1),ROW(AV29)-ROW($A$2)+1)),\"\")","v":""},{"$f":"IFERROR(INDEX(Отделения[отделение],SMALL(IF(Отделения[Город]=$BX$1,ROW(Отделения[Город])-1),ROW(AV29)-ROW($A$2)+1)),\"\")","v":""},{"$f":"IFERROR(INDEX(Отделения[отделение],SMALL(IF(Отделения[Город]=$BY$1,ROW(Отделения[Город])-1),ROW(AV29)-ROW($A$2)+1)),\"\")","v":""},{"$f":"IFERROR(INDEX(Отделения[отделение],SMALL(IF(Отделения[Город]=$BZ$1,ROW(Отделения[Город])-1),ROW(AV29)-ROW($A$2)+1)),\"\")","v":""},{"$f":"IFERROR(INDEX(Отделения[отделение],SMALL(IF(Отделения[Город]=$CA$1,ROW(Отделения[Город])-1),ROW(AV29)-ROW($A$2)+1)),\"\")","v":""},{"$f":"IFERROR(INDEX(Отделения[отделение],SMALL(IF(Отделения[Город]=$CB$1,ROW(Отделения[Город])-1),ROW(AV29)-ROW($A$2)+1)),\"\")","v":""},{"$f":"IFERROR(INDEX(Отделения[отделение],SMALL(IF(Отделения[Город]=$CC$1,ROW(Отделения[Город])-1),ROW(AV29)-ROW($A$2)+1)),\"\")","v":""},{"$f":"IFERROR(INDEX(Отделения[отделение],SMALL(IF(Отделения[Город]=$CD$1,ROW(Отделения[Город])-1),ROW(AV29)-ROW($A$2)+1)),\"\")","v":""},{"$f":"IFERROR(INDEX(Отделения[отделение],SMALL(IF(Отделения[Город]=$CE$1,ROW(Отделения[Город])-1),ROW(AV29)-ROW($A$2)+1)),\"\")","v":""},{"$f":"IFERROR(INDEX(Отделения[отделение],SMALL(IF(Отделения[Город]=$CF$1,ROW(Отделения[Город])-1),ROW(AV29)-ROW($A$2)+1)),\"\")","v":""},{"$f":"IFERROR(INDEX(Отделения[отделение],SMALL(IF(Отделения[Город]=$CG$1,ROW(Отделения[Город])-1),ROW(AV29)-ROW($A$2)+1)),\"\")","v":""},{"$f":"IFERROR(INDEX(Отделения[отделение],SMALL(IF(Отделения[Город]=$CH$1,ROW(Отделения[Город])-1),ROW(AW29)-ROW($A$2)+1)),\"\")","v":""},{"$f":"IFERROR(INDEX(Отделения[отделение],SMALL(IF(Отделения[Город]=$CI$1,ROW(Отделения[Город])-1),ROW(AX29)-ROW($A$2)+1)),\"\")","v":""},{"$f":"IFERROR(INDEX(Отделения[отделение],SMALL(IF(Отделения[Город]=$CJ$1,ROW(Отделения[Город])-1),ROW(AY29)-ROW($A$2)+1)),\"\")","v":""},{"$f":"IFERROR(INDEX(Отделения[отделение],SMALL(IF(Отделения[Город]=$CK$1,ROW(Отделения[Город])-1),ROW(AZ29)-ROW($A$2)+1)),\"\")","v":""},{"$f":"IFERROR(INDEX(Отделения[отделение],SMALL(IF(Отделения[Город]=$CL$1,ROW(Отделения[Город])-1),ROW(BA29)-ROW($A$2)+1)),\"\")","v":""},{"$f":"IFERROR(INDEX(Отделения[отделение],SMALL(IF(Отделения[Город]=$CM$1,ROW(Отделения[Город])-1),ROW(BB29)-ROW($A$2)+1)),\"\")","v":""},{"$f":"IFERROR(INDEX(Отделения[отделение],SMALL(IF(Отделения[Город]=$CN$1,ROW(Отделения[Город])-1),ROW(BC29)-ROW($A$2)+1)),\"\")","v":""},{"$f":"IFERROR(INDEX(Отделения[отделение],SMALL(IF(Отделения[Город]=$CO$1,ROW(Отделения[Город])-1),ROW(BD29)-ROW($A$2)+1)),\"\")","v":""},{"$f":"IFERROR(INDEX(Отделения[отделение],SMALL(IF(Отделения[Город]=$CP$1,ROW(Отделения[Город])-1),ROW(BE29)-ROW($A$2)+1)),\"\")","v":""},{"$f":"IFERROR(INDEX(Отделения[отделение],SMALL(IF(Отделения[Город]=$CQ$1,ROW(Отделения[Город])-1),ROW(BF29)-ROW($A$2)+1)),\"\")","v":""},{"$f":"IFERROR(INDEX(Отделения[отделение],SMALL(IF(Отделения[Город]=$CR$1,ROW(Отделения[Город])-1),ROW(BG29)-ROW($A$2)+1)),\"\")","v":""},{"$f":"IFERROR(INDEX(Отделения[отделение],SMALL(IF(Отделения[Город]=$CS$1,ROW(Отделения[Город])-1),ROW(BH29)-ROW($A$2)+1)),\"\")","v":""},{"$f":"IFERROR(INDEX(Отделения[отделение],SMALL(IF(Отделения[Город]=$CT$1,ROW(Отделения[Город])-1),ROW(BI29)-ROW($A$2)+1)),\"\")","v":""},{"$f":"IFERROR(INDEX(Отделения[отделение],SMALL(IF(Отделения[Город]=$CU$1,ROW(Отделения[Город])-1),ROW(BJ29)-ROW($A$2)+1)),\"\")","v":""},{"$f":"IFERROR(INDEX(Отделения[отделение],SMALL(IF(Отделения[Город]=$CV$1,ROW(Отделения[Город])-1),ROW(BK29)-ROW($A$2)+1)),\"\")","v":""},{"$f":"IFERROR(INDEX(Отделения[отделение],SMALL(IF(Отделения[Город]=$CW$1,ROW(Отделения[Город])-1),ROW(BL29)-ROW($A$2)+1)),\"\")","v":""},{"$f":"IFERROR(INDEX(Отделения[отделение],SMALL(IF(Отделения[Город]=$CX$1,ROW(Отделения[Город])-1),ROW(BM29)-ROW($A$2)+1)),\"\")","v":""},{"$f":"IFERROR(INDEX(Отделения[отделение],SMALL(IF(Отделения[Город]=$CY$1,ROW(Отделения[Город])-1),ROW(BM29)-ROW($A$2)+1)),\"\")","v":""},{"$f":"IFERROR(INDEX(Отделения[отделение],SMALL(IF(Отделения[Город]=$CZ$1,ROW(Отделения[Город])-1),ROW(BM29)-ROW($A$2)+1)),\"\")","v":""},{"$f":"IFERROR(INDEX(Отделения[отделение],SMALL(IF(Отделения[Город]=$DA$1,ROW(Отделения[Город])-1),ROW(BM29)-ROW($A$2)+1)),\"\")","v":""},{"$f":"IFERROR(INDEX(Отделения[отделение],SMALL(IF(Отделения[Город]=$DB$1,ROW(Отделения[Город])-1),ROW(BM29)-ROW($A$2)+1)),\"\")","v":""}]
["Нижневартовск","ДО \"Нижневартовск-Центральный\" , 628606, Тюменская обл.,Ханты-Мансийский автономный округ,г. Нижневартовск, пр-т Победы, 11","0465","MOMI",null,null,{"$f":"IFERROR(INDEX(Отделения[отделение],SMALL(IF(Отделения[Город]=$G$1,ROW(Отделения[Город])-1),ROW(A30)-ROW($A$2)+1)),\"\")","v":""},{"$f":"IFERROR(INDEX(Отделения[отделение],SMALL(IF(Отделения[Город]=$H$1,ROW(Отделения[Город])-1),ROW(A30)-ROW($A$2)+1)),\"\")","v":""},{"$f":"IFERROR(INDEX(Отделения[отделение],SMALL(IF(Отделения[Город]=$I$1,ROW(Отделения[Город])-1),ROW(A30)-ROW($A$2)+1)),\"\")","v":""},{"$f":"IFERROR(INDEX(Отделения[отделение],SMALL(IF(Отделения[Город]=$J$1,ROW(Отделения[Город])-1),ROW(A30)-ROW($A$2)+1)),\"\")","v":""},{"$f":"IFERROR(INDEX(Отделения[отделение],SMALL(IF(Отделения[Город]=$K$1,ROW(Отделения[Город])-1),ROW(A30)-ROW($A$2)+1)),\"\")","v":""},{"$f":"IFERROR(INDEX(Отделения[отделение],SMALL(IF(Отделения[Город]=$L$1,ROW(Отделения[Город])-1),ROW(A30)-ROW($A$2)+1)),\"\")","v":""},{"$f":"IFERROR(INDEX(Отделения[отделение],SMALL(IF(Отделения[Город]=$M$1,ROW(Отделения[Город])-1),ROW(B30)-ROW($A$2)+1)),\"\")","v":""},{"$f":"IFERROR(INDEX(Отделения[отделение],SMALL(IF(Отделения[Город]=$N$1,ROW(Отделения[Город])-1),ROW(#REF!)-ROW($A$2)+1)),\"\")","v":""},{"$f":"IFERROR(INDEX(Отделения[отделение],SMALL(IF(Отделения[Город]=$O$1,ROW(Отделения[Город])-1),ROW(C30)-ROW($A$2)+1)),\"\")","v":""},{"$f":"IFERROR(INDEX(Отделения[отделение],SMALL(IF(Отделения[Город]=$P$1,ROW(Отделения[Город])-1),ROW(D30)-ROW($A$2)+1)),\"\")","v":""},{"$f":"IFERROR(INDEX(Отделения[отделение],SMALL(IF(Отделения[Город]=$Q$1,ROW(Отделения[Город])-1),ROW(F30)-ROW($A$2)+1)),\"\")","v":""},{"$f":"IFERROR(INDEX(Отделения[отделение],SMALL(IF(Отделения[Город]=$R$1,ROW(Отделения[Город])-1),ROW(#REF!)-ROW($A$2)+1)),\"\")","v":""},{"$f":"IFERROR(INDEX(Отделения[отделение],SMALL(IF(Отделения[Город]=$S$1,ROW(Отделения[Город])-1),ROW(G30)-ROW($A$2)+1)),\"\")","v":""},{"$f":"IFERROR(INDEX(Отделения[отделение],SMALL(IF(Отделения[Город]=$T$1,ROW(Отделения[Город])-1),ROW(H30)-ROW($A$2)+1)),\"\")","v":""},{"$f":"IFERROR(INDEX(Отделения[отделение],SMALL(IF(Отделения[Город]=$U$1,ROW(Отделения[Город])-1),ROW(I30)-ROW($A$2)+1)),\"\")","v":""},{"$f":"IFERROR(INDEX(Отделения[отделение],SMALL(IF(Отделения[Город]=$V$1,ROW(Отделения[Город])-1),ROW(J30)-ROW($A$2)+1)),\"\")","v":""},{"$f":"IFERROR(INDEX(Отделения[отделение],SMALL(IF(Отделения[Город]=$W$1,ROW(Отделения[Город])-1),ROW(K30)-ROW($A$2)+1)),\"\")","v":""},{"$f":"IFERROR(INDEX(Отделения[отделение],SMALL(IF(Отделения[Город]=$X$1,ROW(Отделения[Город])-1),ROW(L30)-ROW($A$2)+1)),\"\")","v":""},{"$f":"IFERROR(INDEX(Отделения[отделение],SMALL(IF(Отделения[Город]=$Y$1,ROW(Отделения[Город])-1),ROW(M30)-ROW($A$2)+1)),\"\")","v":""},{"$f":"IFERROR(INDEX(Отделения[отделение],SMALL(IF(Отделения[Город]=$Z$1,ROW(Отделения[Город])-1),ROW(N30)-ROW($A$2)+1)),\"\")","v":""},{"$f":"IFERROR(INDEX(Отделения[отделение],SMALL(IF(Отделения[Город]=$AA$1,ROW(Отделения[Город])-1),ROW(O30)-ROW($A$2)+1)),\"\")","v":""},{"$f":"IFERROR(INDEX(Отделения[отделение],SMALL(IF(Отделения[Город]=$AB$1,ROW(Отделения[Город])-1),ROW(P30)-ROW($A$2)+1)),\"\")","v":""},{"$f":"IFERROR(INDEX(Отделения[отделение],SMALL(IF(Отделения[Город]=$AC$1,ROW(Отделения[Город])-1),ROW(Q30)-ROW($A$2)+1)),\"\")","v":""},{"$f":"IFERROR(INDEX(Отделения[отделение],SMALL(IF(Отделения[Город]=$AD$1,ROW(Отделения[Город])-1),ROW(R30)-ROW($A$2)+1)),\"\")","v":""},{"$f":"IFERROR(INDEX(Отделения[отделение],SMALL(IF(Отделения[Город]=$AE$1,ROW(Отделения[Город])-1),ROW(S30)-ROW($A$2)+1)),\"\")","v":""},{"$f":"IFERROR(INDEX(Отделения[отделение],SMALL(IF(Отделения[Город]=$AF$1,ROW(Отделения[Город])-1),ROW(T30)-ROW($A$2)+1)),\"\")","v":""},{"$f":"IFERROR(INDEX(Отделения[отделение],SMALL(IF(Отделения[Город]=$AG$1,ROW(Отделения[Город])-1),ROW(U30)-ROW($A$2)+1)),\"\")","v":""},{"$f":"IFERROR(INDEX(Отделения[отделение],SMALL(IF(Отделения[Город]=$AH$1,ROW(Отделения[Город])-1),ROW(V30)-ROW($A$2)+1)),\"\")","v":""},{"$f":"IFERROR(INDEX(Отделения[отделение],SMALL(IF(Отделения[Город]=$AI$1,ROW(Отделения[Город])-1),ROW(AB30)-ROW($A$2)+1)),\"\")","v":""},{"$f":"IFERROR(INDEX(Отделения[отделение],SMALL(IF(Отделения[Город]=$AJ$1,ROW(Отделения[Город])-1),ROW(AB30)-ROW($A$2)+1)),\"\")","v":""},{"$f":"IFERROR(INDEX(Отделения[отделение],SMALL(IF(Отделения[Город]=$AK$1,ROW(Отделения[Город])-1),ROW(AB30)-ROW($A$2)+1)),\"\")","v":""},{"$f":"IFERROR(INDEX(Отделения[отделение],SMALL(IF(Отделения[Город]=$AL$1,ROW(Отделения[Город])-1),ROW(AB30)-ROW($A$2)+1)),\"\")","v":""},{"$f":"IFERROR(INDEX(Отделения[отделение],SMALL(IF(Отделения[Город]=$AM$1,ROW(Отделения[Город])-1),ROW(AB30)-ROW($A$2)+1)),\"\")","v":""},{"$f":"IFERROR(INDEX(Отделения[отделение],SMALL(IF(Отделения[Город]=$AN$1,ROW(Отделения[Город])-1),ROW(AB30)-ROW($A$2)+1)),\"\")","v":""},{"$f":"IFERROR(INDEX(Отделения[отделение],SMALL(IF(Отделения[Город]=$AO$1,ROW(Отделения[Город])-1),ROW(AB30)-ROW($A$2)+1)),\"\")","v":""},{"$f":"IFERROR(INDEX(Отделения[отделение],SMALL(IF(Отделения[Город]=$AP$1,ROW(Отделения[Город])-1),ROW(AB30)-ROW($A$2)+1)),\"\")","v":""},{"$f":"IFERROR(INDEX(Отделения[отделение],SMALL(IF(Отделения[Город]=$AQ$1,ROW(Отделения[Город])-1),ROW(AB30)-ROW($A$2)+1)),\"\")","v":""},{"$f":"IFERROR(INDEX(Отделения[отделение],SMALL(IF(Отделения[Город]=$AR$1,ROW(Отделения[Город])-1),ROW(AB30)-ROW($A$2)+1)),\"\")","v":""},{"$f":"IFERROR(INDEX(Отделения[отделение],SMALL(IF(Отделения[Город]=$AS$1,ROW(Отделения[Город])-1),ROW(AB30)-ROW($A$2)+1)),\"\")","v":""},{"$f":"IFERROR(INDEX(Отделения[отделение],SMALL(IF(Отделения[Город]=$AT$1,ROW(Отделения[Город])-1),ROW(AB30)-ROW($A$2)+1)),\"\")","v":""},{"$f":"IFERROR(INDEX(Отделения[отделение],SMALL(IF(Отделения[Город]=$AU$1,ROW(Отделения[Город])-1),ROW(AB30)-ROW($A$2)+1)),\"\")","v":""},{"$f":"IFERROR(INDEX(Отделения[отделение],SMALL(IF(Отделения[Город]=$AV$1,ROW(Отделения[Город])-1),ROW(AB30)-ROW($A$2)+1)),\"\")","v":""},{"$f":"IFERROR(INDEX(Отделения[отделение],SMALL(IF(Отделения[Город]=$AW$1,ROW(Отделения[Город])-1),ROW(AB30)-ROW($A$2)+1)),\"\")","v":""},{"$f":"IFERROR(INDEX(Отделения[отделение],SMALL(IF(Отделения[Город]=$AX$1,ROW(Отделения[Город])-1),ROW(AB30)-ROW($A$2)+1)),\"\")","v":""},{"$f":"IFERROR(INDEX(Отделения[отделение],SMALL(IF(Отделения[Город]=$AY$1,ROW(Отделения[Город])-1),ROW(AB30)-ROW($A$2)+1)),\"\")","v":""},{"$f":"IFERROR(INDEX(Отделения[отделение],SMALL(IF(Отделения[Город]=$AZ$1,ROW(Отделения[Город])-1),ROW(AB30)-ROW($A$2)+1)),\"\")","v":""},{"$f":"IFERROR(INDEX(Отделения[отделение],SMALL(IF(Отделения[Город]=$BA$1,ROW(Отделения[Город])-1),ROW(AB30)-ROW($A$2)+1)),\"\")","v":""},{"$f":"IFERROR(INDEX(Отделения[отделение],SMALL(IF(Отделения[Город]=$BB$1,ROW(Отделения[Город])-1),ROW(AB30)-ROW($A$2)+1)),\"\")","v":""},{"$f":"IFERROR(INDEX(Отделения[отделение],SMALL(IF(Отделения[Город]=$BC$1,ROW(Отделения[Город])-1),ROW(AC30)-ROW($A$2)+1)),\"\")","v":""},{"$f":"IFERROR(INDEX(Отделения[отделение],SMALL(IF(Отделения[Город]=$BD$1,ROW(Отделения[Город])-1),ROW(AD30)-ROW($A$2)+1)),\"\")","v":""},{"$f":"IFERROR(INDEX(Отделения[отделение],SMALL(IF(Отделения[Город]=$BE$1,ROW(Отделения[Город])-1),ROW(AE30)-ROW($A$2)+1)),\"\")","v":""},{"$f":"IFERROR(INDEX(Отделения[отделение],SMALL(IF(Отделения[Город]=$BF$1,ROW(Отделения[Город])-1),ROW(AF30)-ROW($A$2)+1)),\"\")","v":""},{"$f":"IFERROR(INDEX(Отделения[отделение],SMALL(IF(Отделения[Город]=$BG$1,ROW(Отделения[Город])-1),ROW(AG30)-ROW($A$2)+1)),\"\")","v":""},{"$f":"IFERROR(INDEX(Отделения[отделение],SMALL(IF(Отделения[Город]=$BH$1,ROW(Отделения[Город])-1),ROW(AH30)-ROW($A$2)+1)),\"\")","v":""},{"$f":"IFERROR(INDEX(Отделения[отделение],SMALL(IF(Отделения[Город]=$BI$1,ROW(Отделения[Город])-1),ROW(AI30)-ROW($A$2)+1)),\"\")","v":""},{"$f":"IFERROR(INDEX(Отделения[отделение],SMALL(IF(Отделения[Город]=$BJ$1,ROW(Отделения[Город])-1),ROW(AJ30)-ROW($A$2)+1)),\"\")","v":""},{"$f":"IFERROR(INDEX(Отделения[отделение],SMALL(IF(Отделения[Город]=$BK$1,ROW(Отделения[Город])-1),ROW(AK30)-ROW($A$2)+1)),\"\")","v":""},{"$f":"IFERROR(INDEX(Отделения[отделение],SMALL(IF(Отделения[Город]=$BL$1,ROW(Отделения[Город])-1),ROW(AL30)-ROW($A$2)+1)),\"\")","v":""},{"$f":"IFERROR(INDEX(Отделения[отделение],SMALL(IF(Отделения[Город]=$BM$1,ROW(Отделения[Город])-1),ROW(AM30)-ROW($A$2)+1)),\"\")","v":""},{"$f":"IFERROR(INDEX(Отделения[отделение],SMALL(IF(Отделения[Город]=$BN$1,ROW(Отделения[Город])-1),ROW(AN30)-ROW($A$2)+1)),\"\")","v":""},{"$f":"IFERROR(INDEX(Отделения[отделение],SMALL(IF(Отделения[Город]=$BO$1,ROW(Отделения[Город])-1),ROW(AO30)-ROW($A$2)+1)),\"\")","v":""},{"$f":"IFERROR(INDEX(Отделения[отделение],SMALL(IF(Отделения[Город]=$BP$1,ROW(Отделения[Город])-1),ROW(AP30)-ROW($A$2)+1)),\"\")","v":""},{"$f":"IFERROR(INDEX(Отделения[отделение],SMALL(IF(Отделения[Город]=$BQ$1,ROW(Отделения[Город])-1),ROW(AQ30)-ROW($A$2)+1)),\"\")","v":""},{"$f":"IFERROR(INDEX(Отделения[отделение],SMALL(IF(Отделения[Город]=$BR$1,ROW(Отделения[Город])-1),ROW(AR30)-ROW($A$2)+1)),\"\")","v":""},{"$f":"IFERROR(INDEX(Отделения[отделение],SMALL(IF(Отделения[Город]=$BS$1,ROW(Отделения[Город])-1),ROW(AS30)-ROW($A$2)+1)),\"\")","v":""},{"$f":"IFERROR(INDEX(Отделения[отделение],SMALL(IF(Отделения[Город]=$BT$1,ROW(Отделения[Город])-1),ROW(AT30)-ROW($A$2)+1)),\"\")","v":""},{"$f":"IFERROR(INDEX(Отделения[отделение],SMALL(IF(Отделения[Город]=$BU$1,ROW(Отделения[Город])-1),ROW(AU30)-ROW($A$2)+1)),\"\")","v":""},{"$f":"IFERROR(INDEX(Отделения[отделение],SMALL(IF(Отделения[Город]=$BV$1,ROW(Отделения[Город])-1),ROW(AV30)-ROW($A$2)+1)),\"\")","v":""},{"$f":"IFERROR(INDEX(Отделения[отделение],SMALL(IF(Отделения[Город]=$BW$1,ROW(Отделения[Город])-1),ROW(AV30)-ROW($A$2)+1)),\"\")","v":""},{"$f":"IFERROR(INDEX(Отделения[отделение],SMALL(IF(Отделения[Город]=$BX$1,ROW(Отделения[Город])-1),ROW(AV30)-ROW($A$2)+1)),\"\")","v":""},{"$f":"IFERROR(INDEX(Отделения[отделение],SMALL(IF(Отделения[Город]=$BY$1,ROW(Отделения[Город])-1),ROW(AV30)-ROW($A$2)+1)),\"\")","v":""},{"$f":"IFERROR(INDEX(Отделения[отделение],SMALL(IF(Отделения[Город]=$BZ$1,ROW(Отделения[Город])-1),ROW(AV30)-ROW($A$2)+1)),\"\")","v":""},{"$f":"IFERROR(INDEX(Отделения[отделение],SMALL(IF(Отделения[Город]=$CA$1,ROW(Отделения[Город])-1),ROW(AV30)-ROW($A$2)+1)),\"\")","v":""},{"$f":"IFERROR(INDEX(Отделения[отделение],SMALL(IF(Отделения[Город]=$CB$1,ROW(Отделения[Город])-1),ROW(AV30)-ROW($A$2)+1)),\"\")","v":""},{"$f":"IFERROR(INDEX(Отделения[отделение],SMALL(IF(Отделения[Город]=$CC$1,ROW(Отделения[Город])-1),ROW(AV30)-ROW($A$2)+1)),\"\")","v":""},{"$f":"IFERROR(INDEX(Отделения[отделение],SMALL(IF(Отделения[Город]=$CD$1,ROW(Отделения[Город])-1),ROW(AV30)-ROW($A$2)+1)),\"\")","v":""},{"$f":"IFERROR(INDEX(Отделения[отделение],SMALL(IF(Отделения[Город]=$CE$1,ROW(Отделения[Город])-1),ROW(AV30)-ROW($A$2)+1)),\"\")","v":""},{"$f":"IFERROR(INDEX(Отделения[отделение],SMALL(IF(Отделения[Город]=$CF$1,ROW(Отделения[Город])-1),ROW(AV30)-ROW($A$2)+1)),\"\")","v":""},{"$f":"IFERROR(INDEX(Отделения[отделение],SMALL(IF(Отделения[Город]=$CG$1,ROW(Отделения[Город])-1),ROW(AV30)-ROW($A$2)+1)),\"\")","v":""},{"$f":"IFERROR(INDEX(Отделения[отделение],SMALL(IF(Отделения[Город]=$CH$1,ROW(Отделения[Город])-1),ROW(AW30)-ROW($A$2)+1)),\"\")","v":""},{"$f":"IFERROR(INDEX(Отделения[отделение],SMALL(IF(Отделения[Город]=$CI$1,ROW(Отделения[Город])-1),ROW(AX30)-ROW($A$2)+1)),\"\")","v":""},{"$f":"IFERROR(INDEX(Отделения[отделение],SMALL(IF(Отделения[Город]=$CJ$1,ROW(Отделения[Город])-1),ROW(AY30)-ROW($A$2)+1)),\"\")","v":""},{"$f":"IFERROR(INDEX(Отделения[отделение],SMALL(IF(Отделения[Город]=$CK$1,ROW(Отделения[Город])-1),ROW(AZ30)-ROW($A$2)+1)),\"\")","v":""},{"$f":"IFERROR(INDEX(Отделения[отделение],SMALL(IF(Отделения[Город]=$CL$1,ROW(Отделения[Город])-1),ROW(BA30)-ROW($A$2)+1)),\"\")","v":""},{"$f":"IFERROR(INDEX(Отделения[отделение],SMALL(IF(Отделения[Город]=$CM$1,ROW(Отделения[Город])-1),ROW(BB30)-ROW($A$2)+1)),\"\")","v":""},{"$f":"IFERROR(INDEX(Отделения[отделение],SMALL(IF(Отделения[Город]=$CN$1,ROW(Отделения[Город])-1),ROW(BC30)-ROW($A$2)+1)),\"\")","v":""},{"$f":"IFERROR(INDEX(Отделения[отделение],SMALL(IF(Отделения[Город]=$CO$1,ROW(Отделения[Город])-1),ROW(BD30)-ROW($A$2)+1)),\"\")","v":""},{"$f":"IFERROR(INDEX(Отделения[отделение],SMALL(IF(Отделения[Город]=$CP$1,ROW(Отделения[Город])-1),ROW(BE30)-ROW($A$2)+1)),\"\")","v":""},{"$f":"IFERROR(INDEX(Отделения[отделение],SMALL(IF(Отделения[Город]=$CQ$1,ROW(Отделения[Город])-1),ROW(BF30)-ROW($A$2)+1)),\"\")","v":""},{"$f":"IFERROR(INDEX(Отделения[отделение],SMALL(IF(Отделения[Город]=$CR$1,ROW(Отделения[Город])-1),ROW(BG30)-ROW($A$2)+1)),\"\")","v":""},{"$f":"IFERROR(INDEX(Отделения[отделение],SMALL(IF(Отделения[Город]=$CS$1,ROW(Отделения[Город])-1),ROW(BH30)-ROW($A$2)+1)),\"\")","v":""},{"$f":"IFERROR(INDEX(Отделения[отделение],SMALL(IF(Отделения[Город]=$CT$1,ROW(Отделения[Город])-1),ROW(BI30)-ROW($A$2)+1)),\"\")","v":""},{"$f":"IFERROR(INDEX(Отделения[отделение],SMALL(IF(Отделения[Город]=$CU$1,ROW(Отделения[Город])-1),ROW(BJ30)-ROW($A$2)+1)),\"\")","v":""},{"$f":"IFERROR(INDEX(Отделения[отделение],SMALL(IF(Отделения[Город]=$CV$1,ROW(Отделения[Город])-1),ROW(BK30)-ROW($A$2)+1)),\"\")","v":""},{"$f":"IFERROR(INDEX(Отделения[отделение],SMALL(IF(Отделения[Город]=$CW$1,ROW(Отделения[Город])-1),ROW(BL30)-ROW($A$2)+1)),\"\")","v":""},{"$f":"IFERROR(INDEX(Отделения[отделение],SMALL(IF(Отделения[Город]=$CX$1,ROW(Отделения[Город])-1),ROW(BM30)-ROW($A$2)+1)),\"\")","v":""},{"$f":"IFERROR(INDEX(Отделения[отделение],SMALL(IF(Отделения[Город]=$CY$1,ROW(Отделения[Город])-1),ROW(BM30)-ROW($A$2)+1)),\"\")","v":""},{"$f":"IFERROR(INDEX(Отделения[отделение],SMALL(IF(Отделения[Город]=$CZ$1,ROW(Отделения[Город])-1),ROW(BM30)-ROW($A$2)+1)),\"\")","v":""},{"$f":"IFERROR(INDEX(Отделения[отделение],SMALL(IF(Отделения[Город]=$DA$1,ROW(Отделения[Город])-1),ROW(BM30)-ROW($A$2)+1)),\"\")","v":""},{"$f":"IFERROR(INDEX(Отделения[отделение],SMALL(IF(Отделения[Город]=$DB$1,ROW(Отделения[Город])-1),ROW(BM30)-ROW($A$2)+1)),\"\")","v":""}]
["Тюмень","ДО \"Тюмень-улица Республики\" , 625026, Тюменская область, г. Тюмень, ул. Республики, д. 155","0468","MOTM",null,null,{"$f":"IFERROR(INDEX(Отделения[отделение],SMALL(IF(Отделения[Город]=$G$1,ROW(Отделения[Город])-1),ROW(A31)-ROW($A$2)+1)),\"\")","v":""},{"$f":"IFERROR(INDEX(Отделения[отделение],SMALL(IF(Отделения[Город]=$H$1,ROW(Отделения[Город])-1),ROW(A31)-ROW($A$2)+1)),\"\")","v":""},{"$f":"IFERROR(INDEX(Отделения[отделение],SMALL(IF(Отделения[Город]=$I$1,ROW(Отделения[Город])-1),ROW(A31)-ROW($A$2)+1)),\"\")","v":""},{"$f":"IFERROR(INDEX(Отделения[отделение],SMALL(IF(Отделения[Город]=$J$1,ROW(Отделения[Город])-1),ROW(A31)-ROW($A$2)+1)),\"\")","v":""},{"$f":"IFERROR(INDEX(Отделения[отделение],SMALL(IF(Отделения[Город]=$K$1,ROW(Отделения[Город])-1),ROW(A31)-ROW($A$2)+1)),\"\")","v":""},{"$f":"IFERROR(INDEX(Отделения[отделение],SMALL(IF(Отделения[Город]=$L$1,ROW(Отделения[Город])-1),ROW(A31)-ROW($A$2)+1)),\"\")","v":""},{"$f":"IFERROR(INDEX(Отделения[отделение],SMALL(IF(Отделения[Город]=$M$1,ROW(Отделения[Город])-1),ROW(B31)-ROW($A$2)+1)),\"\")","v":""},{"$f":"IFERROR(INDEX(Отделения[отделение],SMALL(IF(Отделения[Город]=$N$1,ROW(Отделения[Город])-1),ROW(#REF!)-ROW($A$2)+1)),\"\")","v":""},{"$f":"IFERROR(INDEX(Отделения[отделение],SMALL(IF(Отделения[Город]=$O$1,ROW(Отделения[Город])-1),ROW(C31)-ROW($A$2)+1)),\"\")","v":""},{"$f":"IFERROR(INDEX(Отделения[отделение],SMALL(IF(Отделения[Город]=$P$1,ROW(Отделения[Город])-1),ROW(D31)-ROW($A$2)+1)),\"\")","v":""},{"$f":"IFERROR(INDEX(Отделения[отделение],SMALL(IF(Отделения[Город]=$Q$1,ROW(Отделения[Город])-1),ROW(F31)-ROW($A$2)+1)),\"\")","v":""},{"$f":"IFERROR(INDEX(Отделения[отделение],SMALL(IF(Отделения[Город]=$R$1,ROW(Отделения[Город])-1),ROW(#REF!)-ROW($A$2)+1)),\"\")","v":""},{"$f":"IFERROR(INDEX(Отделения[отделение],SMALL(IF(Отделения[Город]=$S$1,ROW(Отделения[Город])-1),ROW(G31)-ROW($A$2)+1)),\"\")","v":""},{"$f":"IFERROR(INDEX(Отделения[отделение],SMALL(IF(Отделения[Город]=$T$1,ROW(Отделения[Город])-1),ROW(H31)-ROW($A$2)+1)),\"\")","v":""},{"$f":"IFERROR(INDEX(Отделения[отделение],SMALL(IF(Отделения[Город]=$U$1,ROW(Отделения[Город])-1),ROW(I31)-ROW($A$2)+1)),\"\")","v":""},{"$f":"IFERROR(INDEX(Отделения[отделение],SMALL(IF(Отделения[Город]=$V$1,ROW(Отделения[Город])-1),ROW(J31)-ROW($A$2)+1)),\"\")","v":""},{"$f":"IFERROR(INDEX(Отделения[отделение],SMALL(IF(Отделения[Город]=$W$1,ROW(Отделения[Город])-1),ROW(K31)-ROW($A$2)+1)),\"\")","v":""},{"$f":"IFERROR(INDEX(Отделения[отделение],SMALL(IF(Отделения[Город]=$X$1,ROW(Отделения[Город])-1),ROW(L31)-ROW($A$2)+1)),\"\")","v":""},{"$f":"IFERROR(INDEX(Отделения[отделение],SMALL(IF(Отделения[Город]=$Y$1,ROW(Отделения[Город])-1),ROW(M31)-ROW($A$2)+1)),\"\")","v":""},{"$f":"IFERROR(INDEX(Отделения[отделение],SMALL(IF(Отделения[Город]=$Z$1,ROW(Отделения[Город])-1),ROW(N31)-ROW($A$2)+1)),\"\")","v":""},{"$f":"IFERROR(INDEX(Отделения[отделение],SMALL(IF(Отделения[Город]=$AA$1,ROW(Отделения[Город])-1),ROW(O31)-ROW($A$2)+1)),\"\")","v":""},{"$f":"IFERROR(INDEX(Отделения[отделение],SMALL(IF(Отделения[Город]=$AB$1,ROW(Отделения[Город])-1),ROW(P31)-ROW($A$2)+1)),\"\")","v":""},{"$f":"IFERROR(INDEX(Отделения[отделение],SMALL(IF(Отделения[Город]=$AC$1,ROW(Отделения[Город])-1),ROW(Q31)-ROW($A$2)+1)),\"\")","v":""},{"$f":"IFERROR(INDEX(Отделения[отделение],SMALL(IF(Отделения[Город]=$AD$1,ROW(Отделения[Город])-1),ROW(R31)-ROW($A$2)+1)),\"\")","v":""},{"$f":"IFERROR(INDEX(Отделения[отделение],SMALL(IF(Отделения[Город]=$AE$1,ROW(Отделения[Город])-1),ROW(S31)-ROW($A$2)+1)),\"\")","v":""},{"$f":"IFERROR(INDEX(Отделения[отделение],SMALL(IF(Отделения[Город]=$AF$1,ROW(Отделения[Город])-1),ROW(T31)-ROW($A$2)+1)),\"\")","v":""},{"$f":"IFERROR(INDEX(Отделения[отделение],SMALL(IF(Отделения[Город]=$AG$1,ROW(Отделения[Город])-1),ROW(U31)-ROW($A$2)+1)),\"\")","v":""},{"$f":"IFERROR(INDEX(Отделения[отделение],SMALL(IF(Отделения[Город]=$AH$1,ROW(Отделения[Город])-1),ROW(V31)-ROW($A$2)+1)),\"\")","v":""},{"$f":"IFERROR(INDEX(Отделения[отделение],SMALL(IF(Отделения[Город]=$AI$1,ROW(Отделения[Город])-1),ROW(AB31)-ROW($A$2)+1)),\"\")","v":""},{"$f":"IFERROR(INDEX(Отделения[отделение],SMALL(IF(Отделения[Город]=$AJ$1,ROW(Отделения[Город])-1),ROW(AB31)-ROW($A$2)+1)),\"\")","v":""},{"$f":"IFERROR(INDEX(Отделения[отделение],SMALL(IF(Отделения[Город]=$AK$1,ROW(Отделения[Город])-1),ROW(AB31)-ROW($A$2)+1)),\"\")","v":""},{"$f":"IFERROR(INDEX(Отделения[отделение],SMALL(IF(Отделения[Город]=$AL$1,ROW(Отделения[Город])-1),ROW(AB31)-ROW($A$2)+1)),\"\")","v":""},{"$f":"IFERROR(INDEX(Отделения[отделение],SMALL(IF(Отделения[Город]=$AM$1,ROW(Отделения[Город])-1),ROW(AB31)-ROW($A$2)+1)),\"\")","v":""},{"$f":"IFERROR(INDEX(Отделения[отделение],SMALL(IF(Отделения[Город]=$AN$1,ROW(Отделения[Город])-1),ROW(AB31)-ROW($A$2)+1)),\"\")","v":""},{"$f":"IFERROR(INDEX(Отделения[отделение],SMALL(IF(Отделения[Город]=$AO$1,ROW(Отделения[Город])-1),ROW(AB31)-ROW($A$2)+1)),\"\")","v":""},{"$f":"IFERROR(INDEX(Отделения[отделение],SMALL(IF(Отделения[Город]=$AP$1,ROW(Отделения[Город])-1),ROW(AB31)-ROW($A$2)+1)),\"\")","v":""},{"$f":"IFERROR(INDEX(Отделения[отделение],SMALL(IF(Отделения[Город]=$AQ$1,ROW(Отделения[Город])-1),ROW(AB31)-ROW($A$2)+1)),\"\")","v":""},{"$f":"IFERROR(INDEX(Отделения[отделение],SMALL(IF(Отделения[Город]=$AR$1,ROW(Отделения[Город])-1),ROW(AB31)-ROW($A$2)+1)),\"\")","v":""},{"$f":"IFERROR(INDEX(Отделения[отделение],SMALL(IF(Отделения[Город]=$AS$1,ROW(Отделения[Город])-1),ROW(AB31)-ROW($A$2)+1)),\"\")","v":""},{"$f":"IFERROR(INDEX(Отделения[отделение],SMALL(IF(Отделения[Город]=$AT$1,ROW(Отделения[Город])-1),ROW(AB31)-ROW($A$2)+1)),\"\")","v":""},{"$f":"IFERROR(INDEX(Отделения[отделение],SMALL(IF(Отделения[Город]=$AU$1,ROW(Отделения[Город])-1),ROW(AB31)-ROW($A$2)+1)),\"\")","v":""},{"$f":"IFERROR(INDEX(Отделения[отделение],SMALL(IF(Отделения[Город]=$AV$1,ROW(Отделения[Город])-1),ROW(AB31)-ROW($A$2)+1)),\"\")","v":""},{"$f":"IFERROR(INDEX(Отделения[отделение],SMALL(IF(Отделения[Город]=$AW$1,ROW(Отделения[Город])-1),ROW(AB31)-ROW($A$2)+1)),\"\")","v":""},{"$f":"IFERROR(INDEX(Отделения[отделение],SMALL(IF(Отделения[Город]=$AX$1,ROW(Отделения[Город])-1),ROW(AB31)-ROW($A$2)+1)),\"\")","v":""},{"$f":"IFERROR(INDEX(Отделения[отделение],SMALL(IF(Отделения[Город]=$AY$1,ROW(Отделения[Город])-1),ROW(AB31)-ROW($A$2)+1)),\"\")","v":""},{"$f":"IFERROR(INDEX(Отделения[отделение],SMALL(IF(Отделения[Город]=$AZ$1,ROW(Отделения[Город])-1),ROW(AB31)-ROW($A$2)+1)),\"\")","v":""},{"$f":"IFERROR(INDEX(Отделения[отделение],SMALL(IF(Отделения[Город]=$BA$1,ROW(Отделения[Город])-1),ROW(AB31)-ROW($A$2)+1)),\"\")","v":""},{"$f":"IFERROR(INDEX(Отделения[отделение],SMALL(IF(Отделения[Город]=$BB$1,ROW(Отделения[Город])-1),ROW(AB31)-ROW($A$2)+1)),\"\")","v":""},{"$f":"IFERROR(INDEX(Отделения[отделение],SMALL(IF(Отделения[Город]=$BC$1,ROW(Отделения[Город])-1),ROW(AC31)-ROW($A$2)+1)),\"\")","v":""},{"$f":"IFERROR(INDEX(Отделения[отделение],SMALL(IF(Отделения[Город]=$BD$1,ROW(Отделения[Город])-1),ROW(AD31)-ROW($A$2)+1)),\"\")","v":""},{"$f":"IFERROR(INDEX(Отделения[отделение],SMALL(IF(Отделения[Город]=$BE$1,ROW(Отделения[Город])-1),ROW(AE31)-ROW($A$2)+1)),\"\")","v":""},{"$f":"IFERROR(INDEX(Отделения[отделение],SMALL(IF(Отделения[Город]=$BF$1,ROW(Отделения[Город])-1),ROW(AF31)-ROW($A$2)+1)),\"\")","v":""},{"$f":"IFERROR(INDEX(Отделения[отделение],SMALL(IF(Отделения[Город]=$BG$1,ROW(Отделения[Город])-1),ROW(AG31)-ROW($A$2)+1)),\"\")","v":""},{"$f":"IFERROR(INDEX(Отделения[отделение],SMALL(IF(Отделения[Город]=$BH$1,ROW(Отделения[Город])-1),ROW(AH31)-ROW($A$2)+1)),\"\")","v":""},{"$f":"IFERROR(INDEX(Отделения[отделение],SMALL(IF(Отделения[Город]=$BI$1,ROW(Отделения[Город])-1),ROW(AI31)-ROW($A$2)+1)),\"\")","v":""},{"$f":"IFERROR(INDEX(Отделения[отделение],SMALL(IF(Отделения[Город]=$BJ$1,ROW(Отделения[Город])-1),ROW(AJ31)-ROW($A$2)+1)),\"\")","v":""},{"$f":"IFERROR(INDEX(Отделения[отделение],SMALL(IF(Отделения[Город]=$BK$1,ROW(Отделения[Город])-1),ROW(AK31)-ROW($A$2)+1)),\"\")","v":""},{"$f":"IFERROR(INDEX(Отделения[отделение],SMALL(IF(Отделения[Город]=$BL$1,ROW(Отделения[Город])-1),ROW(AL31)-ROW($A$2)+1)),\"\")","v":""},{"$f":"IFERROR(INDEX(Отделения[отделение],SMALL(IF(Отделения[Город]=$BM$1,ROW(Отделения[Город])-1),ROW(AM31)-ROW($A$2)+1)),\"\")","v":""},{"$f":"IFERROR(INDEX(Отделения[отделение],SMALL(IF(Отделения[Город]=$BN$1,ROW(Отделения[Город])-1),ROW(AN31)-ROW($A$2)+1)),\"\")","v":""},{"$f":"IFERROR(INDEX(Отделения[отделение],SMALL(IF(Отделения[Город]=$BO$1,ROW(Отделения[Город])-1),ROW(AO31)-ROW($A$2)+1)),\"\")","v":""},{"$f":"IFERROR(INDEX(Отделения[отделение],SMALL(IF(Отделения[Город]=$BP$1,ROW(Отделения[Город])-1),ROW(AP31)-ROW($A$2)+1)),\"\")","v":""},{"$f":"IFERROR(INDEX(Отделения[отделение],SMALL(IF(Отделения[Город]=$BQ$1,ROW(Отделения[Город])-1),ROW(AQ31)-ROW($A$2)+1)),\"\")","v":""},{"$f":"IFERROR(INDEX(Отделения[отделение],SMALL(IF(Отделения[Город]=$BR$1,ROW(Отделения[Город])-1),ROW(AR31)-ROW($A$2)+1)),\"\")","v":""},{"$f":"IFERROR(INDEX(Отделения[отделение],SMALL(IF(Отделения[Город]=$BS$1,ROW(Отделения[Город])-1),ROW(AS31)-ROW($A$2)+1)),\"\")","v":""},{"$f":"IFERROR(INDEX(Отделения[отделение],SMALL(IF(Отделения[Город]=$BT$1,ROW(Отделения[Город])-1),ROW(AT31)-ROW($A$2)+1)),\"\")","v":""},{"$f":"IFERROR(INDEX(Отделения[отделение],SMALL(IF(Отделения[Город]=$BU$1,ROW(Отделения[Город])-1),ROW(AU31)-ROW($A$2)+1)),\"\")","v":""},{"$f":"IFERROR(INDEX(Отделения[отделение],SMALL(IF(Отделения[Город]=$BV$1,ROW(Отделения[Город])-1),ROW(AV31)-ROW($A$2)+1)),\"\")","v":""},{"$f":"IFERROR(INDEX(Отделения[отделение],SMALL(IF(Отделения[Город]=$BW$1,ROW(Отделения[Город])-1),ROW(AV31)-ROW($A$2)+1)),\"\")","v":""},{"$f":"IFERROR(INDEX(Отделения[отделение],SMALL(IF(Отделения[Город]=$BX$1,ROW(Отделения[Город])-1),ROW(AV31)-ROW($A$2)+1)),\"\")","v":""},{"$f":"IFERROR(INDEX(Отделения[отделение],SMALL(IF(Отделения[Город]=$BY$1,ROW(Отделения[Город])-1),ROW(AV31)-ROW($A$2)+1)),\"\")","v":""},{"$f":"IFERROR(INDEX(Отделения[отделение],SMALL(IF(Отделения[Город]=$BZ$1,ROW(Отделения[Город])-1),ROW(AV31)-ROW($A$2)+1)),\"\")","v":""},{"$f":"IFERROR(INDEX(Отделения[отделение],SMALL(IF(Отделения[Город]=$CA$1,ROW(Отделения[Город])-1),ROW(AV31)-ROW($A$2)+1)),\"\")","v":""},{"$f":"IFERROR(INDEX(Отделения[отделение],SMALL(IF(Отделения[Город]=$CB$1,ROW(Отделения[Город])-1),ROW(AV31)-ROW($A$2)+1)),\"\")","v":""},{"$f":"IFERROR(INDEX(Отделения[отделение],SMALL(IF(Отделения[Город]=$CC$1,ROW(Отделения[Город])-1),ROW(AV31)-ROW($A$2)+1)),\"\")","v":""},{"$f":"IFERROR(INDEX(Отделения[отделение],SMALL(IF(Отделения[Город]=$CD$1,ROW(Отделения[Город])-1),ROW(AV31)-ROW($A$2)+1)),\"\")","v":""},{"$f":"IFERROR(INDEX(Отделения[отделение],SMALL(IF(Отделения[Город]=$CE$1,ROW(Отделения[Город])-1),ROW(AV31)-ROW($A$2)+1)),\"\")","v":""},{"$f":"IFERROR(INDEX(Отделения[отделение],SMALL(IF(Отделения[Город]=$CF$1,ROW(Отделения[Город])-1),ROW(AV31)-ROW($A$2)+1)),\"\")","v":""},{"$f":"IFERROR(INDEX(Отделения[отделение],SMALL(IF(Отделения[Город]=$CG$1,ROW(Отделения[Город])-1),ROW(AV31)-ROW($A$2)+1)),\"\")","v":""},{"$f":"IFERROR(INDEX(Отделения[отделение],SMALL(IF(Отделения[Город]=$CH$1,ROW(Отделения[Город])-1),ROW(AW31)-ROW($A$2)+1)),\"\")","v":""},{"$f":"IFERROR(INDEX(Отделения[отделение],SMALL(IF(Отделения[Город]=$CI$1,ROW(Отделения[Город])-1),ROW(AX31)-ROW($A$2)+1)),\"\")","v":""},{"$f":"IFERROR(INDEX(Отделения[отделение],SMALL(IF(Отделения[Город]=$CJ$1,ROW(Отделения[Город])-1),ROW(AY31)-ROW($A$2)+1)),\"\")","v":""},{"$f":"IFERROR(INDEX(Отделения[отделение],SMALL(IF(Отделения[Город]=$CK$1,ROW(Отделения[Город])-1),ROW(AZ31)-ROW($A$2)+1)),\"\")","v":""},{"$f":"IFERROR(INDEX(Отделения[отделение],SMALL(IF(Отделения[Город]=$CL$1,ROW(Отделения[Город])-1),ROW(BA31)-ROW($A$2)+1)),\"\")","v":""},{"$f":"IFERROR(INDEX(Отделения[отделение],SMALL(IF(Отделения[Город]=$CM$1,ROW(Отделения[Город])-1),ROW(BB31)-ROW($A$2)+1)),\"\")","v":""},{"$f":"IFERROR(INDEX(Отделения[отделение],SMALL(IF(Отделения[Город]=$CN$1,ROW(Отделения[Город])-1),ROW(BC31)-ROW($A$2)+1)),\"\")","v":""},{"$f":"IFERROR(INDEX(Отделения[отделение],SMALL(IF(Отделения[Город]=$CO$1,ROW(Отделения[Город])-1),ROW(BD31)-ROW($A$2)+1)),\"\")","v":""},{"$f":"IFERROR(INDEX(Отделения[отделение],SMALL(IF(Отделения[Город]=$CP$1,ROW(Отделения[Город])-1),ROW(BE31)-ROW($A$2)+1)),\"\")","v":""},{"$f":"IFERROR(INDEX(Отделения[отделение],SMALL(IF(Отделения[Город]=$CQ$1,ROW(Отделения[Город])-1),ROW(BF31)-ROW($A$2)+1)),\"\")","v":""},{"$f":"IFERROR(INDEX(Отделения[отделение],SMALL(IF(Отделения[Город]=$CR$1,ROW(Отделения[Город])-1),ROW(BG31)-ROW($A$2)+1)),\"\")","v":""},{"$f":"IFERROR(INDEX(Отделения[отделение],SMALL(IF(Отделения[Город]=$CS$1,ROW(Отделения[Город])-1),ROW(BH31)-ROW($A$2)+1)),\"\")","v":""},{"$f":"IFERROR(INDEX(Отделения[отделение],SMALL(IF(Отделения[Город]=$CT$1,ROW(Отделения[Город])-1),ROW(BI31)-ROW($A$2)+1)),\"\")","v":""},{"$f":"IFERROR(INDEX(Отделения[отделение],SMALL(IF(Отделения[Город]=$CU$1,ROW(Отделения[Город])-1),ROW(BJ31)-ROW($A$2)+1)),\"\")","v":""},{"$f":"IFERROR(INDEX(Отделения[отделение],SMALL(IF(Отделения[Город]=$CV$1,ROW(Отделения[Город])-1),ROW(BK31)-ROW($A$2)+1)),\"\")","v":""},{"$f":"IFERROR(INDEX(Отделения[отделение],SMALL(IF(Отделения[Город]=$CW$1,ROW(Отделения[Город])-1),ROW(BL31)-ROW($A$2)+1)),\"\")","v":""},{"$f":"IFERROR(INDEX(Отделения[отделение],SMALL(IF(Отделения[Город]=$CX$1,ROW(Отделения[Город])-1),ROW(BM31)-ROW($A$2)+1)),\"\")","v":""},{"$f":"IFERROR(INDEX(Отделения[отделение],SMALL(IF(Отделения[Город]=$CY$1,ROW(Отделения[Город])-1),ROW(BM31)-ROW($A$2)+1)),\"\")","v":""},{"$f":"IFERROR(INDEX(Отделения[отделение],SMALL(IF(Отделения[Город]=$CZ$1,ROW(Отделения[Город])-1),ROW(BM31)-ROW($A$2)+1)),\"\")","v":""},{"$f":"IFERROR(INDEX(Отделения[отделение],SMALL(IF(Отделения[Город]=$DA$1,ROW(Отделения[Город])-1),ROW(BM31)-ROW($A$2)+1)),\"\")","v":""},{"$f":"IFERROR(INDEX(Отделения[отделение],SMALL(IF(Отделения[Город]=$DB$1,ROW(Отделения[Город])-1),ROW(BM31)-ROW($A$2)+1)),\"\")","v":""}]
["Самара","ДО \"Самара-Центральный\" , 443013, г. Самара, ул. Мичурина, 19В","0471","MOS1",null,null,{"$f":"IFERROR(INDEX(Отделения[отделение],SMALL(IF(Отделения[Город]=$G$1,ROW(Отделения[Город])-1),ROW(A32)-ROW($A$2)+1)),\"\")","v":""},{"$f":"IFERROR(INDEX(Отделения[отделение],SMALL(IF(Отделения[Город]=$H$1,ROW(Отделения[Город])-1),ROW(A32)-ROW($A$2)+1)),\"\")","v":""},{"$f":"IFERROR(INDEX(Отделения[отделение],SMALL(IF(Отделения[Город]=$I$1,ROW(Отделения[Город])-1),ROW(A32)-ROW($A$2)+1)),\"\")","v":""},{"$f":"IFERROR(INDEX(Отделения[отделение],SMALL(IF(Отделения[Город]=$J$1,ROW(Отделения[Город])-1),ROW(A32)-ROW($A$2)+1)),\"\")","v":""},{"$f":"IFERROR(INDEX(Отделения[отделение],SMALL(IF(Отделения[Город]=$K$1,ROW(Отделения[Город])-1),ROW(A32)-ROW($A$2)+1)),\"\")","v":""},{"$f":"IFERROR(INDEX(Отделения[отделение],SMALL(IF(Отделения[Город]=$L$1,ROW(Отделения[Город])-1),ROW(A32)-ROW($A$2)+1)),\"\")","v":""},{"$f":"IFERROR(INDEX(Отделения[отделение],SMALL(IF(Отделения[Город]=$M$1,ROW(Отделения[Город])-1),ROW(B32)-ROW($A$2)+1)),\"\")","v":""},{"$f":"IFERROR(INDEX(Отделения[отделение],SMALL(IF(Отделения[Город]=$N$1,ROW(Отделения[Город])-1),ROW(#REF!)-ROW($A$2)+1)),\"\")","v":""},{"$f":"IFERROR(INDEX(Отделения[отделение],SMALL(IF(Отделения[Город]=$O$1,ROW(Отделения[Город])-1),ROW(C32)-ROW($A$2)+1)),\"\")","v":""},{"$f":"IFERROR(INDEX(Отделения[отделение],SMALL(IF(Отделения[Город]=$P$1,ROW(Отделения[Город])-1),ROW(D32)-ROW($A$2)+1)),\"\")","v":""},{"$f":"IFERROR(INDEX(Отделения[отделение],SMALL(IF(Отделения[Город]=$Q$1,ROW(Отделения[Город])-1),ROW(F32)-ROW($A$2)+1)),\"\")","v":""},{"$f":"IFERROR(INDEX(Отделения[отделение],SMALL(IF(Отделения[Город]=$R$1,ROW(Отделения[Город])-1),ROW(#REF!)-ROW($A$2)+1)),\"\")","v":""},{"$f":"IFERROR(INDEX(Отделения[отделение],SMALL(IF(Отделения[Город]=$S$1,ROW(Отделения[Город])-1),ROW(G32)-ROW($A$2)+1)),\"\")","v":""},{"$f":"IFERROR(INDEX(Отделения[отделение],SMALL(IF(Отделения[Город]=$T$1,ROW(Отделения[Город])-1),ROW(H32)-ROW($A$2)+1)),\"\")","v":""},{"$f":"IFERROR(INDEX(Отделения[отделение],SMALL(IF(Отделения[Город]=$U$1,ROW(Отделения[Город])-1),ROW(I32)-ROW($A$2)+1)),\"\")","v":""},{"$f":"IFERROR(INDEX(Отделения[отделение],SMALL(IF(Отделения[Город]=$V$1,ROW(Отделения[Город])-1),ROW(J32)-ROW($A$2)+1)),\"\")","v":""},{"$f":"IFERROR(INDEX(Отделения[отделение],SMALL(IF(Отделения[Город]=$W$1,ROW(Отделения[Город])-1),ROW(K32)-ROW($A$2)+1)),\"\")","v":""},{"$f":"IFERROR(INDEX(Отделения[отделение],SMALL(IF(Отделения[Город]=$X$1,ROW(Отделения[Город])-1),ROW(L32)-ROW($A$2)+1)),\"\")","v":""},{"$f":"IFERROR(INDEX(Отделения[отделение],SMALL(IF(Отделения[Город]=$Y$1,ROW(Отделения[Город])-1),ROW(M32)-ROW($A$2)+1)),\"\")","v":""},{"$f":"IFERROR(INDEX(Отделения[отделение],SMALL(IF(Отделения[Город]=$Z$1,ROW(Отделения[Город])-1),ROW(N32)-ROW($A$2)+1)),\"\")","v":""},{"$f":"IFERROR(INDEX(Отделения[отделение],SMALL(IF(Отделения[Город]=$AA$1,ROW(Отделения[Город])-1),ROW(O32)-ROW($A$2)+1)),\"\")","v":""},{"$f":"IFERROR(INDEX(Отделения[отделение],SMALL(IF(Отделения[Город]=$AB$1,ROW(Отделения[Город])-1),ROW(P32)-ROW($A$2)+1)),\"\")","v":""},{"$f":"IFERROR(INDEX(Отделения[отделение],SMALL(IF(Отделения[Город]=$AC$1,ROW(Отделения[Город])-1),ROW(Q32)-ROW($A$2)+1)),\"\")","v":""},{"$f":"IFERROR(INDEX(Отделения[отделение],SMALL(IF(Отделения[Город]=$AD$1,ROW(Отделения[Город])-1),ROW(R32)-ROW($A$2)+1)),\"\")","v":""},{"$f":"IFERROR(INDEX(Отделения[отделение],SMALL(IF(Отделения[Город]=$AE$1,ROW(Отделения[Город])-1),ROW(S32)-ROW($A$2)+1)),\"\")","v":""},{"$f":"IFERROR(INDEX(Отделения[отделение],SMALL(IF(Отделения[Город]=$AF$1,ROW(Отделения[Город])-1),ROW(T32)-ROW($A$2)+1)),\"\")","v":""},{"$f":"IFERROR(INDEX(Отделения[отделение],SMALL(IF(Отделения[Город]=$AG$1,ROW(Отделения[Город])-1),ROW(U32)-ROW($A$2)+1)),\"\")","v":""},{"$f":"IFERROR(INDEX(Отделения[отделение],SMALL(IF(Отделения[Город]=$AH$1,ROW(Отделения[Город])-1),ROW(V32)-ROW($A$2)+1)),\"\")","v":""},{"$f":"IFERROR(INDEX(Отделения[отделение],SMALL(IF(Отделения[Город]=$AI$1,ROW(Отделения[Город])-1),ROW(AB32)-ROW($A$2)+1)),\"\")","v":""},{"$f":"IFERROR(INDEX(Отделения[отделение],SMALL(IF(Отделения[Город]=$AJ$1,ROW(Отделения[Город])-1),ROW(AB32)-ROW($A$2)+1)),\"\")","v":""},{"$f":"IFERROR(INDEX(Отделения[отделение],SMALL(IF(Отделения[Город]=$AK$1,ROW(Отделения[Город])-1),ROW(AB32)-ROW($A$2)+1)),\"\")","v":""},{"$f":"IFERROR(INDEX(Отделения[отделение],SMALL(IF(Отделения[Город]=$AL$1,ROW(Отделения[Город])-1),ROW(AB32)-ROW($A$2)+1)),\"\")","v":""},{"$f":"IFERROR(INDEX(Отделения[отделение],SMALL(IF(Отделения[Город]=$AM$1,ROW(Отделения[Город])-1),ROW(AB32)-ROW($A$2)+1)),\"\")","v":""},{"$f":"IFERROR(INDEX(Отделения[отделение],SMALL(IF(Отделения[Город]=$AN$1,ROW(Отделения[Город])-1),ROW(AB32)-ROW($A$2)+1)),\"\")","v":""},{"$f":"IFERROR(INDEX(Отделения[отделение],SMALL(IF(Отделения[Город]=$AO$1,ROW(Отделения[Город])-1),ROW(AB32)-ROW($A$2)+1)),\"\")","v":""},{"$f":"IFERROR(INDEX(Отделения[отделение],SMALL(IF(Отделения[Город]=$AP$1,ROW(Отделения[Город])-1),ROW(AB32)-ROW($A$2)+1)),\"\")","v":""},{"$f":"IFERROR(INDEX(Отделения[отделение],SMALL(IF(Отделения[Город]=$AQ$1,ROW(Отделения[Город])-1),ROW(AB32)-ROW($A$2)+1)),\"\")","v":""},{"$f":"IFERROR(INDEX(Отделения[отделение],SMALL(IF(Отделения[Город]=$AR$1,ROW(Отделения[Город])-1),ROW(AB32)-ROW($A$2)+1)),\"\")","v":""},{"$f":"IFERROR(INDEX(Отделения[отделение],SMALL(IF(Отделения[Город]=$AS$1,ROW(Отделения[Город])-1),ROW(AB32)-ROW($A$2)+1)),\"\")","v":""},{"$f":"IFERROR(INDEX(Отделения[отделение],SMALL(IF(Отделения[Город]=$AT$1,ROW(Отделения[Город])-1),ROW(AB32)-ROW($A$2)+1)),\"\")","v":""},{"$f":"IFERROR(INDEX(Отделения[отделение],SMALL(IF(Отделения[Город]=$AU$1,ROW(Отделения[Город])-1),ROW(AB32)-ROW($A$2)+1)),\"\")","v":""},{"$f":"IFERROR(INDEX(Отделения[отделение],SMALL(IF(Отделения[Город]=$AV$1,ROW(Отделения[Город])-1),ROW(AB32)-ROW($A$2)+1)),\"\")","v":""},{"$f":"IFERROR(INDEX(Отделения[отделение],SMALL(IF(Отделения[Город]=$AW$1,ROW(Отделения[Город])-1),ROW(AB32)-ROW($A$2)+1)),\"\")","v":""},{"$f":"IFERROR(INDEX(Отделения[отделение],SMALL(IF(Отделения[Город]=$AX$1,ROW(Отделения[Город])-1),ROW(AB32)-ROW($A$2)+1)),\"\")","v":""},{"$f":"IFERROR(INDEX(Отделения[отделение],SMALL(IF(Отделения[Город]=$AY$1,ROW(Отделения[Город])-1),ROW(AB32)-ROW($A$2)+1)),\"\")","v":""},{"$f":"IFERROR(INDEX(Отделения[отделение],SMALL(IF(Отделения[Город]=$AZ$1,ROW(Отделения[Город])-1),ROW(AB32)-ROW($A$2)+1)),\"\")","v":""},{"$f":"IFERROR(INDEX(Отделения[отделение],SMALL(IF(Отделения[Город]=$BA$1,ROW(Отделения[Город])-1),ROW(AB32)-ROW($A$2)+1)),\"\")","v":""},{"$f":"IFERROR(INDEX(Отделения[отделение],SMALL(IF(Отделения[Город]=$BB$1,ROW(Отделения[Город])-1),ROW(AB32)-ROW($A$2)+1)),\"\")","v":""},{"$f":"IFERROR(INDEX(Отделения[отделение],SMALL(IF(Отделения[Город]=$BC$1,ROW(Отделения[Город])-1),ROW(AC32)-ROW($A$2)+1)),\"\")","v":""},{"$f":"IFERROR(INDEX(Отделения[отделение],SMALL(IF(Отделения[Город]=$BD$1,ROW(Отделения[Город])-1),ROW(AD32)-ROW($A$2)+1)),\"\")","v":""},{"$f":"IFERROR(INDEX(Отделения[отделение],SMALL(IF(Отделения[Город]=$BE$1,ROW(Отделения[Город])-1),ROW(AE32)-ROW($A$2)+1)),\"\")","v":""},{"$f":"IFERROR(INDEX(Отделения[отделение],SMALL(IF(Отделения[Город]=$BF$1,ROW(Отделения[Город])-1),ROW(AF32)-ROW($A$2)+1)),\"\")","v":""},{"$f":"IFERROR(INDEX(Отделения[отделение],SMALL(IF(Отделения[Город]=$BG$1,ROW(Отделения[Город])-1),ROW(AG32)-ROW($A$2)+1)),\"\")","v":""},{"$f":"IFERROR(INDEX(Отделения[отделение],SMALL(IF(Отделения[Город]=$BH$1,ROW(Отделения[Город])-1),ROW(AH32)-ROW($A$2)+1)),\"\")","v":""},{"$f":"IFERROR(INDEX(Отделения[отделение],SMALL(IF(Отделения[Город]=$BI$1,ROW(Отделения[Город])-1),ROW(AI32)-ROW($A$2)+1)),\"\")","v":""},{"$f":"IFERROR(INDEX(Отделения[отделение],SMALL(IF(Отделения[Город]=$BJ$1,ROW(Отделения[Город])-1),ROW(AJ32)-ROW($A$2)+1)),\"\")","v":""},{"$f":"IFERROR(INDEX(Отделения[отделение],SMALL(IF(Отделения[Город]=$BK$1,ROW(Отделения[Город])-1),ROW(AK32)-ROW($A$2)+1)),\"\")","v":""},{"$f":"IFERROR(INDEX(Отделения[отделение],SMALL(IF(Отделения[Город]=$BL$1,ROW(Отделения[Город])-1),ROW(AL32)-ROW($A$2)+1)),\"\")","v":""},{"$f":"IFERROR(INDEX(Отделения[отделение],SMALL(IF(Отделения[Город]=$BM$1,ROW(Отделения[Город])-1),ROW(AM32)-ROW($A$2)+1)),\"\")","v":""},{"$f":"IFERROR(INDEX(Отделения[отделение],SMALL(IF(Отделения[Город]=$BN$1,ROW(Отделения[Город])-1),ROW(AN32)-ROW($A$2)+1)),\"\")","v":""},{"$f":"IFERROR(INDEX(Отделения[отделение],SMALL(IF(Отделения[Город]=$BO$1,ROW(Отделения[Город])-1),ROW(AO32)-ROW($A$2)+1)),\"\")","v":""},{"$f":"IFERROR(INDEX(Отделения[отделение],SMALL(IF(Отделения[Город]=$BP$1,ROW(Отделения[Город])-1),ROW(AP32)-ROW($A$2)+1)),\"\")","v":""},{"$f":"IFERROR(INDEX(Отделения[отделение],SMALL(IF(Отделения[Город]=$BQ$1,ROW(Отделения[Город])-1),ROW(AQ32)-ROW($A$2)+1)),\"\")","v":""},{"$f":"IFERROR(INDEX(Отделения[отделение],SMALL(IF(Отделения[Город]=$BR$1,ROW(Отделения[Город])-1),ROW(AR32)-ROW($A$2)+1)),\"\")","v":""},{"$f":"IFERROR(INDEX(Отделения[отделение],SMALL(IF(Отделения[Город]=$BS$1,ROW(Отделения[Город])-1),ROW(AS32)-ROW($A$2)+1)),\"\")","v":""},{"$f":"IFERROR(INDEX(Отделения[отделение],SMALL(IF(Отделения[Город]=$BT$1,ROW(Отделения[Город])-1),ROW(AT32)-ROW($A$2)+1)),\"\")","v":""},{"$f":"IFERROR(INDEX(Отделения[отделение],SMALL(IF(Отделения[Город]=$BU$1,ROW(Отделения[Город])-1),ROW(AU32)-ROW($A$2)+1)),\"\")","v":""},{"$f":"IFERROR(INDEX(Отделения[отделение],SMALL(IF(Отделения[Город]=$BV$1,ROW(Отделения[Город])-1),ROW(AV32)-ROW($A$2)+1)),\"\")","v":""},{"$f":"IFERROR(INDEX(Отделения[отделение],SMALL(IF(Отделения[Город]=$BW$1,ROW(Отделения[Город])-1),ROW(AV32)-ROW($A$2)+1)),\"\")","v":""},{"$f":"IFERROR(INDEX(Отделения[отделение],SMALL(IF(Отделения[Город]=$BX$1,ROW(Отделения[Город])-1),ROW(AV32)-ROW($A$2)+1)),\"\")","v":""},{"$f":"IFERROR(INDEX(Отделения[отделение],SMALL(IF(Отделения[Город]=$BY$1,ROW(Отделения[Город])-1),ROW(AV32)-ROW($A$2)+1)),\"\")","v":""},{"$f":"IFERROR(INDEX(Отделения[отделение],SMALL(IF(Отделения[Город]=$BZ$1,ROW(Отделения[Город])-1),ROW(AV32)-ROW($A$2)+1)),\"\")","v":""},{"$f":"IFERROR(INDEX(Отделения[отделение],SMALL(IF(Отделения[Город]=$CA$1,ROW(Отделения[Город])-1),ROW(AV32)-ROW($A$2)+1)),\"\")","v":""},{"$f":"IFERROR(INDEX(Отделения[отделение],SMALL(IF(Отделения[Город]=$CB$1,ROW(Отделения[Город])-1),ROW(AV32)-ROW($A$2)+1)),\"\")","v":""},{"$f":"IFERROR(INDEX(Отделения[отделение],SMALL(IF(Отделения[Город]=$CC$1,ROW(Отделения[Город])-1),ROW(AV32)-ROW($A$2)+1)),\"\")","v":""},{"$f":"IFERROR(INDEX(Отделения[отделение],SMALL(IF(Отделения[Город]=$CD$1,ROW(Отделения[Город])-1),ROW(AV32)-ROW($A$2)+1)),\"\")","v":""},{"$f":"IFERROR(INDEX(Отделения[отделение],SMALL(IF(Отделения[Город]=$CE$1,ROW(Отделения[Город])-1),ROW(AV32)-ROW($A$2)+1)),\"\")","v":""},{"$f":"IFERROR(INDEX(Отделения[отделение],SMALL(IF(Отделения[Город]=$CF$1,ROW(Отделения[Город])-1),ROW(AV32)-ROW($A$2)+1)),\"\")","v":""},{"$f":"IFERROR(INDEX(Отделения[отделение],SMALL(IF(Отделения[Город]=$CG$1,ROW(Отделения[Город])-1),ROW(AV32)-ROW($A$2)+1)),\"\")","v":""},{"$f":"IFERROR(INDEX(Отделения[отделение],SMALL(IF(Отделения[Город]=$CH$1,ROW(Отделения[Город])-1),ROW(AW32)-ROW($A$2)+1)),\"\")","v":""},{"$f":"IFERROR(INDEX(Отделения[отделение],SMALL(IF(Отделения[Город]=$CI$1,ROW(Отделения[Город])-1),ROW(AX32)-ROW($A$2)+1)),\"\")","v":""},{"$f":"IFERROR(INDEX(Отделения[отделение],SMALL(IF(Отделения[Город]=$CJ$1,ROW(Отделения[Город])-1),ROW(AY32)-ROW($A$2)+1)),\"\")","v":""},{"$f":"IFERROR(INDEX(Отделения[отделение],SMALL(IF(Отделения[Город]=$CK$1,ROW(Отделения[Город])-1),ROW(AZ32)-ROW($A$2)+1)),\"\")","v":""},{"$f":"IFERROR(INDEX(Отделения[отделение],SMALL(IF(Отделения[Город]=$CL$1,ROW(Отделения[Город])-1),ROW(BA32)-ROW($A$2)+1)),\"\")","v":""},{"$f":"IFERROR(INDEX(Отделения[отделение],SMALL(IF(Отделения[Город]=$CM$1,ROW(Отделения[Город])-1),ROW(BB32)-ROW($A$2)+1)),\"\")","v":""},{"$f":"IFERROR(INDEX(Отделения[отделение],SMALL(IF(Отделения[Город]=$CN$1,ROW(Отделения[Город])-1),ROW(BC32)-ROW($A$2)+1)),\"\")","v":""},{"$f":"IFERROR(INDEX(Отделения[отделение],SMALL(IF(Отделения[Город]=$CO$1,ROW(Отделения[Город])-1),ROW(BD32)-ROW($A$2)+1)),\"\")","v":""},{"$f":"IFERROR(INDEX(Отделения[отделение],SMALL(IF(Отделения[Город]=$CP$1,ROW(Отделения[Город])-1),ROW(BE32)-ROW($A$2)+1)),\"\")","v":""},{"$f":"IFERROR(INDEX(Отделения[отделение],SMALL(IF(Отделения[Город]=$CQ$1,ROW(Отделения[Город])-1),ROW(BF32)-ROW($A$2)+1)),\"\")","v":""},{"$f":"IFERROR(INDEX(Отделения[отделение],SMALL(IF(Отделения[Город]=$CR$1,ROW(Отделения[Город])-1),ROW(BG32)-ROW($A$2)+1)),\"\")","v":""},{"$f":"IFERROR(INDEX(Отделения[отделение],SMALL(IF(Отделения[Город]=$CS$1,ROW(Отделения[Город])-1),ROW(BH32)-ROW($A$2)+1)),\"\")","v":""},{"$f":"IFERROR(INDEX(Отделения[отделение],SMALL(IF(Отделения[Город]=$CT$1,ROW(Отделения[Город])-1),ROW(BI32)-ROW($A$2)+1)),\"\")","v":""},{"$f":"IFERROR(INDEX(Отделения[отделение],SMALL(IF(Отделения[Город]=$CU$1,ROW(Отделения[Город])-1),ROW(BJ32)-ROW($A$2)+1)),\"\")","v":""},{"$f":"IFERROR(INDEX(Отделения[отделение],SMALL(IF(Отделения[Город]=$CV$1,ROW(Отделения[Город])-1),ROW(BK32)-ROW($A$2)+1)),\"\")","v":""},{"$f":"IFERROR(INDEX(Отделения[отделение],SMALL(IF(Отделения[Город]=$CW$1,ROW(Отделения[Город])-1),ROW(BL32)-ROW($A$2)+1)),\"\")","v":""},{"$f":"IFERROR(INDEX(Отделения[отделение],SMALL(IF(Отделения[Город]=$CX$1,ROW(Отделения[Город])-1),ROW(BM32)-ROW($A$2)+1)),\"\")","v":""},{"$f":"IFERROR(INDEX(Отделения[отделение],SMALL(IF(Отделения[Город]=$CY$1,ROW(Отделения[Город])-1),ROW(BM32)-ROW($A$2)+1)),\"\")","v":""},{"$f":"IFERROR(INDEX(Отделения[отделение],SMALL(IF(Отделения[Город]=$CZ$1,ROW(Отделения[Город])-1),ROW(BM32)-ROW($A$2)+1)),\"\")","v":""},{"$f":"IFERROR(INDEX(Отделения[отделение],SMALL(IF(Отделения[Город]=$DA$1,ROW(Отделения[Город])-1),ROW(BM32)-ROW($A$2)+1)),\"\")","v":""},{"$f":"IFERROR(INDEX(Отделения[отделение],SMALL(IF(Отделения[Город]=$DB$1,ROW(Отделения[Город])-1),ROW(BM32)-ROW($A$2)+1)),\"\")","v":""}]
["Санкт-Петербург","ДО \"СПБ-Грибоедовский\" , 191186, г. Санкт-Петербург,Б.Конюшенная улица, д.19/8. литА.24Н.25Н","0473","MOSP",null,null,{"$f":"IFERROR(INDEX(Отделения[отделение],SMALL(IF(Отделения[Город]=$G$1,ROW(Отделения[Город])-1),ROW(A33)-ROW($A$2)+1)),\"\")","v":""},{"$f":"IFERROR(INDEX(Отделения[отделение],SMALL(IF(Отделения[Город]=$H$1,ROW(Отделения[Город])-1),ROW(A33)-ROW($A$2)+1)),\"\")","v":""},{"$f":"IFERROR(INDEX(Отделения[отделение],SMALL(IF(Отделения[Город]=$I$1,ROW(Отделения[Город])-1),ROW(A33)-ROW($A$2)+1)),\"\")","v":""},{"$f":"IFERROR(INDEX(Отделения[отделение],SMALL(IF(Отделения[Город]=$J$1,ROW(Отделения[Город])-1),ROW(A33)-ROW($A$2)+1)),\"\")","v":""},{"$f":"IFERROR(INDEX(Отделения[отделение],SMALL(IF(Отделения[Город]=$K$1,ROW(Отделения[Город])-1),ROW(A33)-ROW($A$2)+1)),\"\")","v":""},{"$f":"IFERROR(INDEX(Отделения[отделение],SMALL(IF(Отделения[Город]=$L$1,ROW(Отделения[Город])-1),ROW(A33)-ROW($A$2)+1)),\"\")","v":""},{"$f":"IFERROR(INDEX(Отделения[отделение],SMALL(IF(Отделения[Город]=$M$1,ROW(Отделения[Город])-1),ROW(B33)-ROW($A$2)+1)),\"\")","v":""},{"$f":"IFERROR(INDEX(Отделения[отделение],SMALL(IF(Отделения[Город]=$N$1,ROW(Отделения[Город])-1),ROW(#REF!)-ROW($A$2)+1)),\"\")","v":""},{"$f":"IFERROR(INDEX(Отделения[отделение],SMALL(IF(Отделения[Город]=$O$1,ROW(Отделения[Город])-1),ROW(C33)-ROW($A$2)+1)),\"\")","v":""},{"$f":"IFERROR(INDEX(Отделения[отделение],SMALL(IF(Отделения[Город]=$P$1,ROW(Отделения[Город])-1),ROW(D33)-ROW($A$2)+1)),\"\")","v":""},{"$f":"IFERROR(INDEX(Отделения[отделение],SMALL(IF(Отделения[Город]=$Q$1,ROW(Отделения[Город])-1),ROW(F33)-ROW($A$2)+1)),\"\")","v":""},{"$f":"IFERROR(INDEX(Отделения[отделение],SMALL(IF(Отделения[Город]=$R$1,ROW(Отделения[Город])-1),ROW(#REF!)-ROW($A$2)+1)),\"\")","v":""},{"$f":"IFERROR(INDEX(Отделения[отделение],SMALL(IF(Отделения[Город]=$S$1,ROW(Отделения[Город])-1),ROW(G33)-ROW($A$2)+1)),\"\")","v":""},{"$f":"IFERROR(INDEX(Отделения[отделение],SMALL(IF(Отделения[Город]=$T$1,ROW(Отделения[Город])-1),ROW(H33)-ROW($A$2)+1)),\"\")","v":""},{"$f":"IFERROR(INDEX(Отделения[отделение],SMALL(IF(Отделения[Город]=$U$1,ROW(Отделения[Город])-1),ROW(I33)-ROW($A$2)+1)),\"\")","v":""},{"$f":"IFERROR(INDEX(Отделения[отделение],SMALL(IF(Отделения[Город]=$V$1,ROW(Отделения[Город])-1),ROW(J33)-ROW($A$2)+1)),\"\")","v":""},{"$f":"IFERROR(INDEX(Отделения[отделение],SMALL(IF(Отделения[Город]=$W$1,ROW(Отделения[Город])-1),ROW(K33)-ROW($A$2)+1)),\"\")","v":""},{"$f":"IFERROR(INDEX(Отделения[отделение],SMALL(IF(Отделения[Город]=$X$1,ROW(Отделения[Город])-1),ROW(L33)-ROW($A$2)+1)),\"\")","v":""},{"$f":"IFERROR(INDEX(Отделения[отделение],SMALL(IF(Отделения[Город]=$Y$1,ROW(Отделения[Город])-1),ROW(M33)-ROW($A$2)+1)),\"\")","v":""},{"$f":"IFERROR(INDEX(Отделения[отделение],SMALL(IF(Отделения[Город]=$Z$1,ROW(Отделения[Город])-1),ROW(N33)-ROW($A$2)+1)),\"\")","v":""},{"$f":"IFERROR(INDEX(Отделения[отделение],SMALL(IF(Отделения[Город]=$AA$1,ROW(Отделения[Город])-1),ROW(O33)-ROW($A$2)+1)),\"\")","v":""},{"$f":"IFERROR(INDEX(Отделения[отделение],SMALL(IF(Отделения[Город]=$AB$1,ROW(Отделения[Город])-1),ROW(P33)-ROW($A$2)+1)),\"\")","v":""},{"$f":"IFERROR(INDEX(Отделения[отделение],SMALL(IF(Отделения[Город]=$AC$1,ROW(Отделения[Город])-1),ROW(Q33)-ROW($A$2)+1)),\"\")","v":""},{"$f":"IFERROR(INDEX(Отделения[отделение],SMALL(IF(Отделения[Город]=$AD$1,ROW(Отделения[Город])-1),ROW(R33)-ROW($A$2)+1)),\"\")","v":""},{"$f":"IFERROR(INDEX(Отделения[отделение],SMALL(IF(Отделения[Город]=$AE$1,ROW(Отделения[Город])-1),ROW(S33)-ROW($A$2)+1)),\"\")","v":""},{"$f":"IFERROR(INDEX(Отделения[отделение],SMALL(IF(Отделения[Город]=$AF$1,ROW(Отделения[Город])-1),ROW(T33)-ROW($A$2)+1)),\"\")","v":""},{"$f":"IFERROR(INDEX(Отделения[отделение],SMALL(IF(Отделения[Город]=$AG$1,ROW(Отделения[Город])-1),ROW(U33)-ROW($A$2)+1)),\"\")","v":""},{"$f":"IFERROR(INDEX(Отделения[отделение],SMALL(IF(Отделения[Город]=$AH$1,ROW(Отделения[Город])-1),ROW(V33)-ROW($A$2)+1)),\"\")","v":""},{"$f":"IFERROR(INDEX(Отделения[отделение],SMALL(IF(Отделения[Город]=$AI$1,ROW(Отделения[Город])-1),ROW(AB33)-ROW($A$2)+1)),\"\")","v":""},{"$f":"IFERROR(INDEX(Отделения[отделение],SMALL(IF(Отделения[Город]=$AJ$1,ROW(Отделения[Город])-1),ROW(AB33)-ROW($A$2)+1)),\"\")","v":""},{"$f":"IFERROR(INDEX(Отделения[отделение],SMALL(IF(Отделения[Город]=$AK$1,ROW(Отделения[Город])-1),ROW(AB33)-ROW($A$2)+1)),\"\")","v":""},{"$f":"IFERROR(INDEX(Отделения[отделение],SMALL(IF(Отделения[Город]=$AL$1,ROW(Отделения[Город])-1),ROW(AB33)-ROW($A$2)+1)),\"\")","v":""},{"$f":"IFERROR(INDEX(Отделения[отделение],SMALL(IF(Отделения[Город]=$AM$1,ROW(Отделения[Город])-1),ROW(AB33)-ROW($A$2)+1)),\"\")","v":""},{"$f":"IFERROR(INDEX(Отделения[отделение],SMALL(IF(Отделения[Город]=$AN$1,ROW(Отделения[Город])-1),ROW(AB33)-ROW($A$2)+1)),\"\")","v":""},{"$f":"IFERROR(INDEX(Отделения[отделение],SMALL(IF(Отделения[Город]=$AO$1,ROW(Отделения[Город])-1),ROW(AB33)-ROW($A$2)+1)),\"\")","v":""},{"$f":"IFERROR(INDEX(Отделения[отделение],SMALL(IF(Отделения[Город]=$AP$1,ROW(Отделения[Город])-1),ROW(AB33)-ROW($A$2)+1)),\"\")","v":""},{"$f":"IFERROR(INDEX(Отделения[отделение],SMALL(IF(Отделения[Город]=$AQ$1,ROW(Отделения[Город])-1),ROW(AB33)-ROW($A$2)+1)),\"\")","v":""},{"$f":"IFERROR(INDEX(Отделения[отделение],SMALL(IF(Отделения[Город]=$AR$1,ROW(Отделения[Город])-1),ROW(AB33)-ROW($A$2)+1)),\"\")","v":""},{"$f":"IFERROR(INDEX(Отделения[отделение],SMALL(IF(Отделения[Город]=$AS$1,ROW(Отделения[Город])-1),ROW(AB33)-ROW($A$2)+1)),\"\")","v":""},{"$f":"IFERROR(INDEX(Отделения[отделение],SMALL(IF(Отделения[Город]=$AT$1,ROW(Отделения[Город])-1),ROW(AB33)-ROW($A$2)+1)),\"\")","v":""},{"$f":"IFERROR(INDEX(Отделения[отделение],SMALL(IF(Отделения[Город]=$AU$1,ROW(Отделения[Город])-1),ROW(AB33)-ROW($A$2)+1)),\"\")","v":""},{"$f":"IFERROR(INDEX(Отделения[отделение],SMALL(IF(Отделения[Город]=$AV$1,ROW(Отделения[Город])-1),ROW(AB33)-ROW($A$2)+1)),\"\")","v":""},{"$f":"IFERROR(INDEX(Отделения[отделение],SMALL(IF(Отделения[Город]=$AW$1,ROW(Отделения[Город])-1),ROW(AB33)-ROW($A$2)+1)),\"\")","v":""},{"$f":"IFERROR(INDEX(Отделения[отделение],SMALL(IF(Отделения[Город]=$AX$1,ROW(Отделения[Город])-1),ROW(AB33)-ROW($A$2)+1)),\"\")","v":""},{"$f":"IFERROR(INDEX(Отделения[отделение],SMALL(IF(Отделения[Город]=$AY$1,ROW(Отделения[Город])-1),ROW(AB33)-ROW($A$2)+1)),\"\")","v":""},{"$f":"IFERROR(INDEX(Отделения[отделение],SMALL(IF(Отделения[Город]=$AZ$1,ROW(Отделения[Город])-1),ROW(AB33)-ROW($A$2)+1)),\"\")","v":""},{"$f":"IFERROR(INDEX(Отделения[отделение],SMALL(IF(Отделения[Город]=$BA$1,ROW(Отделения[Город])-1),ROW(AB33)-ROW($A$2)+1)),\"\")","v":""},{"$f":"IFERROR(INDEX(Отделения[отделение],SMALL(IF(Отделения[Город]=$BB$1,ROW(Отделения[Город])-1),ROW(AB33)-ROW($A$2)+1)),\"\")","v":""},{"$f":"IFERROR(INDEX(Отделения[отделение],SMALL(IF(Отделения[Город]=$BC$1,ROW(Отделения[Город])-1),ROW(AC33)-ROW($A$2)+1)),\"\")","v":""},{"$f":"IFERROR(INDEX(Отделения[отделение],SMALL(IF(Отделения[Город]=$BD$1,ROW(Отделения[Город])-1),ROW(AD33)-ROW($A$2)+1)),\"\")","v":""},{"$f":"IFERROR(INDEX(Отделения[отделение],SMALL(IF(Отделения[Город]=$BE$1,ROW(Отделения[Город])-1),ROW(AE33)-ROW($A$2)+1)),\"\")","v":""},{"$f":"IFERROR(INDEX(Отделения[отделение],SMALL(IF(Отделения[Город]=$BF$1,ROW(Отделения[Город])-1),ROW(AF33)-ROW($A$2)+1)),\"\")","v":""},{"$f":"IFERROR(INDEX(Отделения[отделение],SMALL(IF(Отделения[Город]=$BG$1,ROW(Отделения[Город])-1),ROW(AG33)-ROW($A$2)+1)),\"\")","v":""},{"$f":"IFERROR(INDEX(Отделения[отделение],SMALL(IF(Отделения[Город]=$BH$1,ROW(Отделения[Город])-1),ROW(AH33)-ROW($A$2)+1)),\"\")","v":""},{"$f":"IFERROR(INDEX(Отделения[отделение],SMALL(IF(Отделения[Город]=$BI$1,ROW(Отделения[Город])-1),ROW(AI33)-ROW($A$2)+1)),\"\")","v":""},{"$f":"IFERROR(INDEX(Отделения[отделение],SMALL(IF(Отделения[Город]=$BJ$1,ROW(Отделения[Город])-1),ROW(AJ33)-ROW($A$2)+1)),\"\")","v":""},{"$f":"IFERROR(INDEX(Отделения[отделение],SMALL(IF(Отделения[Город]=$BK$1,ROW(Отделения[Город])-1),ROW(AK33)-ROW($A$2)+1)),\"\")","v":""},{"$f":"IFERROR(INDEX(Отделения[отделение],SMALL(IF(Отделения[Город]=$BL$1,ROW(Отделения[Город])-1),ROW(AL33)-ROW($A$2)+1)),\"\")","v":""},{"$f":"IFERROR(INDEX(Отделения[отделение],SMALL(IF(Отделения[Город]=$BM$1,ROW(Отделения[Город])-1),ROW(AM33)-ROW($A$2)+1)),\"\")","v":""},{"$f":"IFERROR(INDEX(Отделения[отделение],SMALL(IF(Отделения[Город]=$BN$1,ROW(Отделения[Город])-1),ROW(AN33)-ROW($A$2)+1)),\"\")","v":""},{"$f":"IFERROR(INDEX(Отделения[отделение],SMALL(IF(Отделения[Город]=$BO$1,ROW(Отделения[Город])-1),ROW(AO33)-ROW($A$2)+1)),\"\")","v":""},{"$f":"IFERROR(INDEX(Отделения[отделение],SMALL(IF(Отделения[Город]=$BP$1,ROW(Отделения[Город])-1),ROW(AP33)-ROW($A$2)+1)),\"\")","v":""},{"$f":"IFERROR(INDEX(Отделения[отделение],SMALL(IF(Отделения[Город]=$BQ$1,ROW(Отделения[Город])-1),ROW(AQ33)-ROW($A$2)+1)),\"\")","v":""},{"$f":"IFERROR(INDEX(Отделения[отделение],SMALL(IF(Отделения[Город]=$BR$1,ROW(Отделения[Город])-1),ROW(AR33)-ROW($A$2)+1)),\"\")","v":""},{"$f":"IFERROR(INDEX(Отделения[отделение],SMALL(IF(Отделения[Город]=$BS$1,ROW(Отделения[Город])-1),ROW(AS33)-ROW($A$2)+1)),\"\")","v":""},{"$f":"IFERROR(INDEX(Отделения[отделение],SMALL(IF(Отделения[Город]=$BT$1,ROW(Отделения[Город])-1),ROW(AT33)-ROW($A$2)+1)),\"\")","v":""},{"$f":"IFERROR(INDEX(Отделения[отделение],SMALL(IF(Отделения[Город]=$BU$1,ROW(Отделения[Город])-1),ROW(AU33)-ROW($A$2)+1)),\"\")","v":""},{"$f":"IFERROR(INDEX(Отделения[отделение],SMALL(IF(Отделения[Город]=$BV$1,ROW(Отделения[Город])-1),ROW(AV33)-ROW($A$2)+1)),\"\")","v":""},{"$f":"IFERROR(INDEX(Отделения[отделение],SMALL(IF(Отделения[Город]=$BW$1,ROW(Отделения[Город])-1),ROW(AV33)-ROW($A$2)+1)),\"\")","v":""},{"$f":"IFERROR(INDEX(Отделения[отделение],SMALL(IF(Отделения[Город]=$BX$1,ROW(Отделения[Город])-1),ROW(AV33)-ROW($A$2)+1)),\"\")","v":""},{"$f":"IFERROR(INDEX(Отделения[отделение],SMALL(IF(Отделения[Город]=$BY$1,ROW(Отделения[Город])-1),ROW(AV33)-ROW($A$2)+1)),\"\")","v":""},{"$f":"IFERROR(INDEX(Отделения[отделение],SMALL(IF(Отделения[Город]=$BZ$1,ROW(Отделения[Город])-1),ROW(AV33)-ROW($A$2)+1)),\"\")","v":""},{"$f":"IFERROR(INDEX(Отделения[отделение],SMALL(IF(Отделения[Город]=$CA$1,ROW(Отделения[Город])-1),ROW(AV33)-ROW($A$2)+1)),\"\")","v":""},{"$f":"IFERROR(INDEX(Отделения[отделение],SMALL(IF(Отделения[Город]=$CB$1,ROW(Отделения[Город])-1),ROW(AV33)-ROW($A$2)+1)),\"\")","v":""},{"$f":"IFERROR(INDEX(Отделения[отделение],SMALL(IF(Отделения[Город]=$CC$1,ROW(Отделения[Город])-1),ROW(AV33)-ROW($A$2)+1)),\"\")","v":""},{"$f":"IFERROR(INDEX(Отделения[отделение],SMALL(IF(Отделения[Город]=$CD$1,ROW(Отделения[Город])-1),ROW(AV33)-ROW($A$2)+1)),\"\")","v":""},{"$f":"IFERROR(INDEX(Отделения[отделение],SMALL(IF(Отделения[Город]=$CE$1,ROW(Отделения[Город])-1),ROW(AV33)-ROW($A$2)+1)),\"\")","v":""},{"$f":"IFERROR(INDEX(Отделения[отделение],SMALL(IF(Отделения[Город]=$CF$1,ROW(Отделения[Город])-1),ROW(AV33)-ROW($A$2)+1)),\"\")","v":""},{"$f":"IFERROR(INDEX(Отделения[отделение],SMALL(IF(Отделения[Город]=$CG$1,ROW(Отделения[Город])-1),ROW(AV33)-ROW($A$2)+1)),\"\")","v":""},{"$f":"IFERROR(INDEX(Отделения[отделение],SMALL(IF(Отделения[Город]=$CH$1,ROW(Отделения[Город])-1),ROW(AW33)-ROW($A$2)+1)),\"\")","v":""},{"$f":"IFERROR(INDEX(Отделения[отделение],SMALL(IF(Отделения[Город]=$CI$1,ROW(Отделения[Город])-1),ROW(AX33)-ROW($A$2)+1)),\"\")","v":""},{"$f":"IFERROR(INDEX(Отделения[отделение],SMALL(IF(Отделения[Город]=$CJ$1,ROW(Отделения[Город])-1),ROW(AY33)-ROW($A$2)+1)),\"\")","v":""},{"$f":"IFERROR(INDEX(Отделения[отделение],SMALL(IF(Отделения[Город]=$CK$1,ROW(Отделения[Город])-1),ROW(AZ33)-ROW($A$2)+1)),\"\")","v":""},{"$f":"IFERROR(INDEX(Отделения[отделение],SMALL(IF(Отделения[Город]=$CL$1,ROW(Отделения[Город])-1),ROW(BA33)-ROW($A$2)+1)),\"\")","v":""},{"$f":"IFERROR(INDEX(Отделения[отделение],SMALL(IF(Отделения[Город]=$CM$1,ROW(Отделения[Город])-1),ROW(BB33)-ROW($A$2)+1)),\"\")","v":""},{"$f":"IFERROR(INDEX(Отделения[отделение],SMALL(IF(Отделения[Город]=$CN$1,ROW(Отделения[Город])-1),ROW(BC33)-ROW($A$2)+1)),\"\")","v":""},{"$f":"IFERROR(INDEX(Отделения[отделение],SMALL(IF(Отделения[Город]=$CO$1,ROW(Отделения[Город])-1),ROW(BD33)-ROW($A$2)+1)),\"\")","v":""},{"$f":"IFERROR(INDEX(Отделения[отделение],SMALL(IF(Отделения[Город]=$CP$1,ROW(Отделения[Город])-1),ROW(BE33)-ROW($A$2)+1)),\"\")","v":""},{"$f":"IFERROR(INDEX(Отделения[отделение],SMALL(IF(Отделения[Город]=$CQ$1,ROW(Отделения[Город])-1),ROW(BF33)-ROW($A$2)+1)),\"\")","v":""},{"$f":"IFERROR(INDEX(Отделения[отделение],SMALL(IF(Отделения[Город]=$CR$1,ROW(Отделения[Город])-1),ROW(BG33)-ROW($A$2)+1)),\"\")","v":""},{"$f":"IFERROR(INDEX(Отделения[отделение],SMALL(IF(Отделения[Город]=$CS$1,ROW(Отделения[Город])-1),ROW(BH33)-ROW($A$2)+1)),\"\")","v":""},{"$f":"IFERROR(INDEX(Отделения[отделение],SMALL(IF(Отделения[Город]=$CT$1,ROW(Отделения[Город])-1),ROW(BI33)-ROW($A$2)+1)),\"\")","v":""},{"$f":"IFERROR(INDEX(Отделения[отделение],SMALL(IF(Отделения[Город]=$CU$1,ROW(Отделения[Город])-1),ROW(BJ33)-ROW($A$2)+1)),\"\")","v":""},{"$f":"IFERROR(INDEX(Отделения[отделение],SMALL(IF(Отделения[Город]=$CV$1,ROW(Отделения[Город])-1),ROW(BK33)-ROW($A$2)+1)),\"\")","v":""},{"$f":"IFERROR(INDEX(Отделения[отделение],SMALL(IF(Отделения[Город]=$CW$1,ROW(Отделения[Город])-1),ROW(BL33)-ROW($A$2)+1)),\"\")","v":""},{"$f":"IFERROR(INDEX(Отделения[отделение],SMALL(IF(Отделения[Город]=$CX$1,ROW(Отделения[Город])-1),ROW(BM33)-ROW($A$2)+1)),\"\")","v":""},{"$f":"IFERROR(INDEX(Отделения[отделение],SMALL(IF(Отделения[Город]=$CY$1,ROW(Отделения[Город])-1),ROW(BM33)-ROW($A$2)+1)),\"\")","v":""},{"$f":"IFERROR(INDEX(Отделения[отделение],SMALL(IF(Отделения[Город]=$CZ$1,ROW(Отделения[Город])-1),ROW(BM33)-ROW($A$2)+1)),\"\")","v":""},{"$f":"IFERROR(INDEX(Отделения[отделение],SMALL(IF(Отделения[Город]=$DA$1,ROW(Отделения[Город])-1),ROW(BM33)-ROW($A$2)+1)),\"\")","v":""},{"$f":"IFERROR(INDEX(Отделения[отделение],SMALL(IF(Отделения[Город]=$DB$1,ROW(Отделения[Город])-1),ROW(BM33)-ROW($A$2)+1)),\"\")","v":""}]
["Санкт-Петербург","ДО \"СПБ-Новочеркасский\" , 195196, г. Санкт-Петербург, Новочеркасский пр-т, 43/17","0475","MOSZ",null,null,{"$f":"IFERROR(INDEX(Отделения[отделение],SMALL(IF(Отделения[Город]=$G$1,ROW(Отделения[Город])-1),ROW(A34)-ROW($A$2)+1)),\"\")","v":""},{"$f":"IFERROR(INDEX(Отделения[отделение],SMALL(IF(Отделения[Город]=$H$1,ROW(Отделения[Город])-1),ROW(A34)-ROW($A$2)+1)),\"\")","v":""},{"$f":"IFERROR(INDEX(Отделения[отделение],SMALL(IF(Отделения[Город]=$I$1,ROW(Отделения[Город])-1),ROW(A34)-ROW($A$2)+1)),\"\")","v":""},{"$f":"IFERROR(INDEX(Отделения[отделение],SMALL(IF(Отделения[Город]=$J$1,ROW(Отделения[Город])-1),ROW(A34)-ROW($A$2)+1)),\"\")","v":""},{"$f":"IFERROR(INDEX(Отделения[отделение],SMALL(IF(Отделения[Город]=$K$1,ROW(Отделения[Город])-1),ROW(A34)-ROW($A$2)+1)),\"\")","v":""},{"$f":"IFERROR(INDEX(Отделения[отделение],SMALL(IF(Отделения[Город]=$L$1,ROW(Отделения[Город])-1),ROW(A34)-ROW($A$2)+1)),\"\")","v":""},{"$f":"IFERROR(INDEX(Отделения[отделение],SMALL(IF(Отделения[Город]=$M$1,ROW(Отделения[Город])-1),ROW(B34)-ROW($A$2)+1)),\"\")","v":""},{"$f":"IFERROR(INDEX(Отделения[отделение],SMALL(IF(Отделения[Город]=$N$1,ROW(Отделения[Город])-1),ROW(#REF!)-ROW($A$2)+1)),\"\")","v":""},{"$f":"IFERROR(INDEX(Отделения[отделение],SMALL(IF(Отделения[Город]=$O$1,ROW(Отделения[Город])-1),ROW(C34)-ROW($A$2)+1)),\"\")","v":""},{"$f":"IFERROR(INDEX(Отделения[отделение],SMALL(IF(Отделения[Город]=$P$1,ROW(Отделения[Город])-1),ROW(D34)-ROW($A$2)+1)),\"\")","v":""},{"$f":"IFERROR(INDEX(Отделения[отделение],SMALL(IF(Отделения[Город]=$Q$1,ROW(Отделения[Город])-1),ROW(F34)-ROW($A$2)+1)),\"\")","v":""},{"$f":"IFERROR(INDEX(Отделения[отделение],SMALL(IF(Отделения[Город]=$R$1,ROW(Отделения[Город])-1),ROW(#REF!)-ROW($A$2)+1)),\"\")","v":""},{"$f":"IFERROR(INDEX(Отделения[отделение],SMALL(IF(Отделения[Город]=$S$1,ROW(Отделения[Город])-1),ROW(G34)-ROW($A$2)+1)),\"\")","v":""},{"$f":"IFERROR(INDEX(Отделения[отделение],SMALL(IF(Отделения[Город]=$T$1,ROW(Отделения[Город])-1),ROW(H34)-ROW($A$2)+1)),\"\")","v":""},{"$f":"IFERROR(INDEX(Отделения[отделение],SMALL(IF(Отделения[Город]=$U$1,ROW(Отделения[Город])-1),ROW(I34)-ROW($A$2)+1)),\"\")","v":""},{"$f":"IFERROR(INDEX(Отделения[отделение],SMALL(IF(Отделения[Город]=$V$1,ROW(Отделения[Город])-1),ROW(J34)-ROW($A$2)+1)),\"\")","v":""},{"$f":"IFERROR(INDEX(Отделения[отделение],SMALL(IF(Отделения[Город]=$W$1,ROW(Отделения[Город])-1),ROW(K34)-ROW($A$2)+1)),\"\")","v":""},{"$f":"IFERROR(INDEX(Отделения[отделение],SMALL(IF(Отделения[Город]=$X$1,ROW(Отделения[Город])-1),ROW(L34)-ROW($A$2)+1)),\"\")","v":""},{"$f":"IFERROR(INDEX(Отделения[отделение],SMALL(IF(Отделения[Город]=$Y$1,ROW(Отделения[Город])-1),ROW(M34)-ROW($A$2)+1)),\"\")","v":""},{"$f":"IFERROR(INDEX(Отделения[отделение],SMALL(IF(Отделения[Город]=$Z$1,ROW(Отделения[Город])-1),ROW(N34)-ROW($A$2)+1)),\"\")","v":""},{"$f":"IFERROR(INDEX(Отделения[отделение],SMALL(IF(Отделения[Город]=$AA$1,ROW(Отделения[Город])-1),ROW(O34)-ROW($A$2)+1)),\"\")","v":""},{"$f":"IFERROR(INDEX(Отделения[отделение],SMALL(IF(Отделения[Город]=$AB$1,ROW(Отделения[Город])-1),ROW(P34)-ROW($A$2)+1)),\"\")","v":""},{"$f":"IFERROR(INDEX(Отделения[отделение],SMALL(IF(Отделения[Город]=$AC$1,ROW(Отделения[Город])-1),ROW(Q34)-ROW($A$2)+1)),\"\")","v":""},{"$f":"IFERROR(INDEX(Отделения[отделение],SMALL(IF(Отделения[Город]=$AD$1,ROW(Отделения[Город])-1),ROW(R34)-ROW($A$2)+1)),\"\")","v":""},{"$f":"IFERROR(INDEX(Отделения[отделение],SMALL(IF(Отделения[Город]=$AE$1,ROW(Отделения[Город])-1),ROW(S34)-ROW($A$2)+1)),\"\")","v":""},{"$f":"IFERROR(INDEX(Отделения[отделение],SMALL(IF(Отделения[Город]=$AF$1,ROW(Отделения[Город])-1),ROW(T34)-ROW($A$2)+1)),\"\")","v":""},{"$f":"IFERROR(INDEX(Отделения[отделение],SMALL(IF(Отделения[Город]=$AG$1,ROW(Отделения[Город])-1),ROW(U34)-ROW($A$2)+1)),\"\")","v":""},{"$f":"IFERROR(INDEX(Отделения[отделение],SMALL(IF(Отделения[Город]=$AH$1,ROW(Отделения[Город])-1),ROW(V34)-ROW($A$2)+1)),\"\")","v":""},{"$f":"IFERROR(INDEX(Отделения[отделение],SMALL(IF(Отделения[Город]=$AI$1,ROW(Отделения[Город])-1),ROW(AB34)-ROW($A$2)+1)),\"\")","v":""},{"$f":"IFERROR(INDEX(Отделения[отделение],SMALL(IF(Отделения[Город]=$AJ$1,ROW(Отделения[Город])-1),ROW(AB34)-ROW($A$2)+1)),\"\")","v":""},{"$f":"IFERROR(INDEX(Отделения[отделение],SMALL(IF(Отделения[Город]=$AK$1,ROW(Отделения[Город])-1),ROW(AB34)-ROW($A$2)+1)),\"\")","v":""},{"$f":"IFERROR(INDEX(Отделения[отделение],SMALL(IF(Отделения[Город]=$AL$1,ROW(Отделения[Город])-1),ROW(AB34)-ROW($A$2)+1)),\"\")","v":""},{"$f":"IFERROR(INDEX(Отделения[отделение],SMALL(IF(Отделения[Город]=$AM$1,ROW(Отделения[Город])-1),ROW(AB34)-ROW($A$2)+1)),\"\")","v":""},{"$f":"IFERROR(INDEX(Отделения[отделение],SMALL(IF(Отделения[Город]=$AN$1,ROW(Отделения[Город])-1),ROW(AB34)-ROW($A$2)+1)),\"\")","v":""},{"$f":"IFERROR(INDEX(Отделения[отделение],SMALL(IF(Отделения[Город]=$AO$1,ROW(Отделения[Город])-1),ROW(AB34)-ROW($A$2)+1)),\"\")","v":""},{"$f":"IFERROR(INDEX(Отделения[отделение],SMALL(IF(Отделения[Город]=$AP$1,ROW(Отделения[Город])-1),ROW(AB34)-ROW($A$2)+1)),\"\")","v":""},{"$f":"IFERROR(INDEX(Отделения[отделение],SMALL(IF(Отделения[Город]=$AQ$1,ROW(Отделения[Город])-1),ROW(AB34)-ROW($A$2)+1)),\"\")","v":""},{"$f":"IFERROR(INDEX(Отделения[отделение],SMALL(IF(Отделения[Город]=$AR$1,ROW(Отделения[Город])-1),ROW(AB34)-ROW($A$2)+1)),\"\")","v":""},{"$f":"IFERROR(INDEX(Отделения[отделение],SMALL(IF(Отделения[Город]=$AS$1,ROW(Отделения[Город])-1),ROW(AB34)-ROW($A$2)+1)),\"\")","v":""},{"$f":"IFERROR(INDEX(Отделения[отделение],SMALL(IF(Отделения[Город]=$AT$1,ROW(Отделения[Город])-1),ROW(AB34)-ROW($A$2)+1)),\"\")","v":""},{"$f":"IFERROR(INDEX(Отделения[отделение],SMALL(IF(Отделения[Город]=$AU$1,ROW(Отделения[Город])-1),ROW(AB34)-ROW($A$2)+1)),\"\")","v":""},{"$f":"IFERROR(INDEX(Отделения[отделение],SMALL(IF(Отделения[Город]=$AV$1,ROW(Отделения[Город])-1),ROW(AB34)-ROW($A$2)+1)),\"\")","v":""},{"$f":"IFERROR(INDEX(Отделения[отделение],SMALL(IF(Отделения[Город]=$AW$1,ROW(Отделения[Город])-1),ROW(AB34)-ROW($A$2)+1)),\"\")","v":""},{"$f":"IFERROR(INDEX(Отделения[отделение],SMALL(IF(Отделения[Город]=$AX$1,ROW(Отделения[Город])-1),ROW(AB34)-ROW($A$2)+1)),\"\")","v":""},{"$f":"IFERROR(INDEX(Отделения[отделение],SMALL(IF(Отделения[Город]=$AY$1,ROW(Отделения[Город])-1),ROW(AB34)-ROW($A$2)+1)),\"\")","v":""},{"$f":"IFERROR(INDEX(Отделения[отделение],SMALL(IF(Отделения[Город]=$AZ$1,ROW(Отделения[Город])-1),ROW(AB34)-ROW($A$2)+1)),\"\")","v":""},{"$f":"IFERROR(INDEX(Отделения[отделение],SMALL(IF(Отделения[Город]=$BA$1,ROW(Отделения[Город])-1),ROW(AB34)-ROW($A$2)+1)),\"\")","v":""},{"$f":"IFERROR(INDEX(Отделения[отделение],SMALL(IF(Отделения[Город]=$BB$1,ROW(Отделения[Город])-1),ROW(AB34)-ROW($A$2)+1)),\"\")","v":""},{"$f":"IFERROR(INDEX(Отделения[отделение],SMALL(IF(Отделения[Город]=$BC$1,ROW(Отделения[Город])-1),ROW(AC34)-ROW($A$2)+1)),\"\")","v":""},{"$f":"IFERROR(INDEX(Отделения[отделение],SMALL(IF(Отделения[Город]=$BD$1,ROW(Отделения[Город])-1),ROW(AD34)-ROW($A$2)+1)),\"\")","v":""},{"$f":"IFERROR(INDEX(Отделения[отделение],SMALL(IF(Отделения[Город]=$BE$1,ROW(Отделения[Город])-1),ROW(AE34)-ROW($A$2)+1)),\"\")","v":""},{"$f":"IFERROR(INDEX(Отделения[отделение],SMALL(IF(Отделения[Город]=$BF$1,ROW(Отделения[Город])-1),ROW(AF34)-ROW($A$2)+1)),\"\")","v":""},{"$f":"IFERROR(INDEX(Отделения[отделение],SMALL(IF(Отделения[Город]=$BG$1,ROW(Отделения[Город])-1),ROW(AG34)-ROW($A$2)+1)),\"\")","v":""},{"$f":"IFERROR(INDEX(Отделения[отделение],SMALL(IF(Отделения[Город]=$BH$1,ROW(Отделения[Город])-1),ROW(AH34)-ROW($A$2)+1)),\"\")","v":""},{"$f":"IFERROR(INDEX(Отделения[отделение],SMALL(IF(Отделения[Город]=$BI$1,ROW(Отделения[Город])-1),ROW(AI34)-ROW($A$2)+1)),\"\")","v":""},{"$f":"IFERROR(INDEX(Отделения[отделение],SMALL(IF(Отделения[Город]=$BJ$1,ROW(Отделения[Город])-1),ROW(AJ34)-ROW($A$2)+1)),\"\")","v":""},{"$f":"IFERROR(INDEX(Отделения[отделение],SMALL(IF(Отделения[Город]=$BK$1,ROW(Отделения[Город])-1),ROW(AK34)-ROW($A$2)+1)),\"\")","v":""},{"$f":"IFERROR(INDEX(Отделения[отделение],SMALL(IF(Отделения[Город]=$BL$1,ROW(Отделения[Город])-1),ROW(AL34)-ROW($A$2)+1)),\"\")","v":""},{"$f":"IFERROR(INDEX(Отделения[отделение],SMALL(IF(Отделения[Город]=$BM$1,ROW(Отделения[Город])-1),ROW(AM34)-ROW($A$2)+1)),\"\")","v":""},{"$f":"IFERROR(INDEX(Отделения[отделение],SMALL(IF(Отделения[Город]=$BN$1,ROW(Отделения[Город])-1),ROW(AN34)-ROW($A$2)+1)),\"\")","v":""},{"$f":"IFERROR(INDEX(Отделения[отделение],SMALL(IF(Отделения[Город]=$BO$1,ROW(Отделения[Город])-1),ROW(AO34)-ROW($A$2)+1)),\"\")","v":""},{"$f":"IFERROR(INDEX(Отделения[отделение],SMALL(IF(Отделения[Город]=$BP$1,ROW(Отделения[Город])-1),ROW(AP34)-ROW($A$2)+1)),\"\")","v":""},{"$f":"IFERROR(INDEX(Отделения[отделение],SMALL(IF(Отделения[Город]=$BQ$1,ROW(Отделения[Город])-1),ROW(AQ34)-ROW($A$2)+1)),\"\")","v":""},{"$f":"IFERROR(INDEX(Отделения[отделение],SMALL(IF(Отделения[Город]=$BR$1,ROW(Отделения[Город])-1),ROW(AR34)-ROW($A$2)+1)),\"\")","v":""},{"$f":"IFERROR(INDEX(Отделения[отделение],SMALL(IF(Отделения[Город]=$BS$1,ROW(Отделения[Город])-1),ROW(AS34)-ROW($A$2)+1)),\"\")","v":""},{"$f":"IFERROR(INDEX(Отделения[отделение],SMALL(IF(Отделения[Город]=$BT$1,ROW(Отделения[Город])-1),ROW(AT34)-ROW($A$2)+1)),\"\")","v":""},{"$f":"IFERROR(INDEX(Отделения[отделение],SMALL(IF(Отделения[Город]=$BU$1,ROW(Отделения[Город])-1),ROW(AU34)-ROW($A$2)+1)),\"\")","v":""},{"$f":"IFERROR(INDEX(Отделения[отделение],SMALL(IF(Отделения[Город]=$BV$1,ROW(Отделения[Город])-1),ROW(AV34)-ROW($A$2)+1)),\"\")","v":""},{"$f":"IFERROR(INDEX(Отделения[отделение],SMALL(IF(Отделения[Город]=$BW$1,ROW(Отделения[Город])-1),ROW(AV34)-ROW($A$2)+1)),\"\")","v":""},{"$f":"IFERROR(INDEX(Отделения[отделение],SMALL(IF(Отделения[Город]=$BX$1,ROW(Отделения[Город])-1),ROW(AV34)-ROW($A$2)+1)),\"\")","v":""},{"$f":"IFERROR(INDEX(Отделения[отделение],SMALL(IF(Отделения[Город]=$BY$1,ROW(Отделения[Город])-1),ROW(AV34)-ROW($A$2)+1)),\"\")","v":""},{"$f":"IFERROR(INDEX(Отделения[отделение],SMALL(IF(Отделения[Город]=$BZ$1,ROW(Отделения[Город])-1),ROW(AV34)-ROW($A$2)+1)),\"\")","v":""},{"$f":"IFERROR(INDEX(Отделения[отделение],SMALL(IF(Отделения[Город]=$CA$1,ROW(Отделения[Город])-1),ROW(AV34)-ROW($A$2)+1)),\"\")","v":""},{"$f":"IFERROR(INDEX(Отделения[отделение],SMALL(IF(Отделения[Город]=$CB$1,ROW(Отделения[Город])-1),ROW(AV34)-ROW($A$2)+1)),\"\")","v":""},{"$f":"IFERROR(INDEX(Отделения[отделение],SMALL(IF(Отделения[Город]=$CC$1,ROW(Отделения[Город])-1),ROW(AV34)-ROW($A$2)+1)),\"\")","v":""},{"$f":"IFERROR(INDEX(Отделения[отделение],SMALL(IF(Отделения[Город]=$CD$1,ROW(Отделения[Город])-1),ROW(AV34)-ROW($A$2)+1)),\"\")","v":""},{"$f":"IFERROR(INDEX(Отделения[отделение],SMALL(IF(Отделения[Город]=$CE$1,ROW(Отделения[Город])-1),ROW(AV34)-ROW($A$2)+1)),\"\")","v":""},{"$f":"IFERROR(INDEX(Отделения[отделение],SMALL(IF(Отделения[Город]=$CF$1,ROW(Отделения[Город])-1),ROW(AV34)-ROW($A$2)+1)),\"\")","v":""},{"$f":"IFERROR(INDEX(Отделения[отделение],SMALL(IF(Отделения[Город]=$CG$1,ROW(Отделения[Город])-1),ROW(AV34)-ROW($A$2)+1)),\"\")","v":""},{"$f":"IFERROR(INDEX(Отделения[отделение],SMALL(IF(Отделения[Город]=$CH$1,ROW(Отделения[Город])-1),ROW(AW34)-ROW($A$2)+1)),\"\")","v":""},{"$f":"IFERROR(INDEX(Отделения[отделение],SMALL(IF(Отделения[Город]=$CI$1,ROW(Отделения[Город])-1),ROW(AX34)-ROW($A$2)+1)),\"\")","v":""},{"$f":"IFERROR(INDEX(Отделения[отделение],SMALL(IF(Отделения[Город]=$CJ$1,ROW(Отделения[Город])-1),ROW(AY34)-ROW($A$2)+1)),\"\")","v":""},{"$f":"IFERROR(INDEX(Отделения[отделение],SMALL(IF(Отделения[Город]=$CK$1,ROW(Отделения[Город])-1),ROW(AZ34)-ROW($A$2)+1)),\"\")","v":""},{"$f":"IFERROR(INDEX(Отделения[отделение],SMALL(IF(Отделения[Город]=$CL$1,ROW(Отделения[Город])-1),ROW(BA34)-ROW($A$2)+1)),\"\")","v":""},{"$f":"IFERROR(INDEX(Отделения[отделение],SMALL(IF(Отделения[Город]=$CM$1,ROW(Отделения[Город])-1),ROW(BB34)-ROW($A$2)+1)),\"\")","v":""},{"$f":"IFERROR(INDEX(Отделения[отделение],SMALL(IF(Отделения[Город]=$CN$1,ROW(Отделения[Город])-1),ROW(BC34)-ROW($A$2)+1)),\"\")","v":""},{"$f":"IFERROR(INDEX(Отделения[отделение],SMALL(IF(Отделения[Город]=$CO$1,ROW(Отделения[Город])-1),ROW(BD34)-ROW($A$2)+1)),\"\")","v":""},{"$f":"IFERROR(INDEX(Отделения[отделение],SMALL(IF(Отделения[Город]=$CP$1,ROW(Отделения[Город])-1),ROW(BE34)-ROW($A$2)+1)),\"\")","v":""},{"$f":"IFERROR(INDEX(Отделения[отделение],SMALL(IF(Отделения[Город]=$CQ$1,ROW(Отделения[Город])-1),ROW(BF34)-ROW($A$2)+1)),\"\")","v":""},{"$f":"IFERROR(INDEX(Отделения[отделение],SMALL(IF(Отделения[Город]=$CR$1,ROW(Отделения[Город])-1),ROW(BG34)-ROW($A$2)+1)),\"\")","v":""},{"$f":"IFERROR(INDEX(Отделения[отделение],SMALL(IF(Отделения[Город]=$CS$1,ROW(Отделения[Город])-1),ROW(BH34)-ROW($A$2)+1)),\"\")","v":""},{"$f":"IFERROR(INDEX(Отделения[отделение],SMALL(IF(Отделения[Город]=$CT$1,ROW(Отделения[Город])-1),ROW(BI34)-ROW($A$2)+1)),\"\")","v":""},{"$f":"IFERROR(INDEX(Отделения[отделение],SMALL(IF(Отделения[Город]=$CU$1,ROW(Отделения[Город])-1),ROW(BJ34)-ROW($A$2)+1)),\"\")","v":""},{"$f":"IFERROR(INDEX(Отделения[отделение],SMALL(IF(Отделения[Город]=$CV$1,ROW(Отделения[Город])-1),ROW(BK34)-ROW($A$2)+1)),\"\")","v":""},{"$f":"IFERROR(INDEX(Отделения[отделение],SMALL(IF(Отделения[Город]=$CW$1,ROW(Отделения[Город])-1),ROW(BL34)-ROW($A$2)+1)),\"\")","v":""},{"$f":"IFERROR(INDEX(Отделения[отделение],SMALL(IF(Отделения[Город]=$CX$1,ROW(Отделения[Город])-1),ROW(BM34)-ROW($A$2)+1)),\"\")","v":""},{"$f":"IFERROR(INDEX(Отделения[отделение],SMALL(IF(Отделения[Город]=$CY$1,ROW(Отделения[Город])-1),ROW(BM34)-ROW($A$2)+1)),\"\")","v":""},{"$f":"IFERROR(INDEX(Отделения[отделение],SMALL(IF(Отделения[Город]=$CZ$1,ROW(Отделения[Город])-1),ROW(BM34)-ROW($A$2)+1)),\"\")","v":""},{"$f":"IFERROR(INDEX(Отделения[отделение],SMALL(IF(Отделения[Город]=$DA$1,ROW(Отделения[Город])-1),ROW(BM34)-ROW($A$2)+1)),\"\")","v":""},{"$f":"IFERROR(INDEX(Отделения[отделение],SMALL(IF(Отделения[Город]=$DB$1,ROW(Отделения[Город])-1),ROW(BM34)-ROW($A$2)+1)),\"\")","v":""}]
["Санкт-Петербург","ДО \"СПБ-Кировский\" , 198097, г. Санкт-Петербург, пр-т Стачек, 47Е","0476","MOKK",null,null,{"$f":"IFERROR(INDEX(Отделения[отделение],SMALL(IF(Отделения[Город]=$G$1,ROW(Отделения[Город])-1),ROW(A35)-ROW($A$2)+1)),\"\")","v":""},{"$f":"IFERROR(INDEX(Отделения[отделение],SMALL(IF(Отделения[Город]=$H$1,ROW(Отделения[Город])-1),ROW(A35)-ROW($A$2)+1)),\"\")","v":""},{"$f":"IFERROR(INDEX(Отделения[отделение],SMALL(IF(Отделения[Город]=$I$1,ROW(Отделения[Город])-1),ROW(A35)-ROW($A$2)+1)),\"\")","v":""},{"$f":"IFERROR(INDEX(Отделения[отделение],SMALL(IF(Отделения[Город]=$J$1,ROW(Отделения[Город])-1),ROW(A35)-ROW($A$2)+1)),\"\")","v":""},{"$f":"IFERROR(INDEX(Отделения[отделение],SMALL(IF(Отделения[Город]=$K$1,ROW(Отделения[Город])-1),ROW(A35)-ROW($A$2)+1)),\"\")","v":""},{"$f":"IFERROR(INDEX(Отделения[отделение],SMALL(IF(Отделения[Город]=$L$1,ROW(Отделения[Город])-1),ROW(A35)-ROW($A$2)+1)),\"\")","v":""},{"$f":"IFERROR(INDEX(Отделения[отделение],SMALL(IF(Отделения[Город]=$M$1,ROW(Отделения[Город])-1),ROW(B35)-ROW($A$2)+1)),\"\")","v":""},{"$f":"IFERROR(INDEX(Отделения[отделение],SMALL(IF(Отделения[Город]=$N$1,ROW(Отделения[Город])-1),ROW(#REF!)-ROW($A$2)+1)),\"\")","v":""},{"$f":"IFERROR(INDEX(Отделения[отделение],SMALL(IF(Отделения[Город]=$O$1,ROW(Отделения[Город])-1),ROW(C35)-ROW($A$2)+1)),\"\")","v":""},{"$f":"IFERROR(INDEX(Отделения[отделение],SMALL(IF(Отделения[Город]=$P$1,ROW(Отделения[Город])-1),ROW(D35)-ROW($A$2)+1)),\"\")","v":""},{"$f":"IFERROR(INDEX(Отделения[отделение],SMALL(IF(Отделения[Город]=$Q$1,ROW(Отделения[Город])-1),ROW(F35)-ROW($A$2)+1)),\"\")","v":""},{"$f":"IFERROR(INDEX(Отделения[отделение],SMALL(IF(Отделения[Город]=$R$1,ROW(Отделения[Город])-1),ROW(#REF!)-ROW($A$2)+1)),\"\")","v":""},{"$f":"IFERROR(INDEX(Отделения[отделение],SMALL(IF(Отделения[Город]=$S$1,ROW(Отделения[Город])-1),ROW(G35)-ROW($A$2)+1)),\"\")","v":""},{"$f":"IFERROR(INDEX(Отделения[отделение],SMALL(IF(Отделения[Город]=$T$1,ROW(Отделения[Город])-1),ROW(H35)-ROW($A$2)+1)),\"\")","v":""},{"$f":"IFERROR(INDEX(Отделения[отделение],SMALL(IF(Отделения[Город]=$U$1,ROW(Отделения[Город])-1),ROW(I35)-ROW($A$2)+1)),\"\")","v":""},{"$f":"IFERROR(INDEX(Отделения[отделение],SMALL(IF(Отделения[Город]=$V$1,ROW(Отделения[Город])-1),ROW(J35)-ROW($A$2)+1)),\"\")","v":""},{"$f":"IFERROR(INDEX(Отделения[отделение],SMALL(IF(Отделения[Город]=$W$1,ROW(Отделения[Город])-1),ROW(K35)-ROW($A$2)+1)),\"\")","v":""},{"$f":"IFERROR(INDEX(Отделения[отделение],SMALL(IF(Отделения[Город]=$X$1,ROW(Отделения[Город])-1),ROW(L35)-ROW($A$2)+1)),\"\")","v":""},{"$f":"IFERROR(INDEX(Отделения[отделение],SMALL(IF(Отделения[Город]=$Y$1,ROW(Отделения[Город])-1),ROW(M35)-ROW($A$2)+1)),\"\")","v":""},{"$f":"IFERROR(INDEX(Отделения[отделение],SMALL(IF(Отделения[Город]=$Z$1,ROW(Отделения[Город])-1),ROW(N35)-ROW($A$2)+1)),\"\")","v":""},{"$f":"IFERROR(INDEX(Отделения[отделение],SMALL(IF(Отделения[Город]=$AA$1,ROW(Отделения[Город])-1),ROW(O35)-ROW($A$2)+1)),\"\")","v":""},{"$f":"IFERROR(INDEX(Отделения[отделение],SMALL(IF(Отделения[Город]=$AB$1,ROW(Отделения[Город])-1),ROW(P35)-ROW($A$2)+1)),\"\")","v":""},{"$f":"IFERROR(INDEX(Отделения[отделение],SMALL(IF(Отделения[Город]=$AC$1,ROW(Отделения[Город])-1),ROW(Q35)-ROW($A$2)+1)),\"\")","v":""},{"$f":"IFERROR(INDEX(Отделения[отделение],SMALL(IF(Отделения[Город]=$AD$1,ROW(Отделения[Город])-1),ROW(R35)-ROW($A$2)+1)),\"\")","v":""},{"$f":"IFERROR(INDEX(Отделения[отделение],SMALL(IF(Отделения[Город]=$AE$1,ROW(Отделения[Город])-1),ROW(S35)-ROW($A$2)+1)),\"\")","v":""},{"$f":"IFERROR(INDEX(Отделения[отделение],SMALL(IF(Отделения[Город]=$AF$1,ROW(Отделения[Город])-1),ROW(T35)-ROW($A$2)+1)),\"\")","v":""},{"$f":"IFERROR(INDEX(Отделения[отделение],SMALL(IF(Отделения[Город]=$AG$1,ROW(Отделения[Город])-1),ROW(U35)-ROW($A$2)+1)),\"\")","v":""},{"$f":"IFERROR(INDEX(Отделения[отделение],SMALL(IF(Отделения[Город]=$AH$1,ROW(Отделения[Город])-1),ROW(V35)-ROW($A$2)+1)),\"\")","v":""},{"$f":"IFERROR(INDEX(Отделения[отделение],SMALL(IF(Отделения[Город]=$AI$1,ROW(Отделения[Город])-1),ROW(AB35)-ROW($A$2)+1)),\"\")","v":""},{"$f":"IFERROR(INDEX(Отделения[отделение],SMALL(IF(Отделения[Город]=$AJ$1,ROW(Отделения[Город])-1),ROW(AB35)-ROW($A$2)+1)),\"\")","v":""},{"$f":"IFERROR(INDEX(Отделения[отделение],SMALL(IF(Отделения[Город]=$AK$1,ROW(Отделения[Город])-1),ROW(AB35)-ROW($A$2)+1)),\"\")","v":""},{"$f":"IFERROR(INDEX(Отделения[отделение],SMALL(IF(Отделения[Город]=$AL$1,ROW(Отделения[Город])-1),ROW(AB35)-ROW($A$2)+1)),\"\")","v":""},{"$f":"IFERROR(INDEX(Отделения[отделение],SMALL(IF(Отделения[Город]=$AM$1,ROW(Отделения[Город])-1),ROW(AB35)-ROW($A$2)+1)),\"\")","v":""},{"$f":"IFERROR(INDEX(Отделения[отделение],SMALL(IF(Отделения[Город]=$AN$1,ROW(Отделения[Город])-1),ROW(AB35)-ROW($A$2)+1)),\"\")","v":""},{"$f":"IFERROR(INDEX(Отделения[отделение],SMALL(IF(Отделения[Город]=$AO$1,ROW(Отделения[Город])-1),ROW(AB35)-ROW($A$2)+1)),\"\")","v":""},{"$f":"IFERROR(INDEX(Отделения[отделение],SMALL(IF(Отделения[Город]=$AP$1,ROW(Отделения[Город])-1),ROW(AB35)-ROW($A$2)+1)),\"\")","v":""},{"$f":"IFERROR(INDEX(Отделения[отделение],SMALL(IF(Отделения[Город]=$AQ$1,ROW(Отделения[Город])-1),ROW(AB35)-ROW($A$2)+1)),\"\")","v":""},{"$f":"IFERROR(INDEX(Отделения[отделение],SMALL(IF(Отделения[Город]=$AR$1,ROW(Отделения[Город])-1),ROW(AB35)-ROW($A$2)+1)),\"\")","v":""},{"$f":"IFERROR(INDEX(Отделения[отделение],SMALL(IF(Отделения[Город]=$AS$1,ROW(Отделения[Город])-1),ROW(AB35)-ROW($A$2)+1)),\"\")","v":""},{"$f":"IFERROR(INDEX(Отделения[отделение],SMALL(IF(Отделения[Город]=$AT$1,ROW(Отделения[Город])-1),ROW(AB35)-ROW($A$2)+1)),\"\")","v":""},{"$f":"IFERROR(INDEX(Отделения[отделение],SMALL(IF(Отделения[Город]=$AU$1,ROW(Отделения[Город])-1),ROW(AB35)-ROW($A$2)+1)),\"\")","v":""},{"$f":"IFERROR(INDEX(Отделения[отделение],SMALL(IF(Отделения[Город]=$AV$1,ROW(Отделения[Город])-1),ROW(AB35)-ROW($A$2)+1)),\"\")","v":""},{"$f":"IFERROR(INDEX(Отделения[отделение],SMALL(IF(Отделения[Город]=$AW$1,ROW(Отделения[Город])-1),ROW(AB35)-ROW($A$2)+1)),\"\")","v":""},{"$f":"IFERROR(INDEX(Отделения[отделение],SMALL(IF(Отделения[Город]=$AX$1,ROW(Отделения[Город])-1),ROW(AB35)-ROW($A$2)+1)),\"\")","v":""},{"$f":"IFERROR(INDEX(Отделения[отделение],SMALL(IF(Отделения[Город]=$AY$1,ROW(Отделения[Город])-1),ROW(AB35)-ROW($A$2)+1)),\"\")","v":""},{"$f":"IFERROR(INDEX(Отделения[отделение],SMALL(IF(Отделения[Город]=$AZ$1,ROW(Отделения[Город])-1),ROW(AB35)-ROW($A$2)+1)),\"\")","v":""},{"$f":"IFERROR(INDEX(Отделения[отделение],SMALL(IF(Отделения[Город]=$BA$1,ROW(Отделения[Город])-1),ROW(AB35)-ROW($A$2)+1)),\"\")","v":""},{"$f":"IFERROR(INDEX(Отделения[отделение],SMALL(IF(Отделения[Город]=$BB$1,ROW(Отделения[Город])-1),ROW(AB35)-ROW($A$2)+1)),\"\")","v":""},{"$f":"IFERROR(INDEX(Отделения[отделение],SMALL(IF(Отделения[Город]=$BC$1,ROW(Отделения[Город])-1),ROW(AC35)-ROW($A$2)+1)),\"\")","v":""},{"$f":"IFERROR(INDEX(Отделения[отделение],SMALL(IF(Отделения[Город]=$BD$1,ROW(Отделения[Город])-1),ROW(AD35)-ROW($A$2)+1)),\"\")","v":""},{"$f":"IFERROR(INDEX(Отделения[отделение],SMALL(IF(Отделения[Город]=$BE$1,ROW(Отделения[Город])-1),ROW(AE35)-ROW($A$2)+1)),\"\")","v":""},{"$f":"IFERROR(INDEX(Отделения[отделение],SMALL(IF(Отделения[Город]=$BF$1,ROW(Отделения[Город])-1),ROW(AF35)-ROW($A$2)+1)),\"\")","v":""},{"$f":"IFERROR(INDEX(Отделения[отделение],SMALL(IF(Отделения[Город]=$BG$1,ROW(Отделения[Город])-1),ROW(AG35)-ROW($A$2)+1)),\"\")","v":""},{"$f":"IFERROR(INDEX(Отделения[отделение],SMALL(IF(Отделения[Город]=$BH$1,ROW(Отделения[Город])-1),ROW(AH35)-ROW($A$2)+1)),\"\")","v":""},{"$f":"IFERROR(INDEX(Отделения[отделение],SMALL(IF(Отделения[Город]=$BI$1,ROW(Отделения[Город])-1),ROW(AI35)-ROW($A$2)+1)),\"\")","v":""},{"$f":"IFERROR(INDEX(Отделения[отделение],SMALL(IF(Отделения[Город]=$BJ$1,ROW(Отделения[Город])-1),ROW(AJ35)-ROW($A$2)+1)),\"\")","v":""},{"$f":"IFERROR(INDEX(Отделения[отделение],SMALL(IF(Отделения[Город]=$BK$1,ROW(Отделения[Город])-1),ROW(AK35)-ROW($A$2)+1)),\"\")","v":""},{"$f":"IFERROR(INDEX(Отделения[отделение],SMALL(IF(Отделения[Город]=$BL$1,ROW(Отделения[Город])-1),ROW(AL35)-ROW($A$2)+1)),\"\")","v":""},{"$f":"IFERROR(INDEX(Отделения[отделение],SMALL(IF(Отделения[Город]=$BM$1,ROW(Отделения[Город])-1),ROW(AM35)-ROW($A$2)+1)),\"\")","v":""},{"$f":"IFERROR(INDEX(Отделения[отделение],SMALL(IF(Отделения[Город]=$BN$1,ROW(Отделения[Город])-1),ROW(AN35)-ROW($A$2)+1)),\"\")","v":""},{"$f":"IFERROR(INDEX(Отделения[отделение],SMALL(IF(Отделения[Город]=$BO$1,ROW(Отделения[Город])-1),ROW(AO35)-ROW($A$2)+1)),\"\")","v":""},{"$f":"IFERROR(INDEX(Отделения[отделение],SMALL(IF(Отделения[Город]=$BP$1,ROW(Отделения[Город])-1),ROW(AP35)-ROW($A$2)+1)),\"\")","v":""},{"$f":"IFERROR(INDEX(Отделения[отделение],SMALL(IF(Отделения[Город]=$BQ$1,ROW(Отделения[Город])-1),ROW(AQ35)-ROW($A$2)+1)),\"\")","v":""},{"$f":"IFERROR(INDEX(Отделения[отделение],SMALL(IF(Отделения[Город]=$BR$1,ROW(Отделения[Город])-1),ROW(AR35)-ROW($A$2)+1)),\"\")","v":""},{"$f":"IFERROR(INDEX(Отделения[отделение],SMALL(IF(Отделения[Город]=$BS$1,ROW(Отделения[Город])-1),ROW(AS35)-ROW($A$2)+1)),\"\")","v":""},{"$f":"IFERROR(INDEX(Отделения[отделение],SMALL(IF(Отделения[Город]=$BT$1,ROW(Отделения[Город])-1),ROW(AT35)-ROW($A$2)+1)),\"\")","v":""},{"$f":"IFERROR(INDEX(Отделения[отделение],SMALL(IF(Отделения[Город]=$BU$1,ROW(Отделения[Город])-1),ROW(AU35)-ROW($A$2)+1)),\"\")","v":""},{"$f":"IFERROR(INDEX(Отделения[отделение],SMALL(IF(Отделения[Город]=$BV$1,ROW(Отделения[Город])-1),ROW(AV35)-ROW($A$2)+1)),\"\")","v":""},{"$f":"IFERROR(INDEX(Отделения[отделение],SMALL(IF(Отделения[Город]=$BW$1,ROW(Отделения[Город])-1),ROW(AV35)-ROW($A$2)+1)),\"\")","v":""},{"$f":"IFERROR(INDEX(Отделения[отделение],SMALL(IF(Отделения[Город]=$BX$1,ROW(Отделения[Город])-1),ROW(AV35)-ROW($A$2)+1)),\"\")","v":""},{"$f":"IFERROR(INDEX(Отделения[отделение],SMALL(IF(Отделения[Город]=$BY$1,ROW(Отделения[Город])-1),ROW(AV35)-ROW($A$2)+1)),\"\")","v":""},{"$f":"IFERROR(INDEX(Отделения[отделение],SMALL(IF(Отделения[Город]=$BZ$1,ROW(Отделения[Город])-1),ROW(AV35)-ROW($A$2)+1)),\"\")","v":""},{"$f":"IFERROR(INDEX(Отделения[отделение],SMALL(IF(Отделения[Город]=$CA$1,ROW(Отделения[Город])-1),ROW(AV35)-ROW($A$2)+1)),\"\")","v":""},{"$f":"IFERROR(INDEX(Отделения[отделение],SMALL(IF(Отделения[Город]=$CB$1,ROW(Отделения[Город])-1),ROW(AV35)-ROW($A$2)+1)),\"\")","v":""},{"$f":"IFERROR(INDEX(Отделения[отделение],SMALL(IF(Отделения[Город]=$CC$1,ROW(Отделения[Город])-1),ROW(AV35)-ROW($A$2)+1)),\"\")","v":""},{"$f":"IFERROR(INDEX(Отделения[отделение],SMALL(IF(Отделения[Город]=$CD$1,ROW(Отделения[Город])-1),ROW(AV35)-ROW($A$2)+1)),\"\")","v":""},{"$f":"IFERROR(INDEX(Отделения[отделение],SMALL(IF(Отделения[Город]=$CE$1,ROW(Отделения[Город])-1),ROW(AV35)-ROW($A$2)+1)),\"\")","v":""},{"$f":"IFERROR(INDEX(Отделения[отделение],SMALL(IF(Отделения[Город]=$CF$1,ROW(Отделения[Город])-1),ROW(AV35)-ROW($A$2)+1)),\"\")","v":""},{"$f":"IFERROR(INDEX(Отделения[отделение],SMALL(IF(Отделения[Город]=$CG$1,ROW(Отделения[Город])-1),ROW(AV35)-ROW($A$2)+1)),\"\")","v":""},{"$f":"IFERROR(INDEX(Отделения[отделение],SMALL(IF(Отделения[Город]=$CH$1,ROW(Отделения[Город])-1),ROW(AW35)-ROW($A$2)+1)),\"\")","v":""},{"$f":"IFERROR(INDEX(Отделения[отделение],SMALL(IF(Отделения[Город]=$CI$1,ROW(Отделения[Город])-1),ROW(AX35)-ROW($A$2)+1)),\"\")","v":""},{"$f":"IFERROR(INDEX(Отделения[отделение],SMALL(IF(Отделения[Город]=$CJ$1,ROW(Отделения[Город])-1),ROW(AY35)-ROW($A$2)+1)),\"\")","v":""},{"$f":"IFERROR(INDEX(Отделения[отделение],SMALL(IF(Отделения[Город]=$CK$1,ROW(Отделения[Город])-1),ROW(AZ35)-ROW($A$2)+1)),\"\")","v":""},{"$f":"IFERROR(INDEX(Отделения[отделение],SMALL(IF(Отделения[Город]=$CL$1,ROW(Отделения[Город])-1),ROW(BA35)-ROW($A$2)+1)),\"\")","v":""},{"$f":"IFERROR(INDEX(Отделения[отделение],SMALL(IF(Отделения[Город]=$CM$1,ROW(Отделения[Город])-1),ROW(BB35)-ROW($A$2)+1)),\"\")","v":""},{"$f":"IFERROR(INDEX(Отделения[отделение],SMALL(IF(Отделения[Город]=$CN$1,ROW(Отделения[Город])-1),ROW(BC35)-ROW($A$2)+1)),\"\")","v":""},{"$f":"IFERROR(INDEX(Отделения[отделение],SMALL(IF(Отделения[Город]=$CO$1,ROW(Отделения[Город])-1),ROW(BD35)-ROW($A$2)+1)),\"\")","v":""},{"$f":"IFERROR(INDEX(Отделения[отделение],SMALL(IF(Отделения[Город]=$CP$1,ROW(Отделения[Город])-1),ROW(BE35)-ROW($A$2)+1)),\"\")","v":""},{"$f":"IFERROR(INDEX(Отделения[отделение],SMALL(IF(Отделения[Город]=$CQ$1,ROW(Отделения[Город])-1),ROW(BF35)-ROW($A$2)+1)),\"\")","v":""},{"$f":"IFERROR(INDEX(Отделения[отделение],SMALL(IF(Отделения[Город]=$CR$1,ROW(Отделения[Город])-1),ROW(BG35)-ROW($A$2)+1)),\"\")","v":""},{"$f":"IFERROR(INDEX(Отделения[отделение],SMALL(IF(Отделения[Город]=$CS$1,ROW(Отделения[Город])-1),ROW(BH35)-ROW($A$2)+1)),\"\")","v":""},{"$f":"IFERROR(INDEX(Отделения[отделение],SMALL(IF(Отделения[Город]=$CT$1,ROW(Отделения[Город])-1),ROW(BI35)-ROW($A$2)+1)),\"\")","v":""},{"$f":"IFERROR(INDEX(Отделения[отделение],SMALL(IF(Отделения[Город]=$CU$1,ROW(Отделения[Город])-1),ROW(BJ35)-ROW($A$2)+1)),\"\")","v":""},{"$f":"IFERROR(INDEX(Отделения[отделение],SMALL(IF(Отделения[Город]=$CV$1,ROW(Отделения[Город])-1),ROW(BK35)-ROW($A$2)+1)),\"\")","v":""},{"$f":"IFERROR(INDEX(Отделения[отделение],SMALL(IF(Отделения[Город]=$CW$1,ROW(Отделения[Город])-1),ROW(BL35)-ROW($A$2)+1)),\"\")","v":""},{"$f":"IFERROR(INDEX(Отделения[отделение],SMALL(IF(Отделения[Город]=$CX$1,ROW(Отделения[Город])-1),ROW(BM35)-ROW($A$2)+1)),\"\")","v":""},{"$f":"IFERROR(INDEX(Отделения[отделение],SMALL(IF(Отделения[Город]=$CY$1,ROW(Отделения[Город])-1),ROW(BM35)-ROW($A$2)+1)),\"\")","v":""},{"$f":"IFERROR(INDEX(Отделения[отделение],SMALL(IF(Отделения[Город]=$CZ$1,ROW(Отделения[Город])-1),ROW(BM35)-ROW($A$2)+1)),\"\")","v":""},{"$f":"IFERROR(INDEX(Отделения[отделение],SMALL(IF(Отделения[Город]=$DA$1,ROW(Отделения[Город])-1),ROW(BM35)-ROW($A$2)+1)),\"\")","v":""},{"$f":"IFERROR(INDEX(Отделения[отделение],SMALL(IF(Отделения[Город]=$DB$1,ROW(Отделения[Город])-1),ROW(BM35)-ROW($A$2)+1)),\"\")","v":""}]
["Санкт-Петербург","ДО \"СПБ-Лиговский проспект\" , 191040, г. Санкт-Петербург, Лиговский пр-т, 73А","0478","MOLI",null,null,{"$f":"IFERROR(INDEX(Отделения[отделение],SMALL(IF(Отделения[Город]=$G$1,ROW(Отделения[Город])-1),ROW(A36)-ROW($A$2)+1)),\"\")","v":""},{"$f":"IFERROR(INDEX(Отделения[отделение],SMALL(IF(Отделения[Город]=$H$1,ROW(Отделения[Город])-1),ROW(A36)-ROW($A$2)+1)),\"\")","v":""},{"$f":"IFERROR(INDEX(Отделения[отделение],SMALL(IF(Отделения[Город]=$I$1,ROW(Отделения[Город])-1),ROW(A36)-ROW($A$2)+1)),\"\")","v":""},{"$f":"IFERROR(INDEX(Отделения[отделение],SMALL(IF(Отделения[Город]=$J$1,ROW(Отделения[Город])-1),ROW(A36)-ROW($A$2)+1)),\"\")","v":""},{"$f":"IFERROR(INDEX(Отделения[отделение],SMALL(IF(Отделения[Город]=$K$1,ROW(Отделения[Город])-1),ROW(A36)-ROW($A$2)+1)),\"\")","v":""},{"$f":"IFERROR(INDEX(Отделения[отделение],SMALL(IF(Отделения[Город]=$L$1,ROW(Отделения[Город])-1),ROW(A36)-ROW($A$2)+1)),\"\")","v":""},{"$f":"IFERROR(INDEX(Отделения[отделение],SMALL(IF(Отделения[Город]=$M$1,ROW(Отделения[Город])-1),ROW(B36)-ROW($A$2)+1)),\"\")","v":""},{"$f":"IFERROR(INDEX(Отделения[отделение],SMALL(IF(Отделения[Город]=$N$1,ROW(Отделения[Город])-1),ROW(#REF!)-ROW($A$2)+1)),\"\")","v":""},{"$f":"IFERROR(INDEX(Отделения[отделение],SMALL(IF(Отделения[Город]=$O$1,ROW(Отделения[Город])-1),ROW(C36)-ROW($A$2)+1)),\"\")","v":""},{"$f":"IFERROR(INDEX(Отделения[отделение],SMALL(IF(Отделения[Город]=$P$1,ROW(Отделения[Город])-1),ROW(D36)-ROW($A$2)+1)),\"\")","v":""},{"$f":"IFERROR(INDEX(Отделения[отделение],SMALL(IF(Отделения[Город]=$Q$1,ROW(Отделения[Город])-1),ROW(F36)-ROW($A$2)+1)),\"\")","v":""},{"$f":"IFERROR(INDEX(Отделения[отделение],SMALL(IF(Отделения[Город]=$R$1,ROW(Отделения[Город])-1),ROW(#REF!)-ROW($A$2)+1)),\"\")","v":""},{"$f":"IFERROR(INDEX(Отделения[отделение],SMALL(IF(Отделения[Город]=$S$1,ROW(Отделения[Город])-1),ROW(G36)-ROW($A$2)+1)),\"\")","v":""},{"$f":"IFERROR(INDEX(Отделения[отделение],SMALL(IF(Отделения[Город]=$T$1,ROW(Отделения[Город])-1),ROW(H36)-ROW($A$2)+1)),\"\")","v":""},{"$f":"IFERROR(INDEX(Отделения[отделение],SMALL(IF(Отделения[Город]=$U$1,ROW(Отделения[Город])-1),ROW(I36)-ROW($A$2)+1)),\"\")","v":""},{"$f":"IFERROR(INDEX(Отделения[отделение],SMALL(IF(Отделения[Город]=$V$1,ROW(Отделения[Город])-1),ROW(J36)-ROW($A$2)+1)),\"\")","v":""},{"$f":"IFERROR(INDEX(Отделения[отделение],SMALL(IF(Отделения[Город]=$W$1,ROW(Отделения[Город])-1),ROW(K36)-ROW($A$2)+1)),\"\")","v":""},{"$f":"IFERROR(INDEX(Отделения[отделение],SMALL(IF(Отделения[Город]=$X$1,ROW(Отделения[Город])-1),ROW(L36)-ROW($A$2)+1)),\"\")","v":""},{"$f":"IFERROR(INDEX(Отделения[отделение],SMALL(IF(Отделения[Город]=$Y$1,ROW(Отделения[Город])-1),ROW(M36)-ROW($A$2)+1)),\"\")","v":""},{"$f":"IFERROR(INDEX(Отделения[отделение],SMALL(IF(Отделения[Город]=$Z$1,ROW(Отделения[Город])-1),ROW(N36)-ROW($A$2)+1)),\"\")","v":""},{"$f":"IFERROR(INDEX(Отделения[отделение],SMALL(IF(Отделения[Город]=$AA$1,ROW(Отделения[Город])-1),ROW(O36)-ROW($A$2)+1)),\"\")","v":""},{"$f":"IFERROR(INDEX(Отделения[отделение],SMALL(IF(Отделения[Город]=$AB$1,ROW(Отделения[Город])-1),ROW(P36)-ROW($A$2)+1)),\"\")","v":""},{"$f":"IFERROR(INDEX(Отделения[отделение],SMALL(IF(Отделения[Город]=$AC$1,ROW(Отделения[Город])-1),ROW(Q36)-ROW($A$2)+1)),\"\")","v":""},{"$f":"IFERROR(INDEX(Отделения[отделение],SMALL(IF(Отделения[Город]=$AD$1,ROW(Отделения[Город])-1),ROW(R36)-ROW($A$2)+1)),\"\")","v":""},{"$f":"IFERROR(INDEX(Отделения[отделение],SMALL(IF(Отделения[Город]=$AE$1,ROW(Отделения[Город])-1),ROW(S36)-ROW($A$2)+1)),\"\")","v":""},{"$f":"IFERROR(INDEX(Отделения[отделение],SMALL(IF(Отделения[Город]=$AF$1,ROW(Отделения[Город])-1),ROW(T36)-ROW($A$2)+1)),\"\")","v":""},{"$f":"IFERROR(INDEX(Отделения[отделение],SMALL(IF(Отделения[Город]=$AG$1,ROW(Отделения[Город])-1),ROW(U36)-ROW($A$2)+1)),\"\")","v":""},{"$f":"IFERROR(INDEX(Отделения[отделение],SMALL(IF(Отделения[Город]=$AH$1,ROW(Отделения[Город])-1),ROW(V36)-ROW($A$2)+1)),\"\")","v":""},{"$f":"IFERROR(INDEX(Отделения[отделение],SMALL(IF(Отделения[Город]=$AI$1,ROW(Отделения[Город])-1),ROW(AB36)-ROW($A$2)+1)),\"\")","v":""},{"$f":"IFERROR(INDEX(Отделения[отделение],SMALL(IF(Отделения[Город]=$AJ$1,ROW(Отделения[Город])-1),ROW(AB36)-ROW($A$2)+1)),\"\")","v":""},{"$f":"IFERROR(INDEX(Отделения[отделение],SMALL(IF(Отделения[Город]=$AK$1,ROW(Отделения[Город])-1),ROW(AB36)-ROW($A$2)+1)),\"\")","v":""},{"$f":"IFERROR(INDEX(Отделения[отделение],SMALL(IF(Отделения[Город]=$AL$1,ROW(Отделения[Город])-1),ROW(AB36)-ROW($A$2)+1)),\"\")","v":""},{"$f":"IFERROR(INDEX(Отделения[отделение],SMALL(IF(Отделения[Город]=$AM$1,ROW(Отделения[Город])-1),ROW(AB36)-ROW($A$2)+1)),\"\")","v":""},{"$f":"IFERROR(INDEX(Отделения[отделение],SMALL(IF(Отделения[Город]=$AN$1,ROW(Отделения[Город])-1),ROW(AB36)-ROW($A$2)+1)),\"\")","v":""},{"$f":"IFERROR(INDEX(Отделения[отделение],SMALL(IF(Отделения[Город]=$AO$1,ROW(Отделения[Город])-1),ROW(AB36)-ROW($A$2)+1)),\"\")","v":""},{"$f":"IFERROR(INDEX(Отделения[отделение],SMALL(IF(Отделения[Город]=$AP$1,ROW(Отделения[Город])-1),ROW(AB36)-ROW($A$2)+1)),\"\")","v":""},{"$f":"IFERROR(INDEX(Отделения[отделение],SMALL(IF(Отделения[Город]=$AQ$1,ROW(Отделения[Город])-1),ROW(AB36)-ROW($A$2)+1)),\"\")","v":""},{"$f":"IFERROR(INDEX(Отделения[отделение],SMALL(IF(Отделения[Город]=$AR$1,ROW(Отделения[Город])-1),ROW(AB36)-ROW($A$2)+1)),\"\")","v":""},{"$f":"IFERROR(INDEX(Отделения[отделение],SMALL(IF(Отделения[Город]=$AS$1,ROW(Отделения[Город])-1),ROW(AB36)-ROW($A$2)+1)),\"\")","v":""},{"$f":"IFERROR(INDEX(Отделения[отделение],SMALL(IF(Отделения[Город]=$AT$1,ROW(Отделения[Город])-1),ROW(AB36)-ROW($A$2)+1)),\"\")","v":""},{"$f":"IFERROR(INDEX(Отделения[отделение],SMALL(IF(Отделения[Город]=$AU$1,ROW(Отделения[Город])-1),ROW(AB36)-ROW($A$2)+1)),\"\")","v":""},{"$f":"IFERROR(INDEX(Отделения[отделение],SMALL(IF(Отделения[Город]=$AV$1,ROW(Отделения[Город])-1),ROW(AB36)-ROW($A$2)+1)),\"\")","v":""},{"$f":"IFERROR(INDEX(Отделения[отделение],SMALL(IF(Отделения[Город]=$AW$1,ROW(Отделения[Город])-1),ROW(AB36)-ROW($A$2)+1)),\"\")","v":""},{"$f":"IFERROR(INDEX(Отделения[отделение],SMALL(IF(Отделения[Город]=$AX$1,ROW(Отделения[Город])-1),ROW(AB36)-ROW($A$2)+1)),\"\")","v":""},{"$f":"IFERROR(INDEX(Отделения[отделение],SMALL(IF(Отделения[Город]=$AY$1,ROW(Отделения[Город])-1),ROW(AB36)-ROW($A$2)+1)),\"\")","v":""},{"$f":"IFERROR(INDEX(Отделения[отделение],SMALL(IF(Отделения[Город]=$AZ$1,ROW(Отделения[Город])-1),ROW(AB36)-ROW($A$2)+1)),\"\")","v":""},{"$f":"IFERROR(INDEX(Отделения[отделение],SMALL(IF(Отделения[Город]=$BA$1,ROW(Отделения[Город])-1),ROW(AB36)-ROW($A$2)+1)),\"\")","v":""},{"$f":"IFERROR(INDEX(Отделения[отделение],SMALL(IF(Отделения[Город]=$BB$1,ROW(Отделения[Город])-1),ROW(AB36)-ROW($A$2)+1)),\"\")","v":""},{"$f":"IFERROR(INDEX(Отделения[отделение],SMALL(IF(Отделения[Город]=$BC$1,ROW(Отделения[Город])-1),ROW(AC36)-ROW($A$2)+1)),\"\")","v":""},{"$f":"IFERROR(INDEX(Отделения[отделение],SMALL(IF(Отделения[Город]=$BD$1,ROW(Отделения[Город])-1),ROW(AD36)-ROW($A$2)+1)),\"\")","v":""},{"$f":"IFERROR(INDEX(Отделения[отделение],SMALL(IF(Отделения[Город]=$BE$1,ROW(Отделения[Город])-1),ROW(AE36)-ROW($A$2)+1)),\"\")","v":""},{"$f":"IFERROR(INDEX(Отделения[отделение],SMALL(IF(Отделения[Город]=$BF$1,ROW(Отделения[Город])-1),ROW(AF36)-ROW($A$2)+1)),\"\")","v":""},{"$f":"IFERROR(INDEX(Отделения[отделение],SMALL(IF(Отделения[Город]=$BG$1,ROW(Отделения[Город])-1),ROW(AG36)-ROW($A$2)+1)),\"\")","v":""},{"$f":"IFERROR(INDEX(Отделения[отделение],SMALL(IF(Отделения[Город]=$BH$1,ROW(Отделения[Город])-1),ROW(AH36)-ROW($A$2)+1)),\"\")","v":""},{"$f":"IFERROR(INDEX(Отделения[отделение],SMALL(IF(Отделения[Город]=$BI$1,ROW(Отделения[Город])-1),ROW(AI36)-ROW($A$2)+1)),\"\")","v":""},{"$f":"IFERROR(INDEX(Отделения[отделение],SMALL(IF(Отделения[Город]=$BJ$1,ROW(Отделения[Город])-1),ROW(AJ36)-ROW($A$2)+1)),\"\")","v":""},{"$f":"IFERROR(INDEX(Отделения[отделение],SMALL(IF(Отделения[Город]=$BK$1,ROW(Отделения[Город])-1),ROW(AK36)-ROW($A$2)+1)),\"\")","v":""},{"$f":"IFERROR(INDEX(Отделения[отделение],SMALL(IF(Отделения[Город]=$BL$1,ROW(Отделения[Город])-1),ROW(AL36)-ROW($A$2)+1)),\"\")","v":""},{"$f":"IFERROR(INDEX(Отделения[отделение],SMALL(IF(Отделения[Город]=$BM$1,ROW(Отделения[Город])-1),ROW(AM36)-ROW($A$2)+1)),\"\")","v":""},{"$f":"IFERROR(INDEX(Отделения[отделение],SMALL(IF(Отделения[Город]=$BN$1,ROW(Отделения[Город])-1),ROW(AN36)-ROW($A$2)+1)),\"\")","v":""},{"$f":"IFERROR(INDEX(Отделения[отделение],SMALL(IF(Отделения[Город]=$BO$1,ROW(Отделения[Город])-1),ROW(AO36)-ROW($A$2)+1)),\"\")","v":""},{"$f":"IFERROR(INDEX(Отделения[отделение],SMALL(IF(Отделения[Город]=$BP$1,ROW(Отделения[Город])-1),ROW(AP36)-ROW($A$2)+1)),\"\")","v":""},{"$f":"IFERROR(INDEX(Отделения[отделение],SMALL(IF(Отделения[Город]=$BQ$1,ROW(Отделения[Город])-1),ROW(AQ36)-ROW($A$2)+1)),\"\")","v":""},{"$f":"IFERROR(INDEX(Отделения[отделение],SMALL(IF(Отделения[Город]=$BR$1,ROW(Отделения[Город])-1),ROW(AR36)-ROW($A$2)+1)),\"\")","v":""},{"$f":"IFERROR(INDEX(Отделения[отделение],SMALL(IF(Отделения[Город]=$BS$1,ROW(Отделения[Город])-1),ROW(AS36)-ROW($A$2)+1)),\"\")","v":""},{"$f":"IFERROR(INDEX(Отделения[отделение],SMALL(IF(Отделения[Город]=$BT$1,ROW(Отделения[Город])-1),ROW(AT36)-ROW($A$2)+1)),\"\")","v":""},{"$f":"IFERROR(INDEX(Отделения[отделение],SMALL(IF(Отделения[Город]=$BU$1,ROW(Отделения[Город])-1),ROW(AU36)-ROW($A$2)+1)),\"\")","v":""},{"$f":"IFERROR(INDEX(Отделения[отделение],SMALL(IF(Отделения[Город]=$BV$1,ROW(Отделения[Город])-1),ROW(AV36)-ROW($A$2)+1)),\"\")","v":""},{"$f":"IFERROR(INDEX(Отделения[отделение],SMALL(IF(Отделения[Город]=$BW$1,ROW(Отделения[Город])-1),ROW(AV36)-ROW($A$2)+1)),\"\")","v":""},{"$f":"IFERROR(INDEX(Отделения[отделение],SMALL(IF(Отделения[Город]=$BX$1,ROW(Отделения[Город])-1),ROW(AV36)-ROW($A$2)+1)),\"\")","v":""},{"$f":"IFERROR(INDEX(Отделения[отделение],SMALL(IF(Отделения[Город]=$BY$1,ROW(Отделения[Город])-1),ROW(AV36)-ROW($A$2)+1)),\"\")","v":""},{"$f":"IFERROR(INDEX(Отделения[отделение],SMALL(IF(Отделения[Город]=$BZ$1,ROW(Отделения[Город])-1),ROW(AV36)-ROW($A$2)+1)),\"\")","v":""},{"$f":"IFERROR(INDEX(Отделения[отделение],SMALL(IF(Отделения[Город]=$CA$1,ROW(Отделения[Город])-1),ROW(AV36)-ROW($A$2)+1)),\"\")","v":""},{"$f":"IFERROR(INDEX(Отделения[отделение],SMALL(IF(Отделения[Город]=$CB$1,ROW(Отделения[Город])-1),ROW(AV36)-ROW($A$2)+1)),\"\")","v":""},{"$f":"IFERROR(INDEX(Отделения[отделение],SMALL(IF(Отделения[Город]=$CC$1,ROW(Отделения[Город])-1),ROW(AV36)-ROW($A$2)+1)),\"\")","v":""},{"$f":"IFERROR(INDEX(Отделения[отделение],SMALL(IF(Отделения[Город]=$CD$1,ROW(Отделения[Город])-1),ROW(AV36)-ROW($A$2)+1)),\"\")","v":""},{"$f":"IFERROR(INDEX(Отделения[отделение],SMALL(IF(Отделения[Город]=$CE$1,ROW(Отделения[Город])-1),ROW(AV36)-ROW($A$2)+1)),\"\")","v":""},{"$f":"IFERROR(INDEX(Отделения[отделение],SMALL(IF(Отделения[Город]=$CF$1,ROW(Отделения[Город])-1),ROW(AV36)-ROW($A$2)+1)),\"\")","v":""},{"$f":"IFERROR(INDEX(Отделения[отделение],SMALL(IF(Отделения[Город]=$CG$1,ROW(Отделения[Город])-1),ROW(AV36)-ROW($A$2)+1)),\"\")","v":""},{"$f":"IFERROR(INDEX(Отделения[отделение],SMALL(IF(Отделения[Город]=$CH$1,ROW(Отделения[Город])-1),ROW(AW36)-ROW($A$2)+1)),\"\")","v":""},{"$f":"IFERROR(INDEX(Отделения[отделение],SMALL(IF(Отделения[Город]=$CI$1,ROW(Отделения[Город])-1),ROW(AX36)-ROW($A$2)+1)),\"\")","v":""},{"$f":"IFERROR(INDEX(Отделения[отделение],SMALL(IF(Отделения[Город]=$CJ$1,ROW(Отделения[Город])-1),ROW(AY36)-ROW($A$2)+1)),\"\")","v":""},{"$f":"IFERROR(INDEX(Отделения[отделение],SMALL(IF(Отделения[Город]=$CK$1,ROW(Отделения[Город])-1),ROW(AZ36)-ROW($A$2)+1)),\"\")","v":""},{"$f":"IFERROR(INDEX(Отделения[отделение],SMALL(IF(Отделения[Город]=$CL$1,ROW(Отделения[Город])-1),ROW(BA36)-ROW($A$2)+1)),\"\")","v":""},{"$f":"IFERROR(INDEX(Отделения[отделение],SMALL(IF(Отделения[Город]=$CM$1,ROW(Отделения[Город])-1),ROW(BB36)-ROW($A$2)+1)),\"\")","v":""},{"$f":"IFERROR(INDEX(Отделения[отделение],SMALL(IF(Отделения[Город]=$CN$1,ROW(Отделения[Город])-1),ROW(BC36)-ROW($A$2)+1)),\"\")","v":""},{"$f":"IFERROR(INDEX(Отделения[отделение],SMALL(IF(Отделения[Город]=$CO$1,ROW(Отделения[Город])-1),ROW(BD36)-ROW($A$2)+1)),\"\")","v":""},{"$f":"IFERROR(INDEX(Отделения[отделение],SMALL(IF(Отделения[Город]=$CP$1,ROW(Отделения[Город])-1),ROW(BE36)-ROW($A$2)+1)),\"\")","v":""},{"$f":"IFERROR(INDEX(Отделения[отделение],SMALL(IF(Отделения[Город]=$CQ$1,ROW(Отделения[Город])-1),ROW(BF36)-ROW($A$2)+1)),\"\")","v":""},{"$f":"IFERROR(INDEX(Отделения[отделение],SMALL(IF(Отделения[Город]=$CR$1,ROW(Отделения[Город])-1),ROW(BG36)-ROW($A$2)+1)),\"\")","v":""},{"$f":"IFERROR(INDEX(Отделения[отделение],SMALL(IF(Отделения[Город]=$CS$1,ROW(Отделения[Город])-1),ROW(BH36)-ROW($A$2)+1)),\"\")","v":""},{"$f":"IFERROR(INDEX(Отделения[отделение],SMALL(IF(Отделения[Город]=$CT$1,ROW(Отделения[Город])-1),ROW(BI36)-ROW($A$2)+1)),\"\")","v":""},{"$f":"IFERROR(INDEX(Отделения[отделение],SMALL(IF(Отделения[Город]=$CU$1,ROW(Отделения[Город])-1),ROW(BJ36)-ROW($A$2)+1)),\"\")","v":""},{"$f":"IFERROR(INDEX(Отделения[отделение],SMALL(IF(Отделения[Город]=$CV$1,ROW(Отделения[Город])-1),ROW(BK36)-ROW($A$2)+1)),\"\")","v":""},{"$f":"IFERROR(INDEX(Отделения[отделение],SMALL(IF(Отделения[Город]=$CW$1,ROW(Отделения[Город])-1),ROW(BL36)-ROW($A$2)+1)),\"\")","v":""},{"$f":"IFERROR(INDEX(Отделения[отделение],SMALL(IF(Отделения[Город]=$CX$1,ROW(Отделения[Город])-1),ROW(BM36)-ROW($A$2)+1)),\"\")","v":""},{"$f":"IFERROR(INDEX(Отделения[отделение],SMALL(IF(Отделения[Город]=$CY$1,ROW(Отделения[Город])-1),ROW(BM36)-ROW($A$2)+1)),\"\")","v":""},{"$f":"IFERROR(INDEX(Отделения[отделение],SMALL(IF(Отделения[Город]=$CZ$1,ROW(Отделения[Город])-1),ROW(BM36)-ROW($A$2)+1)),\"\")","v":""},{"$f":"IFERROR(INDEX(Отделения[отделение],SMALL(IF(Отделения[Город]=$DA$1,ROW(Отделения[Город])-1),ROW(BM36)-ROW($A$2)+1)),\"\")","v":""},{"$f":"IFERROR(INDEX(Отделения[отделение],SMALL(IF(Отделения[Город]=$DB$1,ROW(Отделения[Город])-1),ROW(BM36)-ROW($A$2)+1)),\"\")","v":""}]
["Краснодар","ДО \"Краснодар-Театральная пл\" , 350000, г. Краснодар, ул Красная, д. 124, литер `Б`","0480","MOKD",null,null,{"$f":"IFERROR(INDEX(Отделения[отделение],SMALL(IF(Отделения[Город]=$G$1,ROW(Отделения[Город])-1),ROW(A37)-ROW($A$2)+1)),\"\")","v":""},{"$f":"IFERROR(INDEX(Отделения[отделение],SMALL(IF(Отделения[Город]=$H$1,ROW(Отделения[Город])-1),ROW(A37)-ROW($A$2)+1)),\"\")","v":""},{"$f":"IFERROR(INDEX(Отделения[отделение],SMALL(IF(Отделения[Город]=$I$1,ROW(Отделения[Город])-1),ROW(A37)-ROW($A$2)+1)),\"\")","v":""},{"$f":"IFERROR(INDEX(Отделения[отделение],SMALL(IF(Отделения[Город]=$J$1,ROW(Отделения[Город])-1),ROW(A37)-ROW($A$2)+1)),\"\")","v":""},{"$f":"IFERROR(INDEX(Отделения[отделение],SMALL(IF(Отделения[Город]=$K$1,ROW(Отделения[Город])-1),ROW(A37)-ROW($A$2)+1)),\"\")","v":""},{"$f":"IFERROR(INDEX(Отделения[отделение],SMALL(IF(Отделения[Город]=$L$1,ROW(Отделения[Город])-1),ROW(A37)-ROW($A$2)+1)),\"\")","v":""},{"$f":"IFERROR(INDEX(Отделения[отделение],SMALL(IF(Отделения[Город]=$M$1,ROW(Отделения[Город])-1),ROW(B37)-ROW($A$2)+1)),\"\")","v":""},{"$f":"IFERROR(INDEX(Отделения[отделение],SMALL(IF(Отделения[Город]=$N$1,ROW(Отделения[Город])-1),ROW(#REF!)-ROW($A$2)+1)),\"\")","v":""},{"$f":"IFERROR(INDEX(Отделения[отделение],SMALL(IF(Отделения[Город]=$O$1,ROW(Отделения[Город])-1),ROW(C37)-ROW($A$2)+1)),\"\")","v":""},{"$f":"IFERROR(INDEX(Отделения[отделение],SMALL(IF(Отделения[Город]=$P$1,ROW(Отделения[Город])-1),ROW(D37)-ROW($A$2)+1)),\"\")","v":""},{"$f":"IFERROR(INDEX(Отделения[отделение],SMALL(IF(Отделения[Город]=$Q$1,ROW(Отделения[Город])-1),ROW(F37)-ROW($A$2)+1)),\"\")","v":""},{"$f":"IFERROR(INDEX(Отделения[отделение],SMALL(IF(Отделения[Город]=$R$1,ROW(Отделения[Город])-1),ROW(#REF!)-ROW($A$2)+1)),\"\")","v":""},{"$f":"IFERROR(INDEX(Отделения[отделение],SMALL(IF(Отделения[Город]=$S$1,ROW(Отделения[Город])-1),ROW(G37)-ROW($A$2)+1)),\"\")","v":""},{"$f":"IFERROR(INDEX(Отделения[отделение],SMALL(IF(Отделения[Город]=$T$1,ROW(Отделения[Город])-1),ROW(H37)-ROW($A$2)+1)),\"\")","v":""},{"$f":"IFERROR(INDEX(Отделения[отделение],SMALL(IF(Отделения[Город]=$U$1,ROW(Отделения[Город])-1),ROW(I37)-ROW($A$2)+1)),\"\")","v":""},{"$f":"IFERROR(INDEX(Отделения[отделение],SMALL(IF(Отделения[Город]=$V$1,ROW(Отделения[Город])-1),ROW(J37)-ROW($A$2)+1)),\"\")","v":""},{"$f":"IFERROR(INDEX(Отделения[отделение],SMALL(IF(Отделения[Город]=$W$1,ROW(Отделения[Город])-1),ROW(K37)-ROW($A$2)+1)),\"\")","v":""},{"$f":"IFERROR(INDEX(Отделения[отделение],SMALL(IF(Отделения[Город]=$X$1,ROW(Отделения[Город])-1),ROW(L37)-ROW($A$2)+1)),\"\")","v":""},{"$f":"IFERROR(INDEX(Отделения[отделение],SMALL(IF(Отделения[Город]=$Y$1,ROW(Отделения[Город])-1),ROW(M37)-ROW($A$2)+1)),\"\")","v":""},{"$f":"IFERROR(INDEX(Отделения[отделение],SMALL(IF(Отделения[Город]=$Z$1,ROW(Отделения[Город])-1),ROW(N37)-ROW($A$2)+1)),\"\")","v":""},{"$f":"IFERROR(INDEX(Отделения[отделение],SMALL(IF(Отделения[Город]=$AA$1,ROW(Отделения[Город])-1),ROW(O37)-ROW($A$2)+1)),\"\")","v":""},{"$f":"IFERROR(INDEX(Отделения[отделение],SMALL(IF(Отделения[Город]=$AB$1,ROW(Отделения[Город])-1),ROW(P37)-ROW($A$2)+1)),\"\")","v":""},{"$f":"IFERROR(INDEX(Отделения[отделение],SMALL(IF(Отделения[Город]=$AC$1,ROW(Отделения[Город])-1),ROW(Q37)-ROW($A$2)+1)),\"\")","v":""},{"$f":"IFERROR(INDEX(Отделения[отделение],SMALL(IF(Отделения[Город]=$AD$1,ROW(Отделения[Город])-1),ROW(R37)-ROW($A$2)+1)),\"\")","v":""},{"$f":"IFERROR(INDEX(Отделения[отделение],SMALL(IF(Отделения[Город]=$AE$1,ROW(Отделения[Город])-1),ROW(S37)-ROW($A$2)+1)),\"\")","v":""},{"$f":"IFERROR(INDEX(Отделения[отделение],SMALL(IF(Отделения[Город]=$AF$1,ROW(Отделения[Город])-1),ROW(T37)-ROW($A$2)+1)),\"\")","v":""},{"$f":"IFERROR(INDEX(Отделения[отделение],SMALL(IF(Отделения[Город]=$AG$1,ROW(Отделения[Город])-1),ROW(U37)-ROW($A$2)+1)),\"\")","v":""},{"$f":"IFERROR(INDEX(Отделения[отделение],SMALL(IF(Отделения[Город]=$AH$1,ROW(Отделения[Город])-1),ROW(V37)-ROW($A$2)+1)),\"\")","v":""},{"$f":"IFERROR(INDEX(Отделения[отделение],SMALL(IF(Отделения[Город]=$AI$1,ROW(Отделения[Город])-1),ROW(AB37)-ROW($A$2)+1)),\"\")","v":""},{"$f":"IFERROR(INDEX(Отделения[отделение],SMALL(IF(Отделения[Город]=$AJ$1,ROW(Отделения[Город])-1),ROW(AB37)-ROW($A$2)+1)),\"\")","v":""},{"$f":"IFERROR(INDEX(Отделения[отделение],SMALL(IF(Отделения[Город]=$AK$1,ROW(Отделения[Город])-1),ROW(AB37)-ROW($A$2)+1)),\"\")","v":""},{"$f":"IFERROR(INDEX(Отделения[отделение],SMALL(IF(Отделения[Город]=$AL$1,ROW(Отделения[Город])-1),ROW(AB37)-ROW($A$2)+1)),\"\")","v":""},{"$f":"IFERROR(INDEX(Отделения[отделение],SMALL(IF(Отделения[Город]=$AM$1,ROW(Отделения[Город])-1),ROW(AB37)-ROW($A$2)+1)),\"\")","v":""},{"$f":"IFERROR(INDEX(Отделения[отделение],SMALL(IF(Отделения[Город]=$AN$1,ROW(Отделения[Город])-1),ROW(AB37)-ROW($A$2)+1)),\"\")","v":""},{"$f":"IFERROR(INDEX(Отделения[отделение],SMALL(IF(Отделения[Город]=$AO$1,ROW(Отделения[Город])-1),ROW(AB37)-ROW($A$2)+1)),\"\")","v":""},{"$f":"IFERROR(INDEX(Отделения[отделение],SMALL(IF(Отделения[Город]=$AP$1,ROW(Отделения[Город])-1),ROW(AB37)-ROW($A$2)+1)),\"\")","v":""},{"$f":"IFERROR(INDEX(Отделения[отделение],SMALL(IF(Отделения[Город]=$AQ$1,ROW(Отделения[Город])-1),ROW(AB37)-ROW($A$2)+1)),\"\")","v":""},{"$f":"IFERROR(INDEX(Отделения[отделение],SMALL(IF(Отделения[Город]=$AR$1,ROW(Отделения[Город])-1),ROW(AB37)-ROW($A$2)+1)),\"\")","v":""},{"$f":"IFERROR(INDEX(Отделения[отделение],SMALL(IF(Отделения[Город]=$AS$1,ROW(Отделения[Город])-1),ROW(AB37)-ROW($A$2)+1)),\"\")","v":""},{"$f":"IFERROR(INDEX(Отделения[отделение],SMALL(IF(Отделения[Город]=$AT$1,ROW(Отделения[Город])-1),ROW(AB37)-ROW($A$2)+1)),\"\")","v":""},{"$f":"IFERROR(INDEX(Отделения[отделение],SMALL(IF(Отделения[Город]=$AU$1,ROW(Отделения[Город])-1),ROW(AB37)-ROW($A$2)+1)),\"\")","v":""},{"$f":"IFERROR(INDEX(Отделения[отделение],SMALL(IF(Отделения[Город]=$AV$1,ROW(Отделения[Город])-1),ROW(AB37)-ROW($A$2)+1)),\"\")","v":""},{"$f":"IFERROR(INDEX(Отделения[отделение],SMALL(IF(Отделения[Город]=$AW$1,ROW(Отделения[Город])-1),ROW(AB37)-ROW($A$2)+1)),\"\")","v":""},{"$f":"IFERROR(INDEX(Отделения[отделение],SMALL(IF(Отделения[Город]=$AX$1,ROW(Отделения[Город])-1),ROW(AB37)-ROW($A$2)+1)),\"\")","v":""},{"$f":"IFERROR(INDEX(Отделения[отделение],SMALL(IF(Отделения[Город]=$AY$1,ROW(Отделения[Город])-1),ROW(AB37)-ROW($A$2)+1)),\"\")","v":""},{"$f":"IFERROR(INDEX(Отделения[отделение],SMALL(IF(Отделения[Город]=$AZ$1,ROW(Отделения[Город])-1),ROW(AB37)-ROW($A$2)+1)),\"\")","v":""},{"$f":"IFERROR(INDEX(Отделения[отделение],SMALL(IF(Отделения[Город]=$BA$1,ROW(Отделения[Город])-1),ROW(AB37)-ROW($A$2)+1)),\"\")","v":""},{"$f":"IFERROR(INDEX(Отделения[отделение],SMALL(IF(Отделения[Город]=$BB$1,ROW(Отделения[Город])-1),ROW(AB37)-ROW($A$2)+1)),\"\")","v":""},{"$f":"IFERROR(INDEX(Отделения[отделение],SMALL(IF(Отделения[Город]=$BC$1,ROW(Отделения[Город])-1),ROW(AC37)-ROW($A$2)+1)),\"\")","v":""},{"$f":"IFERROR(INDEX(Отделения[отделение],SMALL(IF(Отделения[Город]=$BD$1,ROW(Отделения[Город])-1),ROW(AD37)-ROW($A$2)+1)),\"\")","v":""},{"$f":"IFERROR(INDEX(Отделения[отделение],SMALL(IF(Отделения[Город]=$BE$1,ROW(Отделения[Город])-1),ROW(AE37)-ROW($A$2)+1)),\"\")","v":""},{"$f":"IFERROR(INDEX(Отделения[отделение],SMALL(IF(Отделения[Город]=$BF$1,ROW(Отделения[Город])-1),ROW(AF37)-ROW($A$2)+1)),\"\")","v":""},{"$f":"IFERROR(INDEX(Отделения[отделение],SMALL(IF(Отделения[Город]=$BG$1,ROW(Отделения[Город])-1),ROW(AG37)-ROW($A$2)+1)),\"\")","v":""},{"$f":"IFERROR(INDEX(Отделения[отделение],SMALL(IF(Отделения[Город]=$BH$1,ROW(Отделения[Город])-1),ROW(AH37)-ROW($A$2)+1)),\"\")","v":""},{"$f":"IFERROR(INDEX(Отделения[отделение],SMALL(IF(Отделения[Город]=$BI$1,ROW(Отделения[Город])-1),ROW(AI37)-ROW($A$2)+1)),\"\")","v":""},{"$f":"IFERROR(INDEX(Отделения[отделение],SMALL(IF(Отделения[Город]=$BJ$1,ROW(Отделения[Город])-1),ROW(AJ37)-ROW($A$2)+1)),\"\")","v":""},{"$f":"IFERROR(INDEX(Отделения[отделение],SMALL(IF(Отделения[Город]=$BK$1,ROW(Отделения[Город])-1),ROW(AK37)-ROW($A$2)+1)),\"\")","v":""},{"$f":"IFERROR(INDEX(Отделения[отделение],SMALL(IF(Отделения[Город]=$BL$1,ROW(Отделения[Город])-1),ROW(AL37)-ROW($A$2)+1)),\"\")","v":""},{"$f":"IFERROR(INDEX(Отделения[отделение],SMALL(IF(Отделения[Город]=$BM$1,ROW(Отделения[Город])-1),ROW(AM37)-ROW($A$2)+1)),\"\")","v":""},{"$f":"IFERROR(INDEX(Отделения[отделение],SMALL(IF(Отделения[Город]=$BN$1,ROW(Отделения[Город])-1),ROW(AN37)-ROW($A$2)+1)),\"\")","v":""},{"$f":"IFERROR(INDEX(Отделения[отделение],SMALL(IF(Отделения[Город]=$BO$1,ROW(Отделения[Город])-1),ROW(AO37)-ROW($A$2)+1)),\"\")","v":""},{"$f":"IFERROR(INDEX(Отделения[отделение],SMALL(IF(Отделения[Город]=$BP$1,ROW(Отделения[Город])-1),ROW(AP37)-ROW($A$2)+1)),\"\")","v":""},{"$f":"IFERROR(INDEX(Отделения[отделение],SMALL(IF(Отделения[Город]=$BQ$1,ROW(Отделения[Город])-1),ROW(AQ37)-ROW($A$2)+1)),\"\")","v":""},{"$f":"IFERROR(INDEX(Отделения[отделение],SMALL(IF(Отделения[Город]=$BR$1,ROW(Отделения[Город])-1),ROW(AR37)-ROW($A$2)+1)),\"\")","v":""},{"$f":"IFERROR(INDEX(Отделения[отделение],SMALL(IF(Отделения[Город]=$BS$1,ROW(Отделения[Город])-1),ROW(AS37)-ROW($A$2)+1)),\"\")","v":""},{"$f":"IFERROR(INDEX(Отделения[отделение],SMALL(IF(Отделения[Город]=$BT$1,ROW(Отделения[Город])-1),ROW(AT37)-ROW($A$2)+1)),\"\")","v":""},{"$f":"IFERROR(INDEX(Отделения[отделение],SMALL(IF(Отделения[Город]=$BU$1,ROW(Отделения[Город])-1),ROW(AU37)-ROW($A$2)+1)),\"\")","v":""},{"$f":"IFERROR(INDEX(Отделения[отделение],SMALL(IF(Отделения[Город]=$BV$1,ROW(Отделения[Город])-1),ROW(AV37)-ROW($A$2)+1)),\"\")","v":""},{"$f":"IFERROR(INDEX(Отделения[отделение],SMALL(IF(Отделения[Город]=$BW$1,ROW(Отделения[Город])-1),ROW(AV37)-ROW($A$2)+1)),\"\")","v":""},{"$f":"IFERROR(INDEX(Отделения[отделение],SMALL(IF(Отделения[Город]=$BX$1,ROW(Отделения[Город])-1),ROW(AV37)-ROW($A$2)+1)),\"\")","v":""},{"$f":"IFERROR(INDEX(Отделения[отделение],SMALL(IF(Отделения[Город]=$BY$1,ROW(Отделения[Город])-1),ROW(AV37)-ROW($A$2)+1)),\"\")","v":""},{"$f":"IFERROR(INDEX(Отделения[отделение],SMALL(IF(Отделения[Город]=$BZ$1,ROW(Отделения[Город])-1),ROW(AV37)-ROW($A$2)+1)),\"\")","v":""},{"$f":"IFERROR(INDEX(Отделения[отделение],SMALL(IF(Отделения[Город]=$CA$1,ROW(Отделения[Город])-1),ROW(AV37)-ROW($A$2)+1)),\"\")","v":""},{"$f":"IFERROR(INDEX(Отделения[отделение],SMALL(IF(Отделения[Город]=$CB$1,ROW(Отделения[Город])-1),ROW(AV37)-ROW($A$2)+1)),\"\")","v":""},{"$f":"IFERROR(INDEX(Отделения[отделение],SMALL(IF(Отделения[Город]=$CC$1,ROW(Отделения[Город])-1),ROW(AV37)-ROW($A$2)+1)),\"\")","v":""},{"$f":"IFERROR(INDEX(Отделения[отделение],SMALL(IF(Отделения[Город]=$CD$1,ROW(Отделения[Город])-1),ROW(AV37)-ROW($A$2)+1)),\"\")","v":""},{"$f":"IFERROR(INDEX(Отделения[отделение],SMALL(IF(Отделения[Город]=$CE$1,ROW(Отделения[Город])-1),ROW(AV37)-ROW($A$2)+1)),\"\")","v":""},{"$f":"IFERROR(INDEX(Отделения[отделение],SMALL(IF(Отделения[Город]=$CF$1,ROW(Отделения[Город])-1),ROW(AV37)-ROW($A$2)+1)),\"\")","v":""},{"$f":"IFERROR(INDEX(Отделения[отделение],SMALL(IF(Отделения[Город]=$CG$1,ROW(Отделения[Город])-1),ROW(AV37)-ROW($A$2)+1)),\"\")","v":""},{"$f":"IFERROR(INDEX(Отделения[отделение],SMALL(IF(Отделения[Город]=$CH$1,ROW(Отделения[Город])-1),ROW(AW37)-ROW($A$2)+1)),\"\")","v":""},{"$f":"IFERROR(INDEX(Отделения[отделение],SMALL(IF(Отделения[Город]=$CI$1,ROW(Отделения[Город])-1),ROW(AX37)-ROW($A$2)+1)),\"\")","v":""},{"$f":"IFERROR(INDEX(Отделения[отделение],SMALL(IF(Отделения[Город]=$CJ$1,ROW(Отделения[Город])-1),ROW(AY37)-ROW($A$2)+1)),\"\")","v":""},{"$f":"IFERROR(INDEX(Отделения[отделение],SMALL(IF(Отделения[Город]=$CK$1,ROW(Отделения[Город])-1),ROW(AZ37)-ROW($A$2)+1)),\"\")","v":""},{"$f":"IFERROR(INDEX(Отделения[отделение],SMALL(IF(Отделения[Город]=$CL$1,ROW(Отделения[Город])-1),ROW(BA37)-ROW($A$2)+1)),\"\")","v":""},{"$f":"IFERROR(INDEX(Отделения[отделение],SMALL(IF(Отделения[Город]=$CM$1,ROW(Отделения[Город])-1),ROW(BB37)-ROW($A$2)+1)),\"\")","v":""},{"$f":"IFERROR(INDEX(Отделения[отделение],SMALL(IF(Отделения[Город]=$CN$1,ROW(Отделения[Город])-1),ROW(BC37)-ROW($A$2)+1)),\"\")","v":""},{"$f":"IFERROR(INDEX(Отделения[отделение],SMALL(IF(Отделения[Город]=$CO$1,ROW(Отделения[Город])-1),ROW(BD37)-ROW($A$2)+1)),\"\")","v":""},{"$f":"IFERROR(INDEX(Отделения[отделение],SMALL(IF(Отделения[Город]=$CP$1,ROW(Отделения[Город])-1),ROW(BE37)-ROW($A$2)+1)),\"\")","v":""},{"$f":"IFERROR(INDEX(Отделения[отделение],SMALL(IF(Отделения[Город]=$CQ$1,ROW(Отделения[Город])-1),ROW(BF37)-ROW($A$2)+1)),\"\")","v":""},{"$f":"IFERROR(INDEX(Отделения[отделение],SMALL(IF(Отделения[Город]=$CR$1,ROW(Отделения[Город])-1),ROW(BG37)-ROW($A$2)+1)),\"\")","v":""},{"$f":"IFERROR(INDEX(Отделения[отделение],SMALL(IF(Отделения[Город]=$CS$1,ROW(Отделения[Город])-1),ROW(BH37)-ROW($A$2)+1)),\"\")","v":""},{"$f":"IFERROR(INDEX(Отделения[отделение],SMALL(IF(Отделения[Город]=$CT$1,ROW(Отделения[Город])-1),ROW(BI37)-ROW($A$2)+1)),\"\")","v":""},{"$f":"IFERROR(INDEX(Отделения[отделение],SMALL(IF(Отделения[Город]=$CU$1,ROW(Отделения[Город])-1),ROW(BJ37)-ROW($A$2)+1)),\"\")","v":""},{"$f":"IFERROR(INDEX(Отделения[отделение],SMALL(IF(Отделения[Город]=$CV$1,ROW(Отделения[Город])-1),ROW(BK37)-ROW($A$2)+1)),\"\")","v":""},{"$f":"IFERROR(INDEX(Отделения[отделение],SMALL(IF(Отделения[Город]=$CW$1,ROW(Отделения[Город])-1),ROW(BL37)-ROW($A$2)+1)),\"\")","v":""},{"$f":"IFERROR(INDEX(Отделения[отделение],SMALL(IF(Отделения[Город]=$CX$1,ROW(Отделения[Город])-1),ROW(BM37)-ROW($A$2)+1)),\"\")","v":""},{"$f":"IFERROR(INDEX(Отделения[отделение],SMALL(IF(Отделения[Город]=$CY$1,ROW(Отделения[Город])-1),ROW(BM37)-ROW($A$2)+1)),\"\")","v":""},{"$f":"IFERROR(INDEX(Отделения[отделение],SMALL(IF(Отделения[Город]=$CZ$1,ROW(Отделения[Город])-1),ROW(BM37)-ROW($A$2)+1)),\"\")","v":""},{"$f":"IFERROR(INDEX(Отделения[отделение],SMALL(IF(Отделения[Город]=$DA$1,ROW(Отделения[Город])-1),ROW(BM37)-ROW($A$2)+1)),\"\")","v":""},{"$f":"IFERROR(INDEX(Отделения[отделение],SMALL(IF(Отделения[Город]=$DB$1,ROW(Отделения[Город])-1),ROW(BM37)-ROW($A$2)+1)),\"\")","v":""}]
["Новосибирск","ДО \"Новосибирск-Сибирь\" , 630004, г. Новосибирск,Железнодорожный район, ул. Ленинад. 52","0481","MOSV",null,null,{"$f":"IFERROR(INDEX(Отделения[отделение],SMALL(IF(Отделения[Город]=$G$1,ROW(Отделения[Город])-1),ROW(A38)-ROW($A$2)+1)),\"\")","v":""},{"$f":"IFERROR(INDEX(Отделения[отделение],SMALL(IF(Отделения[Город]=$H$1,ROW(Отделения[Город])-1),ROW(A38)-ROW($A$2)+1)),\"\")","v":""},{"$f":"IFERROR(INDEX(Отделения[отделение],SMALL(IF(Отделения[Город]=$I$1,ROW(Отделения[Город])-1),ROW(A38)-ROW($A$2)+1)),\"\")","v":""},{"$f":"IFERROR(INDEX(Отделения[отделение],SMALL(IF(Отделения[Город]=$J$1,ROW(Отделения[Город])-1),ROW(A38)-ROW($A$2)+1)),\"\")","v":""},{"$f":"IFERROR(INDEX(Отделения[отделение],SMALL(IF(Отделения[Город]=$K$1,ROW(Отделения[Город])-1),ROW(A38)-ROW($A$2)+1)),\"\")","v":""},{"$f":"IFERROR(INDEX(Отделения[отделение],SMALL(IF(Отделения[Город]=$L$1,ROW(Отделения[Город])-1),ROW(A38)-ROW($A$2)+1)),\"\")","v":""},{"$f":"IFERROR(INDEX(Отделения[отделение],SMALL(IF(Отделения[Город]=$M$1,ROW(Отделения[Город])-1),ROW(B38)-ROW($A$2)+1)),\"\")","v":""},{"$f":"IFERROR(INDEX(Отделения[отделение],SMALL(IF(Отделения[Город]=$N$1,ROW(Отделения[Город])-1),ROW(#REF!)-ROW($A$2)+1)),\"\")","v":""},{"$f":"IFERROR(INDEX(Отделения[отделение],SMALL(IF(Отделения[Город]=$O$1,ROW(Отделения[Город])-1),ROW(C38)-ROW($A$2)+1)),\"\")","v":""},{"$f":"IFERROR(INDEX(Отделения[отделение],SMALL(IF(Отделения[Город]=$P$1,ROW(Отделения[Город])-1),ROW(D38)-ROW($A$2)+1)),\"\")","v":""},{"$f":"IFERROR(INDEX(Отделения[отделение],SMALL(IF(Отделения[Город]=$Q$1,ROW(Отделения[Город])-1),ROW(F38)-ROW($A$2)+1)),\"\")","v":""},{"$f":"IFERROR(INDEX(Отделения[отделение],SMALL(IF(Отделения[Город]=$R$1,ROW(Отделения[Город])-1),ROW(#REF!)-ROW($A$2)+1)),\"\")","v":""},{"$f":"IFERROR(INDEX(Отделения[отделение],SMALL(IF(Отделения[Город]=$S$1,ROW(Отделения[Город])-1),ROW(G38)-ROW($A$2)+1)),\"\")","v":""},{"$f":"IFERROR(INDEX(Отделения[отделение],SMALL(IF(Отделения[Город]=$T$1,ROW(Отделения[Город])-1),ROW(H38)-ROW($A$2)+1)),\"\")","v":""},{"$f":"IFERROR(INDEX(Отделения[отделение],SMALL(IF(Отделения[Город]=$U$1,ROW(Отделения[Город])-1),ROW(I38)-ROW($A$2)+1)),\"\")","v":""},{"$f":"IFERROR(INDEX(Отделения[отделение],SMALL(IF(Отделения[Город]=$V$1,ROW(Отделения[Город])-1),ROW(J38)-ROW($A$2)+1)),\"\")","v":""},{"$f":"IFERROR(INDEX(Отделения[отделение],SMALL(IF(Отделения[Город]=$W$1,ROW(Отделения[Город])-1),ROW(K38)-ROW($A$2)+1)),\"\")","v":""},{"$f":"IFERROR(INDEX(Отделения[отделение],SMALL(IF(Отделения[Город]=$X$1,ROW(Отделения[Город])-1),ROW(L38)-ROW($A$2)+1)),\"\")","v":""},{"$f":"IFERROR(INDEX(Отделения[отделение],SMALL(IF(Отделения[Город]=$Y$1,ROW(Отделения[Город])-1),ROW(M38)-ROW($A$2)+1)),\"\")","v":""},{"$f":"IFERROR(INDEX(Отделения[отделение],SMALL(IF(Отделения[Город]=$Z$1,ROW(Отделения[Город])-1),ROW(N38)-ROW($A$2)+1)),\"\")","v":""},{"$f":"IFERROR(INDEX(Отделения[отделение],SMALL(IF(Отделения[Город]=$AA$1,ROW(Отделения[Город])-1),ROW(O38)-ROW($A$2)+1)),\"\")","v":""},{"$f":"IFERROR(INDEX(Отделения[отделение],SMALL(IF(Отделения[Город]=$AB$1,ROW(Отделения[Город])-1),ROW(P38)-ROW($A$2)+1)),\"\")","v":""},{"$f":"IFERROR(INDEX(Отделения[отделение],SMALL(IF(Отделения[Город]=$AC$1,ROW(Отделения[Город])-1),ROW(Q38)-ROW($A$2)+1)),\"\")","v":""},{"$f":"IFERROR(INDEX(Отделения[отделение],SMALL(IF(Отделения[Город]=$AD$1,ROW(Отделения[Город])-1),ROW(R38)-ROW($A$2)+1)),\"\")","v":""},{"$f":"IFERROR(INDEX(Отделения[отделение],SMALL(IF(Отделения[Город]=$AE$1,ROW(Отделения[Город])-1),ROW(S38)-ROW($A$2)+1)),\"\")","v":""},{"$f":"IFERROR(INDEX(Отделения[отделение],SMALL(IF(Отделения[Город]=$AF$1,ROW(Отделения[Город])-1),ROW(T38)-ROW($A$2)+1)),\"\")","v":""},{"$f":"IFERROR(INDEX(Отделения[отделение],SMALL(IF(Отделения[Город]=$AG$1,ROW(Отделения[Город])-1),ROW(U38)-ROW($A$2)+1)),\"\")","v":""},{"$f":"IFERROR(INDEX(Отделения[отделение],SMALL(IF(Отделения[Город]=$AH$1,ROW(Отделения[Город])-1),ROW(V38)-ROW($A$2)+1)),\"\")","v":""},{"$f":"IFERROR(INDEX(Отделения[отделение],SMALL(IF(Отделения[Город]=$AI$1,ROW(Отделения[Город])-1),ROW(AB38)-ROW($A$2)+1)),\"\")","v":""},{"$f":"IFERROR(INDEX(Отделения[отделение],SMALL(IF(Отделения[Город]=$AJ$1,ROW(Отделения[Город])-1),ROW(AB38)-ROW($A$2)+1)),\"\")","v":""},{"$f":"IFERROR(INDEX(Отделения[отделение],SMALL(IF(Отделения[Город]=$AK$1,ROW(Отделения[Город])-1),ROW(AB38)-ROW($A$2)+1)),\"\")","v":""},{"$f":"IFERROR(INDEX(Отделения[отделение],SMALL(IF(Отделения[Город]=$AL$1,ROW(Отделения[Город])-1),ROW(AB38)-ROW($A$2)+1)),\"\")","v":""},{"$f":"IFERROR(INDEX(Отделения[отделение],SMALL(IF(Отделения[Город]=$AM$1,ROW(Отделения[Город])-1),ROW(AB38)-ROW($A$2)+1)),\"\")","v":""},{"$f":"IFERROR(INDEX(Отделения[отделение],SMALL(IF(Отделения[Город]=$AN$1,ROW(Отделения[Город])-1),ROW(AB38)-ROW($A$2)+1)),\"\")","v":""},{"$f":"IFERROR(INDEX(Отделения[отделение],SMALL(IF(Отделения[Город]=$AO$1,ROW(Отделения[Город])-1),ROW(AB38)-ROW($A$2)+1)),\"\")","v":""},{"$f":"IFERROR(INDEX(Отделения[отделение],SMALL(IF(Отделения[Город]=$AP$1,ROW(Отделения[Город])-1),ROW(AB38)-ROW($A$2)+1)),\"\")","v":""},{"$f":"IFERROR(INDEX(Отделения[отделение],SMALL(IF(Отделения[Город]=$AQ$1,ROW(Отделения[Город])-1),ROW(AB38)-ROW($A$2)+1)),\"\")","v":""},{"$f":"IFERROR(INDEX(Отделения[отделение],SMALL(IF(Отделения[Город]=$AR$1,ROW(Отделения[Город])-1),ROW(AB38)-ROW($A$2)+1)),\"\")","v":""},{"$f":"IFERROR(INDEX(Отделения[отделение],SMALL(IF(Отделения[Город]=$AS$1,ROW(Отделения[Город])-1),ROW(AB38)-ROW($A$2)+1)),\"\")","v":""},{"$f":"IFERROR(INDEX(Отделения[отделение],SMALL(IF(Отделения[Город]=$AT$1,ROW(Отделения[Город])-1),ROW(AB38)-ROW($A$2)+1)),\"\")","v":""},{"$f":"IFERROR(INDEX(Отделения[отделение],SMALL(IF(Отделения[Город]=$AU$1,ROW(Отделения[Город])-1),ROW(AB38)-ROW($A$2)+1)),\"\")","v":""},{"$f":"IFERROR(INDEX(Отделения[отделение],SMALL(IF(Отделения[Город]=$AV$1,ROW(Отделения[Город])-1),ROW(AB38)-ROW($A$2)+1)),\"\")","v":""},{"$f":"IFERROR(INDEX(Отделения[отделение],SMALL(IF(Отделения[Город]=$AW$1,ROW(Отделения[Город])-1),ROW(AB38)-ROW($A$2)+1)),\"\")","v":""},{"$f":"IFERROR(INDEX(Отделения[отделение],SMALL(IF(Отделения[Город]=$AX$1,ROW(Отделения[Город])-1),ROW(AB38)-ROW($A$2)+1)),\"\")","v":""},{"$f":"IFERROR(INDEX(Отделения[отделение],SMALL(IF(Отделения[Город]=$AY$1,ROW(Отделения[Город])-1),ROW(AB38)-ROW($A$2)+1)),\"\")","v":""},{"$f":"IFERROR(INDEX(Отделения[отделение],SMALL(IF(Отделения[Город]=$AZ$1,ROW(Отделения[Город])-1),ROW(AB38)-ROW($A$2)+1)),\"\")","v":""},{"$f":"IFERROR(INDEX(Отделения[отделение],SMALL(IF(Отделения[Город]=$BA$1,ROW(Отделения[Город])-1),ROW(AB38)-ROW($A$2)+1)),\"\")","v":""},{"$f":"IFERROR(INDEX(Отделения[отделение],SMALL(IF(Отделения[Город]=$BB$1,ROW(Отделения[Город])-1),ROW(AB38)-ROW($A$2)+1)),\"\")","v":""},{"$f":"IFERROR(INDEX(Отделения[отделение],SMALL(IF(Отделения[Город]=$BC$1,ROW(Отделения[Город])-1),ROW(AC38)-ROW($A$2)+1)),\"\")","v":""},{"$f":"IFERROR(INDEX(Отделения[отделение],SMALL(IF(Отделения[Город]=$BD$1,ROW(Отделения[Город])-1),ROW(AD38)-ROW($A$2)+1)),\"\")","v":""},{"$f":"IFERROR(INDEX(Отделения[отделение],SMALL(IF(Отделения[Город]=$BE$1,ROW(Отделения[Город])-1),ROW(AE38)-ROW($A$2)+1)),\"\")","v":""},{"$f":"IFERROR(INDEX(Отделения[отделение],SMALL(IF(Отделения[Город]=$BF$1,ROW(Отделения[Город])-1),ROW(AF38)-ROW($A$2)+1)),\"\")","v":""},{"$f":"IFERROR(INDEX(Отделения[отделение],SMALL(IF(Отделения[Город]=$BG$1,ROW(Отделения[Город])-1),ROW(AG38)-ROW($A$2)+1)),\"\")","v":""},{"$f":"IFERROR(INDEX(Отделения[отделение],SMALL(IF(Отделения[Город]=$BH$1,ROW(Отделения[Город])-1),ROW(AH38)-ROW($A$2)+1)),\"\")","v":""},{"$f":"IFERROR(INDEX(Отделения[отделение],SMALL(IF(Отделения[Город]=$BI$1,ROW(Отделения[Город])-1),ROW(AI38)-ROW($A$2)+1)),\"\")","v":""},{"$f":"IFERROR(INDEX(Отделения[отделение],SMALL(IF(Отделения[Город]=$BJ$1,ROW(Отделения[Город])-1),ROW(AJ38)-ROW($A$2)+1)),\"\")","v":""},{"$f":"IFERROR(INDEX(Отделения[отделение],SMALL(IF(Отделения[Город]=$BK$1,ROW(Отделения[Город])-1),ROW(AK38)-ROW($A$2)+1)),\"\")","v":""},{"$f":"IFERROR(INDEX(Отделения[отделение],SMALL(IF(Отделения[Город]=$BL$1,ROW(Отделения[Город])-1),ROW(AL38)-ROW($A$2)+1)),\"\")","v":""},{"$f":"IFERROR(INDEX(Отделения[отделение],SMALL(IF(Отделения[Город]=$BM$1,ROW(Отделения[Город])-1),ROW(AM38)-ROW($A$2)+1)),\"\")","v":""},{"$f":"IFERROR(INDEX(Отделения[отделение],SMALL(IF(Отделения[Город]=$BN$1,ROW(Отделения[Город])-1),ROW(AN38)-ROW($A$2)+1)),\"\")","v":""},{"$f":"IFERROR(INDEX(Отделения[отделение],SMALL(IF(Отделения[Город]=$BO$1,ROW(Отделения[Город])-1),ROW(AO38)-ROW($A$2)+1)),\"\")","v":""},{"$f":"IFERROR(INDEX(Отделения[отделение],SMALL(IF(Отделения[Город]=$BP$1,ROW(Отделения[Город])-1),ROW(AP38)-ROW($A$2)+1)),\"\")","v":""},{"$f":"IFERROR(INDEX(Отделения[отделение],SMALL(IF(Отделения[Город]=$BQ$1,ROW(Отделения[Город])-1),ROW(AQ38)-ROW($A$2)+1)),\"\")","v":""},{"$f":"IFERROR(INDEX(Отделения[отделение],SMALL(IF(Отделения[Город]=$BR$1,ROW(Отделения[Город])-1),ROW(AR38)-ROW($A$2)+1)),\"\")","v":""},{"$f":"IFERROR(INDEX(Отделения[отделение],SMALL(IF(Отделения[Город]=$BS$1,ROW(Отделения[Город])-1),ROW(AS38)-ROW($A$2)+1)),\"\")","v":""},{"$f":"IFERROR(INDEX(Отделения[отделение],SMALL(IF(Отделения[Город]=$BT$1,ROW(Отделения[Город])-1),ROW(AT38)-ROW($A$2)+1)),\"\")","v":""},{"$f":"IFERROR(INDEX(Отделения[отделение],SMALL(IF(Отделения[Город]=$BU$1,ROW(Отделения[Город])-1),ROW(AU38)-ROW($A$2)+1)),\"\")","v":""},{"$f":"IFERROR(INDEX(Отделения[отделение],SMALL(IF(Отделения[Город]=$BV$1,ROW(Отделения[Город])-1),ROW(AV38)-ROW($A$2)+1)),\"\")","v":""},{"$f":"IFERROR(INDEX(Отделения[отделение],SMALL(IF(Отделения[Город]=$BW$1,ROW(Отделения[Город])-1),ROW(AV38)-ROW($A$2)+1)),\"\")","v":""},{"$f":"IFERROR(INDEX(Отделения[отделение],SMALL(IF(Отделения[Город]=$BX$1,ROW(Отделения[Город])-1),ROW(AV38)-ROW($A$2)+1)),\"\")","v":""},{"$f":"IFERROR(INDEX(Отделения[отделение],SMALL(IF(Отделения[Город]=$BY$1,ROW(Отделения[Город])-1),ROW(AV38)-ROW($A$2)+1)),\"\")","v":""},{"$f":"IFERROR(INDEX(Отделения[отделение],SMALL(IF(Отделения[Город]=$BZ$1,ROW(Отделения[Город])-1),ROW(AV38)-ROW($A$2)+1)),\"\")","v":""},{"$f":"IFERROR(INDEX(Отделения[отделение],SMALL(IF(Отделения[Город]=$CA$1,ROW(Отделения[Город])-1),ROW(AV38)-ROW($A$2)+1)),\"\")","v":""},{"$f":"IFERROR(INDEX(Отделения[отделение],SMALL(IF(Отделения[Город]=$CB$1,ROW(Отделения[Город])-1),ROW(AV38)-ROW($A$2)+1)),\"\")","v":""},{"$f":"IFERROR(INDEX(Отделения[отделение],SMALL(IF(Отделения[Город]=$CC$1,ROW(Отделения[Город])-1),ROW(AV38)-ROW($A$2)+1)),\"\")","v":""},{"$f":"IFERROR(INDEX(Отделения[отделение],SMALL(IF(Отделения[Город]=$CD$1,ROW(Отделения[Город])-1),ROW(AV38)-ROW($A$2)+1)),\"\")","v":""},{"$f":"IFERROR(INDEX(Отделения[отделение],SMALL(IF(Отделения[Город]=$CE$1,ROW(Отделения[Город])-1),ROW(AV38)-ROW($A$2)+1)),\"\")","v":""},{"$f":"IFERROR(INDEX(Отделения[отделение],SMALL(IF(Отделения[Город]=$CF$1,ROW(Отделения[Город])-1),ROW(AV38)-ROW($A$2)+1)),\"\")","v":""},{"$f":"IFERROR(INDEX(Отделения[отделение],SMALL(IF(Отделения[Город]=$CG$1,ROW(Отделения[Город])-1),ROW(AV38)-ROW($A$2)+1)),\"\")","v":""},{"$f":"IFERROR(INDEX(Отделения[отделение],SMALL(IF(Отделения[Город]=$CH$1,ROW(Отделения[Город])-1),ROW(AW38)-ROW($A$2)+1)),\"\")","v":""},{"$f":"IFERROR(INDEX(Отделения[отделение],SMALL(IF(Отделения[Город]=$CI$1,ROW(Отделения[Город])-1),ROW(AX38)-ROW($A$2)+1)),\"\")","v":""},{"$f":"IFERROR(INDEX(Отделения[отделение],SMALL(IF(Отделения[Город]=$CJ$1,ROW(Отделения[Город])-1),ROW(AY38)-ROW($A$2)+1)),\"\")","v":""},{"$f":"IFERROR(INDEX(Отделения[отделение],SMALL(IF(Отделения[Город]=$CK$1,ROW(Отделения[Город])-1),ROW(AZ38)-ROW($A$2)+1)),\"\")","v":""},{"$f":"IFERROR(INDEX(Отделения[отделение],SMALL(IF(Отделения[Город]=$CL$1,ROW(Отделения[Город])-1),ROW(BA38)-ROW($A$2)+1)),\"\")","v":""},{"$f":"IFERROR(INDEX(Отделения[отделение],SMALL(IF(Отделения[Город]=$CM$1,ROW(Отделения[Город])-1),ROW(BB38)-ROW($A$2)+1)),\"\")","v":""},{"$f":"IFERROR(INDEX(Отделения[отделение],SMALL(IF(Отделения[Город]=$CN$1,ROW(Отделения[Город])-1),ROW(BC38)-ROW($A$2)+1)),\"\")","v":""},{"$f":"IFERROR(INDEX(Отделения[отделение],SMALL(IF(Отделения[Город]=$CO$1,ROW(Отделения[Город])-1),ROW(BD38)-ROW($A$2)+1)),\"\")","v":""},{"$f":"IFERROR(INDEX(Отделения[отделение],SMALL(IF(Отделения[Город]=$CP$1,ROW(Отделения[Город])-1),ROW(BE38)-ROW($A$2)+1)),\"\")","v":""},{"$f":"IFERROR(INDEX(Отделения[отделение],SMALL(IF(Отделения[Город]=$CQ$1,ROW(Отделения[Город])-1),ROW(BF38)-ROW($A$2)+1)),\"\")","v":""},{"$f":"IFERROR(INDEX(Отделения[отделение],SMALL(IF(Отделения[Город]=$CR$1,ROW(Отделения[Город])-1),ROW(BG38)-ROW($A$2)+1)),\"\")","v":""},{"$f":"IFERROR(INDEX(Отделения[отделение],SMALL(IF(Отделения[Город]=$CS$1,ROW(Отделения[Город])-1),ROW(BH38)-ROW($A$2)+1)),\"\")","v":""},{"$f":"IFERROR(INDEX(Отделения[отделение],SMALL(IF(Отделения[Город]=$CT$1,ROW(Отделения[Город])-1),ROW(BI38)-ROW($A$2)+1)),\"\")","v":""},{"$f":"IFERROR(INDEX(Отделения[отделение],SMALL(IF(Отделения[Город]=$CU$1,ROW(Отделения[Город])-1),ROW(BJ38)-ROW($A$2)+1)),\"\")","v":""},{"$f":"IFERROR(INDEX(Отделения[отделение],SMALL(IF(Отделения[Город]=$CV$1,ROW(Отделения[Город])-1),ROW(BK38)-ROW($A$2)+1)),\"\")","v":""},{"$f":"IFERROR(INDEX(Отделения[отделение],SMALL(IF(Отделения[Город]=$CW$1,ROW(Отделения[Город])-1),ROW(BL38)-ROW($A$2)+1)),\"\")","v":""},{"$f":"IFERROR(INDEX(Отделения[отделение],SMALL(IF(Отделения[Город]=$CX$1,ROW(Отделения[Город])-1),ROW(BM38)-ROW($A$2)+1)),\"\")","v":""},{"$f":"IFERROR(INDEX(Отделения[отделение],SMALL(IF(Отделения[Город]=$CY$1,ROW(Отделения[Город])-1),ROW(BM38)-ROW($A$2)+1)),\"\")","v":""},{"$f":"IFERROR(INDEX(Отделения[отделение],SMALL(IF(Отделения[Город]=$CZ$1,ROW(Отделения[Город])-1),ROW(BM38)-ROW($A$2)+1)),\"\")","v":""},{"$f":"IFERROR(INDEX(Отделения[отделение],SMALL(IF(Отделения[Город]=$DA$1,ROW(Отделения[Город])-1),ROW(BM38)-ROW($A$2)+1)),\"\")","v":""},{"$f":"IFERROR(INDEX(Отделения[отделение],SMALL(IF(Отделения[Город]=$DB$1,ROW(Отделения[Город])-1),ROW(BM38)-ROW($A$2)+1)),\"\")","v":""}]
["Екатеринбург","ДО \"Екатеринбург-улица 8 Марта\" , 620014, г. Екатеринбург, ул. 8 Марта, д. 10/ ул. Малышева, д. 42 (литер А)","0482","MOUR",null,null,{"$f":"IFERROR(INDEX(Отделения[отделение],SMALL(IF(Отделения[Город]=$G$1,ROW(Отделения[Город])-1),ROW(A39)-ROW($A$2)+1)),\"\")","v":""},{"$f":"IFERROR(INDEX(Отделения[отделение],SMALL(IF(Отделения[Город]=$H$1,ROW(Отделения[Город])-1),ROW(A39)-ROW($A$2)+1)),\"\")","v":""},{"$f":"IFERROR(INDEX(Отделения[отделение],SMALL(IF(Отделения[Город]=$I$1,ROW(Отделения[Город])-1),ROW(A39)-ROW($A$2)+1)),\"\")","v":""},{"$f":"IFERROR(INDEX(Отделения[отделение],SMALL(IF(Отделения[Город]=$J$1,ROW(Отделения[Город])-1),ROW(A39)-ROW($A$2)+1)),\"\")","v":""},{"$f":"IFERROR(INDEX(Отделения[отделение],SMALL(IF(Отделения[Город]=$K$1,ROW(Отделения[Город])-1),ROW(A39)-ROW($A$2)+1)),\"\")","v":""},{"$f":"IFERROR(INDEX(Отделения[отделение],SMALL(IF(Отделения[Город]=$L$1,ROW(Отделения[Город])-1),ROW(A39)-ROW($A$2)+1)),\"\")","v":""},{"$f":"IFERROR(INDEX(Отделения[отделение],SMALL(IF(Отделения[Город]=$M$1,ROW(Отделения[Город])-1),ROW(B39)-ROW($A$2)+1)),\"\")","v":""},{"$f":"IFERROR(INDEX(Отделения[отделение],SMALL(IF(Отделения[Город]=$N$1,ROW(Отделения[Город])-1),ROW(#REF!)-ROW($A$2)+1)),\"\")","v":""},{"$f":"IFERROR(INDEX(Отделения[отделение],SMALL(IF(Отделения[Город]=$O$1,ROW(Отделения[Город])-1),ROW(C39)-ROW($A$2)+1)),\"\")","v":""},{"$f":"IFERROR(INDEX(Отделения[отделение],SMALL(IF(Отделения[Город]=$P$1,ROW(Отделения[Город])-1),ROW(D39)-ROW($A$2)+1)),\"\")","v":""},{"$f":"IFERROR(INDEX(Отделения[отделение],SMALL(IF(Отделения[Город]=$Q$1,ROW(Отделения[Город])-1),ROW(F39)-ROW($A$2)+1)),\"\")","v":""},{"$f":"IFERROR(INDEX(Отделения[отделение],SMALL(IF(Отделения[Город]=$R$1,ROW(Отделения[Город])-1),ROW(#REF!)-ROW($A$2)+1)),\"\")","v":""},{"$f":"IFERROR(INDEX(Отделения[отделение],SMALL(IF(Отделения[Город]=$S$1,ROW(Отделения[Город])-1),ROW(G39)-ROW($A$2)+1)),\"\")","v":""},{"$f":"IFERROR(INDEX(Отделения[отделение],SMALL(IF(Отделения[Город]=$T$1,ROW(Отделения[Город])-1),ROW(H39)-ROW($A$2)+1)),\"\")","v":""},{"$f":"IFERROR(INDEX(Отделения[отделение],SMALL(IF(Отделения[Город]=$U$1,ROW(Отделения[Город])-1),ROW(I39)-ROW($A$2)+1)),\"\")","v":""},{"$f":"IFERROR(INDEX(Отделения[отделение],SMALL(IF(Отделения[Город]=$V$1,ROW(Отделения[Город])-1),ROW(J39)-ROW($A$2)+1)),\"\")","v":""},{"$f":"IFERROR(INDEX(Отделения[отделение],SMALL(IF(Отделения[Город]=$W$1,ROW(Отделения[Город])-1),ROW(K39)-ROW($A$2)+1)),\"\")","v":""},{"$f":"IFERROR(INDEX(Отделения[отделение],SMALL(IF(Отделения[Город]=$X$1,ROW(Отделения[Город])-1),ROW(L39)-ROW($A$2)+1)),\"\")","v":""},{"$f":"IFERROR(INDEX(Отделения[отделение],SMALL(IF(Отделения[Город]=$Y$1,ROW(Отделения[Город])-1),ROW(M39)-ROW($A$2)+1)),\"\")","v":""},{"$f":"IFERROR(INDEX(Отделения[отделение],SMALL(IF(Отделения[Город]=$Z$1,ROW(Отделения[Город])-1),ROW(N39)-ROW($A$2)+1)),\"\")","v":""},{"$f":"IFERROR(INDEX(Отделения[отделение],SMALL(IF(Отделения[Город]=$AA$1,ROW(Отделения[Город])-1),ROW(O39)-ROW($A$2)+1)),\"\")","v":""},{"$f":"IFERROR(INDEX(Отделения[отделение],SMALL(IF(Отделения[Город]=$AB$1,ROW(Отделения[Город])-1),ROW(P39)-ROW($A$2)+1)),\"\")","v":""},{"$f":"IFERROR(INDEX(Отделения[отделение],SMALL(IF(Отделения[Город]=$AC$1,ROW(Отделения[Город])-1),ROW(Q39)-ROW($A$2)+1)),\"\")","v":""},{"$f":"IFERROR(INDEX(Отделения[отделение],SMALL(IF(Отделения[Город]=$AD$1,ROW(Отделения[Город])-1),ROW(R39)-ROW($A$2)+1)),\"\")","v":""},{"$f":"IFERROR(INDEX(Отделения[отделение],SMALL(IF(Отделения[Город]=$AE$1,ROW(Отделения[Город])-1),ROW(S39)-ROW($A$2)+1)),\"\")","v":""},{"$f":"IFERROR(INDEX(Отделения[отделение],SMALL(IF(Отделения[Город]=$AF$1,ROW(Отделения[Город])-1),ROW(T39)-ROW($A$2)+1)),\"\")","v":""},{"$f":"IFERROR(INDEX(Отделения[отделение],SMALL(IF(Отделения[Город]=$AG$1,ROW(Отделения[Город])-1),ROW(U39)-ROW($A$2)+1)),\"\")","v":""},{"$f":"IFERROR(INDEX(Отделения[отделение],SMALL(IF(Отделения[Город]=$AH$1,ROW(Отделения[Город])-1),ROW(V39)-ROW($A$2)+1)),\"\")","v":""},{"$f":"IFERROR(INDEX(Отделения[отделение],SMALL(IF(Отделения[Город]=$AI$1,ROW(Отделения[Город])-1),ROW(AB39)-ROW($A$2)+1)),\"\")","v":""},{"$f":"IFERROR(INDEX(Отделения[отделение],SMALL(IF(Отделения[Город]=$AJ$1,ROW(Отделения[Город])-1),ROW(AB39)-ROW($A$2)+1)),\"\")","v":""},{"$f":"IFERROR(INDEX(Отделения[отделение],SMALL(IF(Отделения[Город]=$AK$1,ROW(Отделения[Город])-1),ROW(AB39)-ROW($A$2)+1)),\"\")","v":""},{"$f":"IFERROR(INDEX(Отделения[отделение],SMALL(IF(Отделения[Город]=$AL$1,ROW(Отделения[Город])-1),ROW(AB39)-ROW($A$2)+1)),\"\")","v":""},{"$f":"IFERROR(INDEX(Отделения[отделение],SMALL(IF(Отделения[Город]=$AM$1,ROW(Отделения[Город])-1),ROW(AB39)-ROW($A$2)+1)),\"\")","v":""},{"$f":"IFERROR(INDEX(Отделения[отделение],SMALL(IF(Отделения[Город]=$AN$1,ROW(Отделения[Город])-1),ROW(AB39)-ROW($A$2)+1)),\"\")","v":""},{"$f":"IFERROR(INDEX(Отделения[отделение],SMALL(IF(Отделения[Город]=$AO$1,ROW(Отделения[Город])-1),ROW(AB39)-ROW($A$2)+1)),\"\")","v":""},{"$f":"IFERROR(INDEX(Отделения[отделение],SMALL(IF(Отделения[Город]=$AP$1,ROW(Отделения[Город])-1),ROW(AB39)-ROW($A$2)+1)),\"\")","v":""},{"$f":"IFERROR(INDEX(Отделения[отделение],SMALL(IF(Отделения[Город]=$AQ$1,ROW(Отделения[Город])-1),ROW(AB39)-ROW($A$2)+1)),\"\")","v":""},{"$f":"IFERROR(INDEX(Отделения[отделение],SMALL(IF(Отделения[Город]=$AR$1,ROW(Отделения[Город])-1),ROW(AB39)-ROW($A$2)+1)),\"\")","v":""},{"$f":"IFERROR(INDEX(Отделения[отделение],SMALL(IF(Отделения[Город]=$AS$1,ROW(Отделения[Город])-1),ROW(AB39)-ROW($A$2)+1)),\"\")","v":""},{"$f":"IFERROR(INDEX(Отделения[отделение],SMALL(IF(Отделения[Город]=$AT$1,ROW(Отделения[Город])-1),ROW(AB39)-ROW($A$2)+1)),\"\")","v":""},{"$f":"IFERROR(INDEX(Отделения[отделение],SMALL(IF(Отделения[Город]=$AU$1,ROW(Отделения[Город])-1),ROW(AB39)-ROW($A$2)+1)),\"\")","v":""},{"$f":"IFERROR(INDEX(Отделения[отделение],SMALL(IF(Отделения[Город]=$AV$1,ROW(Отделения[Город])-1),ROW(AB39)-ROW($A$2)+1)),\"\")","v":""},{"$f":"IFERROR(INDEX(Отделения[отделение],SMALL(IF(Отделения[Город]=$AW$1,ROW(Отделения[Город])-1),ROW(AB39)-ROW($A$2)+1)),\"\")","v":""},{"$f":"IFERROR(INDEX(Отделения[отделение],SMALL(IF(Отделения[Город]=$AX$1,ROW(Отделения[Город])-1),ROW(AB39)-ROW($A$2)+1)),\"\")","v":""},{"$f":"IFERROR(INDEX(Отделения[отделение],SMALL(IF(Отделения[Город]=$AY$1,ROW(Отделения[Город])-1),ROW(AB39)-ROW($A$2)+1)),\"\")","v":""},{"$f":"IFERROR(INDEX(Отделения[отделение],SMALL(IF(Отделения[Город]=$AZ$1,ROW(Отделения[Город])-1),ROW(AB39)-ROW($A$2)+1)),\"\")","v":""},{"$f":"IFERROR(INDEX(Отделения[отделение],SMALL(IF(Отделения[Город]=$BA$1,ROW(Отделения[Город])-1),ROW(AB39)-ROW($A$2)+1)),\"\")","v":""},{"$f":"IFERROR(INDEX(Отделения[отделение],SMALL(IF(Отделения[Город]=$BB$1,ROW(Отделения[Город])-1),ROW(AB39)-ROW($A$2)+1)),\"\")","v":""},{"$f":"IFERROR(INDEX(Отделения[отделение],SMALL(IF(Отделения[Город]=$BC$1,ROW(Отделения[Город])-1),ROW(AC39)-ROW($A$2)+1)),\"\")","v":""},{"$f":"IFERROR(INDEX(Отделения[отделение],SMALL(IF(Отделения[Город]=$BD$1,ROW(Отделения[Город])-1),ROW(AD39)-ROW($A$2)+1)),\"\")","v":""},{"$f":"IFERROR(INDEX(Отделения[отделение],SMALL(IF(Отделения[Город]=$BE$1,ROW(Отделения[Город])-1),ROW(AE39)-ROW($A$2)+1)),\"\")","v":""},{"$f":"IFERROR(INDEX(Отделения[отделение],SMALL(IF(Отделения[Город]=$BF$1,ROW(Отделения[Город])-1),ROW(AF39)-ROW($A$2)+1)),\"\")","v":""},{"$f":"IFERROR(INDEX(Отделения[отделение],SMALL(IF(Отделения[Город]=$BG$1,ROW(Отделения[Город])-1),ROW(AG39)-ROW($A$2)+1)),\"\")","v":""},{"$f":"IFERROR(INDEX(Отделения[отделение],SMALL(IF(Отделения[Город]=$BH$1,ROW(Отделения[Город])-1),ROW(AH39)-ROW($A$2)+1)),\"\")","v":""},{"$f":"IFERROR(INDEX(Отделения[отделение],SMALL(IF(Отделения[Город]=$BI$1,ROW(Отделения[Город])-1),ROW(AI39)-ROW($A$2)+1)),\"\")","v":""},{"$f":"IFERROR(INDEX(Отделения[отделение],SMALL(IF(Отделения[Город]=$BJ$1,ROW(Отделения[Город])-1),ROW(AJ39)-ROW($A$2)+1)),\"\")","v":""},{"$f":"IFERROR(INDEX(Отделения[отделение],SMALL(IF(Отделения[Город]=$BK$1,ROW(Отделения[Город])-1),ROW(AK39)-ROW($A$2)+1)),\"\")","v":""},{"$f":"IFERROR(INDEX(Отделения[отделение],SMALL(IF(Отделения[Город]=$BL$1,ROW(Отделения[Город])-1),ROW(AL39)-ROW($A$2)+1)),\"\")","v":""},{"$f":"IFERROR(INDEX(Отделения[отделение],SMALL(IF(Отделения[Город]=$BM$1,ROW(Отделения[Город])-1),ROW(AM39)-ROW($A$2)+1)),\"\")","v":""},{"$f":"IFERROR(INDEX(Отделения[отделение],SMALL(IF(Отделения[Город]=$BN$1,ROW(Отделения[Город])-1),ROW(AN39)-ROW($A$2)+1)),\"\")","v":""},{"$f":"IFERROR(INDEX(Отделения[отделение],SMALL(IF(Отделения[Город]=$BO$1,ROW(Отделения[Город])-1),ROW(AO39)-ROW($A$2)+1)),\"\")","v":""},{"$f":"IFERROR(INDEX(Отделения[отделение],SMALL(IF(Отделения[Город]=$BP$1,ROW(Отделения[Город])-1),ROW(AP39)-ROW($A$2)+1)),\"\")","v":""},{"$f":"IFERROR(INDEX(Отделения[отделение],SMALL(IF(Отделения[Город]=$BQ$1,ROW(Отделения[Город])-1),ROW(AQ39)-ROW($A$2)+1)),\"\")","v":""},{"$f":"IFERROR(INDEX(Отделения[отделение],SMALL(IF(Отделения[Город]=$BR$1,ROW(Отделения[Город])-1),ROW(AR39)-ROW($A$2)+1)),\"\")","v":""},{"$f":"IFERROR(INDEX(Отделения[отделение],SMALL(IF(Отделения[Город]=$BS$1,ROW(Отделения[Город])-1),ROW(AS39)-ROW($A$2)+1)),\"\")","v":""},{"$f":"IFERROR(INDEX(Отделения[отделение],SMALL(IF(Отделения[Город]=$BT$1,ROW(Отделения[Город])-1),ROW(AT39)-ROW($A$2)+1)),\"\")","v":""},{"$f":"IFERROR(INDEX(Отделения[отделение],SMALL(IF(Отделения[Город]=$BU$1,ROW(Отделения[Город])-1),ROW(AU39)-ROW($A$2)+1)),\"\")","v":""},{"$f":"IFERROR(INDEX(Отделения[отделение],SMALL(IF(Отделения[Город]=$BV$1,ROW(Отделения[Город])-1),ROW(AV39)-ROW($A$2)+1)),\"\")","v":""},{"$f":"IFERROR(INDEX(Отделения[отделение],SMALL(IF(Отделения[Город]=$BW$1,ROW(Отделения[Город])-1),ROW(AV39)-ROW($A$2)+1)),\"\")","v":""},{"$f":"IFERROR(INDEX(Отделения[отделение],SMALL(IF(Отделения[Город]=$BX$1,ROW(Отделения[Город])-1),ROW(AV39)-ROW($A$2)+1)),\"\")","v":""},{"$f":"IFERROR(INDEX(Отделения[отделение],SMALL(IF(Отделения[Город]=$BY$1,ROW(Отделения[Город])-1),ROW(AV39)-ROW($A$2)+1)),\"\")","v":""},{"$f":"IFERROR(INDEX(Отделения[отделение],SMALL(IF(Отделения[Город]=$BZ$1,ROW(Отделения[Город])-1),ROW(AV39)-ROW($A$2)+1)),\"\")","v":""},{"$f":"IFERROR(INDEX(Отделения[отделение],SMALL(IF(Отделения[Город]=$CA$1,ROW(Отделения[Город])-1),ROW(AV39)-ROW($A$2)+1)),\"\")","v":""},{"$f":"IFERROR(INDEX(Отделения[отделение],SMALL(IF(Отделения[Город]=$CB$1,ROW(Отделения[Город])-1),ROW(AV39)-ROW($A$2)+1)),\"\")","v":""},{"$f":"IFERROR(INDEX(Отделения[отделение],SMALL(IF(Отделения[Город]=$CC$1,ROW(Отделения[Город])-1),ROW(AV39)-ROW($A$2)+1)),\"\")","v":""},{"$f":"IFERROR(INDEX(Отделения[отделение],SMALL(IF(Отделения[Город]=$CD$1,ROW(Отделения[Город])-1),ROW(AV39)-ROW($A$2)+1)),\"\")","v":""},{"$f":"IFERROR(INDEX(Отделения[отделение],SMALL(IF(Отделения[Город]=$CE$1,ROW(Отделения[Город])-1),ROW(AV39)-ROW($A$2)+1)),\"\")","v":""},{"$f":"IFERROR(INDEX(Отделения[отделение],SMALL(IF(Отделения[Город]=$CF$1,ROW(Отделения[Город])-1),ROW(AV39)-ROW($A$2)+1)),\"\")","v":""},{"$f":"IFERROR(INDEX(Отделения[отделение],SMALL(IF(Отделения[Город]=$CG$1,ROW(Отделения[Город])-1),ROW(AV39)-ROW($A$2)+1)),\"\")","v":""},{"$f":"IFERROR(INDEX(Отделения[отделение],SMALL(IF(Отделения[Город]=$CH$1,ROW(Отделения[Город])-1),ROW(AW39)-ROW($A$2)+1)),\"\")","v":""},{"$f":"IFERROR(INDEX(Отделения[отделение],SMALL(IF(Отделения[Город]=$CI$1,ROW(Отделения[Город])-1),ROW(AX39)-ROW($A$2)+1)),\"\")","v":""},{"$f":"IFERROR(INDEX(Отделения[отделение],SMALL(IF(Отделения[Город]=$CJ$1,ROW(Отделения[Город])-1),ROW(AY39)-ROW($A$2)+1)),\"\")","v":""},{"$f":"IFERROR(INDEX(Отделения[отделение],SMALL(IF(Отделения[Город]=$CK$1,ROW(Отделения[Город])-1),ROW(AZ39)-ROW($A$2)+1)),\"\")","v":""},{"$f":"IFERROR(INDEX(Отделения[отделение],SMALL(IF(Отделения[Город]=$CL$1,ROW(Отделения[Город])-1),ROW(BA39)-ROW($A$2)+1)),\"\")","v":""},{"$f":"IFERROR(INDEX(Отделения[отделение],SMALL(IF(Отделения[Город]=$CM$1,ROW(Отделения[Город])-1),ROW(BB39)-ROW($A$2)+1)),\"\")","v":""},{"$f":"IFERROR(INDEX(Отделения[отделение],SMALL(IF(Отделения[Город]=$CN$1,ROW(Отделения[Город])-1),ROW(BC39)-ROW($A$2)+1)),\"\")","v":""},{"$f":"IFERROR(INDEX(Отделения[отделение],SMALL(IF(Отделения[Город]=$CO$1,ROW(Отделения[Город])-1),ROW(BD39)-ROW($A$2)+1)),\"\")","v":""},{"$f":"IFERROR(INDEX(Отделения[отделение],SMALL(IF(Отделения[Город]=$CP$1,ROW(Отделения[Город])-1),ROW(BE39)-ROW($A$2)+1)),\"\")","v":""},{"$f":"IFERROR(INDEX(Отделения[отделение],SMALL(IF(Отделения[Город]=$CQ$1,ROW(Отделения[Город])-1),ROW(BF39)-ROW($A$2)+1)),\"\")","v":""},{"$f":"IFERROR(INDEX(Отделения[отделение],SMALL(IF(Отделения[Город]=$CR$1,ROW(Отделения[Город])-1),ROW(BG39)-ROW($A$2)+1)),\"\")","v":""},{"$f":"IFERROR(INDEX(Отделения[отделение],SMALL(IF(Отделения[Город]=$CS$1,ROW(Отделения[Город])-1),ROW(BH39)-ROW($A$2)+1)),\"\")","v":""},{"$f":"IFERROR(INDEX(Отделения[отделение],SMALL(IF(Отделения[Город]=$CT$1,ROW(Отделения[Город])-1),ROW(BI39)-ROW($A$2)+1)),\"\")","v":""},{"$f":"IFERROR(INDEX(Отделения[отделение],SMALL(IF(Отделения[Город]=$CU$1,ROW(Отделения[Город])-1),ROW(BJ39)-ROW($A$2)+1)),\"\")","v":""},{"$f":"IFERROR(INDEX(Отделения[отделение],SMALL(IF(Отделения[Город]=$CV$1,ROW(Отделения[Город])-1),ROW(BK39)-ROW($A$2)+1)),\"\")","v":""},{"$f":"IFERROR(INDEX(Отделения[отделение],SMALL(IF(Отделения[Город]=$CW$1,ROW(Отделения[Город])-1),ROW(BL39)-ROW($A$2)+1)),\"\")","v":""},{"$f":"IFERROR(INDEX(Отделения[отделение],SMALL(IF(Отделения[Город]=$CX$1,ROW(Отделения[Город])-1),ROW(BM39)-ROW($A$2)+1)),\"\")","v":""},{"$f":"IFERROR(INDEX(Отделения[отделение],SMALL(IF(Отделения[Город]=$CY$1,ROW(Отделения[Город])-1),ROW(BM39)-ROW($A$2)+1)),\"\")","v":""},{"$f":"IFERROR(INDEX(Отделения[отделение],SMALL(IF(Отделения[Город]=$CZ$1,ROW(Отделения[Город])-1),ROW(BM39)-ROW($A$2)+1)),\"\")","v":""},{"$f":"IFERROR(INDEX(Отделения[отделение],SMALL(IF(Отделения[Город]=$DA$1,ROW(Отделения[Город])-1),ROW(BM39)-ROW($A$2)+1)),\"\")","v":""},{"$f":"IFERROR(INDEX(Отделения[отделение],SMALL(IF(Отделения[Город]=$DB$1,ROW(Отделения[Город])-1),ROW(BM39)-ROW($A$2)+1)),\"\")","v":""}]
["Нижний Новгород","ДО \"Нижний Новгород-Центральный\" , 603024, Нижегородская область, г. Нижний Новгород, ул. Белинского , д.61, корп.2","0483","MONN",null,null,{"$f":"IFERROR(INDEX(Отделения[отделение],SMALL(IF(Отделения[Город]=$G$1,ROW(Отделения[Город])-1),ROW(A40)-ROW($A$2)+1)),\"\")","v":""},{"$f":"IFERROR(INDEX(Отделения[отделение],SMALL(IF(Отделения[Город]=$H$1,ROW(Отделения[Город])-1),ROW(A40)-ROW($A$2)+1)),\"\")","v":""},{"$f":"IFERROR(INDEX(Отделения[отделение],SMALL(IF(Отделения[Город]=$I$1,ROW(Отделения[Город])-1),ROW(A40)-ROW($A$2)+1)),\"\")","v":""},{"$f":"IFERROR(INDEX(Отделения[отделение],SMALL(IF(Отделения[Город]=$J$1,ROW(Отделения[Город])-1),ROW(A40)-ROW($A$2)+1)),\"\")","v":""},{"$f":"IFERROR(INDEX(Отделения[отделение],SMALL(IF(Отделения[Город]=$K$1,ROW(Отделения[Город])-1),ROW(A40)-ROW($A$2)+1)),\"\")","v":""},{"$f":"IFERROR(INDEX(Отделения[отделение],SMALL(IF(Отделения[Город]=$L$1,ROW(Отделения[Город])-1),ROW(A40)-ROW($A$2)+1)),\"\")","v":""},{"$f":"IFERROR(INDEX(Отделения[отделение],SMALL(IF(Отделения[Город]=$M$1,ROW(Отделения[Город])-1),ROW(B40)-ROW($A$2)+1)),\"\")","v":""},{"$f":"IFERROR(INDEX(Отделения[отделение],SMALL(IF(Отделения[Город]=$N$1,ROW(Отделения[Город])-1),ROW(#REF!)-ROW($A$2)+1)),\"\")","v":""},{"$f":"IFERROR(INDEX(Отделения[отделение],SMALL(IF(Отделения[Город]=$O$1,ROW(Отделения[Город])-1),ROW(C40)-ROW($A$2)+1)),\"\")","v":""},{"$f":"IFERROR(INDEX(Отделения[отделение],SMALL(IF(Отделения[Город]=$P$1,ROW(Отделения[Город])-1),ROW(D40)-ROW($A$2)+1)),\"\")","v":""},{"$f":"IFERROR(INDEX(Отделения[отделение],SMALL(IF(Отделения[Город]=$Q$1,ROW(Отделения[Город])-1),ROW(F40)-ROW($A$2)+1)),\"\")","v":""},{"$f":"IFERROR(INDEX(Отделения[отделение],SMALL(IF(Отделения[Город]=$R$1,ROW(Отделения[Город])-1),ROW(#REF!)-ROW($A$2)+1)),\"\")","v":""},{"$f":"IFERROR(INDEX(Отделения[отделение],SMALL(IF(Отделения[Город]=$S$1,ROW(Отделения[Город])-1),ROW(G40)-ROW($A$2)+1)),\"\")","v":""},{"$f":"IFERROR(INDEX(Отделения[отделение],SMALL(IF(Отделения[Город]=$T$1,ROW(Отделения[Город])-1),ROW(H40)-ROW($A$2)+1)),\"\")","v":""},{"$f":"IFERROR(INDEX(Отделения[отделение],SMALL(IF(Отделения[Город]=$U$1,ROW(Отделения[Город])-1),ROW(I40)-ROW($A$2)+1)),\"\")","v":""},{"$f":"IFERROR(INDEX(Отделения[отделение],SMALL(IF(Отделения[Город]=$V$1,ROW(Отделения[Город])-1),ROW(J40)-ROW($A$2)+1)),\"\")","v":""},{"$f":"IFERROR(INDEX(Отделения[отделение],SMALL(IF(Отделения[Город]=$W$1,ROW(Отделения[Город])-1),ROW(K40)-ROW($A$2)+1)),\"\")","v":""},{"$f":"IFERROR(INDEX(Отделения[отделение],SMALL(IF(Отделения[Город]=$X$1,ROW(Отделения[Город])-1),ROW(L40)-ROW($A$2)+1)),\"\")","v":""},{"$f":"IFERROR(INDEX(Отделения[отделение],SMALL(IF(Отделения[Город]=$Y$1,ROW(Отделения[Город])-1),ROW(M40)-ROW($A$2)+1)),\"\")","v":""},{"$f":"IFERROR(INDEX(Отделения[отделение],SMALL(IF(Отделения[Город]=$Z$1,ROW(Отделения[Город])-1),ROW(N40)-ROW($A$2)+1)),\"\")","v":""},{"$f":"IFERROR(INDEX(Отделения[отделение],SMALL(IF(Отделения[Город]=$AA$1,ROW(Отделения[Город])-1),ROW(O40)-ROW($A$2)+1)),\"\")","v":""},{"$f":"IFERROR(INDEX(Отделения[отделение],SMALL(IF(Отделения[Город]=$AB$1,ROW(Отделения[Город])-1),ROW(P40)-ROW($A$2)+1)),\"\")","v":""},{"$f":"IFERROR(INDEX(Отделения[отделение],SMALL(IF(Отделения[Город]=$AC$1,ROW(Отделения[Город])-1),ROW(Q40)-ROW($A$2)+1)),\"\")","v":""},{"$f":"IFERROR(INDEX(Отделения[отделение],SMALL(IF(Отделения[Город]=$AD$1,ROW(Отделения[Город])-1),ROW(R40)-ROW($A$2)+1)),\"\")","v":""},{"$f":"IFERROR(INDEX(Отделения[отделение],SMALL(IF(Отделения[Город]=$AE$1,ROW(Отделения[Город])-1),ROW(S40)-ROW($A$2)+1)),\"\")","v":""},{"$f":"IFERROR(INDEX(Отделения[отделение],SMALL(IF(Отделения[Город]=$AF$1,ROW(Отделения[Город])-1),ROW(T40)-ROW($A$2)+1)),\"\")","v":""},{"$f":"IFERROR(INDEX(Отделения[отделение],SMALL(IF(Отделения[Город]=$AG$1,ROW(Отделения[Город])-1),ROW(U40)-ROW($A$2)+1)),\"\")","v":""},{"$f":"IFERROR(INDEX(Отделения[отделение],SMALL(IF(Отделения[Город]=$AH$1,ROW(Отделения[Город])-1),ROW(V40)-ROW($A$2)+1)),\"\")","v":""},{"$f":"IFERROR(INDEX(Отделения[отделение],SMALL(IF(Отделения[Город]=$AI$1,ROW(Отделения[Город])-1),ROW(AB40)-ROW($A$2)+1)),\"\")","v":""},{"$f":"IFERROR(INDEX(Отделения[отделение],SMALL(IF(Отделения[Город]=$AJ$1,ROW(Отделения[Город])-1),ROW(AB40)-ROW($A$2)+1)),\"\")","v":""},{"$f":"IFERROR(INDEX(Отделения[отделение],SMALL(IF(Отделения[Город]=$AK$1,ROW(Отделения[Город])-1),ROW(AB40)-ROW($A$2)+1)),\"\")","v":""},{"$f":"IFERROR(INDEX(Отделения[отделение],SMALL(IF(Отделения[Город]=$AL$1,ROW(Отделения[Город])-1),ROW(AB40)-ROW($A$2)+1)),\"\")","v":""},{"$f":"IFERROR(INDEX(Отделения[отделение],SMALL(IF(Отделения[Город]=$AM$1,ROW(Отделения[Город])-1),ROW(AB40)-ROW($A$2)+1)),\"\")","v":""},{"$f":"IFERROR(INDEX(Отделения[отделение],SMALL(IF(Отделения[Город]=$AN$1,ROW(Отделения[Город])-1),ROW(AB40)-ROW($A$2)+1)),\"\")","v":""},{"$f":"IFERROR(INDEX(Отделения[отделение],SMALL(IF(Отделения[Город]=$AO$1,ROW(Отделения[Город])-1),ROW(AB40)-ROW($A$2)+1)),\"\")","v":""},{"$f":"IFERROR(INDEX(Отделения[отделение],SMALL(IF(Отделения[Город]=$AP$1,ROW(Отделения[Город])-1),ROW(AB40)-ROW($A$2)+1)),\"\")","v":""},{"$f":"IFERROR(INDEX(Отделения[отделение],SMALL(IF(Отделения[Город]=$AQ$1,ROW(Отделения[Город])-1),ROW(AB40)-ROW($A$2)+1)),\"\")","v":""},{"$f":"IFERROR(INDEX(Отделения[отделение],SMALL(IF(Отделения[Город]=$AR$1,ROW(Отделения[Город])-1),ROW(AB40)-ROW($A$2)+1)),\"\")","v":""},{"$f":"IFERROR(INDEX(Отделения[отделение],SMALL(IF(Отделения[Город]=$AS$1,ROW(Отделения[Город])-1),ROW(AB40)-ROW($A$2)+1)),\"\")","v":""},{"$f":"IFERROR(INDEX(Отделения[отделение],SMALL(IF(Отделения[Город]=$AT$1,ROW(Отделения[Город])-1),ROW(AB40)-ROW($A$2)+1)),\"\")","v":""},{"$f":"IFERROR(INDEX(Отделения[отделение],SMALL(IF(Отделения[Город]=$AU$1,ROW(Отделения[Город])-1),ROW(AB40)-ROW($A$2)+1)),\"\")","v":""},{"$f":"IFERROR(INDEX(Отделения[отделение],SMALL(IF(Отделения[Город]=$AV$1,ROW(Отделения[Город])-1),ROW(AB40)-ROW($A$2)+1)),\"\")","v":""},{"$f":"IFERROR(INDEX(Отделения[отделение],SMALL(IF(Отделения[Город]=$AW$1,ROW(Отделения[Город])-1),ROW(AB40)-ROW($A$2)+1)),\"\")","v":""},{"$f":"IFERROR(INDEX(Отделения[отделение],SMALL(IF(Отделения[Город]=$AX$1,ROW(Отделения[Город])-1),ROW(AB40)-ROW($A$2)+1)),\"\")","v":""},{"$f":"IFERROR(INDEX(Отделения[отделение],SMALL(IF(Отделения[Город]=$AY$1,ROW(Отделения[Город])-1),ROW(AB40)-ROW($A$2)+1)),\"\")","v":""},{"$f":"IFERROR(INDEX(Отделения[отделение],SMALL(IF(Отделения[Город]=$AZ$1,ROW(Отделения[Город])-1),ROW(AB40)-ROW($A$2)+1)),\"\")","v":""},{"$f":"IFERROR(INDEX(Отделения[отделение],SMALL(IF(Отделения[Город]=$BA$1,ROW(Отделения[Город])-1),ROW(AB40)-ROW($A$2)+1)),\"\")","v":""},{"$f":"IFERROR(INDEX(Отделения[отделение],SMALL(IF(Отделения[Город]=$BB$1,ROW(Отделения[Город])-1),ROW(AB40)-ROW($A$2)+1)),\"\")","v":""},{"$f":"IFERROR(INDEX(Отделения[отделение],SMALL(IF(Отделения[Город]=$BC$1,ROW(Отделения[Город])-1),ROW(AC40)-ROW($A$2)+1)),\"\")","v":""},{"$f":"IFERROR(INDEX(Отделения[отделение],SMALL(IF(Отделения[Город]=$BD$1,ROW(Отделения[Город])-1),ROW(AD40)-ROW($A$2)+1)),\"\")","v":""},{"$f":"IFERROR(INDEX(Отделения[отделение],SMALL(IF(Отделения[Город]=$BE$1,ROW(Отделения[Город])-1),ROW(AE40)-ROW($A$2)+1)),\"\")","v":""},{"$f":"IFERROR(INDEX(Отделения[отделение],SMALL(IF(Отделения[Город]=$BF$1,ROW(Отделения[Город])-1),ROW(AF40)-ROW($A$2)+1)),\"\")","v":""},{"$f":"IFERROR(INDEX(Отделения[отделение],SMALL(IF(Отделения[Город]=$BG$1,ROW(Отделения[Город])-1),ROW(AG40)-ROW($A$2)+1)),\"\")","v":""},{"$f":"IFERROR(INDEX(Отделения[отделение],SMALL(IF(Отделения[Город]=$BH$1,ROW(Отделения[Город])-1),ROW(AH40)-ROW($A$2)+1)),\"\")","v":""},{"$f":"IFERROR(INDEX(Отделения[отделение],SMALL(IF(Отделения[Город]=$BI$1,ROW(Отделения[Город])-1),ROW(AI40)-ROW($A$2)+1)),\"\")","v":""},{"$f":"IFERROR(INDEX(Отделения[отделение],SMALL(IF(Отделения[Город]=$BJ$1,ROW(Отделения[Город])-1),ROW(AJ40)-ROW($A$2)+1)),\"\")","v":""},{"$f":"IFERROR(INDEX(Отделения[отделение],SMALL(IF(Отделения[Город]=$BK$1,ROW(Отделения[Город])-1),ROW(AK40)-ROW($A$2)+1)),\"\")","v":""},{"$f":"IFERROR(INDEX(Отделения[отделение],SMALL(IF(Отделения[Город]=$BL$1,ROW(Отделения[Город])-1),ROW(AL40)-ROW($A$2)+1)),\"\")","v":""},{"$f":"IFERROR(INDEX(Отделения[отделение],SMALL(IF(Отделения[Город]=$BM$1,ROW(Отделения[Город])-1),ROW(AM40)-ROW($A$2)+1)),\"\")","v":""},{"$f":"IFERROR(INDEX(Отделения[отделение],SMALL(IF(Отделения[Город]=$BN$1,ROW(Отделения[Город])-1),ROW(AN40)-ROW($A$2)+1)),\"\")","v":""},{"$f":"IFERROR(INDEX(Отделения[отделение],SMALL(IF(Отделения[Город]=$BO$1,ROW(Отделения[Город])-1),ROW(AO40)-ROW($A$2)+1)),\"\")","v":""},{"$f":"IFERROR(INDEX(Отделения[отделение],SMALL(IF(Отделения[Город]=$BP$1,ROW(Отделения[Город])-1),ROW(AP40)-ROW($A$2)+1)),\"\")","v":""},{"$f":"IFERROR(INDEX(Отделения[отделение],SMALL(IF(Отделения[Город]=$BQ$1,ROW(Отделения[Город])-1),ROW(AQ40)-ROW($A$2)+1)),\"\")","v":""},{"$f":"IFERROR(INDEX(Отделения[отделение],SMALL(IF(Отделения[Город]=$BR$1,ROW(Отделения[Город])-1),ROW(AR40)-ROW($A$2)+1)),\"\")","v":""},{"$f":"IFERROR(INDEX(Отделения[отделение],SMALL(IF(Отделения[Город]=$BS$1,ROW(Отделения[Город])-1),ROW(AS40)-ROW($A$2)+1)),\"\")","v":""},{"$f":"IFERROR(INDEX(Отделения[отделение],SMALL(IF(Отделения[Город]=$BT$1,ROW(Отделения[Город])-1),ROW(AT40)-ROW($A$2)+1)),\"\")","v":""},{"$f":"IFERROR(INDEX(Отделения[отделение],SMALL(IF(Отделения[Город]=$BU$1,ROW(Отделения[Город])-1),ROW(AU40)-ROW($A$2)+1)),\"\")","v":""},{"$f":"IFERROR(INDEX(Отделения[отделение],SMALL(IF(Отделения[Город]=$BV$1,ROW(Отделения[Город])-1),ROW(AV40)-ROW($A$2)+1)),\"\")","v":""},{"$f":"IFERROR(INDEX(Отделения[отделение],SMALL(IF(Отделения[Город]=$BW$1,ROW(Отделения[Город])-1),ROW(AV40)-ROW($A$2)+1)),\"\")","v":""},{"$f":"IFERROR(INDEX(Отделения[отделение],SMALL(IF(Отделения[Город]=$BX$1,ROW(Отделения[Город])-1),ROW(AV40)-ROW($A$2)+1)),\"\")","v":""},{"$f":"IFERROR(INDEX(Отделения[отделение],SMALL(IF(Отделения[Город]=$BY$1,ROW(Отделения[Город])-1),ROW(AV40)-ROW($A$2)+1)),\"\")","v":""},{"$f":"IFERROR(INDEX(Отделения[отделение],SMALL(IF(Отделения[Город]=$BZ$1,ROW(Отделения[Город])-1),ROW(AV40)-ROW($A$2)+1)),\"\")","v":""},{"$f":"IFERROR(INDEX(Отделения[отделение],SMALL(IF(Отделения[Город]=$CA$1,ROW(Отделения[Город])-1),ROW(AV40)-ROW($A$2)+1)),\"\")","v":""},{"$f":"IFERROR(INDEX(Отделения[отделение],SMALL(IF(Отделения[Город]=$CB$1,ROW(Отделения[Город])-1),ROW(AV40)-ROW($A$2)+1)),\"\")","v":""},{"$f":"IFERROR(INDEX(Отделения[отделение],SMALL(IF(Отделения[Город]=$CC$1,ROW(Отделения[Город])-1),ROW(AV40)-ROW($A$2)+1)),\"\")","v":""},{"$f":"IFERROR(INDEX(Отделения[отделение],SMALL(IF(Отделения[Город]=$CD$1,ROW(Отделения[Город])-1),ROW(AV40)-ROW($A$2)+1)),\"\")","v":""},{"$f":"IFERROR(INDEX(Отделения[отделение],SMALL(IF(Отделения[Город]=$CE$1,ROW(Отделения[Город])-1),ROW(AV40)-ROW($A$2)+1)),\"\")","v":""},{"$f":"IFERROR(INDEX(Отделения[отделение],SMALL(IF(Отделения[Город]=$CF$1,ROW(Отделения[Город])-1),ROW(AV40)-ROW($A$2)+1)),\"\")","v":""},{"$f":"IFERROR(INDEX(Отделения[отделение],SMALL(IF(Отделения[Город]=$CG$1,ROW(Отделения[Город])-1),ROW(AV40)-ROW($A$2)+1)),\"\")","v":""},{"$f":"IFERROR(INDEX(Отделения[отделение],SMALL(IF(Отделения[Город]=$CH$1,ROW(Отделения[Город])-1),ROW(AW40)-ROW($A$2)+1)),\"\")","v":""},{"$f":"IFERROR(INDEX(Отделения[отделение],SMALL(IF(Отделения[Город]=$CI$1,ROW(Отделения[Город])-1),ROW(AX40)-ROW($A$2)+1)),\"\")","v":""},{"$f":"IFERROR(INDEX(Отделения[отделение],SMALL(IF(Отделения[Город]=$CJ$1,ROW(Отделения[Город])-1),ROW(AY40)-ROW($A$2)+1)),\"\")","v":""},{"$f":"IFERROR(INDEX(Отделения[отделение],SMALL(IF(Отделения[Город]=$CK$1,ROW(Отделения[Город])-1),ROW(AZ40)-ROW($A$2)+1)),\"\")","v":""},{"$f":"IFERROR(INDEX(Отделения[отделение],SMALL(IF(Отделения[Город]=$CL$1,ROW(Отделения[Город])-1),ROW(BA40)-ROW($A$2)+1)),\"\")","v":""},{"$f":"IFERROR(INDEX(Отделения[отделение],SMALL(IF(Отделения[Город]=$CM$1,ROW(Отделения[Город])-1),ROW(BB40)-ROW($A$2)+1)),\"\")","v":""},{"$f":"IFERROR(INDEX(Отделения[отделение],SMALL(IF(Отделения[Город]=$CN$1,ROW(Отделения[Город])-1),ROW(BC40)-ROW($A$2)+1)),\"\")","v":""},{"$f":"IFERROR(INDEX(Отделения[отделение],SMALL(IF(Отделения[Город]=$CO$1,ROW(Отделения[Город])-1),ROW(BD40)-ROW($A$2)+1)),\"\")","v":""},{"$f":"IFERROR(INDEX(Отделения[отделение],SMALL(IF(Отделения[Город]=$CP$1,ROW(Отделения[Город])-1),ROW(BE40)-ROW($A$2)+1)),\"\")","v":""},{"$f":"IFERROR(INDEX(Отделения[отделение],SMALL(IF(Отделения[Город]=$CQ$1,ROW(Отделения[Город])-1),ROW(BF40)-ROW($A$2)+1)),\"\")","v":""},{"$f":"IFERROR(INDEX(Отделения[отделение],SMALL(IF(Отделения[Город]=$CR$1,ROW(Отделения[Город])-1),ROW(BG40)-ROW($A$2)+1)),\"\")","v":""},{"$f":"IFERROR(INDEX(Отделения[отделение],SMALL(IF(Отделения[Город]=$CS$1,ROW(Отделения[Город])-1),ROW(BH40)-ROW($A$2)+1)),\"\")","v":""},{"$f":"IFERROR(INDEX(Отделения[отделение],SMALL(IF(Отделения[Город]=$CT$1,ROW(Отделения[Город])-1),ROW(BI40)-ROW($A$2)+1)),\"\")","v":""},{"$f":"IFERROR(INDEX(Отделения[отделение],SMALL(IF(Отделения[Город]=$CU$1,ROW(Отделения[Город])-1),ROW(BJ40)-ROW($A$2)+1)),\"\")","v":""},{"$f":"IFERROR(INDEX(Отделения[отделение],SMALL(IF(Отделения[Город]=$CV$1,ROW(Отделения[Город])-1),ROW(BK40)-ROW($A$2)+1)),\"\")","v":""},{"$f":"IFERROR(INDEX(Отделения[отделение],SMALL(IF(Отделения[Город]=$CW$1,ROW(Отделения[Город])-1),ROW(BL40)-ROW($A$2)+1)),\"\")","v":""},{"$f":"IFERROR(INDEX(Отделения[отделение],SMALL(IF(Отделения[Город]=$CX$1,ROW(Отделения[Город])-1),ROW(BM40)-ROW($A$2)+1)),\"\")","v":""},{"$f":"IFERROR(INDEX(Отделения[отделение],SMALL(IF(Отделения[Город]=$CY$1,ROW(Отделения[Город])-1),ROW(BM40)-ROW($A$2)+1)),\"\")","v":""},{"$f":"IFERROR(INDEX(Отделения[отделение],SMALL(IF(Отделения[Город]=$CZ$1,ROW(Отделения[Город])-1),ROW(BM40)-ROW($A$2)+1)),\"\")","v":""},{"$f":"IFERROR(INDEX(Отделения[отделение],SMALL(IF(Отделения[Город]=$DA$1,ROW(Отделения[Город])-1),ROW(BM40)-ROW($A$2)+1)),\"\")","v":""},{"$f":"IFERROR(INDEX(Отделения[отделение],SMALL(IF(Отделения[Город]=$DB$1,ROW(Отделения[Город])-1),ROW(BM40)-ROW($A$2)+1)),\"\")","v":""}]
["Москва","ДО \"РЕЧНОЙ ВОКЗАЛ\" , 125565, г. Москва, ул.Фестивальная,д.13, корп.1","0600","MODI",null,null,{"$f":"IFERROR(INDEX(Отделения[отделение],SMALL(IF(Отделения[Город]=$G$1,ROW(Отделения[Город])-1),ROW(A41)-ROW($A$2)+1)),\"\")","v":""},{"$f":"IFERROR(INDEX(Отделения[отделение],SMALL(IF(Отделения[Город]=$H$1,ROW(Отделения[Город])-1),ROW(A41)-ROW($A$2)+1)),\"\")","v":""},{"$f":"IFERROR(INDEX(Отделения[отделение],SMALL(IF(Отделения[Город]=$I$1,ROW(Отделения[Город])-1),ROW(A41)-ROW($A$2)+1)),\"\")","v":""},{"$f":"IFERROR(INDEX(Отделения[отделение],SMALL(IF(Отделения[Город]=$J$1,ROW(Отделения[Город])-1),ROW(A41)-ROW($A$2)+1)),\"\")","v":""},{"$f":"IFERROR(INDEX(Отделения[отделение],SMALL(IF(Отделения[Город]=$K$1,ROW(Отделения[Город])-1),ROW(A41)-ROW($A$2)+1)),\"\")","v":""},{"$f":"IFERROR(INDEX(Отделения[отделение],SMALL(IF(Отделения[Город]=$L$1,ROW(Отделения[Город])-1),ROW(A41)-ROW($A$2)+1)),\"\")","v":""},{"$f":"IFERROR(INDEX(Отделения[отделение],SMALL(IF(Отделения[Город]=$M$1,ROW(Отделения[Город])-1),ROW(B41)-ROW($A$2)+1)),\"\")","v":""},{"$f":"IFERROR(INDEX(Отделения[отделение],SMALL(IF(Отделения[Город]=$N$1,ROW(Отделения[Город])-1),ROW(#REF!)-ROW($A$2)+1)),\"\")","v":""},{"$f":"IFERROR(INDEX(Отделения[отделение],SMALL(IF(Отделения[Город]=$O$1,ROW(Отделения[Город])-1),ROW(C41)-ROW($A$2)+1)),\"\")","v":""},{"$f":"IFERROR(INDEX(Отделения[отделение],SMALL(IF(Отделения[Город]=$P$1,ROW(Отделения[Город])-1),ROW(D41)-ROW($A$2)+1)),\"\")","v":""},{"$f":"IFERROR(INDEX(Отделения[отделение],SMALL(IF(Отделения[Город]=$Q$1,ROW(Отделения[Город])-1),ROW(F41)-ROW($A$2)+1)),\"\")","v":""},{"$f":"IFERROR(INDEX(Отделения[отделение],SMALL(IF(Отделения[Город]=$R$1,ROW(Отделения[Город])-1),ROW(#REF!)-ROW($A$2)+1)),\"\")","v":""},{"$f":"IFERROR(INDEX(Отделения[отделение],SMALL(IF(Отделения[Город]=$S$1,ROW(Отделения[Город])-1),ROW(G41)-ROW($A$2)+1)),\"\")","v":""},{"$f":"IFERROR(INDEX(Отделения[отделение],SMALL(IF(Отделения[Город]=$T$1,ROW(Отделения[Город])-1),ROW(H41)-ROW($A$2)+1)),\"\")","v":""},{"$f":"IFERROR(INDEX(Отделения[отделение],SMALL(IF(Отделения[Город]=$U$1,ROW(Отделения[Город])-1),ROW(I41)-ROW($A$2)+1)),\"\")","v":""},{"$f":"IFERROR(INDEX(Отделения[отделение],SMALL(IF(Отделения[Город]=$V$1,ROW(Отделения[Город])-1),ROW(J41)-ROW($A$2)+1)),\"\")","v":""},{"$f":"IFERROR(INDEX(Отделения[отделение],SMALL(IF(Отделения[Город]=$W$1,ROW(Отделения[Город])-1),ROW(K41)-ROW($A$2)+1)),\"\")","v":""},{"$f":"IFERROR(INDEX(Отделения[отделение],SMALL(IF(Отделения[Город]=$X$1,ROW(Отделения[Город])-1),ROW(L41)-ROW($A$2)+1)),\"\")","v":""},{"$f":"IFERROR(INDEX(Отделения[отделение],SMALL(IF(Отделения[Город]=$Y$1,ROW(Отделения[Город])-1),ROW(M41)-ROW($A$2)+1)),\"\")","v":""},{"$f":"IFERROR(INDEX(Отделения[отделение],SMALL(IF(Отделения[Город]=$Z$1,ROW(Отделения[Город])-1),ROW(N41)-ROW($A$2)+1)),\"\")","v":""},{"$f":"IFERROR(INDEX(Отделения[отделение],SMALL(IF(Отделения[Город]=$AA$1,ROW(Отделения[Город])-1),ROW(O41)-ROW($A$2)+1)),\"\")","v":""},{"$f":"IFERROR(INDEX(Отделения[отделение],SMALL(IF(Отделения[Город]=$AB$1,ROW(Отделения[Город])-1),ROW(P41)-ROW($A$2)+1)),\"\")","v":""},{"$f":"IFERROR(INDEX(Отделения[отделение],SMALL(IF(Отделения[Город]=$AC$1,ROW(Отделения[Город])-1),ROW(Q41)-ROW($A$2)+1)),\"\")","v":""},{"$f":"IFERROR(INDEX(Отделения[отделение],SMALL(IF(Отделения[Город]=$AD$1,ROW(Отделения[Город])-1),ROW(R41)-ROW($A$2)+1)),\"\")","v":""},{"$f":"IFERROR(INDEX(Отделения[отделение],SMALL(IF(Отделения[Город]=$AE$1,ROW(Отделения[Город])-1),ROW(S41)-ROW($A$2)+1)),\"\")","v":""},{"$f":"IFERROR(INDEX(Отделения[отделение],SMALL(IF(Отделения[Город]=$AF$1,ROW(Отделения[Город])-1),ROW(T41)-ROW($A$2)+1)),\"\")","v":""},{"$f":"IFERROR(INDEX(Отделения[отделение],SMALL(IF(Отделения[Город]=$AG$1,ROW(Отделения[Город])-1),ROW(U41)-ROW($A$2)+1)),\"\")","v":""},{"$f":"IFERROR(INDEX(Отделения[отделение],SMALL(IF(Отделения[Город]=$AH$1,ROW(Отделения[Город])-1),ROW(V41)-ROW($A$2)+1)),\"\")","v":""},{"$f":"IFERROR(INDEX(Отделения[отделение],SMALL(IF(Отделения[Город]=$AI$1,ROW(Отделения[Город])-1),ROW(AB41)-ROW($A$2)+1)),\"\")","v":""},{"$f":"IFERROR(INDEX(Отделения[отделение],SMALL(IF(Отделения[Город]=$AJ$1,ROW(Отделения[Город])-1),ROW(AB41)-ROW($A$2)+1)),\"\")","v":""},{"$f":"IFERROR(INDEX(Отделения[отделение],SMALL(IF(Отделения[Город]=$AK$1,ROW(Отделения[Город])-1),ROW(AB41)-ROW($A$2)+1)),\"\")","v":""},{"$f":"IFERROR(INDEX(Отделения[отделение],SMALL(IF(Отделения[Город]=$AL$1,ROW(Отделения[Город])-1),ROW(AB41)-ROW($A$2)+1)),\"\")","v":""},{"$f":"IFERROR(INDEX(Отделения[отделение],SMALL(IF(Отделения[Город]=$AM$1,ROW(Отделения[Город])-1),ROW(AB41)-ROW($A$2)+1)),\"\")","v":""},{"$f":"IFERROR(INDEX(Отделения[отделение],SMALL(IF(Отделения[Город]=$AN$1,ROW(Отделения[Город])-1),ROW(AB41)-ROW($A$2)+1)),\"\")","v":""},{"$f":"IFERROR(INDEX(Отделения[отделение],SMALL(IF(Отделения[Город]=$AO$1,ROW(Отделения[Город])-1),ROW(AB41)-ROW($A$2)+1)),\"\")","v":""},{"$f":"IFERROR(INDEX(Отделения[отделение],SMALL(IF(Отделения[Город]=$AP$1,ROW(Отделения[Город])-1),ROW(AB41)-ROW($A$2)+1)),\"\")","v":""},{"$f":"IFERROR(INDEX(Отделения[отделение],SMALL(IF(Отделения[Город]=$AQ$1,ROW(Отделения[Город])-1),ROW(AB41)-ROW($A$2)+1)),\"\")","v":""},{"$f":"IFERROR(INDEX(Отделения[отделение],SMALL(IF(Отделения[Город]=$AR$1,ROW(Отделения[Город])-1),ROW(AB41)-ROW($A$2)+1)),\"\")","v":""},{"$f":"IFERROR(INDEX(Отделения[отделение],SMALL(IF(Отделения[Город]=$AS$1,ROW(Отделения[Город])-1),ROW(AB41)-ROW($A$2)+1)),\"\")","v":""},{"$f":"IFERROR(INDEX(Отделения[отделение],SMALL(IF(Отделения[Город]=$AT$1,ROW(Отделения[Город])-1),ROW(AB41)-ROW($A$2)+1)),\"\")","v":""},{"$f":"IFERROR(INDEX(Отделения[отделение],SMALL(IF(Отделения[Город]=$AU$1,ROW(Отделения[Город])-1),ROW(AB41)-ROW($A$2)+1)),\"\")","v":""},{"$f":"IFERROR(INDEX(Отделения[отделение],SMALL(IF(Отделения[Город]=$AV$1,ROW(Отделения[Город])-1),ROW(AB41)-ROW($A$2)+1)),\"\")","v":""},{"$f":"IFERROR(INDEX(Отделения[отделение],SMALL(IF(Отделения[Город]=$AW$1,ROW(Отделения[Город])-1),ROW(AB41)-ROW($A$2)+1)),\"\")","v":""},{"$f":"IFERROR(INDEX(Отделения[отделение],SMALL(IF(Отделения[Город]=$AX$1,ROW(Отделения[Город])-1),ROW(AB41)-ROW($A$2)+1)),\"\")","v":""},{"$f":"IFERROR(INDEX(Отделения[отделение],SMALL(IF(Отделения[Город]=$AY$1,ROW(Отделения[Город])-1),ROW(AB41)-ROW($A$2)+1)),\"\")","v":""},{"$f":"IFERROR(INDEX(Отделения[отделение],SMALL(IF(Отделения[Город]=$AZ$1,ROW(Отделения[Город])-1),ROW(AB41)-ROW($A$2)+1)),\"\")","v":""},{"$f":"IFERROR(INDEX(Отделения[отделение],SMALL(IF(Отделения[Город]=$BA$1,ROW(Отделения[Город])-1),ROW(AB41)-ROW($A$2)+1)),\"\")","v":""},{"$f":"IFERROR(INDEX(Отделения[отделение],SMALL(IF(Отделения[Город]=$BB$1,ROW(Отделения[Город])-1),ROW(AB41)-ROW($A$2)+1)),\"\")","v":""},{"$f":"IFERROR(INDEX(Отделения[отделение],SMALL(IF(Отделения[Город]=$BC$1,ROW(Отделения[Город])-1),ROW(AC41)-ROW($A$2)+1)),\"\")","v":""},{"$f":"IFERROR(INDEX(Отделения[отделение],SMALL(IF(Отделения[Город]=$BD$1,ROW(Отделения[Город])-1),ROW(AD41)-ROW($A$2)+1)),\"\")","v":""},{"$f":"IFERROR(INDEX(Отделения[отделение],SMALL(IF(Отделения[Город]=$BE$1,ROW(Отделения[Город])-1),ROW(AE41)-ROW($A$2)+1)),\"\")","v":""},{"$f":"IFERROR(INDEX(Отделения[отделение],SMALL(IF(Отделения[Город]=$BF$1,ROW(Отделения[Город])-1),ROW(AF41)-ROW($A$2)+1)),\"\")","v":""},{"$f":"IFERROR(INDEX(Отделения[отделение],SMALL(IF(Отделения[Город]=$BG$1,ROW(Отделения[Город])-1),ROW(AG41)-ROW($A$2)+1)),\"\")","v":""},{"$f":"IFERROR(INDEX(Отделения[отделение],SMALL(IF(Отделения[Город]=$BH$1,ROW(Отделения[Город])-1),ROW(AH41)-ROW($A$2)+1)),\"\")","v":""},{"$f":"IFERROR(INDEX(Отделения[отделение],SMALL(IF(Отделения[Город]=$BI$1,ROW(Отделения[Город])-1),ROW(AI41)-ROW($A$2)+1)),\"\")","v":""},{"$f":"IFERROR(INDEX(Отделения[отделение],SMALL(IF(Отделения[Город]=$BJ$1,ROW(Отделения[Город])-1),ROW(AJ41)-ROW($A$2)+1)),\"\")","v":""},{"$f":"IFERROR(INDEX(Отделения[отделение],SMALL(IF(Отделения[Город]=$BK$1,ROW(Отделения[Город])-1),ROW(AK41)-ROW($A$2)+1)),\"\")","v":""},{"$f":"IFERROR(INDEX(Отделения[отделение],SMALL(IF(Отделения[Город]=$BL$1,ROW(Отделения[Город])-1),ROW(AL41)-ROW($A$2)+1)),\"\")","v":""},{"$f":"IFERROR(INDEX(Отделения[отделение],SMALL(IF(Отделения[Город]=$BM$1,ROW(Отделения[Город])-1),ROW(AM41)-ROW($A$2)+1)),\"\")","v":""},{"$f":"IFERROR(INDEX(Отделения[отделение],SMALL(IF(Отделения[Город]=$BN$1,ROW(Отделения[Город])-1),ROW(AN41)-ROW($A$2)+1)),\"\")","v":""},{"$f":"IFERROR(INDEX(Отделения[отделение],SMALL(IF(Отделения[Город]=$BO$1,ROW(Отделения[Город])-1),ROW(AO41)-ROW($A$2)+1)),\"\")","v":""},{"$f":"IFERROR(INDEX(Отделения[отделение],SMALL(IF(Отделения[Город]=$BP$1,ROW(Отделения[Город])-1),ROW(AP41)-ROW($A$2)+1)),\"\")","v":""},{"$f":"IFERROR(INDEX(Отделения[отделение],SMALL(IF(Отделения[Город]=$BQ$1,ROW(Отделения[Город])-1),ROW(AQ41)-ROW($A$2)+1)),\"\")","v":""},{"$f":"IFERROR(INDEX(Отделения[отделение],SMALL(IF(Отделения[Город]=$BR$1,ROW(Отделения[Город])-1),ROW(AR41)-ROW($A$2)+1)),\"\")","v":""},{"$f":"IFERROR(INDEX(Отделения[отделение],SMALL(IF(Отделения[Город]=$BS$1,ROW(Отделения[Город])-1),ROW(AS41)-ROW($A$2)+1)),\"\")","v":""},{"$f":"IFERROR(INDEX(Отделения[отделение],SMALL(IF(Отделения[Город]=$BT$1,ROW(Отделения[Город])-1),ROW(AT41)-ROW($A$2)+1)),\"\")","v":""},{"$f":"IFERROR(INDEX(Отделения[отделение],SMALL(IF(Отделения[Город]=$BU$1,ROW(Отделения[Город])-1),ROW(AU41)-ROW($A$2)+1)),\"\")","v":""},{"$f":"IFERROR(INDEX(Отделения[отделение],SMALL(IF(Отделения[Город]=$BV$1,ROW(Отделения[Город])-1),ROW(AV41)-ROW($A$2)+1)),\"\")","v":""},{"$f":"IFERROR(INDEX(Отделения[отделение],SMALL(IF(Отделения[Город]=$BW$1,ROW(Отделения[Город])-1),ROW(AV41)-ROW($A$2)+1)),\"\")","v":""},{"$f":"IFERROR(INDEX(Отделения[отделение],SMALL(IF(Отделения[Город]=$BX$1,ROW(Отделения[Город])-1),ROW(AV41)-ROW($A$2)+1)),\"\")","v":""},{"$f":"IFERROR(INDEX(Отделения[отделение],SMALL(IF(Отделения[Город]=$BY$1,ROW(Отделения[Город])-1),ROW(AV41)-ROW($A$2)+1)),\"\")","v":""},{"$f":"IFERROR(INDEX(Отделения[отделение],SMALL(IF(Отделения[Город]=$BZ$1,ROW(Отделения[Город])-1),ROW(AV41)-ROW($A$2)+1)),\"\")","v":""},{"$f":"IFERROR(INDEX(Отделения[отделение],SMALL(IF(Отделения[Город]=$CA$1,ROW(Отделения[Город])-1),ROW(AV41)-ROW($A$2)+1)),\"\")","v":""},{"$f":"IFERROR(INDEX(Отделения[отделение],SMALL(IF(Отделения[Город]=$CB$1,ROW(Отделения[Город])-1),ROW(AV41)-ROW($A$2)+1)),\"\")","v":""},{"$f":"IFERROR(INDEX(Отделения[отделение],SMALL(IF(Отделения[Город]=$CC$1,ROW(Отделения[Город])-1),ROW(AV41)-ROW($A$2)+1)),\"\")","v":""},{"$f":"IFERROR(INDEX(Отделения[отделение],SMALL(IF(Отделения[Город]=$CD$1,ROW(Отделения[Город])-1),ROW(AV41)-ROW($A$2)+1)),\"\")","v":""},{"$f":"IFERROR(INDEX(Отделения[отделение],SMALL(IF(Отделения[Город]=$CE$1,ROW(Отделения[Город])-1),ROW(AV41)-ROW($A$2)+1)),\"\")","v":""},{"$f":"IFERROR(INDEX(Отделения[отделение],SMALL(IF(Отделения[Город]=$CF$1,ROW(Отделения[Город])-1),ROW(AV41)-ROW($A$2)+1)),\"\")","v":""},{"$f":"IFERROR(INDEX(Отделения[отделение],SMALL(IF(Отделения[Город]=$CG$1,ROW(Отделения[Город])-1),ROW(AV41)-ROW($A$2)+1)),\"\")","v":""},{"$f":"IFERROR(INDEX(Отделения[отделение],SMALL(IF(Отделения[Город]=$CH$1,ROW(Отделения[Город])-1),ROW(AW41)-ROW($A$2)+1)),\"\")","v":""},{"$f":"IFERROR(INDEX(Отделения[отделение],SMALL(IF(Отделения[Город]=$CI$1,ROW(Отделения[Город])-1),ROW(AX41)-ROW($A$2)+1)),\"\")","v":""},{"$f":"IFERROR(INDEX(Отделения[отделение],SMALL(IF(Отделения[Город]=$CJ$1,ROW(Отделения[Город])-1),ROW(AY41)-ROW($A$2)+1)),\"\")","v":""},{"$f":"IFERROR(INDEX(Отделения[отделение],SMALL(IF(Отделения[Город]=$CK$1,ROW(Отделения[Город])-1),ROW(AZ41)-ROW($A$2)+1)),\"\")","v":""},{"$f":"IFERROR(INDEX(Отделения[отделение],SMALL(IF(Отделения[Город]=$CL$1,ROW(Отделения[Город])-1),ROW(BA41)-ROW($A$2)+1)),\"\")","v":""},{"$f":"IFERROR(INDEX(Отделения[отделение],SMALL(IF(Отделения[Город]=$CM$1,ROW(Отделения[Город])-1),ROW(BB41)-ROW($A$2)+1)),\"\")","v":""},{"$f":"IFERROR(INDEX(Отделения[отделение],SMALL(IF(Отделения[Город]=$CN$1,ROW(Отделения[Город])-1),ROW(BC41)-ROW($A$2)+1)),\"\")","v":""},{"$f":"IFERROR(INDEX(Отделения[отделение],SMALL(IF(Отделения[Город]=$CO$1,ROW(Отделения[Город])-1),ROW(BD41)-ROW($A$2)+1)),\"\")","v":""},{"$f":"IFERROR(INDEX(Отделения[отделение],SMALL(IF(Отделения[Город]=$CP$1,ROW(Отделения[Город])-1),ROW(BE41)-ROW($A$2)+1)),\"\")","v":""},{"$f":"IFERROR(INDEX(Отделения[отделение],SMALL(IF(Отделения[Город]=$CQ$1,ROW(Отделения[Город])-1),ROW(BF41)-ROW($A$2)+1)),\"\")","v":""},{"$f":"IFERROR(INDEX(Отделения[отделение],SMALL(IF(Отделения[Город]=$CR$1,ROW(Отделения[Город])-1),ROW(BG41)-ROW($A$2)+1)),\"\")","v":""},{"$f":"IFERROR(INDEX(Отделения[отделение],SMALL(IF(Отделения[Город]=$CS$1,ROW(Отделения[Город])-1),ROW(BH41)-ROW($A$2)+1)),\"\")","v":""},{"$f":"IFERROR(INDEX(Отделения[отделение],SMALL(IF(Отделения[Город]=$CT$1,ROW(Отделения[Город])-1),ROW(BI41)-ROW($A$2)+1)),\"\")","v":""},{"$f":"IFERROR(INDEX(Отделения[отделение],SMALL(IF(Отделения[Город]=$CU$1,ROW(Отделения[Город])-1),ROW(BJ41)-ROW($A$2)+1)),\"\")","v":""},{"$f":"IFERROR(INDEX(Отделения[отделение],SMALL(IF(Отделения[Город]=$CV$1,ROW(Отделения[Город])-1),ROW(BK41)-ROW($A$2)+1)),\"\")","v":""},{"$f":"IFERROR(INDEX(Отделения[отделение],SMALL(IF(Отделения[Город]=$CW$1,ROW(Отделения[Город])-1),ROW(BL41)-ROW($A$2)+1)),\"\")","v":""},{"$f":"IFERROR(INDEX(Отделения[отделение],SMALL(IF(Отделения[Город]=$CX$1,ROW(Отделения[Город])-1),ROW(BM41)-ROW($A$2)+1)),\"\")","v":""},{"$f":"IFERROR(INDEX(Отделения[отделение],SMALL(IF(Отделения[Город]=$CY$1,ROW(Отделения[Город])-1),ROW(BM41)-ROW($A$2)+1)),\"\")","v":""},{"$f":"IFERROR(INDEX(Отделения[отделение],SMALL(IF(Отделения[Город]=$CZ$1,ROW(Отделения[Город])-1),ROW(BM41)-ROW($A$2)+1)),\"\")","v":""},{"$f":"IFERROR(INDEX(Отделения[отделение],SMALL(IF(Отделения[Город]=$DA$1,ROW(Отделения[Город])-1),ROW(BM41)-ROW($A$2)+1)),\"\")","v":""},{"$f":"IFERROR(INDEX(Отделения[отделение],SMALL(IF(Отделения[Город]=$DB$1,ROW(Отделения[Город])-1),ROW(BM41)-ROW($A$2)+1)),\"\")","v":""}]
["Москва","ДО \"ШУВАЛОВСКИЙ\" , 119192, г. Москва, пр-кт Мичуринский, д.7","0603","MOSH",null,null,{"$f":"IFERROR(INDEX(Отделения[отделение],SMALL(IF(Отделения[Город]=$G$1,ROW(Отделения[Город])-1),ROW(A42)-ROW($A$2)+1)),\"\")","v":""},{"$f":"IFERROR(INDEX(Отделения[отделение],SMALL(IF(Отделения[Город]=$H$1,ROW(Отделения[Город])-1),ROW(A42)-ROW($A$2)+1)),\"\")","v":""},{"$f":"IFERROR(INDEX(Отделения[отделение],SMALL(IF(Отделения[Город]=$I$1,ROW(Отделения[Город])-1),ROW(A42)-ROW($A$2)+1)),\"\")","v":""},{"$f":"IFERROR(INDEX(Отделения[отделение],SMALL(IF(Отделения[Город]=$J$1,ROW(Отделения[Город])-1),ROW(A42)-ROW($A$2)+1)),\"\")","v":""},{"$f":"IFERROR(INDEX(Отделения[отделение],SMALL(IF(Отделения[Город]=$K$1,ROW(Отделения[Город])-1),ROW(A42)-ROW($A$2)+1)),\"\")","v":""},{"$f":"IFERROR(INDEX(Отделения[отделение],SMALL(IF(Отделения[Город]=$L$1,ROW(Отделения[Город])-1),ROW(A42)-ROW($A$2)+1)),\"\")","v":""},{"$f":"IFERROR(INDEX(Отделения[отделение],SMALL(IF(Отделения[Город]=$M$1,ROW(Отделения[Город])-1),ROW(B42)-ROW($A$2)+1)),\"\")","v":""},{"$f":"IFERROR(INDEX(Отделения[отделение],SMALL(IF(Отделения[Город]=$N$1,ROW(Отделения[Город])-1),ROW(#REF!)-ROW($A$2)+1)),\"\")","v":""},{"$f":"IFERROR(INDEX(Отделения[отделение],SMALL(IF(Отделения[Город]=$O$1,ROW(Отделения[Город])-1),ROW(C42)-ROW($A$2)+1)),\"\")","v":""},{"$f":"IFERROR(INDEX(Отделения[отделение],SMALL(IF(Отделения[Город]=$P$1,ROW(Отделения[Город])-1),ROW(D42)-ROW($A$2)+1)),\"\")","v":""},{"$f":"IFERROR(INDEX(Отделения[отделение],SMALL(IF(Отделения[Город]=$Q$1,ROW(Отделения[Город])-1),ROW(F42)-ROW($A$2)+1)),\"\")","v":""},{"$f":"IFERROR(INDEX(Отделения[отделение],SMALL(IF(Отделения[Город]=$R$1,ROW(Отделения[Город])-1),ROW(#REF!)-ROW($A$2)+1)),\"\")","v":""},{"$f":"IFERROR(INDEX(Отделения[отделение],SMALL(IF(Отделения[Город]=$S$1,ROW(Отделения[Город])-1),ROW(G42)-ROW($A$2)+1)),\"\")","v":""},{"$f":"IFERROR(INDEX(Отделения[отделение],SMALL(IF(Отделения[Город]=$T$1,ROW(Отделения[Город])-1),ROW(H42)-ROW($A$2)+1)),\"\")","v":""},{"$f":"IFERROR(INDEX(Отделения[отделение],SMALL(IF(Отделения[Город]=$U$1,ROW(Отделения[Город])-1),ROW(I42)-ROW($A$2)+1)),\"\")","v":""},{"$f":"IFERROR(INDEX(Отделения[отделение],SMALL(IF(Отделения[Город]=$V$1,ROW(Отделения[Город])-1),ROW(J42)-ROW($A$2)+1)),\"\")","v":""},{"$f":"IFERROR(INDEX(Отделения[отделение],SMALL(IF(Отделения[Город]=$W$1,ROW(Отделения[Город])-1),ROW(K42)-ROW($A$2)+1)),\"\")","v":""},{"$f":"IFERROR(INDEX(Отделения[отделение],SMALL(IF(Отделения[Город]=$X$1,ROW(Отделения[Город])-1),ROW(L42)-ROW($A$2)+1)),\"\")","v":""},{"$f":"IFERROR(INDEX(Отделения[отделение],SMALL(IF(Отделения[Город]=$Y$1,ROW(Отделения[Город])-1),ROW(M42)-ROW($A$2)+1)),\"\")","v":""},{"$f":"IFERROR(INDEX(Отделения[отделение],SMALL(IF(Отделения[Город]=$Z$1,ROW(Отделения[Город])-1),ROW(N42)-ROW($A$2)+1)),\"\")","v":""},{"$f":"IFERROR(INDEX(Отделения[отделение],SMALL(IF(Отделения[Город]=$AA$1,ROW(Отделения[Город])-1),ROW(O42)-ROW($A$2)+1)),\"\")","v":""},{"$f":"IFERROR(INDEX(Отделения[отделение],SMALL(IF(Отделения[Город]=$AB$1,ROW(Отделения[Город])-1),ROW(P42)-ROW($A$2)+1)),\"\")","v":""},{"$f":"IFERROR(INDEX(Отделения[отделение],SMALL(IF(Отделения[Город]=$AC$1,ROW(Отделения[Город])-1),ROW(Q42)-ROW($A$2)+1)),\"\")","v":""},{"$f":"IFERROR(INDEX(Отделения[отделение],SMALL(IF(Отделения[Город]=$AD$1,ROW(Отделения[Город])-1),ROW(R42)-ROW($A$2)+1)),\"\")","v":""},{"$f":"IFERROR(INDEX(Отделения[отделение],SMALL(IF(Отделения[Город]=$AE$1,ROW(Отделения[Город])-1),ROW(S42)-ROW($A$2)+1)),\"\")","v":""},{"$f":"IFERROR(INDEX(Отделения[отделение],SMALL(IF(Отделения[Город]=$AF$1,ROW(Отделения[Город])-1),ROW(T42)-ROW($A$2)+1)),\"\")","v":""},{"$f":"IFERROR(INDEX(Отделения[отделение],SMALL(IF(Отделения[Город]=$AG$1,ROW(Отделения[Город])-1),ROW(U42)-ROW($A$2)+1)),\"\")","v":""},{"$f":"IFERROR(INDEX(Отделения[отделение],SMALL(IF(Отделения[Город]=$AH$1,ROW(Отделения[Город])-1),ROW(V42)-ROW($A$2)+1)),\"\")","v":""},{"$f":"IFERROR(INDEX(Отделения[отделение],SMALL(IF(Отделения[Город]=$AI$1,ROW(Отделения[Город])-1),ROW(AB42)-ROW($A$2)+1)),\"\")","v":""},{"$f":"IFERROR(INDEX(Отделения[отделение],SMALL(IF(Отделения[Город]=$AJ$1,ROW(Отделения[Город])-1),ROW(AB42)-ROW($A$2)+1)),\"\")","v":""},{"$f":"IFERROR(INDEX(Отделения[отделение],SMALL(IF(Отделения[Город]=$AK$1,ROW(Отделения[Город])-1),ROW(AB42)-ROW($A$2)+1)),\"\")","v":""},{"$f":"IFERROR(INDEX(Отделения[отделение],SMALL(IF(Отделения[Город]=$AL$1,ROW(Отделения[Город])-1),ROW(AB42)-ROW($A$2)+1)),\"\")","v":""},{"$f":"IFERROR(INDEX(Отделения[отделение],SMALL(IF(Отделения[Город]=$AM$1,ROW(Отделения[Город])-1),ROW(AB42)-ROW($A$2)+1)),\"\")","v":""},{"$f":"IFERROR(INDEX(Отделения[отделение],SMALL(IF(Отделения[Город]=$AN$1,ROW(Отделения[Город])-1),ROW(AB42)-ROW($A$2)+1)),\"\")","v":""},{"$f":"IFERROR(INDEX(Отделения[отделение],SMALL(IF(Отделения[Город]=$AO$1,ROW(Отделения[Город])-1),ROW(AB42)-ROW($A$2)+1)),\"\")","v":""},{"$f":"IFERROR(INDEX(Отделения[отделение],SMALL(IF(Отделения[Город]=$AP$1,ROW(Отделения[Город])-1),ROW(AB42)-ROW($A$2)+1)),\"\")","v":""},{"$f":"IFERROR(INDEX(Отделения[отделение],SMALL(IF(Отделения[Город]=$AQ$1,ROW(Отделения[Город])-1),ROW(AB42)-ROW($A$2)+1)),\"\")","v":""},{"$f":"IFERROR(INDEX(Отделения[отделение],SMALL(IF(Отделения[Город]=$AR$1,ROW(Отделения[Город])-1),ROW(AB42)-ROW($A$2)+1)),\"\")","v":""},{"$f":"IFERROR(INDEX(Отделения[отделение],SMALL(IF(Отделения[Город]=$AS$1,ROW(Отделения[Город])-1),ROW(AB42)-ROW($A$2)+1)),\"\")","v":""},{"$f":"IFERROR(INDEX(Отделения[отделение],SMALL(IF(Отделения[Город]=$AT$1,ROW(Отделения[Город])-1),ROW(AB42)-ROW($A$2)+1)),\"\")","v":""},{"$f":"IFERROR(INDEX(Отделения[отделение],SMALL(IF(Отделения[Город]=$AU$1,ROW(Отделения[Город])-1),ROW(AB42)-ROW($A$2)+1)),\"\")","v":""},{"$f":"IFERROR(INDEX(Отделения[отделение],SMALL(IF(Отделения[Город]=$AV$1,ROW(Отделения[Город])-1),ROW(AB42)-ROW($A$2)+1)),\"\")","v":""},{"$f":"IFERROR(INDEX(Отделения[отделение],SMALL(IF(Отделения[Город]=$AW$1,ROW(Отделения[Город])-1),ROW(AB42)-ROW($A$2)+1)),\"\")","v":""},{"$f":"IFERROR(INDEX(Отделения[отделение],SMALL(IF(Отделения[Город]=$AX$1,ROW(Отделения[Город])-1),ROW(AB42)-ROW($A$2)+1)),\"\")","v":""},{"$f":"IFERROR(INDEX(Отделения[отделение],SMALL(IF(Отделения[Город]=$AY$1,ROW(Отделения[Город])-1),ROW(AB42)-ROW($A$2)+1)),\"\")","v":""},{"$f":"IFERROR(INDEX(Отделения[отделение],SMALL(IF(Отделения[Город]=$AZ$1,ROW(Отделения[Город])-1),ROW(AB42)-ROW($A$2)+1)),\"\")","v":""},{"$f":"IFERROR(INDEX(Отделения[отделение],SMALL(IF(Отделения[Город]=$BA$1,ROW(Отделения[Город])-1),ROW(AB42)-ROW($A$2)+1)),\"\")","v":""},{"$f":"IFERROR(INDEX(Отделения[отделение],SMALL(IF(Отделения[Город]=$BB$1,ROW(Отделения[Город])-1),ROW(AB42)-ROW($A$2)+1)),\"\")","v":""},{"$f":"IFERROR(INDEX(Отделения[отделение],SMALL(IF(Отделения[Город]=$BC$1,ROW(Отделения[Город])-1),ROW(AC42)-ROW($A$2)+1)),\"\")","v":""},{"$f":"IFERROR(INDEX(Отделения[отделение],SMALL(IF(Отделения[Город]=$BD$1,ROW(Отделения[Город])-1),ROW(AD42)-ROW($A$2)+1)),\"\")","v":""},{"$f":"IFERROR(INDEX(Отделения[отделение],SMALL(IF(Отделения[Город]=$BE$1,ROW(Отделения[Город])-1),ROW(AE42)-ROW($A$2)+1)),\"\")","v":""},{"$f":"IFERROR(INDEX(Отделения[отделение],SMALL(IF(Отделения[Город]=$BF$1,ROW(Отделения[Город])-1),ROW(AF42)-ROW($A$2)+1)),\"\")","v":""},{"$f":"IFERROR(INDEX(Отделения[отделение],SMALL(IF(Отделения[Город]=$BG$1,ROW(Отделения[Город])-1),ROW(AG42)-ROW($A$2)+1)),\"\")","v":""},{"$f":"IFERROR(INDEX(Отделения[отделение],SMALL(IF(Отделения[Город]=$BH$1,ROW(Отделения[Город])-1),ROW(AH42)-ROW($A$2)+1)),\"\")","v":""},{"$f":"IFERROR(INDEX(Отделения[отделение],SMALL(IF(Отделения[Город]=$BI$1,ROW(Отделения[Город])-1),ROW(AI42)-ROW($A$2)+1)),\"\")","v":""},{"$f":"IFERROR(INDEX(Отделения[отделение],SMALL(IF(Отделения[Город]=$BJ$1,ROW(Отделения[Город])-1),ROW(AJ42)-ROW($A$2)+1)),\"\")","v":""},{"$f":"IFERROR(INDEX(Отделения[отделение],SMALL(IF(Отделения[Город]=$BK$1,ROW(Отделения[Город])-1),ROW(AK42)-ROW($A$2)+1)),\"\")","v":""},{"$f":"IFERROR(INDEX(Отделения[отделение],SMALL(IF(Отделения[Город]=$BL$1,ROW(Отделения[Город])-1),ROW(AL42)-ROW($A$2)+1)),\"\")","v":""},{"$f":"IFERROR(INDEX(Отделения[отделение],SMALL(IF(Отделения[Город]=$BM$1,ROW(Отделения[Город])-1),ROW(AM42)-ROW($A$2)+1)),\"\")","v":""},{"$f":"IFERROR(INDEX(Отделения[отделение],SMALL(IF(Отделения[Город]=$BN$1,ROW(Отделения[Город])-1),ROW(AN42)-ROW($A$2)+1)),\"\")","v":""},{"$f":"IFERROR(INDEX(Отделения[отделение],SMALL(IF(Отделения[Город]=$BO$1,ROW(Отделения[Город])-1),ROW(AO42)-ROW($A$2)+1)),\"\")","v":""},{"$f":"IFERROR(INDEX(Отделения[отделение],SMALL(IF(Отделения[Город]=$BP$1,ROW(Отделения[Город])-1),ROW(AP42)-ROW($A$2)+1)),\"\")","v":""},{"$f":"IFERROR(INDEX(Отделения[отделение],SMALL(IF(Отделения[Город]=$BQ$1,ROW(Отделения[Город])-1),ROW(AQ42)-ROW($A$2)+1)),\"\")","v":""},{"$f":"IFERROR(INDEX(Отделения[отделение],SMALL(IF(Отделения[Город]=$BR$1,ROW(Отделения[Город])-1),ROW(AR42)-ROW($A$2)+1)),\"\")","v":""},{"$f":"IFERROR(INDEX(Отделения[отделение],SMALL(IF(Отделения[Город]=$BS$1,ROW(Отделения[Город])-1),ROW(AS42)-ROW($A$2)+1)),\"\")","v":""},{"$f":"IFERROR(INDEX(Отделения[отделение],SMALL(IF(Отделения[Город]=$BT$1,ROW(Отделения[Город])-1),ROW(AT42)-ROW($A$2)+1)),\"\")","v":""},{"$f":"IFERROR(INDEX(Отделения[отделение],SMALL(IF(Отделения[Город]=$BU$1,ROW(Отделения[Город])-1),ROW(AU42)-ROW($A$2)+1)),\"\")","v":""},{"$f":"IFERROR(INDEX(Отделения[отделение],SMALL(IF(Отделения[Город]=$BV$1,ROW(Отделения[Город])-1),ROW(AV42)-ROW($A$2)+1)),\"\")","v":""},{"$f":"IFERROR(INDEX(Отделения[отделение],SMALL(IF(Отделения[Город]=$BW$1,ROW(Отделения[Город])-1),ROW(AV42)-ROW($A$2)+1)),\"\")","v":""},{"$f":"IFERROR(INDEX(Отделения[отделение],SMALL(IF(Отделения[Город]=$BX$1,ROW(Отделения[Город])-1),ROW(AV42)-ROW($A$2)+1)),\"\")","v":""},{"$f":"IFERROR(INDEX(Отделения[отделение],SMALL(IF(Отделения[Город]=$BY$1,ROW(Отделения[Город])-1),ROW(AV42)-ROW($A$2)+1)),\"\")","v":""},{"$f":"IFERROR(INDEX(Отделения[отделение],SMALL(IF(Отделения[Город]=$BZ$1,ROW(Отделения[Город])-1),ROW(AV42)-ROW($A$2)+1)),\"\")","v":""},{"$f":"IFERROR(INDEX(Отделения[отделение],SMALL(IF(Отделения[Город]=$CA$1,ROW(Отделения[Город])-1),ROW(AV42)-ROW($A$2)+1)),\"\")","v":""},{"$f":"IFERROR(INDEX(Отделения[отделение],SMALL(IF(Отделения[Город]=$CB$1,ROW(Отделения[Город])-1),ROW(AV42)-ROW($A$2)+1)),\"\")","v":""},{"$f":"IFERROR(INDEX(Отделения[отделение],SMALL(IF(Отделения[Город]=$CC$1,ROW(Отделения[Город])-1),ROW(AV42)-ROW($A$2)+1)),\"\")","v":""},{"$f":"IFERROR(INDEX(Отделения[отделение],SMALL(IF(Отделения[Город]=$CD$1,ROW(Отделения[Город])-1),ROW(AV42)-ROW($A$2)+1)),\"\")","v":""},{"$f":"IFERROR(INDEX(Отделения[отделение],SMALL(IF(Отделения[Город]=$CE$1,ROW(Отделения[Город])-1),ROW(AV42)-ROW($A$2)+1)),\"\")","v":""},{"$f":"IFERROR(INDEX(Отделения[отделение],SMALL(IF(Отделения[Город]=$CF$1,ROW(Отделения[Город])-1),ROW(AV42)-ROW($A$2)+1)),\"\")","v":""},{"$f":"IFERROR(INDEX(Отделения[отделение],SMALL(IF(Отделения[Город]=$CG$1,ROW(Отделения[Город])-1),ROW(AV42)-ROW($A$2)+1)),\"\")","v":""},{"$f":"IFERROR(INDEX(Отделения[отделение],SMALL(IF(Отделения[Город]=$CH$1,ROW(Отделения[Город])-1),ROW(AW42)-ROW($A$2)+1)),\"\")","v":""},{"$f":"IFERROR(INDEX(Отделения[отделение],SMALL(IF(Отделения[Город]=$CI$1,ROW(Отделения[Город])-1),ROW(AX42)-ROW($A$2)+1)),\"\")","v":""},{"$f":"IFERROR(INDEX(Отделения[отделение],SMALL(IF(Отделения[Город]=$CJ$1,ROW(Отделения[Город])-1),ROW(AY42)-ROW($A$2)+1)),\"\")","v":""},{"$f":"IFERROR(INDEX(Отделения[отделение],SMALL(IF(Отделения[Город]=$CK$1,ROW(Отделения[Город])-1),ROW(AZ42)-ROW($A$2)+1)),\"\")","v":""},{"$f":"IFERROR(INDEX(Отделения[отделение],SMALL(IF(Отделения[Город]=$CL$1,ROW(Отделения[Город])-1),ROW(BA42)-ROW($A$2)+1)),\"\")","v":""},{"$f":"IFERROR(INDEX(Отделения[отделение],SMALL(IF(Отделения[Город]=$CM$1,ROW(Отделения[Город])-1),ROW(BB42)-ROW($A$2)+1)),\"\")","v":""},{"$f":"IFERROR(INDEX(Отделения[отделение],SMALL(IF(Отделения[Город]=$CN$1,ROW(Отделения[Город])-1),ROW(BC42)-ROW($A$2)+1)),\"\")","v":""},{"$f":"IFERROR(INDEX(Отделения[отделение],SMALL(IF(Отделения[Город]=$CO$1,ROW(Отделения[Город])-1),ROW(BD42)-ROW($A$2)+1)),\"\")","v":""},{"$f":"IFERROR(INDEX(Отделения[отделение],SMALL(IF(Отделения[Город]=$CP$1,ROW(Отделения[Город])-1),ROW(BE42)-ROW($A$2)+1)),\"\")","v":""},{"$f":"IFERROR(INDEX(Отделения[отделение],SMALL(IF(Отделения[Город]=$CQ$1,ROW(Отделения[Город])-1),ROW(BF42)-ROW($A$2)+1)),\"\")","v":""},{"$f":"IFERROR(INDEX(Отделения[отделение],SMALL(IF(Отделения[Город]=$CR$1,ROW(Отделения[Город])-1),ROW(BG42)-ROW($A$2)+1)),\"\")","v":""},{"$f":"IFERROR(INDEX(Отделения[отделение],SMALL(IF(Отделения[Город]=$CS$1,ROW(Отделения[Город])-1),ROW(BH42)-ROW($A$2)+1)),\"\")","v":""},{"$f":"IFERROR(INDEX(Отделения[отделение],SMALL(IF(Отделения[Город]=$CT$1,ROW(Отделения[Город])-1),ROW(BI42)-ROW($A$2)+1)),\"\")","v":""},{"$f":"IFERROR(INDEX(Отделения[отделение],SMALL(IF(Отделения[Город]=$CU$1,ROW(Отделения[Город])-1),ROW(BJ42)-ROW($A$2)+1)),\"\")","v":""},{"$f":"IFERROR(INDEX(Отделения[отделение],SMALL(IF(Отделения[Город]=$CV$1,ROW(Отделения[Город])-1),ROW(BK42)-ROW($A$2)+1)),\"\")","v":""},{"$f":"IFERROR(INDEX(Отделения[отделение],SMALL(IF(Отделения[Город]=$CW$1,ROW(Отделения[Город])-1),ROW(BL42)-ROW($A$2)+1)),\"\")","v":""},{"$f":"IFERROR(INDEX(Отделения[отделение],SMALL(IF(Отделения[Город]=$CX$1,ROW(Отделения[Город])-1),ROW(BM42)-ROW($A$2)+1)),\"\")","v":""},{"$f":"IFERROR(INDEX(Отделения[отделение],SMALL(IF(Отделения[Город]=$CY$1,ROW(Отделения[Город])-1),ROW(BM42)-ROW($A$2)+1)),\"\")","v":""},{"$f":"IFERROR(INDEX(Отделения[отделение],SMALL(IF(Отделения[Город]=$CZ$1,ROW(Отделения[Город])-1),ROW(BM42)-ROW($A$2)+1)),\"\")","v":""},{"$f":"IFERROR(INDEX(Отделения[отделение],SMALL(IF(Отделения[Город]=$DA$1,ROW(Отделения[Город])-1),ROW(BM42)-ROW($A$2)+1)),\"\")","v":""},{"$f":"IFERROR(INDEX(Отделения[отделение],SMALL(IF(Отделения[Город]=$DB$1,ROW(Отделения[Город])-1),ROW(BM42)-ROW($A$2)+1)),\"\")","v":""}]
["Москва","ДО \"МИТИНО\" , 125430, г. Москва, ул. Митинская, д. 36, корп. 1","0605","MOMT",null,null,{"$f":"IFERROR(INDEX(Отделения[отделение],SMALL(IF(Отделения[Город]=$G$1,ROW(Отделения[Город])-1),ROW(A43)-ROW($A$2)+1)),\"\")","v":""},{"$f":"IFERROR(INDEX(Отделения[отделение],SMALL(IF(Отделения[Город]=$H$1,ROW(Отделения[Город])-1),ROW(A43)-ROW($A$2)+1)),\"\")","v":""},{"$f":"IFERROR(INDEX(Отделения[отделение],SMALL(IF(Отделения[Город]=$I$1,ROW(Отделения[Город])-1),ROW(A43)-ROW($A$2)+1)),\"\")","v":""},{"$f":"IFERROR(INDEX(Отделения[отделение],SMALL(IF(Отделения[Город]=$J$1,ROW(Отделения[Город])-1),ROW(A43)-ROW($A$2)+1)),\"\")","v":""},{"$f":"IFERROR(INDEX(Отделения[отделение],SMALL(IF(Отделения[Город]=$K$1,ROW(Отделения[Город])-1),ROW(A43)-ROW($A$2)+1)),\"\")","v":""},{"$f":"IFERROR(INDEX(Отделения[отделение],SMALL(IF(Отделения[Город]=$L$1,ROW(Отделения[Город])-1),ROW(A43)-ROW($A$2)+1)),\"\")","v":""},{"$f":"IFERROR(INDEX(Отделения[отделение],SMALL(IF(Отделения[Город]=$M$1,ROW(Отделения[Город])-1),ROW(B43)-ROW($A$2)+1)),\"\")","v":""},{"$f":"IFERROR(INDEX(Отделения[отделение],SMALL(IF(Отделения[Город]=$N$1,ROW(Отделения[Город])-1),ROW(#REF!)-ROW($A$2)+1)),\"\")","v":""},{"$f":"IFERROR(INDEX(Отделения[отделение],SMALL(IF(Отделения[Город]=$O$1,ROW(Отделения[Город])-1),ROW(C43)-ROW($A$2)+1)),\"\")","v":""},{"$f":"IFERROR(INDEX(Отделения[отделение],SMALL(IF(Отделения[Город]=$P$1,ROW(Отделения[Город])-1),ROW(D43)-ROW($A$2)+1)),\"\")","v":""},{"$f":"IFERROR(INDEX(Отделения[отделение],SMALL(IF(Отделения[Город]=$Q$1,ROW(Отделения[Город])-1),ROW(F43)-ROW($A$2)+1)),\"\")","v":""},{"$f":"IFERROR(INDEX(Отделения[отделение],SMALL(IF(Отделения[Город]=$R$1,ROW(Отделения[Город])-1),ROW(#REF!)-ROW($A$2)+1)),\"\")","v":""},{"$f":"IFERROR(INDEX(Отделения[отделение],SMALL(IF(Отделения[Город]=$S$1,ROW(Отделения[Город])-1),ROW(G43)-ROW($A$2)+1)),\"\")","v":""},{"$f":"IFERROR(INDEX(Отделения[отделение],SMALL(IF(Отделения[Город]=$T$1,ROW(Отделения[Город])-1),ROW(H43)-ROW($A$2)+1)),\"\")","v":""},{"$f":"IFERROR(INDEX(Отделения[отделение],SMALL(IF(Отделения[Город]=$U$1,ROW(Отделения[Город])-1),ROW(I43)-ROW($A$2)+1)),\"\")","v":""},{"$f":"IFERROR(INDEX(Отделения[отделение],SMALL(IF(Отделения[Город]=$V$1,ROW(Отделения[Город])-1),ROW(J43)-ROW($A$2)+1)),\"\")","v":""},{"$f":"IFERROR(INDEX(Отделения[отделение],SMALL(IF(Отделения[Город]=$W$1,ROW(Отделения[Город])-1),ROW(K43)-ROW($A$2)+1)),\"\")","v":""},{"$f":"IFERROR(INDEX(Отделения[отделение],SMALL(IF(Отделения[Город]=$X$1,ROW(Отделения[Город])-1),ROW(L43)-ROW($A$2)+1)),\"\")","v":""},{"$f":"IFERROR(INDEX(Отделения[отделение],SMALL(IF(Отделения[Город]=$Y$1,ROW(Отделения[Город])-1),ROW(M43)-ROW($A$2)+1)),\"\")","v":""},{"$f":"IFERROR(INDEX(Отделения[отделение],SMALL(IF(Отделения[Город]=$Z$1,ROW(Отделения[Город])-1),ROW(N43)-ROW($A$2)+1)),\"\")","v":""},{"$f":"IFERROR(INDEX(Отделения[отделение],SMALL(IF(Отделения[Город]=$AA$1,ROW(Отделения[Город])-1),ROW(O43)-ROW($A$2)+1)),\"\")","v":""},{"$f":"IFERROR(INDEX(Отделения[отделение],SMALL(IF(Отделения[Город]=$AB$1,ROW(Отделения[Город])-1),ROW(P43)-ROW($A$2)+1)),\"\")","v":""},{"$f":"IFERROR(INDEX(Отделения[отделение],SMALL(IF(Отделения[Город]=$AC$1,ROW(Отделения[Город])-1),ROW(Q43)-ROW($A$2)+1)),\"\")","v":""},{"$f":"IFERROR(INDEX(Отделения[отделение],SMALL(IF(Отделения[Город]=$AD$1,ROW(Отделения[Город])-1),ROW(R43)-ROW($A$2)+1)),\"\")","v":""},{"$f":"IFERROR(INDEX(Отделения[отделение],SMALL(IF(Отделения[Город]=$AE$1,ROW(Отделения[Город])-1),ROW(S43)-ROW($A$2)+1)),\"\")","v":""},{"$f":"IFERROR(INDEX(Отделения[отделение],SMALL(IF(Отделения[Город]=$AF$1,ROW(Отделения[Город])-1),ROW(T43)-ROW($A$2)+1)),\"\")","v":""},{"$f":"IFERROR(INDEX(Отделения[отделение],SMALL(IF(Отделения[Город]=$AG$1,ROW(Отделения[Город])-1),ROW(U43)-ROW($A$2)+1)),\"\")","v":""},{"$f":"IFERROR(INDEX(Отделения[отделение],SMALL(IF(Отделения[Город]=$AH$1,ROW(Отделения[Город])-1),ROW(V43)-ROW($A$2)+1)),\"\")","v":""},{"$f":"IFERROR(INDEX(Отделения[отделение],SMALL(IF(Отделения[Город]=$AI$1,ROW(Отделения[Город])-1),ROW(AB43)-ROW($A$2)+1)),\"\")","v":""},{"$f":"IFERROR(INDEX(Отделения[отделение],SMALL(IF(Отделения[Город]=$AJ$1,ROW(Отделения[Город])-1),ROW(AB43)-ROW($A$2)+1)),\"\")","v":""},{"$f":"IFERROR(INDEX(Отделения[отделение],SMALL(IF(Отделения[Город]=$AK$1,ROW(Отделения[Город])-1),ROW(AB43)-ROW($A$2)+1)),\"\")","v":""},{"$f":"IFERROR(INDEX(Отделения[отделение],SMALL(IF(Отделения[Город]=$AL$1,ROW(Отделения[Город])-1),ROW(AB43)-ROW($A$2)+1)),\"\")","v":""},{"$f":"IFERROR(INDEX(Отделения[отделение],SMALL(IF(Отделения[Город]=$AM$1,ROW(Отделения[Город])-1),ROW(AB43)-ROW($A$2)+1)),\"\")","v":""},{"$f":"IFERROR(INDEX(Отделения[отделение],SMALL(IF(Отделения[Город]=$AN$1,ROW(Отделения[Город])-1),ROW(AB43)-ROW($A$2)+1)),\"\")","v":""},{"$f":"IFERROR(INDEX(Отделения[отделение],SMALL(IF(Отделения[Город]=$AO$1,ROW(Отделения[Город])-1),ROW(AB43)-ROW($A$2)+1)),\"\")","v":""},{"$f":"IFERROR(INDEX(Отделения[отделение],SMALL(IF(Отделения[Город]=$AP$1,ROW(Отделения[Город])-1),ROW(AB43)-ROW($A$2)+1)),\"\")","v":""},{"$f":"IFERROR(INDEX(Отделения[отделение],SMALL(IF(Отделения[Город]=$AQ$1,ROW(Отделения[Город])-1),ROW(AB43)-ROW($A$2)+1)),\"\")","v":""},{"$f":"IFERROR(INDEX(Отделения[отделение],SMALL(IF(Отделения[Город]=$AR$1,ROW(Отделения[Город])-1),ROW(AB43)-ROW($A$2)+1)),\"\")","v":""},{"$f":"IFERROR(INDEX(Отделения[отделение],SMALL(IF(Отделения[Город]=$AS$1,ROW(Отделения[Город])-1),ROW(AB43)-ROW($A$2)+1)),\"\")","v":""},{"$f":"IFERROR(INDEX(Отделения[отделение],SMALL(IF(Отделения[Город]=$AT$1,ROW(Отделения[Город])-1),ROW(AB43)-ROW($A$2)+1)),\"\")","v":""},{"$f":"IFERROR(INDEX(Отделения[отделение],SMALL(IF(Отделения[Город]=$AU$1,ROW(Отделения[Город])-1),ROW(AB43)-ROW($A$2)+1)),\"\")","v":""},{"$f":"IFERROR(INDEX(Отделения[отделение],SMALL(IF(Отделения[Город]=$AV$1,ROW(Отделения[Город])-1),ROW(AB43)-ROW($A$2)+1)),\"\")","v":""},{"$f":"IFERROR(INDEX(Отделения[отделение],SMALL(IF(Отделения[Город]=$AW$1,ROW(Отделения[Город])-1),ROW(AB43)-ROW($A$2)+1)),\"\")","v":""},{"$f":"IFERROR(INDEX(Отделения[отделение],SMALL(IF(Отделения[Город]=$AX$1,ROW(Отделения[Город])-1),ROW(AB43)-ROW($A$2)+1)),\"\")","v":""},{"$f":"IFERROR(INDEX(Отделения[отделение],SMALL(IF(Отделения[Город]=$AY$1,ROW(Отделения[Город])-1),ROW(AB43)-ROW($A$2)+1)),\"\")","v":""},{"$f":"IFERROR(INDEX(Отделения[отделение],SMALL(IF(Отделения[Город]=$AZ$1,ROW(Отделения[Город])-1),ROW(AB43)-ROW($A$2)+1)),\"\")","v":""},{"$f":"IFERROR(INDEX(Отделения[отделение],SMALL(IF(Отделения[Город]=$BA$1,ROW(Отделения[Город])-1),ROW(AB43)-ROW($A$2)+1)),\"\")","v":""},{"$f":"IFERROR(INDEX(Отделения[отделение],SMALL(IF(Отделения[Город]=$BB$1,ROW(Отделения[Город])-1),ROW(AB43)-ROW($A$2)+1)),\"\")","v":""},{"$f":"IFERROR(INDEX(Отделения[отделение],SMALL(IF(Отделения[Город]=$BC$1,ROW(Отделения[Город])-1),ROW(AC43)-ROW($A$2)+1)),\"\")","v":""},{"$f":"IFERROR(INDEX(Отделения[отделение],SMALL(IF(Отделения[Город]=$BD$1,ROW(Отделения[Город])-1),ROW(AD43)-ROW($A$2)+1)),\"\")","v":""},{"$f":"IFERROR(INDEX(Отделения[отделение],SMALL(IF(Отделения[Город]=$BE$1,ROW(Отделения[Город])-1),ROW(AE43)-ROW($A$2)+1)),\"\")","v":""},{"$f":"IFERROR(INDEX(Отделения[отделение],SMALL(IF(Отделения[Город]=$BF$1,ROW(Отделения[Город])-1),ROW(AF43)-ROW($A$2)+1)),\"\")","v":""},{"$f":"IFERROR(INDEX(Отделения[отделение],SMALL(IF(Отделения[Город]=$BG$1,ROW(Отделения[Город])-1),ROW(AG43)-ROW($A$2)+1)),\"\")","v":""},{"$f":"IFERROR(INDEX(Отделения[отделение],SMALL(IF(Отделения[Город]=$BH$1,ROW(Отделения[Город])-1),ROW(AH43)-ROW($A$2)+1)),\"\")","v":""},{"$f":"IFERROR(INDEX(Отделения[отделение],SMALL(IF(Отделения[Город]=$BI$1,ROW(Отделения[Город])-1),ROW(AI43)-ROW($A$2)+1)),\"\")","v":""},{"$f":"IFERROR(INDEX(Отделения[отделение],SMALL(IF(Отделения[Город]=$BJ$1,ROW(Отделения[Город])-1),ROW(AJ43)-ROW($A$2)+1)),\"\")","v":""},{"$f":"IFERROR(INDEX(Отделения[отделение],SMALL(IF(Отделения[Город]=$BK$1,ROW(Отделения[Город])-1),ROW(AK43)-ROW($A$2)+1)),\"\")","v":""},{"$f":"IFERROR(INDEX(Отделения[отделение],SMALL(IF(Отделения[Город]=$BL$1,ROW(Отделения[Город])-1),ROW(AL43)-ROW($A$2)+1)),\"\")","v":""},{"$f":"IFERROR(INDEX(Отделения[отделение],SMALL(IF(Отделения[Город]=$BM$1,ROW(Отделения[Город])-1),ROW(AM43)-ROW($A$2)+1)),\"\")","v":""},{"$f":"IFERROR(INDEX(Отделения[отделение],SMALL(IF(Отделения[Город]=$BN$1,ROW(Отделения[Город])-1),ROW(AN43)-ROW($A$2)+1)),\"\")","v":""},{"$f":"IFERROR(INDEX(Отделения[отделение],SMALL(IF(Отделения[Город]=$BO$1,ROW(Отделения[Город])-1),ROW(AO43)-ROW($A$2)+1)),\"\")","v":""},{"$f":"IFERROR(INDEX(Отделения[отделение],SMALL(IF(Отделения[Город]=$BP$1,ROW(Отделения[Город])-1),ROW(AP43)-ROW($A$2)+1)),\"\")","v":""},{"$f":"IFERROR(INDEX(Отделения[отделение],SMALL(IF(Отделения[Город]=$BQ$1,ROW(Отделения[Город])-1),ROW(AQ43)-ROW($A$2)+1)),\"\")","v":""},{"$f":"IFERROR(INDEX(Отделения[отделение],SMALL(IF(Отделения[Город]=$BR$1,ROW(Отделения[Город])-1),ROW(AR43)-ROW($A$2)+1)),\"\")","v":""},{"$f":"IFERROR(INDEX(Отделения[отделение],SMALL(IF(Отделения[Город]=$BS$1,ROW(Отделения[Город])-1),ROW(AS43)-ROW($A$2)+1)),\"\")","v":""},{"$f":"IFERROR(INDEX(Отделения[отделение],SMALL(IF(Отделения[Город]=$BT$1,ROW(Отделения[Город])-1),ROW(AT43)-ROW($A$2)+1)),\"\")","v":""},{"$f":"IFERROR(INDEX(Отделения[отделение],SMALL(IF(Отделения[Город]=$BU$1,ROW(Отделения[Город])-1),ROW(AU43)-ROW($A$2)+1)),\"\")","v":""},{"$f":"IFERROR(INDEX(Отделения[отделение],SMALL(IF(Отделения[Город]=$BV$1,ROW(Отделения[Город])-1),ROW(AV43)-ROW($A$2)+1)),\"\")","v":""},{"$f":"IFERROR(INDEX(Отделения[отделение],SMALL(IF(Отделения[Город]=$BW$1,ROW(Отделения[Город])-1),ROW(AV43)-ROW($A$2)+1)),\"\")","v":""},{"$f":"IFERROR(INDEX(Отделения[отделение],SMALL(IF(Отделения[Город]=$BX$1,ROW(Отделения[Город])-1),ROW(AV43)-ROW($A$2)+1)),\"\")","v":""},{"$f":"IFERROR(INDEX(Отделения[отделение],SMALL(IF(Отделения[Город]=$BY$1,ROW(Отделения[Город])-1),ROW(AV43)-ROW($A$2)+1)),\"\")","v":""},{"$f":"IFERROR(INDEX(Отделения[отделение],SMALL(IF(Отделения[Город]=$BZ$1,ROW(Отделения[Город])-1),ROW(AV43)-ROW($A$2)+1)),\"\")","v":""},{"$f":"IFERROR(INDEX(Отделения[отделение],SMALL(IF(Отделения[Город]=$CA$1,ROW(Отделения[Город])-1),ROW(AV43)-ROW($A$2)+1)),\"\")","v":""},{"$f":"IFERROR(INDEX(Отделения[отделение],SMALL(IF(Отделения[Город]=$CB$1,ROW(Отделения[Город])-1),ROW(AV43)-ROW($A$2)+1)),\"\")","v":""},{"$f":"IFERROR(INDEX(Отделения[отделение],SMALL(IF(Отделения[Город]=$CC$1,ROW(Отделения[Город])-1),ROW(AV43)-ROW($A$2)+1)),\"\")","v":""},{"$f":"IFERROR(INDEX(Отделения[отделение],SMALL(IF(Отделения[Город]=$CD$1,ROW(Отделения[Город])-1),ROW(AV43)-ROW($A$2)+1)),\"\")","v":""},{"$f":"IFERROR(INDEX(Отделения[отделение],SMALL(IF(Отделения[Город]=$CE$1,ROW(Отделения[Город])-1),ROW(AV43)-ROW($A$2)+1)),\"\")","v":""},{"$f":"IFERROR(INDEX(Отделения[отделение],SMALL(IF(Отделения[Город]=$CF$1,ROW(Отделения[Город])-1),ROW(AV43)-ROW($A$2)+1)),\"\")","v":""},{"$f":"IFERROR(INDEX(Отделения[отделение],SMALL(IF(Отделения[Город]=$CG$1,ROW(Отделения[Город])-1),ROW(AV43)-ROW($A$2)+1)),\"\")","v":""},{"$f":"IFERROR(INDEX(Отделения[отделение],SMALL(IF(Отделения[Город]=$CH$1,ROW(Отделения[Город])-1),ROW(AW43)-ROW($A$2)+1)),\"\")","v":""},{"$f":"IFERROR(INDEX(Отделения[отделение],SMALL(IF(Отделения[Город]=$CI$1,ROW(Отделения[Город])-1),ROW(AX43)-ROW($A$2)+1)),\"\")","v":""},{"$f":"IFERROR(INDEX(Отделения[отделение],SMALL(IF(Отделения[Город]=$CJ$1,ROW(Отделения[Город])-1),ROW(AY43)-ROW($A$2)+1)),\"\")","v":""},{"$f":"IFERROR(INDEX(Отделения[отделение],SMALL(IF(Отделения[Город]=$CK$1,ROW(Отделения[Город])-1),ROW(AZ43)-ROW($A$2)+1)),\"\")","v":""},{"$f":"IFERROR(INDEX(Отделения[отделение],SMALL(IF(Отделения[Город]=$CL$1,ROW(Отделения[Город])-1),ROW(BA43)-ROW($A$2)+1)),\"\")","v":""},{"$f":"IFERROR(INDEX(Отделения[отделение],SMALL(IF(Отделения[Город]=$CM$1,ROW(Отделения[Город])-1),ROW(BB43)-ROW($A$2)+1)),\"\")","v":""},{"$f":"IFERROR(INDEX(Отделения[отделение],SMALL(IF(Отделения[Город]=$CN$1,ROW(Отделения[Город])-1),ROW(BC43)-ROW($A$2)+1)),\"\")","v":""},{"$f":"IFERROR(INDEX(Отделения[отделение],SMALL(IF(Отделения[Город]=$CO$1,ROW(Отделения[Город])-1),ROW(BD43)-ROW($A$2)+1)),\"\")","v":""},{"$f":"IFERROR(INDEX(Отделения[отделение],SMALL(IF(Отделения[Город]=$CP$1,ROW(Отделения[Город])-1),ROW(BE43)-ROW($A$2)+1)),\"\")","v":""},{"$f":"IFERROR(INDEX(Отделения[отделение],SMALL(IF(Отделения[Город]=$CQ$1,ROW(Отделения[Город])-1),ROW(BF43)-ROW($A$2)+1)),\"\")","v":""},{"$f":"IFERROR(INDEX(Отделения[отделение],SMALL(IF(Отделения[Город]=$CR$1,ROW(Отделения[Город])-1),ROW(BG43)-ROW($A$2)+1)),\"\")","v":""},{"$f":"IFERROR(INDEX(Отделения[отделение],SMALL(IF(Отделения[Город]=$CS$1,ROW(Отделения[Город])-1),ROW(BH43)-ROW($A$2)+1)),\"\")","v":""},{"$f":"IFERROR(INDEX(Отделения[отделение],SMALL(IF(Отделения[Город]=$CT$1,ROW(Отделения[Город])-1),ROW(BI43)-ROW($A$2)+1)),\"\")","v":""},{"$f":"IFERROR(INDEX(Отделения[отделение],SMALL(IF(Отделения[Город]=$CU$1,ROW(Отделения[Город])-1),ROW(BJ43)-ROW($A$2)+1)),\"\")","v":""},{"$f":"IFERROR(INDEX(Отделения[отделение],SMALL(IF(Отделения[Город]=$CV$1,ROW(Отделения[Город])-1),ROW(BK43)-ROW($A$2)+1)),\"\")","v":""},{"$f":"IFERROR(INDEX(Отделения[отделение],SMALL(IF(Отделения[Город]=$CW$1,ROW(Отделения[Город])-1),ROW(BL43)-ROW($A$2)+1)),\"\")","v":""},{"$f":"IFERROR(INDEX(Отделения[отделение],SMALL(IF(Отделения[Город]=$CX$1,ROW(Отделения[Город])-1),ROW(BM43)-ROW($A$2)+1)),\"\")","v":""},{"$f":"IFERROR(INDEX(Отделения[отделение],SMALL(IF(Отделения[Город]=$CY$1,ROW(Отделения[Город])-1),ROW(BM43)-ROW($A$2)+1)),\"\")","v":""},{"$f":"IFERROR(INDEX(Отделения[отделение],SMALL(IF(Отделения[Город]=$CZ$1,ROW(Отделения[Город])-1),ROW(BM43)-ROW($A$2)+1)),\"\")","v":""},{"$f":"IFERROR(INDEX(Отделения[отделение],SMALL(IF(Отделения[Город]=$DA$1,ROW(Отделения[Город])-1),ROW(BM43)-ROW($A$2)+1)),\"\")","v":""},{"$f":"IFERROR(INDEX(Отделения[отделение],SMALL(IF(Отделения[Город]=$DB$1,ROW(Отделения[Город])-1),ROW(BM43)-ROW($A$2)+1)),\"\")","v":""}]
["Химки","ДО \"ХИМКИ\" , 141501, Московская обл, г. Химки,пр-кт Мельникова, д.2Б","0608","MOHI",null,null,{"$f":"IFERROR(INDEX(Отделения[отделение],SMALL(IF(Отделения[Город]=$G$1,ROW(Отделения[Город])-1),ROW(A44)-ROW($A$2)+1)),\"\")","v":""},{"$f":"IFERROR(INDEX(Отделения[отделение],SMALL(IF(Отделения[Город]=$H$1,ROW(Отделения[Город])-1),ROW(A44)-ROW($A$2)+1)),\"\")","v":""},{"$f":"IFERROR(INDEX(Отделения[отделение],SMALL(IF(Отделения[Город]=$I$1,ROW(Отделения[Город])-1),ROW(A44)-ROW($A$2)+1)),\"\")","v":""},{"$f":"IFERROR(INDEX(Отделения[отделение],SMALL(IF(Отделения[Город]=$J$1,ROW(Отделения[Город])-1),ROW(A44)-ROW($A$2)+1)),\"\")","v":""},{"$f":"IFERROR(INDEX(Отделения[отделение],SMALL(IF(Отделения[Город]=$K$1,ROW(Отделения[Город])-1),ROW(A44)-ROW($A$2)+1)),\"\")","v":""},{"$f":"IFERROR(INDEX(Отделения[отделение],SMALL(IF(Отделения[Город]=$L$1,ROW(Отделения[Город])-1),ROW(A44)-ROW($A$2)+1)),\"\")","v":""},{"$f":"IFERROR(INDEX(Отделения[отделение],SMALL(IF(Отделения[Город]=$M$1,ROW(Отделения[Город])-1),ROW(B44)-ROW($A$2)+1)),\"\")","v":""},{"$f":"IFERROR(INDEX(Отделения[отделение],SMALL(IF(Отделения[Город]=$N$1,ROW(Отделения[Город])-1),ROW(#REF!)-ROW($A$2)+1)),\"\")","v":""},{"$f":"IFERROR(INDEX(Отделения[отделение],SMALL(IF(Отделения[Город]=$O$1,ROW(Отделения[Город])-1),ROW(C44)-ROW($A$2)+1)),\"\")","v":""},{"$f":"IFERROR(INDEX(Отделения[отделение],SMALL(IF(Отделения[Город]=$P$1,ROW(Отделения[Город])-1),ROW(D44)-ROW($A$2)+1)),\"\")","v":""},{"$f":"IFERROR(INDEX(Отделения[отделение],SMALL(IF(Отделения[Город]=$Q$1,ROW(Отделения[Город])-1),ROW(F44)-ROW($A$2)+1)),\"\")","v":""},{"$f":"IFERROR(INDEX(Отделения[отделение],SMALL(IF(Отделения[Город]=$R$1,ROW(Отделения[Город])-1),ROW(#REF!)-ROW($A$2)+1)),\"\")","v":""},{"$f":"IFERROR(INDEX(Отделения[отделение],SMALL(IF(Отделения[Город]=$S$1,ROW(Отделения[Город])-1),ROW(G44)-ROW($A$2)+1)),\"\")","v":""},{"$f":"IFERROR(INDEX(Отделения[отделение],SMALL(IF(Отделения[Город]=$T$1,ROW(Отделения[Город])-1),ROW(H44)-ROW($A$2)+1)),\"\")","v":""},{"$f":"IFERROR(INDEX(Отделения[отделение],SMALL(IF(Отделения[Город]=$U$1,ROW(Отделения[Город])-1),ROW(I44)-ROW($A$2)+1)),\"\")","v":""},{"$f":"IFERROR(INDEX(Отделения[отделение],SMALL(IF(Отделения[Город]=$V$1,ROW(Отделения[Город])-1),ROW(J44)-ROW($A$2)+1)),\"\")","v":""},{"$f":"IFERROR(INDEX(Отделения[отделение],SMALL(IF(Отделения[Город]=$W$1,ROW(Отделения[Город])-1),ROW(K44)-ROW($A$2)+1)),\"\")","v":""},{"$f":"IFERROR(INDEX(Отделения[отделение],SMALL(IF(Отделения[Город]=$X$1,ROW(Отделения[Город])-1),ROW(L44)-ROW($A$2)+1)),\"\")","v":""},{"$f":"IFERROR(INDEX(Отделения[отделение],SMALL(IF(Отделения[Город]=$Y$1,ROW(Отделения[Город])-1),ROW(M44)-ROW($A$2)+1)),\"\")","v":""},{"$f":"IFERROR(INDEX(Отделения[отделение],SMALL(IF(Отделения[Город]=$Z$1,ROW(Отделения[Город])-1),ROW(N44)-ROW($A$2)+1)),\"\")","v":""},{"$f":"IFERROR(INDEX(Отделения[отделение],SMALL(IF(Отделения[Город]=$AA$1,ROW(Отделения[Город])-1),ROW(O44)-ROW($A$2)+1)),\"\")","v":""},{"$f":"IFERROR(INDEX(Отделения[отделение],SMALL(IF(Отделения[Город]=$AB$1,ROW(Отделения[Город])-1),ROW(P44)-ROW($A$2)+1)),\"\")","v":""},{"$f":"IFERROR(INDEX(Отделения[отделение],SMALL(IF(Отделения[Город]=$AC$1,ROW(Отделения[Город])-1),ROW(Q44)-ROW($A$2)+1)),\"\")","v":""},{"$f":"IFERROR(INDEX(Отделения[отделение],SMALL(IF(Отделения[Город]=$AD$1,ROW(Отделения[Город])-1),ROW(R44)-ROW($A$2)+1)),\"\")","v":""},{"$f":"IFERROR(INDEX(Отделения[отделение],SMALL(IF(Отделения[Город]=$AE$1,ROW(Отделения[Город])-1),ROW(S44)-ROW($A$2)+1)),\"\")","v":""},{"$f":"IFERROR(INDEX(Отделения[отделение],SMALL(IF(Отделения[Город]=$AF$1,ROW(Отделения[Город])-1),ROW(T44)-ROW($A$2)+1)),\"\")","v":""},{"$f":"IFERROR(INDEX(Отделения[отделение],SMALL(IF(Отделения[Город]=$AG$1,ROW(Отделения[Город])-1),ROW(U44)-ROW($A$2)+1)),\"\")","v":""},{"$f":"IFERROR(INDEX(Отделения[отделение],SMALL(IF(Отделения[Город]=$AH$1,ROW(Отделения[Город])-1),ROW(V44)-ROW($A$2)+1)),\"\")","v":""},{"$f":"IFERROR(INDEX(Отделения[отделение],SMALL(IF(Отделения[Город]=$AI$1,ROW(Отделения[Город])-1),ROW(AB44)-ROW($A$2)+1)),\"\")","v":""},{"$f":"IFERROR(INDEX(Отделения[отделение],SMALL(IF(Отделения[Город]=$AJ$1,ROW(Отделения[Город])-1),ROW(AB44)-ROW($A$2)+1)),\"\")","v":""},{"$f":"IFERROR(INDEX(Отделения[отделение],SMALL(IF(Отделения[Город]=$AK$1,ROW(Отделения[Город])-1),ROW(AB44)-ROW($A$2)+1)),\"\")","v":""},{"$f":"IFERROR(INDEX(Отделения[отделение],SMALL(IF(Отделения[Город]=$AL$1,ROW(Отделения[Город])-1),ROW(AB44)-ROW($A$2)+1)),\"\")","v":""},{"$f":"IFERROR(INDEX(Отделения[отделение],SMALL(IF(Отделения[Город]=$AM$1,ROW(Отделения[Город])-1),ROW(AB44)-ROW($A$2)+1)),\"\")","v":""},{"$f":"IFERROR(INDEX(Отделения[отделение],SMALL(IF(Отделения[Город]=$AN$1,ROW(Отделения[Город])-1),ROW(AB44)-ROW($A$2)+1)),\"\")","v":""},{"$f":"IFERROR(INDEX(Отделения[отделение],SMALL(IF(Отделения[Город]=$AO$1,ROW(Отделения[Город])-1),ROW(AB44)-ROW($A$2)+1)),\"\")","v":""},{"$f":"IFERROR(INDEX(Отделения[отделение],SMALL(IF(Отделения[Город]=$AP$1,ROW(Отделения[Город])-1),ROW(AB44)-ROW($A$2)+1)),\"\")","v":""},{"$f":"IFERROR(INDEX(Отделения[отделение],SMALL(IF(Отделения[Город]=$AQ$1,ROW(Отделения[Город])-1),ROW(AB44)-ROW($A$2)+1)),\"\")","v":""},{"$f":"IFERROR(INDEX(Отделения[отделение],SMALL(IF(Отделения[Город]=$AR$1,ROW(Отделения[Город])-1),ROW(AB44)-ROW($A$2)+1)),\"\")","v":""},{"$f":"IFERROR(INDEX(Отделения[отделение],SMALL(IF(Отделения[Город]=$AS$1,ROW(Отделения[Город])-1),ROW(AB44)-ROW($A$2)+1)),\"\")","v":""},{"$f":"IFERROR(INDEX(Отделения[отделение],SMALL(IF(Отделения[Город]=$AT$1,ROW(Отделения[Город])-1),ROW(AB44)-ROW($A$2)+1)),\"\")","v":""},{"$f":"IFERROR(INDEX(Отделения[отделение],SMALL(IF(Отделения[Город]=$AU$1,ROW(Отделения[Город])-1),ROW(AB44)-ROW($A$2)+1)),\"\")","v":""},{"$f":"IFERROR(INDEX(Отделения[отделение],SMALL(IF(Отделения[Город]=$AV$1,ROW(Отделения[Город])-1),ROW(AB44)-ROW($A$2)+1)),\"\")","v":""},{"$f":"IFERROR(INDEX(Отделения[отделение],SMALL(IF(Отделения[Город]=$AW$1,ROW(Отделения[Город])-1),ROW(AB44)-ROW($A$2)+1)),\"\")","v":""},{"$f":"IFERROR(INDEX(Отделения[отделение],SMALL(IF(Отделения[Город]=$AX$1,ROW(Отделения[Город])-1),ROW(AB44)-ROW($A$2)+1)),\"\")","v":""},{"$f":"IFERROR(INDEX(Отделения[отделение],SMALL(IF(Отделения[Город]=$AY$1,ROW(Отделения[Город])-1),ROW(AB44)-ROW($A$2)+1)),\"\")","v":""},{"$f":"IFERROR(INDEX(Отделения[отделение],SMALL(IF(Отделения[Город]=$AZ$1,ROW(Отделения[Город])-1),ROW(AB44)-ROW($A$2)+1)),\"\")","v":""},{"$f":"IFERROR(INDEX(Отделения[отделение],SMALL(IF(Отделения[Город]=$BA$1,ROW(Отделения[Город])-1),ROW(AB44)-ROW($A$2)+1)),\"\")","v":""},{"$f":"IFERROR(INDEX(Отделения[отделение],SMALL(IF(Отделения[Город]=$BB$1,ROW(Отделения[Город])-1),ROW(AB44)-ROW($A$2)+1)),\"\")","v":""},{"$f":"IFERROR(INDEX(Отделения[отделение],SMALL(IF(Отделения[Город]=$BC$1,ROW(Отделения[Город])-1),ROW(AC44)-ROW($A$2)+1)),\"\")","v":""},{"$f":"IFERROR(INDEX(Отделения[отделение],SMALL(IF(Отделения[Город]=$BD$1,ROW(Отделения[Город])-1),ROW(AD44)-ROW($A$2)+1)),\"\")","v":""},{"$f":"IFERROR(INDEX(Отделения[отделение],SMALL(IF(Отделения[Город]=$BE$1,ROW(Отделения[Город])-1),ROW(AE44)-ROW($A$2)+1)),\"\")","v":""},{"$f":"IFERROR(INDEX(Отделения[отделение],SMALL(IF(Отделения[Город]=$BF$1,ROW(Отделения[Город])-1),ROW(AF44)-ROW($A$2)+1)),\"\")","v":""},{"$f":"IFERROR(INDEX(Отделения[отделение],SMALL(IF(Отделения[Город]=$BG$1,ROW(Отделения[Город])-1),ROW(AG44)-ROW($A$2)+1)),\"\")","v":""},{"$f":"IFERROR(INDEX(Отделения[отделение],SMALL(IF(Отделения[Город]=$BH$1,ROW(Отделения[Город])-1),ROW(AH44)-ROW($A$2)+1)),\"\")","v":""},{"$f":"IFERROR(INDEX(Отделения[отделение],SMALL(IF(Отделения[Город]=$BI$1,ROW(Отделения[Город])-1),ROW(AI44)-ROW($A$2)+1)),\"\")","v":""},{"$f":"IFERROR(INDEX(Отделения[отделение],SMALL(IF(Отделения[Город]=$BJ$1,ROW(Отделения[Город])-1),ROW(AJ44)-ROW($A$2)+1)),\"\")","v":""},{"$f":"IFERROR(INDEX(Отделения[отделение],SMALL(IF(Отделения[Город]=$BK$1,ROW(Отделения[Город])-1),ROW(AK44)-ROW($A$2)+1)),\"\")","v":""},{"$f":"IFERROR(INDEX(Отделения[отделение],SMALL(IF(Отделения[Город]=$BL$1,ROW(Отделения[Город])-1),ROW(AL44)-ROW($A$2)+1)),\"\")","v":""},{"$f":"IFERROR(INDEX(Отделения[отделение],SMALL(IF(Отделения[Город]=$BM$1,ROW(Отделения[Город])-1),ROW(AM44)-ROW($A$2)+1)),\"\")","v":""},{"$f":"IFERROR(INDEX(Отделения[отделение],SMALL(IF(Отделения[Город]=$BN$1,ROW(Отделения[Город])-1),ROW(AN44)-ROW($A$2)+1)),\"\")","v":""},{"$f":"IFERROR(INDEX(Отделения[отделение],SMALL(IF(Отделения[Город]=$BO$1,ROW(Отделения[Город])-1),ROW(AO44)-ROW($A$2)+1)),\"\")","v":""},{"$f":"IFERROR(INDEX(Отделения[отделение],SMALL(IF(Отделения[Город]=$BP$1,ROW(Отделения[Город])-1),ROW(AP44)-ROW($A$2)+1)),\"\")","v":""},{"$f":"IFERROR(INDEX(Отделения[отделение],SMALL(IF(Отделения[Город]=$BQ$1,ROW(Отделения[Город])-1),ROW(AQ44)-ROW($A$2)+1)),\"\")","v":""},{"$f":"IFERROR(INDEX(Отделения[отделение],SMALL(IF(Отделения[Город]=$BR$1,ROW(Отделения[Город])-1),ROW(AR44)-ROW($A$2)+1)),\"\")","v":""},{"$f":"IFERROR(INDEX(Отделения[отделение],SMALL(IF(Отделения[Город]=$BS$1,ROW(Отделения[Город])-1),ROW(AS44)-ROW($A$2)+1)),\"\")","v":""},{"$f":"IFERROR(INDEX(Отделения[отделение],SMALL(IF(Отделения[Город]=$BT$1,ROW(Отделения[Город])-1),ROW(AT44)-ROW($A$2)+1)),\"\")","v":""},{"$f":"IFERROR(INDEX(Отделения[отделение],SMALL(IF(Отделения[Город]=$BU$1,ROW(Отделения[Город])-1),ROW(AU44)-ROW($A$2)+1)),\"\")","v":""},{"$f":"IFERROR(INDEX(Отделения[отделение],SMALL(IF(Отделения[Город]=$BV$1,ROW(Отделения[Город])-1),ROW(AV44)-ROW($A$2)+1)),\"\")","v":""},{"$f":"IFERROR(INDEX(Отделения[отделение],SMALL(IF(Отделения[Город]=$BW$1,ROW(Отделения[Город])-1),ROW(AV44)-ROW($A$2)+1)),\"\")","v":""},{"$f":"IFERROR(INDEX(Отделения[отделение],SMALL(IF(Отделения[Город]=$BX$1,ROW(Отделения[Город])-1),ROW(AV44)-ROW($A$2)+1)),\"\")","v":""},{"$f":"IFERROR(INDEX(Отделения[отделение],SMALL(IF(Отделения[Город]=$BY$1,ROW(Отделения[Город])-1),ROW(AV44)-ROW($A$2)+1)),\"\")","v":""},{"$f":"IFERROR(INDEX(Отделения[отделение],SMALL(IF(Отделения[Город]=$BZ$1,ROW(Отделения[Город])-1),ROW(AV44)-ROW($A$2)+1)),\"\")","v":""},{"$f":"IFERROR(INDEX(Отделения[отделение],SMALL(IF(Отделения[Город]=$CA$1,ROW(Отделения[Город])-1),ROW(AV44)-ROW($A$2)+1)),\"\")","v":""},{"$f":"IFERROR(INDEX(Отделения[отделение],SMALL(IF(Отделения[Город]=$CB$1,ROW(Отделения[Город])-1),ROW(AV44)-ROW($A$2)+1)),\"\")","v":""},{"$f":"IFERROR(INDEX(Отделения[отделение],SMALL(IF(Отделения[Город]=$CC$1,ROW(Отделения[Город])-1),ROW(AV44)-ROW($A$2)+1)),\"\")","v":""},{"$f":"IFERROR(INDEX(Отделения[отделение],SMALL(IF(Отделения[Город]=$CD$1,ROW(Отделения[Город])-1),ROW(AV44)-ROW($A$2)+1)),\"\")","v":""},{"$f":"IFERROR(INDEX(Отделения[отделение],SMALL(IF(Отделения[Город]=$CE$1,ROW(Отделения[Город])-1),ROW(AV44)-ROW($A$2)+1)),\"\")","v":""},{"$f":"IFERROR(INDEX(Отделения[отделение],SMALL(IF(Отделения[Город]=$CF$1,ROW(Отделения[Город])-1),ROW(AV44)-ROW($A$2)+1)),\"\")","v":""},{"$f":"IFERROR(INDEX(Отделения[отделение],SMALL(IF(Отделения[Город]=$CG$1,ROW(Отделения[Город])-1),ROW(AV44)-ROW($A$2)+1)),\"\")","v":""},{"$f":"IFERROR(INDEX(Отделения[отделение],SMALL(IF(Отделения[Город]=$CH$1,ROW(Отделения[Город])-1),ROW(AW44)-ROW($A$2)+1)),\"\")","v":""},{"$f":"IFERROR(INDEX(Отделения[отделение],SMALL(IF(Отделения[Город]=$CI$1,ROW(Отделения[Город])-1),ROW(AX44)-ROW($A$2)+1)),\"\")","v":""},{"$f":"IFERROR(INDEX(Отделения[отделение],SMALL(IF(Отделения[Город]=$CJ$1,ROW(Отделения[Город])-1),ROW(AY44)-ROW($A$2)+1)),\"\")","v":""},{"$f":"IFERROR(INDEX(Отделения[отделение],SMALL(IF(Отделения[Город]=$CK$1,ROW(Отделения[Город])-1),ROW(AZ44)-ROW($A$2)+1)),\"\")","v":""},{"$f":"IFERROR(INDEX(Отделения[отделение],SMALL(IF(Отделения[Город]=$CL$1,ROW(Отделения[Город])-1),ROW(BA44)-ROW($A$2)+1)),\"\")","v":""},{"$f":"IFERROR(INDEX(Отделения[отделение],SMALL(IF(Отделения[Город]=$CM$1,ROW(Отделения[Город])-1),ROW(BB44)-ROW($A$2)+1)),\"\")","v":""},{"$f":"IFERROR(INDEX(Отделения[отделение],SMALL(IF(Отделения[Город]=$CN$1,ROW(Отделения[Город])-1),ROW(BC44)-ROW($A$2)+1)),\"\")","v":""},{"$f":"IFERROR(INDEX(Отделения[отделение],SMALL(IF(Отделения[Город]=$CO$1,ROW(Отделения[Город])-1),ROW(BD44)-ROW($A$2)+1)),\"\")","v":""},{"$f":"IFERROR(INDEX(Отделения[отделение],SMALL(IF(Отделения[Город]=$CP$1,ROW(Отделения[Город])-1),ROW(BE44)-ROW($A$2)+1)),\"\")","v":""},{"$f":"IFERROR(INDEX(Отделения[отделение],SMALL(IF(Отделения[Город]=$CQ$1,ROW(Отделения[Город])-1),ROW(BF44)-ROW($A$2)+1)),\"\")","v":""},{"$f":"IFERROR(INDEX(Отделения[отделение],SMALL(IF(Отделения[Город]=$CR$1,ROW(Отделения[Город])-1),ROW(BG44)-ROW($A$2)+1)),\"\")","v":""},{"$f":"IFERROR(INDEX(Отделения[отделение],SMALL(IF(Отделения[Город]=$CS$1,ROW(Отделения[Город])-1),ROW(BH44)-ROW($A$2)+1)),\"\")","v":""},{"$f":"IFERROR(INDEX(Отделения[отделение],SMALL(IF(Отделения[Город]=$CT$1,ROW(Отделения[Город])-1),ROW(BI44)-ROW($A$2)+1)),\"\")","v":""},{"$f":"IFERROR(INDEX(Отделения[отделение],SMALL(IF(Отделения[Город]=$CU$1,ROW(Отделения[Город])-1),ROW(BJ44)-ROW($A$2)+1)),\"\")","v":""},{"$f":"IFERROR(INDEX(Отделения[отделение],SMALL(IF(Отделения[Город]=$CV$1,ROW(Отделения[Город])-1),ROW(BK44)-ROW($A$2)+1)),\"\")","v":""},{"$f":"IFERROR(INDEX(Отделения[отделение],SMALL(IF(Отделения[Город]=$CW$1,ROW(Отделения[Город])-1),ROW(BL44)-ROW($A$2)+1)),\"\")","v":""},{"$f":"IFERROR(INDEX(Отделения[отделение],SMALL(IF(Отделения[Город]=$CX$1,ROW(Отделения[Город])-1),ROW(BM44)-ROW($A$2)+1)),\"\")","v":""},{"$f":"IFERROR(INDEX(Отделения[отделение],SMALL(IF(Отделения[Город]=$CY$1,ROW(Отделения[Город])-1),ROW(BM44)-ROW($A$2)+1)),\"\")","v":""},{"$f":"IFERROR(INDEX(Отделения[отделение],SMALL(IF(Отделения[Город]=$CZ$1,ROW(Отделения[Город])-1),ROW(BM44)-ROW($A$2)+1)),\"\")","v":""},{"$f":"IFERROR(INDEX(Отделения[отделение],SMALL(IF(Отделения[Город]=$DA$1,ROW(Отделения[Город])-1),ROW(BM44)-ROW($A$2)+1)),\"\")","v":""},{"$f":"IFERROR(INDEX(Отделения[отделение],SMALL(IF(Отделения[Город]=$DB$1,ROW(Отделения[Город])-1),ROW(BM44)-ROW($A$2)+1)),\"\")","v":""}]
["Москва","ДО \"ЮГО-ЗАПАДНАЯ\" , 119571, г. Москва, пр-кт Вернадского , д.119","0610","MOES",null,null,{"$f":"IFERROR(INDEX(Отделения[отделение],SMALL(IF(Отделения[Город]=$G$1,ROW(Отделения[Город])-1),ROW(A45)-ROW($A$2)+1)),\"\")","v":""},{"$f":"IFERROR(INDEX(Отделения[отделение],SMALL(IF(Отделения[Город]=$H$1,ROW(Отделения[Город])-1),ROW(A45)-ROW($A$2)+1)),\"\")","v":""},{"$f":"IFERROR(INDEX(Отделения[отделение],SMALL(IF(Отделения[Город]=$I$1,ROW(Отделения[Город])-1),ROW(A45)-ROW($A$2)+1)),\"\")","v":""},{"$f":"IFERROR(INDEX(Отделения[отделение],SMALL(IF(Отделения[Город]=$J$1,ROW(Отделения[Город])-1),ROW(A45)-ROW($A$2)+1)),\"\")","v":""},{"$f":"IFERROR(INDEX(Отделения[отделение],SMALL(IF(Отделения[Город]=$K$1,ROW(Отделения[Город])-1),ROW(A45)-ROW($A$2)+1)),\"\")","v":""},{"$f":"IFERROR(INDEX(Отделения[отделение],SMALL(IF(Отделения[Город]=$L$1,ROW(Отделения[Город])-1),ROW(A45)-ROW($A$2)+1)),\"\")","v":""},{"$f":"IFERROR(INDEX(Отделения[отделение],SMALL(IF(Отделения[Город]=$M$1,ROW(Отделения[Город])-1),ROW(B45)-ROW($A$2)+1)),\"\")","v":""},{"$f":"IFERROR(INDEX(Отделения[отделение],SMALL(IF(Отделения[Город]=$N$1,ROW(Отделения[Город])-1),ROW(#REF!)-ROW($A$2)+1)),\"\")","v":""},{"$f":"IFERROR(INDEX(Отделения[отделение],SMALL(IF(Отделения[Город]=$O$1,ROW(Отделения[Город])-1),ROW(C45)-ROW($A$2)+1)),\"\")","v":""},{"$f":"IFERROR(INDEX(Отделения[отделение],SMALL(IF(Отделения[Город]=$P$1,ROW(Отделения[Город])-1),ROW(D45)-ROW($A$2)+1)),\"\")","v":""},{"$f":"IFERROR(INDEX(Отделения[отделение],SMALL(IF(Отделения[Город]=$Q$1,ROW(Отделения[Город])-1),ROW(F45)-ROW($A$2)+1)),\"\")","v":""},{"$f":"IFERROR(INDEX(Отделения[отделение],SMALL(IF(Отделения[Город]=$R$1,ROW(Отделения[Город])-1),ROW(#REF!)-ROW($A$2)+1)),\"\")","v":""},{"$f":"IFERROR(INDEX(Отделения[отделение],SMALL(IF(Отделения[Город]=$S$1,ROW(Отделения[Город])-1),ROW(G45)-ROW($A$2)+1)),\"\")","v":""},{"$f":"IFERROR(INDEX(Отделения[отделение],SMALL(IF(Отделения[Город]=$T$1,ROW(Отделения[Город])-1),ROW(H45)-ROW($A$2)+1)),\"\")","v":""},{"$f":"IFERROR(INDEX(Отделения[отделение],SMALL(IF(Отделения[Город]=$U$1,ROW(Отделения[Город])-1),ROW(I45)-ROW($A$2)+1)),\"\")","v":""},{"$f":"IFERROR(INDEX(Отделения[отделение],SMALL(IF(Отделения[Город]=$V$1,ROW(Отделения[Город])-1),ROW(J45)-ROW($A$2)+1)),\"\")","v":""},{"$f":"IFERROR(INDEX(Отделения[отделение],SMALL(IF(Отделения[Город]=$W$1,ROW(Отделения[Город])-1),ROW(K45)-ROW($A$2)+1)),\"\")","v":""},{"$f":"IFERROR(INDEX(Отделения[отделение],SMALL(IF(Отделения[Город]=$X$1,ROW(Отделения[Город])-1),ROW(L45)-ROW($A$2)+1)),\"\")","v":""},{"$f":"IFERROR(INDEX(Отделения[отделение],SMALL(IF(Отделения[Город]=$Y$1,ROW(Отделения[Город])-1),ROW(M45)-ROW($A$2)+1)),\"\")","v":""},{"$f":"IFERROR(INDEX(Отделения[отделение],SMALL(IF(Отделения[Город]=$Z$1,ROW(Отделения[Город])-1),ROW(N45)-ROW($A$2)+1)),\"\")","v":""},{"$f":"IFERROR(INDEX(Отделения[отделение],SMALL(IF(Отделения[Город]=$AA$1,ROW(Отделения[Город])-1),ROW(O45)-ROW($A$2)+1)),\"\")","v":""},{"$f":"IFERROR(INDEX(Отделения[отделение],SMALL(IF(Отделения[Город]=$AB$1,ROW(Отделения[Город])-1),ROW(P45)-ROW($A$2)+1)),\"\")","v":""},{"$f":"IFERROR(INDEX(Отделения[отделение],SMALL(IF(Отделения[Город]=$AC$1,ROW(Отделения[Город])-1),ROW(Q45)-ROW($A$2)+1)),\"\")","v":""},{"$f":"IFERROR(INDEX(Отделения[отделение],SMALL(IF(Отделения[Город]=$AD$1,ROW(Отделения[Город])-1),ROW(R45)-ROW($A$2)+1)),\"\")","v":""},{"$f":"IFERROR(INDEX(Отделения[отделение],SMALL(IF(Отделения[Город]=$AE$1,ROW(Отделения[Город])-1),ROW(S45)-ROW($A$2)+1)),\"\")","v":""},{"$f":"IFERROR(INDEX(Отделения[отделение],SMALL(IF(Отделения[Город]=$AF$1,ROW(Отделения[Город])-1),ROW(T45)-ROW($A$2)+1)),\"\")","v":""},{"$f":"IFERROR(INDEX(Отделения[отделение],SMALL(IF(Отделения[Город]=$AG$1,ROW(Отделения[Город])-1),ROW(U45)-ROW($A$2)+1)),\"\")","v":""},{"$f":"IFERROR(INDEX(Отделения[отделение],SMALL(IF(Отделения[Город]=$AH$1,ROW(Отделения[Город])-1),ROW(V45)-ROW($A$2)+1)),\"\")","v":""},{"$f":"IFERROR(INDEX(Отделения[отделение],SMALL(IF(Отделения[Город]=$AI$1,ROW(Отделения[Город])-1),ROW(AB45)-ROW($A$2)+1)),\"\")","v":""},{"$f":"IFERROR(INDEX(Отделения[отделение],SMALL(IF(Отделения[Город]=$AJ$1,ROW(Отделения[Город])-1),ROW(AB45)-ROW($A$2)+1)),\"\")","v":""},{"$f":"IFERROR(INDEX(Отделения[отделение],SMALL(IF(Отделения[Город]=$AK$1,ROW(Отделения[Город])-1),ROW(AB45)-ROW($A$2)+1)),\"\")","v":""},{"$f":"IFERROR(INDEX(Отделения[отделение],SMALL(IF(Отделения[Город]=$AL$1,ROW(Отделения[Город])-1),ROW(AB45)-ROW($A$2)+1)),\"\")","v":""},{"$f":"IFERROR(INDEX(Отделения[отделение],SMALL(IF(Отделения[Город]=$AM$1,ROW(Отделения[Город])-1),ROW(AB45)-ROW($A$2)+1)),\"\")","v":""},{"$f":"IFERROR(INDEX(Отделения[отделение],SMALL(IF(Отделения[Город]=$AN$1,ROW(Отделения[Город])-1),ROW(AB45)-ROW($A$2)+1)),\"\")","v":""},{"$f":"IFERROR(INDEX(Отделения[отделение],SMALL(IF(Отделения[Город]=$AO$1,ROW(Отделения[Город])-1),ROW(AB45)-ROW($A$2)+1)),\"\")","v":""},{"$f":"IFERROR(INDEX(Отделения[отделение],SMALL(IF(Отделения[Город]=$AP$1,ROW(Отделения[Город])-1),ROW(AB45)-ROW($A$2)+1)),\"\")","v":""},{"$f":"IFERROR(INDEX(Отделения[отделение],SMALL(IF(Отделения[Город]=$AQ$1,ROW(Отделения[Город])-1),ROW(AB45)-ROW($A$2)+1)),\"\")","v":""},{"$f":"IFERROR(INDEX(Отделения[отделение],SMALL(IF(Отделения[Город]=$AR$1,ROW(Отделения[Город])-1),ROW(AB45)-ROW($A$2)+1)),\"\")","v":""},{"$f":"IFERROR(INDEX(Отделения[отделение],SMALL(IF(Отделения[Город]=$AS$1,ROW(Отделения[Город])-1),ROW(AB45)-ROW($A$2)+1)),\"\")","v":""},{"$f":"IFERROR(INDEX(Отделения[отделение],SMALL(IF(Отделения[Город]=$AT$1,ROW(Отделения[Город])-1),ROW(AB45)-ROW($A$2)+1)),\"\")","v":""},{"$f":"IFERROR(INDEX(Отделения[отделение],SMALL(IF(Отделения[Город]=$AU$1,ROW(Отделения[Город])-1),ROW(AB45)-ROW($A$2)+1)),\"\")","v":""},{"$f":"IFERROR(INDEX(Отделения[отделение],SMALL(IF(Отделения[Город]=$AV$1,ROW(Отделения[Город])-1),ROW(AB45)-ROW($A$2)+1)),\"\")","v":""},{"$f":"IFERROR(INDEX(Отделения[отделение],SMALL(IF(Отделения[Город]=$AW$1,ROW(Отделения[Город])-1),ROW(AB45)-ROW($A$2)+1)),\"\")","v":""},{"$f":"IFERROR(INDEX(Отделения[отделение],SMALL(IF(Отделения[Город]=$AX$1,ROW(Отделения[Город])-1),ROW(AB45)-ROW($A$2)+1)),\"\")","v":""},{"$f":"IFERROR(INDEX(Отделения[отделение],SMALL(IF(Отделения[Город]=$AY$1,ROW(Отделения[Город])-1),ROW(AB45)-ROW($A$2)+1)),\"\")","v":""},{"$f":"IFERROR(INDEX(Отделения[отделение],SMALL(IF(Отделения[Город]=$AZ$1,ROW(Отделения[Город])-1),ROW(AB45)-ROW($A$2)+1)),\"\")","v":""},{"$f":"IFERROR(INDEX(Отделения[отделение],SMALL(IF(Отделения[Город]=$BA$1,ROW(Отделения[Город])-1),ROW(AB45)-ROW($A$2)+1)),\"\")","v":""},{"$f":"IFERROR(INDEX(Отделения[отделение],SMALL(IF(Отделения[Город]=$BB$1,ROW(Отделения[Город])-1),ROW(AB45)-ROW($A$2)+1)),\"\")","v":""},{"$f":"IFERROR(INDEX(Отделения[отделение],SMALL(IF(Отделения[Город]=$BC$1,ROW(Отделения[Город])-1),ROW(AC45)-ROW($A$2)+1)),\"\")","v":""},{"$f":"IFERROR(INDEX(Отделения[отделение],SMALL(IF(Отделения[Город]=$BD$1,ROW(Отделения[Город])-1),ROW(AD45)-ROW($A$2)+1)),\"\")","v":""},{"$f":"IFERROR(INDEX(Отделения[отделение],SMALL(IF(Отделения[Город]=$BE$1,ROW(Отделения[Город])-1),ROW(AE45)-ROW($A$2)+1)),\"\")","v":""},{"$f":"IFERROR(INDEX(Отделения[отделение],SMALL(IF(Отделения[Город]=$BF$1,ROW(Отделения[Город])-1),ROW(AF45)-ROW($A$2)+1)),\"\")","v":""},{"$f":"IFERROR(INDEX(Отделения[отделение],SMALL(IF(Отделения[Город]=$BG$1,ROW(Отделения[Город])-1),ROW(AG45)-ROW($A$2)+1)),\"\")","v":""},{"$f":"IFERROR(INDEX(Отделения[отделение],SMALL(IF(Отделения[Город]=$BH$1,ROW(Отделения[Город])-1),ROW(AH45)-ROW($A$2)+1)),\"\")","v":""},{"$f":"IFERROR(INDEX(Отделения[отделение],SMALL(IF(Отделения[Город]=$BI$1,ROW(Отделения[Город])-1),ROW(AI45)-ROW($A$2)+1)),\"\")","v":""},{"$f":"IFERROR(INDEX(Отделения[отделение],SMALL(IF(Отделения[Город]=$BJ$1,ROW(Отделения[Город])-1),ROW(AJ45)-ROW($A$2)+1)),\"\")","v":""},{"$f":"IFERROR(INDEX(Отделения[отделение],SMALL(IF(Отделения[Город]=$BK$1,ROW(Отделения[Город])-1),ROW(AK45)-ROW($A$2)+1)),\"\")","v":""},{"$f":"IFERROR(INDEX(Отделения[отделение],SMALL(IF(Отделения[Город]=$BL$1,ROW(Отделения[Город])-1),ROW(AL45)-ROW($A$2)+1)),\"\")","v":""},{"$f":"IFERROR(INDEX(Отделения[отделение],SMALL(IF(Отделения[Город]=$BM$1,ROW(Отделения[Город])-1),ROW(AM45)-ROW($A$2)+1)),\"\")","v":""},{"$f":"IFERROR(INDEX(Отделения[отделение],SMALL(IF(Отделения[Город]=$BN$1,ROW(Отделения[Город])-1),ROW(AN45)-ROW($A$2)+1)),\"\")","v":""},{"$f":"IFERROR(INDEX(Отделения[отделение],SMALL(IF(Отделения[Город]=$BO$1,ROW(Отделения[Город])-1),ROW(AO45)-ROW($A$2)+1)),\"\")","v":""},{"$f":"IFERROR(INDEX(Отделения[отделение],SMALL(IF(Отделения[Город]=$BP$1,ROW(Отделения[Город])-1),ROW(AP45)-ROW($A$2)+1)),\"\")","v":""},{"$f":"IFERROR(INDEX(Отделения[отделение],SMALL(IF(Отделения[Город]=$BQ$1,ROW(Отделения[Город])-1),ROW(AQ45)-ROW($A$2)+1)),\"\")","v":""},{"$f":"IFERROR(INDEX(Отделения[отделение],SMALL(IF(Отделения[Город]=$BR$1,ROW(Отделения[Город])-1),ROW(AR45)-ROW($A$2)+1)),\"\")","v":""},{"$f":"IFERROR(INDEX(Отделения[отделение],SMALL(IF(Отделения[Город]=$BS$1,ROW(Отделения[Город])-1),ROW(AS45)-ROW($A$2)+1)),\"\")","v":""},{"$f":"IFERROR(INDEX(Отделения[отделение],SMALL(IF(Отделения[Город]=$BT$1,ROW(Отделения[Город])-1),ROW(AT45)-ROW($A$2)+1)),\"\")","v":""},{"$f":"IFERROR(INDEX(Отделения[отделение],SMALL(IF(Отделения[Город]=$BU$1,ROW(Отделения[Город])-1),ROW(AU45)-ROW($A$2)+1)),\"\")","v":""},{"$f":"IFERROR(INDEX(Отделения[отделение],SMALL(IF(Отделения[Город]=$BV$1,ROW(Отделения[Город])-1),ROW(AV45)-ROW($A$2)+1)),\"\")","v":""},{"$f":"IFERROR(INDEX(Отделения[отделение],SMALL(IF(Отделения[Город]=$BW$1,ROW(Отделения[Город])-1),ROW(AV45)-ROW($A$2)+1)),\"\")","v":""},{"$f":"IFERROR(INDEX(Отделения[отделение],SMALL(IF(Отделения[Город]=$BX$1,ROW(Отделения[Город])-1),ROW(AV45)-ROW($A$2)+1)),\"\")","v":""},{"$f":"IFERROR(INDEX(Отделения[отделение],SMALL(IF(Отделения[Город]=$BY$1,ROW(Отделения[Город])-1),ROW(AV45)-ROW($A$2)+1)),\"\")","v":""},{"$f":"IFERROR(INDEX(Отделения[отделение],SMALL(IF(Отделения[Город]=$BZ$1,ROW(Отделения[Город])-1),ROW(AV45)-ROW($A$2)+1)),\"\")","v":""},{"$f":"IFERROR(INDEX(Отделения[отделение],SMALL(IF(Отделения[Город]=$CA$1,ROW(Отделения[Город])-1),ROW(AV45)-ROW($A$2)+1)),\"\")","v":""},{"$f":"IFERROR(INDEX(Отделения[отделение],SMALL(IF(Отделения[Город]=$CB$1,ROW(Отделения[Город])-1),ROW(AV45)-ROW($A$2)+1)),\"\")","v":""},{"$f":"IFERROR(INDEX(Отделения[отделение],SMALL(IF(Отделения[Город]=$CC$1,ROW(Отделения[Город])-1),ROW(AV45)-ROW($A$2)+1)),\"\")","v":""},{"$f":"IFERROR(INDEX(Отделения[отделение],SMALL(IF(Отделения[Город]=$CD$1,ROW(Отделения[Город])-1),ROW(AV45)-ROW($A$2)+1)),\"\")","v":""},{"$f":"IFERROR(INDEX(Отделения[отделение],SMALL(IF(Отделения[Город]=$CE$1,ROW(Отделения[Город])-1),ROW(AV45)-ROW($A$2)+1)),\"\")","v":""},{"$f":"IFERROR(INDEX(Отделения[отделение],SMALL(IF(Отделения[Город]=$CF$1,ROW(Отделения[Город])-1),ROW(AV45)-ROW($A$2)+1)),\"\")","v":""},{"$f":"IFERROR(INDEX(Отделения[отделение],SMALL(IF(Отделения[Город]=$CG$1,ROW(Отделения[Город])-1),ROW(AV45)-ROW($A$2)+1)),\"\")","v":""},{"$f":"IFERROR(INDEX(Отделения[отделение],SMALL(IF(Отделения[Город]=$CH$1,ROW(Отделения[Город])-1),ROW(AW45)-ROW($A$2)+1)),\"\")","v":""},{"$f":"IFERROR(INDEX(Отделения[отделение],SMALL(IF(Отделения[Город]=$CI$1,ROW(Отделения[Город])-1),ROW(AX45)-ROW($A$2)+1)),\"\")","v":""},{"$f":"IFERROR(INDEX(Отделения[отделение],SMALL(IF(Отделения[Город]=$CJ$1,ROW(Отделения[Город])-1),ROW(AY45)-ROW($A$2)+1)),\"\")","v":""},{"$f":"IFERROR(INDEX(Отделения[отделение],SMALL(IF(Отделения[Город]=$CK$1,ROW(Отделения[Город])-1),ROW(AZ45)-ROW($A$2)+1)),\"\")","v":""},{"$f":"IFERROR(INDEX(Отделения[отделение],SMALL(IF(Отделения[Город]=$CL$1,ROW(Отделения[Город])-1),ROW(BA45)-ROW($A$2)+1)),\"\")","v":""},{"$f":"IFERROR(INDEX(Отделения[отделение],SMALL(IF(Отделения[Город]=$CM$1,ROW(Отделения[Город])-1),ROW(BB45)-ROW($A$2)+1)),\"\")","v":""},{"$f":"IFERROR(INDEX(Отделения[отделение],SMALL(IF(Отделения[Город]=$CN$1,ROW(Отделения[Город])-1),ROW(BC45)-ROW($A$2)+1)),\"\")","v":""},{"$f":"IFERROR(INDEX(Отделения[отделение],SMALL(IF(Отделения[Город]=$CO$1,ROW(Отделения[Город])-1),ROW(BD45)-ROW($A$2)+1)),\"\")","v":""},{"$f":"IFERROR(INDEX(Отделения[отделение],SMALL(IF(Отделения[Город]=$CP$1,ROW(Отделения[Город])-1),ROW(BE45)-ROW($A$2)+1)),\"\")","v":""},{"$f":"IFERROR(INDEX(Отделения[отделение],SMALL(IF(Отделения[Город]=$CQ$1,ROW(Отделения[Город])-1),ROW(BF45)-ROW($A$2)+1)),\"\")","v":""},{"$f":"IFERROR(INDEX(Отделения[отделение],SMALL(IF(Отделения[Город]=$CR$1,ROW(Отделения[Город])-1),ROW(BG45)-ROW($A$2)+1)),\"\")","v":""},{"$f":"IFERROR(INDEX(Отделения[отделение],SMALL(IF(Отделения[Город]=$CS$1,ROW(Отделения[Город])-1),ROW(BH45)-ROW($A$2)+1)),\"\")","v":""},{"$f":"IFERROR(INDEX(Отделения[отделение],SMALL(IF(Отделения[Город]=$CT$1,ROW(Отделения[Город])-1),ROW(BI45)-ROW($A$2)+1)),\"\")","v":""},{"$f":"IFERROR(INDEX(Отделения[отделение],SMALL(IF(Отделения[Город]=$CU$1,ROW(Отделения[Город])-1),ROW(BJ45)-ROW($A$2)+1)),\"\")","v":""},{"$f":"IFERROR(INDEX(Отделения[отделение],SMALL(IF(Отделения[Город]=$CV$1,ROW(Отделения[Город])-1),ROW(BK45)-ROW($A$2)+1)),\"\")","v":""},{"$f":"IFERROR(INDEX(Отделения[отделение],SMALL(IF(Отделения[Город]=$CW$1,ROW(Отделения[Город])-1),ROW(BL45)-ROW($A$2)+1)),\"\")","v":""},{"$f":"IFERROR(INDEX(Отделения[отделение],SMALL(IF(Отделения[Город]=$CX$1,ROW(Отделения[Город])-1),ROW(BM45)-ROW($A$2)+1)),\"\")","v":""},{"$f":"IFERROR(INDEX(Отделения[отделение],SMALL(IF(Отделения[Город]=$CY$1,ROW(Отделения[Город])-1),ROW(BM45)-ROW($A$2)+1)),\"\")","v":""},{"$f":"IFERROR(INDEX(Отделения[отделение],SMALL(IF(Отделения[Город]=$CZ$1,ROW(Отделения[Город])-1),ROW(BM45)-ROW($A$2)+1)),\"\")","v":""},{"$f":"IFERROR(INDEX(Отделения[отделение],SMALL(IF(Отделения[Город]=$DA$1,ROW(Отделения[Город])-1),ROW(BM45)-ROW($A$2)+1)),\"\")","v":""},{"$f":"IFERROR(INDEX(Отделения[отделение],SMALL(IF(Отделения[Город]=$DB$1,ROW(Отделения[Город])-1),ROW(BM45)-ROW($A$2)+1)),\"\")","v":""}]
["Москва","ДО \"БЕЛЯЕВО\" , 117437, г. Москва, ул.Профсоюзная ,д.104","0612","MOLV",null,null,{"$f":"IFERROR(INDEX(Отделения[отделение],SMALL(IF(Отделения[Город]=$G$1,ROW(Отделения[Город])-1),ROW(A46)-ROW($A$2)+1)),\"\")","v":""},{"$f":"IFERROR(INDEX(Отделения[отделение],SMALL(IF(Отделения[Город]=$H$1,ROW(Отделения[Город])-1),ROW(A46)-ROW($A$2)+1)),\"\")","v":""},{"$f":"IFERROR(INDEX(Отделения[отделение],SMALL(IF(Отделения[Город]=$I$1,ROW(Отделения[Город])-1),ROW(A46)-ROW($A$2)+1)),\"\")","v":""},{"$f":"IFERROR(INDEX(Отделения[отделение],SMALL(IF(Отделения[Город]=$J$1,ROW(Отделения[Город])-1),ROW(A46)-ROW($A$2)+1)),\"\")","v":""},{"$f":"IFERROR(INDEX(Отделения[отделение],SMALL(IF(Отделения[Город]=$K$1,ROW(Отделения[Город])-1),ROW(A46)-ROW($A$2)+1)),\"\")","v":""},{"$f":"IFERROR(INDEX(Отделения[отделение],SMALL(IF(Отделения[Город]=$L$1,ROW(Отделения[Город])-1),ROW(A46)-ROW($A$2)+1)),\"\")","v":""},{"$f":"IFERROR(INDEX(Отделения[отделение],SMALL(IF(Отделения[Город]=$M$1,ROW(Отделения[Город])-1),ROW(B46)-ROW($A$2)+1)),\"\")","v":""},{"$f":"IFERROR(INDEX(Отделения[отделение],SMALL(IF(Отделения[Город]=$N$1,ROW(Отделения[Город])-1),ROW(#REF!)-ROW($A$2)+1)),\"\")","v":""},{"$f":"IFERROR(INDEX(Отделения[отделение],SMALL(IF(Отделения[Город]=$O$1,ROW(Отделения[Город])-1),ROW(C46)-ROW($A$2)+1)),\"\")","v":""},{"$f":"IFERROR(INDEX(Отделения[отделение],SMALL(IF(Отделения[Город]=$P$1,ROW(Отделения[Город])-1),ROW(D46)-ROW($A$2)+1)),\"\")","v":""},{"$f":"IFERROR(INDEX(Отделения[отделение],SMALL(IF(Отделения[Город]=$Q$1,ROW(Отделения[Город])-1),ROW(F46)-ROW($A$2)+1)),\"\")","v":""},{"$f":"IFERROR(INDEX(Отделения[отделение],SMALL(IF(Отделения[Город]=$R$1,ROW(Отделения[Город])-1),ROW(#REF!)-ROW($A$2)+1)),\"\")","v":""},{"$f":"IFERROR(INDEX(Отделения[отделение],SMALL(IF(Отделения[Город]=$S$1,ROW(Отделения[Город])-1),ROW(G46)-ROW($A$2)+1)),\"\")","v":""},{"$f":"IFERROR(INDEX(Отделения[отделение],SMALL(IF(Отделения[Город]=$T$1,ROW(Отделения[Город])-1),ROW(H46)-ROW($A$2)+1)),\"\")","v":""},{"$f":"IFERROR(INDEX(Отделения[отделение],SMALL(IF(Отделения[Город]=$U$1,ROW(Отделения[Город])-1),ROW(I46)-ROW($A$2)+1)),\"\")","v":""},{"$f":"IFERROR(INDEX(Отделения[отделение],SMALL(IF(Отделения[Город]=$V$1,ROW(Отделения[Город])-1),ROW(J46)-ROW($A$2)+1)),\"\")","v":""},{"$f":"IFERROR(INDEX(Отделения[отделение],SMALL(IF(Отделения[Город]=$W$1,ROW(Отделения[Город])-1),ROW(K46)-ROW($A$2)+1)),\"\")","v":""},{"$f":"IFERROR(INDEX(Отделения[отделение],SMALL(IF(Отделения[Город]=$X$1,ROW(Отделения[Город])-1),ROW(L46)-ROW($A$2)+1)),\"\")","v":""},{"$f":"IFERROR(INDEX(Отделения[отделение],SMALL(IF(Отделения[Город]=$Y$1,ROW(Отделения[Город])-1),ROW(M46)-ROW($A$2)+1)),\"\")","v":""},{"$f":"IFERROR(INDEX(Отделения[отделение],SMALL(IF(Отделения[Город]=$Z$1,ROW(Отделения[Город])-1),ROW(N46)-ROW($A$2)+1)),\"\")","v":""},{"$f":"IFERROR(INDEX(Отделения[отделение],SMALL(IF(Отделения[Город]=$AA$1,ROW(Отделения[Город])-1),ROW(O46)-ROW($A$2)+1)),\"\")","v":""},{"$f":"IFERROR(INDEX(Отделения[отделение],SMALL(IF(Отделения[Город]=$AB$1,ROW(Отделения[Город])-1),ROW(P46)-ROW($A$2)+1)),\"\")","v":""},{"$f":"IFERROR(INDEX(Отделения[отделение],SMALL(IF(Отделения[Город]=$AC$1,ROW(Отделения[Город])-1),ROW(Q46)-ROW($A$2)+1)),\"\")","v":""},{"$f":"IFERROR(INDEX(Отделения[отделение],SMALL(IF(Отделения[Город]=$AD$1,ROW(Отделения[Город])-1),ROW(R46)-ROW($A$2)+1)),\"\")","v":""},{"$f":"IFERROR(INDEX(Отделения[отделение],SMALL(IF(Отделения[Город]=$AE$1,ROW(Отделения[Город])-1),ROW(S46)-ROW($A$2)+1)),\"\")","v":""},{"$f":"IFERROR(INDEX(Отделения[отделение],SMALL(IF(Отделения[Город]=$AF$1,ROW(Отделения[Город])-1),ROW(T46)-ROW($A$2)+1)),\"\")","v":""},{"$f":"IFERROR(INDEX(Отделения[отделение],SMALL(IF(Отделения[Город]=$AG$1,ROW(Отделения[Город])-1),ROW(U46)-ROW($A$2)+1)),\"\")","v":""},{"$f":"IFERROR(INDEX(Отделения[отделение],SMALL(IF(Отделения[Город]=$AH$1,ROW(Отделения[Город])-1),ROW(V46)-ROW($A$2)+1)),\"\")","v":""},{"$f":"IFERROR(INDEX(Отделения[отделение],SMALL(IF(Отделения[Город]=$AI$1,ROW(Отделения[Город])-1),ROW(AB46)-ROW($A$2)+1)),\"\")","v":""},{"$f":"IFERROR(INDEX(Отделения[отделение],SMALL(IF(Отделения[Город]=$AJ$1,ROW(Отделения[Город])-1),ROW(AB46)-ROW($A$2)+1)),\"\")","v":""},{"$f":"IFERROR(INDEX(Отделения[отделение],SMALL(IF(Отделения[Город]=$AK$1,ROW(Отделения[Город])-1),ROW(AB46)-ROW($A$2)+1)),\"\")","v":""},{"$f":"IFERROR(INDEX(Отделения[отделение],SMALL(IF(Отделения[Город]=$AL$1,ROW(Отделения[Город])-1),ROW(AB46)-ROW($A$2)+1)),\"\")","v":""},{"$f":"IFERROR(INDEX(Отделения[отделение],SMALL(IF(Отделения[Город]=$AM$1,ROW(Отделения[Город])-1),ROW(AB46)-ROW($A$2)+1)),\"\")","v":""},{"$f":"IFERROR(INDEX(Отделения[отделение],SMALL(IF(Отделения[Город]=$AN$1,ROW(Отделения[Город])-1),ROW(AB46)-ROW($A$2)+1)),\"\")","v":""},{"$f":"IFERROR(INDEX(Отделения[отделение],SMALL(IF(Отделения[Город]=$AO$1,ROW(Отделения[Город])-1),ROW(AB46)-ROW($A$2)+1)),\"\")","v":""},{"$f":"IFERROR(INDEX(Отделения[отделение],SMALL(IF(Отделения[Город]=$AP$1,ROW(Отделения[Город])-1),ROW(AB46)-ROW($A$2)+1)),\"\")","v":""},{"$f":"IFERROR(INDEX(Отделения[отделение],SMALL(IF(Отделения[Город]=$AQ$1,ROW(Отделения[Город])-1),ROW(AB46)-ROW($A$2)+1)),\"\")","v":""},{"$f":"IFERROR(INDEX(Отделения[отделение],SMALL(IF(Отделения[Город]=$AR$1,ROW(Отделения[Город])-1),ROW(AB46)-ROW($A$2)+1)),\"\")","v":""},{"$f":"IFERROR(INDEX(Отделения[отделение],SMALL(IF(Отделения[Город]=$AS$1,ROW(Отделения[Город])-1),ROW(AB46)-ROW($A$2)+1)),\"\")","v":""},{"$f":"IFERROR(INDEX(Отделения[отделение],SMALL(IF(Отделения[Город]=$AT$1,ROW(Отделения[Город])-1),ROW(AB46)-ROW($A$2)+1)),\"\")","v":""},{"$f":"IFERROR(INDEX(Отделения[отделение],SMALL(IF(Отделения[Город]=$AU$1,ROW(Отделения[Город])-1),ROW(AB46)-ROW($A$2)+1)),\"\")","v":""},{"$f":"IFERROR(INDEX(Отделения[отделение],SMALL(IF(Отделения[Город]=$AV$1,ROW(Отделения[Город])-1),ROW(AB46)-ROW($A$2)+1)),\"\")","v":""},{"$f":"IFERROR(INDEX(Отделения[отделение],SMALL(IF(Отделения[Город]=$AW$1,ROW(Отделения[Город])-1),ROW(AB46)-ROW($A$2)+1)),\"\")","v":""},{"$f":"IFERROR(INDEX(Отделения[отделение],SMALL(IF(Отделения[Город]=$AX$1,ROW(Отделения[Город])-1),ROW(AB46)-ROW($A$2)+1)),\"\")","v":""},{"$f":"IFERROR(INDEX(Отделения[отделение],SMALL(IF(Отделения[Город]=$AY$1,ROW(Отделения[Город])-1),ROW(AB46)-ROW($A$2)+1)),\"\")","v":""},{"$f":"IFERROR(INDEX(Отделения[отделение],SMALL(IF(Отделения[Город]=$AZ$1,ROW(Отделения[Город])-1),ROW(AB46)-ROW($A$2)+1)),\"\")","v":""},{"$f":"IFERROR(INDEX(Отделения[отделение],SMALL(IF(Отделения[Город]=$BA$1,ROW(Отделения[Город])-1),ROW(AB46)-ROW($A$2)+1)),\"\")","v":""},{"$f":"IFERROR(INDEX(Отделения[отделение],SMALL(IF(Отделения[Город]=$BB$1,ROW(Отделения[Город])-1),ROW(AB46)-ROW($A$2)+1)),\"\")","v":""},{"$f":"IFERROR(INDEX(Отделения[отделение],SMALL(IF(Отделения[Город]=$BC$1,ROW(Отделения[Город])-1),ROW(AC46)-ROW($A$2)+1)),\"\")","v":""},{"$f":"IFERROR(INDEX(Отделения[отделение],SMALL(IF(Отделения[Город]=$BD$1,ROW(Отделения[Город])-1),ROW(AD46)-ROW($A$2)+1)),\"\")","v":""},{"$f":"IFERROR(INDEX(Отделения[отделение],SMALL(IF(Отделения[Город]=$BE$1,ROW(Отделения[Город])-1),ROW(AE46)-ROW($A$2)+1)),\"\")","v":""},{"$f":"IFERROR(INDEX(Отделения[отделение],SMALL(IF(Отделения[Город]=$BF$1,ROW(Отделения[Город])-1),ROW(AF46)-ROW($A$2)+1)),\"\")","v":""},{"$f":"IFERROR(INDEX(Отделения[отделение],SMALL(IF(Отделения[Город]=$BG$1,ROW(Отделения[Город])-1),ROW(AG46)-ROW($A$2)+1)),\"\")","v":""},{"$f":"IFERROR(INDEX(Отделения[отделение],SMALL(IF(Отделения[Город]=$BH$1,ROW(Отделения[Город])-1),ROW(AH46)-ROW($A$2)+1)),\"\")","v":""},{"$f":"IFERROR(INDEX(Отделения[отделение],SMALL(IF(Отделения[Город]=$BI$1,ROW(Отделения[Город])-1),ROW(AI46)-ROW($A$2)+1)),\"\")","v":""},{"$f":"IFERROR(INDEX(Отделения[отделение],SMALL(IF(Отделения[Город]=$BJ$1,ROW(Отделения[Город])-1),ROW(AJ46)-ROW($A$2)+1)),\"\")","v":""},{"$f":"IFERROR(INDEX(Отделения[отделение],SMALL(IF(Отделения[Город]=$BK$1,ROW(Отделения[Город])-1),ROW(AK46)-ROW($A$2)+1)),\"\")","v":""},{"$f":"IFERROR(INDEX(Отделения[отделение],SMALL(IF(Отделения[Город]=$BL$1,ROW(Отделения[Город])-1),ROW(AL46)-ROW($A$2)+1)),\"\")","v":""},{"$f":"IFERROR(INDEX(Отделения[отделение],SMALL(IF(Отделения[Город]=$BM$1,ROW(Отделения[Город])-1),ROW(AM46)-ROW($A$2)+1)),\"\")","v":""},{"$f":"IFERROR(INDEX(Отделения[отделение],SMALL(IF(Отделения[Город]=$BN$1,ROW(Отделения[Город])-1),ROW(AN46)-ROW($A$2)+1)),\"\")","v":""},{"$f":"IFERROR(INDEX(Отделения[отделение],SMALL(IF(Отделения[Город]=$BO$1,ROW(Отделения[Город])-1),ROW(AO46)-ROW($A$2)+1)),\"\")","v":""},{"$f":"IFERROR(INDEX(Отделения[отделение],SMALL(IF(Отделения[Город]=$BP$1,ROW(Отделения[Город])-1),ROW(AP46)-ROW($A$2)+1)),\"\")","v":""},{"$f":"IFERROR(INDEX(Отделения[отделение],SMALL(IF(Отделения[Город]=$BQ$1,ROW(Отделения[Город])-1),ROW(AQ46)-ROW($A$2)+1)),\"\")","v":""},{"$f":"IFERROR(INDEX(Отделения[отделение],SMALL(IF(Отделения[Город]=$BR$1,ROW(Отделения[Город])-1),ROW(AR46)-ROW($A$2)+1)),\"\")","v":""},{"$f":"IFERROR(INDEX(Отделения[отделение],SMALL(IF(Отделения[Город]=$BS$1,ROW(Отделения[Город])-1),ROW(AS46)-ROW($A$2)+1)),\"\")","v":""},{"$f":"IFERROR(INDEX(Отделения[отделение],SMALL(IF(Отделения[Город]=$BT$1,ROW(Отделения[Город])-1),ROW(AT46)-ROW($A$2)+1)),\"\")","v":""},{"$f":"IFERROR(INDEX(Отделения[отделение],SMALL(IF(Отделения[Город]=$BU$1,ROW(Отделения[Город])-1),ROW(AU46)-ROW($A$2)+1)),\"\")","v":""},{"$f":"IFERROR(INDEX(Отделения[отделение],SMALL(IF(Отделения[Город]=$BV$1,ROW(Отделения[Город])-1),ROW(AV46)-ROW($A$2)+1)),\"\")","v":""},{"$f":"IFERROR(INDEX(Отделения[отделение],SMALL(IF(Отделения[Город]=$BW$1,ROW(Отделения[Город])-1),ROW(AV46)-ROW($A$2)+1)),\"\")","v":""},{"$f":"IFERROR(INDEX(Отделения[отделение],SMALL(IF(Отделения[Город]=$BX$1,ROW(Отделения[Город])-1),ROW(AV46)-ROW($A$2)+1)),\"\")","v":""},{"$f":"IFERROR(INDEX(Отделения[отделение],SMALL(IF(Отделения[Город]=$BY$1,ROW(Отделения[Город])-1),ROW(AV46)-ROW($A$2)+1)),\"\")","v":""},{"$f":"IFERROR(INDEX(Отделения[отделение],SMALL(IF(Отделения[Город]=$BZ$1,ROW(Отделения[Город])-1),ROW(AV46)-ROW($A$2)+1)),\"\")","v":""},{"$f":"IFERROR(INDEX(Отделения[отделение],SMALL(IF(Отделения[Город]=$CA$1,ROW(Отделения[Город])-1),ROW(AV46)-ROW($A$2)+1)),\"\")","v":""},{"$f":"IFERROR(INDEX(Отделения[отделение],SMALL(IF(Отделения[Город]=$CB$1,ROW(Отделения[Город])-1),ROW(AV46)-ROW($A$2)+1)),\"\")","v":""},{"$f":"IFERROR(INDEX(Отделения[отделение],SMALL(IF(Отделения[Город]=$CC$1,ROW(Отделения[Город])-1),ROW(AV46)-ROW($A$2)+1)),\"\")","v":""},{"$f":"IFERROR(INDEX(Отделения[отделение],SMALL(IF(Отделения[Город]=$CD$1,ROW(Отделения[Город])-1),ROW(AV46)-ROW($A$2)+1)),\"\")","v":""},{"$f":"IFERROR(INDEX(Отделения[отделение],SMALL(IF(Отделения[Город]=$CE$1,ROW(Отделения[Город])-1),ROW(AV46)-ROW($A$2)+1)),\"\")","v":""},{"$f":"IFERROR(INDEX(Отделения[отделение],SMALL(IF(Отделения[Город]=$CF$1,ROW(Отделения[Город])-1),ROW(AV46)-ROW($A$2)+1)),\"\")","v":""},{"$f":"IFERROR(INDEX(Отделения[отделение],SMALL(IF(Отделения[Город]=$CG$1,ROW(Отделения[Город])-1),ROW(AV46)-ROW($A$2)+1)),\"\")","v":""},{"$f":"IFERROR(INDEX(Отделения[отделение],SMALL(IF(Отделения[Город]=$CH$1,ROW(Отделения[Город])-1),ROW(AW46)-ROW($A$2)+1)),\"\")","v":""},{"$f":"IFERROR(INDEX(Отделения[отделение],SMALL(IF(Отделения[Город]=$CI$1,ROW(Отделения[Город])-1),ROW(AX46)-ROW($A$2)+1)),\"\")","v":""},{"$f":"IFERROR(INDEX(Отделения[отделение],SMALL(IF(Отделения[Город]=$CJ$1,ROW(Отделения[Город])-1),ROW(AY46)-ROW($A$2)+1)),\"\")","v":""},{"$f":"IFERROR(INDEX(Отделения[отделение],SMALL(IF(Отделения[Город]=$CK$1,ROW(Отделения[Город])-1),ROW(AZ46)-ROW($A$2)+1)),\"\")","v":""},{"$f":"IFERROR(INDEX(Отделения[отделение],SMALL(IF(Отделения[Город]=$CL$1,ROW(Отделения[Город])-1),ROW(BA46)-ROW($A$2)+1)),\"\")","v":""},{"$f":"IFERROR(INDEX(Отделения[отделение],SMALL(IF(Отделения[Город]=$CM$1,ROW(Отделения[Город])-1),ROW(BB46)-ROW($A$2)+1)),\"\")","v":""},{"$f":"IFERROR(INDEX(Отделения[отделение],SMALL(IF(Отделения[Город]=$CN$1,ROW(Отделения[Город])-1),ROW(BC46)-ROW($A$2)+1)),\"\")","v":""},{"$f":"IFERROR(INDEX(Отделения[отделение],SMALL(IF(Отделения[Город]=$CO$1,ROW(Отделения[Город])-1),ROW(BD46)-ROW($A$2)+1)),\"\")","v":""},{"$f":"IFERROR(INDEX(Отделения[отделение],SMALL(IF(Отделения[Город]=$CP$1,ROW(Отделения[Город])-1),ROW(BE46)-ROW($A$2)+1)),\"\")","v":""},{"$f":"IFERROR(INDEX(Отделения[отделение],SMALL(IF(Отделения[Город]=$CQ$1,ROW(Отделения[Город])-1),ROW(BF46)-ROW($A$2)+1)),\"\")","v":""},{"$f":"IFERROR(INDEX(Отделения[отделение],SMALL(IF(Отделения[Город]=$CR$1,ROW(Отделения[Город])-1),ROW(BG46)-ROW($A$2)+1)),\"\")","v":""},{"$f":"IFERROR(INDEX(Отделения[отделение],SMALL(IF(Отделения[Город]=$CS$1,ROW(Отделения[Город])-1),ROW(BH46)-ROW($A$2)+1)),\"\")","v":""},{"$f":"IFERROR(INDEX(Отделения[отделение],SMALL(IF(Отделения[Город]=$CT$1,ROW(Отделения[Город])-1),ROW(BI46)-ROW($A$2)+1)),\"\")","v":""},{"$f":"IFERROR(INDEX(Отделения[отделение],SMALL(IF(Отделения[Город]=$CU$1,ROW(Отделения[Город])-1),ROW(BJ46)-ROW($A$2)+1)),\"\")","v":""},{"$f":"IFERROR(INDEX(Отделения[отделение],SMALL(IF(Отделения[Город]=$CV$1,ROW(Отделения[Город])-1),ROW(BK46)-ROW($A$2)+1)),\"\")","v":""},{"$f":"IFERROR(INDEX(Отделения[отделение],SMALL(IF(Отделения[Город]=$CW$1,ROW(Отделения[Город])-1),ROW(BL46)-ROW($A$2)+1)),\"\")","v":""},{"$f":"IFERROR(INDEX(Отделения[отделение],SMALL(IF(Отделения[Город]=$CX$1,ROW(Отделения[Город])-1),ROW(BM46)-ROW($A$2)+1)),\"\")","v":""},{"$f":"IFERROR(INDEX(Отделения[отделение],SMALL(IF(Отделения[Город]=$CY$1,ROW(Отделения[Город])-1),ROW(BM46)-ROW($A$2)+1)),\"\")","v":""},{"$f":"IFERROR(INDEX(Отделения[отделение],SMALL(IF(Отделения[Город]=$CZ$1,ROW(Отделения[Город])-1),ROW(BM46)-ROW($A$2)+1)),\"\")","v":""},{"$f":"IFERROR(INDEX(Отделения[отделение],SMALL(IF(Отделения[Город]=$DA$1,ROW(Отделения[Город])-1),ROW(BM46)-ROW($A$2)+1)),\"\")","v":""},{"$f":"IFERROR(INDEX(Отделения[отделение],SMALL(IF(Отделения[Город]=$DB$1,ROW(Отделения[Город])-1),ROW(BM46)-ROW($A$2)+1)),\"\")","v":""}]
["Королев","ДО \"КОРОЛЕВ\" , 141080, Московская обл., г. Королев, пр. Космонавтов, д. 27б","0613","MOTE",null,null,{"$f":"IFERROR(INDEX(Отделения[отделение],SMALL(IF(Отделения[Город]=$G$1,ROW(Отделения[Город])-1),ROW(A47)-ROW($A$2)+1)),\"\")","v":""},{"$f":"IFERROR(INDEX(Отделения[отделение],SMALL(IF(Отделения[Город]=$H$1,ROW(Отделения[Город])-1),ROW(A47)-ROW($A$2)+1)),\"\")","v":""},{"$f":"IFERROR(INDEX(Отделения[отделение],SMALL(IF(Отделения[Город]=$I$1,ROW(Отделения[Город])-1),ROW(A47)-ROW($A$2)+1)),\"\")","v":""},{"$f":"IFERROR(INDEX(Отделения[отделение],SMALL(IF(Отделения[Город]=$J$1,ROW(Отделения[Город])-1),ROW(A47)-ROW($A$2)+1)),\"\")","v":""},{"$f":"IFERROR(INDEX(Отделения[отделение],SMALL(IF(Отделения[Город]=$K$1,ROW(Отделения[Город])-1),ROW(A47)-ROW($A$2)+1)),\"\")","v":""},{"$f":"IFERROR(INDEX(Отделения[отделение],SMALL(IF(Отделения[Город]=$L$1,ROW(Отделения[Город])-1),ROW(A47)-ROW($A$2)+1)),\"\")","v":""},{"$f":"IFERROR(INDEX(Отделения[отделение],SMALL(IF(Отделения[Город]=$M$1,ROW(Отделения[Город])-1),ROW(B47)-ROW($A$2)+1)),\"\")","v":""},{"$f":"IFERROR(INDEX(Отделения[отделение],SMALL(IF(Отделения[Город]=$N$1,ROW(Отделения[Город])-1),ROW(#REF!)-ROW($A$2)+1)),\"\")","v":""},{"$f":"IFERROR(INDEX(Отделения[отделение],SMALL(IF(Отделения[Город]=$O$1,ROW(Отделения[Город])-1),ROW(C47)-ROW($A$2)+1)),\"\")","v":""},{"$f":"IFERROR(INDEX(Отделения[отделение],SMALL(IF(Отделения[Город]=$P$1,ROW(Отделения[Город])-1),ROW(D47)-ROW($A$2)+1)),\"\")","v":""},{"$f":"IFERROR(INDEX(Отделения[отделение],SMALL(IF(Отделения[Город]=$Q$1,ROW(Отделения[Город])-1),ROW(F47)-ROW($A$2)+1)),\"\")","v":""},{"$f":"IFERROR(INDEX(Отделения[отделение],SMALL(IF(Отделения[Город]=$R$1,ROW(Отделения[Город])-1),ROW(#REF!)-ROW($A$2)+1)),\"\")","v":""},{"$f":"IFERROR(INDEX(Отделения[отделение],SMALL(IF(Отделения[Город]=$S$1,ROW(Отделения[Город])-1),ROW(G47)-ROW($A$2)+1)),\"\")","v":""},{"$f":"IFERROR(INDEX(Отделения[отделение],SMALL(IF(Отделения[Город]=$T$1,ROW(Отделения[Город])-1),ROW(H47)-ROW($A$2)+1)),\"\")","v":""},{"$f":"IFERROR(INDEX(Отделения[отделение],SMALL(IF(Отделения[Город]=$U$1,ROW(Отделения[Город])-1),ROW(I47)-ROW($A$2)+1)),\"\")","v":""},{"$f":"IFERROR(INDEX(Отделения[отделение],SMALL(IF(Отделения[Город]=$V$1,ROW(Отделения[Город])-1),ROW(J47)-ROW($A$2)+1)),\"\")","v":""},{"$f":"IFERROR(INDEX(Отделения[отделение],SMALL(IF(Отделения[Город]=$W$1,ROW(Отделения[Город])-1),ROW(K47)-ROW($A$2)+1)),\"\")","v":""},{"$f":"IFERROR(INDEX(Отделения[отделение],SMALL(IF(Отделения[Город]=$X$1,ROW(Отделения[Город])-1),ROW(L47)-ROW($A$2)+1)),\"\")","v":""},{"$f":"IFERROR(INDEX(Отделения[отделение],SMALL(IF(Отделения[Город]=$Y$1,ROW(Отделения[Город])-1),ROW(M47)-ROW($A$2)+1)),\"\")","v":""},{"$f":"IFERROR(INDEX(Отделения[отделение],SMALL(IF(Отделения[Город]=$Z$1,ROW(Отделения[Город])-1),ROW(N47)-ROW($A$2)+1)),\"\")","v":""},{"$f":"IFERROR(INDEX(Отделения[отделение],SMALL(IF(Отделения[Город]=$AA$1,ROW(Отделения[Город])-1),ROW(O47)-ROW($A$2)+1)),\"\")","v":""},{"$f":"IFERROR(INDEX(Отделения[отделение],SMALL(IF(Отделения[Город]=$AB$1,ROW(Отделения[Город])-1),ROW(P47)-ROW($A$2)+1)),\"\")","v":""},{"$f":"IFERROR(INDEX(Отделения[отделение],SMALL(IF(Отделения[Город]=$AC$1,ROW(Отделения[Город])-1),ROW(Q47)-ROW($A$2)+1)),\"\")","v":""},{"$f":"IFERROR(INDEX(Отделения[отделение],SMALL(IF(Отделения[Город]=$AD$1,ROW(Отделения[Город])-1),ROW(R47)-ROW($A$2)+1)),\"\")","v":""},{"$f":"IFERROR(INDEX(Отделения[отделение],SMALL(IF(Отделения[Город]=$AE$1,ROW(Отделения[Город])-1),ROW(S47)-ROW($A$2)+1)),\"\")","v":""},{"$f":"IFERROR(INDEX(Отделения[отделение],SMALL(IF(Отделения[Город]=$AF$1,ROW(Отделения[Город])-1),ROW(T47)-ROW($A$2)+1)),\"\")","v":""},{"$f":"IFERROR(INDEX(Отделения[отделение],SMALL(IF(Отделения[Город]=$AG$1,ROW(Отделения[Город])-1),ROW(U47)-ROW($A$2)+1)),\"\")","v":""},{"$f":"IFERROR(INDEX(Отделения[отделение],SMALL(IF(Отделения[Город]=$AH$1,ROW(Отделения[Город])-1),ROW(V47)-ROW($A$2)+1)),\"\")","v":""},{"$f":"IFERROR(INDEX(Отделения[отделение],SMALL(IF(Отделения[Город]=$AI$1,ROW(Отделения[Город])-1),ROW(AB47)-ROW($A$2)+1)),\"\")","v":""},{"$f":"IFERROR(INDEX(Отделения[отделение],SMALL(IF(Отделения[Город]=$AJ$1,ROW(Отделения[Город])-1),ROW(AB47)-ROW($A$2)+1)),\"\")","v":""},{"$f":"IFERROR(INDEX(Отделения[отделение],SMALL(IF(Отделения[Город]=$AK$1,ROW(Отделения[Город])-1),ROW(AB47)-ROW($A$2)+1)),\"\")","v":""},{"$f":"IFERROR(INDEX(Отделения[отделение],SMALL(IF(Отделения[Город]=$AL$1,ROW(Отделения[Город])-1),ROW(AB47)-ROW($A$2)+1)),\"\")","v":""},{"$f":"IFERROR(INDEX(Отделения[отделение],SMALL(IF(Отделения[Город]=$AM$1,ROW(Отделения[Город])-1),ROW(AB47)-ROW($A$2)+1)),\"\")","v":""},{"$f":"IFERROR(INDEX(Отделения[отделение],SMALL(IF(Отделения[Город]=$AN$1,ROW(Отделения[Город])-1),ROW(AB47)-ROW($A$2)+1)),\"\")","v":""},{"$f":"IFERROR(INDEX(Отделения[отделение],SMALL(IF(Отделения[Город]=$AO$1,ROW(Отделения[Город])-1),ROW(AB47)-ROW($A$2)+1)),\"\")","v":""},{"$f":"IFERROR(INDEX(Отделения[отделение],SMALL(IF(Отделения[Город]=$AP$1,ROW(Отделения[Город])-1),ROW(AB47)-ROW($A$2)+1)),\"\")","v":""},{"$f":"IFERROR(INDEX(Отделения[отделение],SMALL(IF(Отделения[Город]=$AQ$1,ROW(Отделения[Город])-1),ROW(AB47)-ROW($A$2)+1)),\"\")","v":""},{"$f":"IFERROR(INDEX(Отделения[отделение],SMALL(IF(Отделения[Город]=$AR$1,ROW(Отделения[Город])-1),ROW(AB47)-ROW($A$2)+1)),\"\")","v":""},{"$f":"IFERROR(INDEX(Отделения[отделение],SMALL(IF(Отделения[Город]=$AS$1,ROW(Отделения[Город])-1),ROW(AB47)-ROW($A$2)+1)),\"\")","v":""},{"$f":"IFERROR(INDEX(Отделения[отделение],SMALL(IF(Отделения[Город]=$AT$1,ROW(Отделения[Город])-1),ROW(AB47)-ROW($A$2)+1)),\"\")","v":""},{"$f":"IFERROR(INDEX(Отделения[отделение],SMALL(IF(Отделения[Город]=$AU$1,ROW(Отделения[Город])-1),ROW(AB47)-ROW($A$2)+1)),\"\")","v":""},{"$f":"IFERROR(INDEX(Отделения[отделение],SMALL(IF(Отделения[Город]=$AV$1,ROW(Отделения[Город])-1),ROW(AB47)-ROW($A$2)+1)),\"\")","v":""},{"$f":"IFERROR(INDEX(Отделения[отделение],SMALL(IF(Отделения[Город]=$AW$1,ROW(Отделения[Город])-1),ROW(AB47)-ROW($A$2)+1)),\"\")","v":""},{"$f":"IFERROR(INDEX(Отделения[отделение],SMALL(IF(Отделения[Город]=$AX$1,ROW(Отделения[Город])-1),ROW(AB47)-ROW($A$2)+1)),\"\")","v":""},{"$f":"IFERROR(INDEX(Отделения[отделение],SMALL(IF(Отделения[Город]=$AY$1,ROW(Отделения[Город])-1),ROW(AB47)-ROW($A$2)+1)),\"\")","v":""},{"$f":"IFERROR(INDEX(Отделения[отделение],SMALL(IF(Отделения[Город]=$AZ$1,ROW(Отделения[Город])-1),ROW(AB47)-ROW($A$2)+1)),\"\")","v":""},{"$f":"IFERROR(INDEX(Отделения[отделение],SMALL(IF(Отделения[Город]=$BA$1,ROW(Отделения[Город])-1),ROW(AB47)-ROW($A$2)+1)),\"\")","v":""},{"$f":"IFERROR(INDEX(Отделения[отделение],SMALL(IF(Отделения[Город]=$BB$1,ROW(Отделения[Город])-1),ROW(AB47)-ROW($A$2)+1)),\"\")","v":""},{"$f":"IFERROR(INDEX(Отделения[отделение],SMALL(IF(Отделения[Город]=$BC$1,ROW(Отделения[Город])-1),ROW(AC47)-ROW($A$2)+1)),\"\")","v":""},{"$f":"IFERROR(INDEX(Отделения[отделение],SMALL(IF(Отделения[Город]=$BD$1,ROW(Отделения[Город])-1),ROW(AD47)-ROW($A$2)+1)),\"\")","v":""},{"$f":"IFERROR(INDEX(Отделения[отделение],SMALL(IF(Отделения[Город]=$BE$1,ROW(Отделения[Город])-1),ROW(AE47)-ROW($A$2)+1)),\"\")","v":""},{"$f":"IFERROR(INDEX(Отделения[отделение],SMALL(IF(Отделения[Город]=$BF$1,ROW(Отделения[Город])-1),ROW(AF47)-ROW($A$2)+1)),\"\")","v":""},{"$f":"IFERROR(INDEX(Отделения[отделение],SMALL(IF(Отделения[Город]=$BG$1,ROW(Отделения[Город])-1),ROW(AG47)-ROW($A$2)+1)),\"\")","v":""},{"$f":"IFERROR(INDEX(Отделения[отделение],SMALL(IF(Отделения[Город]=$BH$1,ROW(Отделения[Город])-1),ROW(AH47)-ROW($A$2)+1)),\"\")","v":""},{"$f":"IFERROR(INDEX(Отделения[отделение],SMALL(IF(Отделения[Город]=$BI$1,ROW(Отделения[Город])-1),ROW(AI47)-ROW($A$2)+1)),\"\")","v":""},{"$f":"IFERROR(INDEX(Отделения[отделение],SMALL(IF(Отделения[Город]=$BJ$1,ROW(Отделения[Город])-1),ROW(AJ47)-ROW($A$2)+1)),\"\")","v":""},{"$f":"IFERROR(INDEX(Отделения[отделение],SMALL(IF(Отделения[Город]=$BK$1,ROW(Отделения[Город])-1),ROW(AK47)-ROW($A$2)+1)),\"\")","v":""},{"$f":"IFERROR(INDEX(Отделения[отделение],SMALL(IF(Отделения[Город]=$BL$1,ROW(Отделения[Город])-1),ROW(AL47)-ROW($A$2)+1)),\"\")","v":""},{"$f":"IFERROR(INDEX(Отделения[отделение],SMALL(IF(Отделения[Город]=$BM$1,ROW(Отделения[Город])-1),ROW(AM47)-ROW($A$2)+1)),\"\")","v":""},{"$f":"IFERROR(INDEX(Отделения[отделение],SMALL(IF(Отделения[Город]=$BN$1,ROW(Отделения[Город])-1),ROW(AN47)-ROW($A$2)+1)),\"\")","v":""},{"$f":"IFERROR(INDEX(Отделения[отделение],SMALL(IF(Отделения[Город]=$BO$1,ROW(Отделения[Город])-1),ROW(AO47)-ROW($A$2)+1)),\"\")","v":""},{"$f":"IFERROR(INDEX(Отделения[отделение],SMALL(IF(Отделения[Город]=$BP$1,ROW(Отделения[Город])-1),ROW(AP47)-ROW($A$2)+1)),\"\")","v":""},{"$f":"IFERROR(INDEX(Отделения[отделение],SMALL(IF(Отделения[Город]=$BQ$1,ROW(Отделения[Город])-1),ROW(AQ47)-ROW($A$2)+1)),\"\")","v":""},{"$f":"IFERROR(INDEX(Отделения[отделение],SMALL(IF(Отделения[Город]=$BR$1,ROW(Отделения[Город])-1),ROW(AR47)-ROW($A$2)+1)),\"\")","v":""},{"$f":"IFERROR(INDEX(Отделения[отделение],SMALL(IF(Отделения[Город]=$BS$1,ROW(Отделения[Город])-1),ROW(AS47)-ROW($A$2)+1)),\"\")","v":""},{"$f":"IFERROR(INDEX(Отделения[отделение],SMALL(IF(Отделения[Город]=$BT$1,ROW(Отделения[Город])-1),ROW(AT47)-ROW($A$2)+1)),\"\")","v":""},{"$f":"IFERROR(INDEX(Отделения[отделение],SMALL(IF(Отделения[Город]=$BU$1,ROW(Отделения[Город])-1),ROW(AU47)-ROW($A$2)+1)),\"\")","v":""},{"$f":"IFERROR(INDEX(Отделения[отделение],SMALL(IF(Отделения[Город]=$BV$1,ROW(Отделения[Город])-1),ROW(AV47)-ROW($A$2)+1)),\"\")","v":""},{"$f":"IFERROR(INDEX(Отделения[отделение],SMALL(IF(Отделения[Город]=$BW$1,ROW(Отделения[Город])-1),ROW(AV47)-ROW($A$2)+1)),\"\")","v":""},{"$f":"IFERROR(INDEX(Отделения[отделение],SMALL(IF(Отделения[Город]=$BX$1,ROW(Отделения[Город])-1),ROW(AV47)-ROW($A$2)+1)),\"\")","v":""},{"$f":"IFERROR(INDEX(Отделения[отделение],SMALL(IF(Отделения[Город]=$BY$1,ROW(Отделения[Город])-1),ROW(AV47)-ROW($A$2)+1)),\"\")","v":""},{"$f":"IFERROR(INDEX(Отделения[отделение],SMALL(IF(Отделения[Город]=$BZ$1,ROW(Отделения[Город])-1),ROW(AV47)-ROW($A$2)+1)),\"\")","v":""},{"$f":"IFERROR(INDEX(Отделения[отделение],SMALL(IF(Отделения[Город]=$CA$1,ROW(Отделения[Город])-1),ROW(AV47)-ROW($A$2)+1)),\"\")","v":""},{"$f":"IFERROR(INDEX(Отделения[отделение],SMALL(IF(Отделения[Город]=$CB$1,ROW(Отделения[Город])-1),ROW(AV47)-ROW($A$2)+1)),\"\")","v":""},{"$f":"IFERROR(INDEX(Отделения[отделение],SMALL(IF(Отделения[Город]=$CC$1,ROW(Отделения[Город])-1),ROW(AV47)-ROW($A$2)+1)),\"\")","v":""},{"$f":"IFERROR(INDEX(Отделения[отделение],SMALL(IF(Отделения[Город]=$CD$1,ROW(Отделения[Город])-1),ROW(AV47)-ROW($A$2)+1)),\"\")","v":""},{"$f":"IFERROR(INDEX(Отделения[отделение],SMALL(IF(Отделения[Город]=$CE$1,ROW(Отделения[Город])-1),ROW(AV47)-ROW($A$2)+1)),\"\")","v":""},{"$f":"IFERROR(INDEX(Отделения[отделение],SMALL(IF(Отделения[Город]=$CF$1,ROW(Отделения[Город])-1),ROW(AV47)-ROW($A$2)+1)),\"\")","v":""},{"$f":"IFERROR(INDEX(Отделения[отделение],SMALL(IF(Отделения[Город]=$CG$1,ROW(Отделения[Город])-1),ROW(AV47)-ROW($A$2)+1)),\"\")","v":""},{"$f":"IFERROR(INDEX(Отделения[отделение],SMALL(IF(Отделения[Город]=$CH$1,ROW(Отделения[Город])-1),ROW(AW47)-ROW($A$2)+1)),\"\")","v":""},{"$f":"IFERROR(INDEX(Отделения[отделение],SMALL(IF(Отделения[Город]=$CI$1,ROW(Отделения[Город])-1),ROW(AX47)-ROW($A$2)+1)),\"\")","v":""},{"$f":"IFERROR(INDEX(Отделения[отделение],SMALL(IF(Отделения[Город]=$CJ$1,ROW(Отделения[Город])-1),ROW(AY47)-ROW($A$2)+1)),\"\")","v":""},{"$f":"IFERROR(INDEX(Отделения[отделение],SMALL(IF(Отделения[Город]=$CK$1,ROW(Отделения[Город])-1),ROW(AZ47)-ROW($A$2)+1)),\"\")","v":""},{"$f":"IFERROR(INDEX(Отделения[отделение],SMALL(IF(Отделения[Город]=$CL$1,ROW(Отделения[Город])-1),ROW(BA47)-ROW($A$2)+1)),\"\")","v":""},{"$f":"IFERROR(INDEX(Отделения[отделение],SMALL(IF(Отделения[Город]=$CM$1,ROW(Отделения[Город])-1),ROW(BB47)-ROW($A$2)+1)),\"\")","v":""},{"$f":"IFERROR(INDEX(Отделения[отделение],SMALL(IF(Отделения[Город]=$CN$1,ROW(Отделения[Город])-1),ROW(BC47)-ROW($A$2)+1)),\"\")","v":""},{"$f":"IFERROR(INDEX(Отделения[отделение],SMALL(IF(Отделения[Город]=$CO$1,ROW(Отделения[Город])-1),ROW(BD47)-ROW($A$2)+1)),\"\")","v":""},{"$f":"IFERROR(INDEX(Отделения[отделение],SMALL(IF(Отделения[Город]=$CP$1,ROW(Отделения[Город])-1),ROW(BE47)-ROW($A$2)+1)),\"\")","v":""},{"$f":"IFERROR(INDEX(Отделения[отделение],SMALL(IF(Отделения[Город]=$CQ$1,ROW(Отделения[Город])-1),ROW(BF47)-ROW($A$2)+1)),\"\")","v":""},{"$f":"IFERROR(INDEX(Отделения[отделение],SMALL(IF(Отделения[Город]=$CR$1,ROW(Отделения[Город])-1),ROW(BG47)-ROW($A$2)+1)),\"\")","v":""},{"$f":"IFERROR(INDEX(Отделения[отделение],SMALL(IF(Отделения[Город]=$CS$1,ROW(Отделения[Город])-1),ROW(BH47)-ROW($A$2)+1)),\"\")","v":""},{"$f":"IFERROR(INDEX(Отделения[отделение],SMALL(IF(Отделения[Город]=$CT$1,ROW(Отделения[Город])-1),ROW(BI47)-ROW($A$2)+1)),\"\")","v":""},{"$f":"IFERROR(INDEX(Отделения[отделение],SMALL(IF(Отделения[Город]=$CU$1,ROW(Отделения[Город])-1),ROW(BJ47)-ROW($A$2)+1)),\"\")","v":""},{"$f":"IFERROR(INDEX(Отделения[отделение],SMALL(IF(Отделения[Город]=$CV$1,ROW(Отделения[Город])-1),ROW(BK47)-ROW($A$2)+1)),\"\")","v":""},{"$f":"IFERROR(INDEX(Отделения[отделение],SMALL(IF(Отделения[Город]=$CW$1,ROW(Отделения[Город])-1),ROW(BL47)-ROW($A$2)+1)),\"\")","v":""},{"$f":"IFERROR(INDEX(Отделения[отделение],SMALL(IF(Отделения[Город]=$CX$1,ROW(Отделения[Город])-1),ROW(BM47)-ROW($A$2)+1)),\"\")","v":""},{"$f":"IFERROR(INDEX(Отделения[отделение],SMALL(IF(Отделения[Город]=$CY$1,ROW(Отделения[Город])-1),ROW(BM47)-ROW($A$2)+1)),\"\")","v":""},{"$f":"IFERROR(INDEX(Отделения[отделение],SMALL(IF(Отделения[Город]=$CZ$1,ROW(Отделения[Город])-1),ROW(BM47)-ROW($A$2)+1)),\"\")","v":""},{"$f":"IFERROR(INDEX(Отделения[отделение],SMALL(IF(Отделения[Город]=$DA$1,ROW(Отделения[Город])-1),ROW(BM47)-ROW($A$2)+1)),\"\")","v":""},{"$f":"IFERROR(INDEX(Отделения[отделение],SMALL(IF(Отделения[Город]=$DB$1,ROW(Отделения[Город])-1),ROW(BM47)-ROW($A$2)+1)),\"\")","v":""}]
["Одинцово","ДО \"ОДИНЦОВО\" , 143005, Московская обл., Одинцовский р-н, г. Одинцово, ш. Можайское ,дом 76А","0614","MOOD",null,null,{"$f":"IFERROR(INDEX(Отделения[отделение],SMALL(IF(Отделения[Город]=$G$1,ROW(Отделения[Город])-1),ROW(A48)-ROW($A$2)+1)),\"\")","v":""},{"$f":"IFERROR(INDEX(Отделения[отделение],SMALL(IF(Отделения[Город]=$H$1,ROW(Отделения[Город])-1),ROW(A48)-ROW($A$2)+1)),\"\")","v":""},{"$f":"IFERROR(INDEX(Отделения[отделение],SMALL(IF(Отделения[Город]=$I$1,ROW(Отделения[Город])-1),ROW(A48)-ROW($A$2)+1)),\"\")","v":""},{"$f":"IFERROR(INDEX(Отделения[отделение],SMALL(IF(Отделения[Город]=$J$1,ROW(Отделения[Город])-1),ROW(A48)-ROW($A$2)+1)),\"\")","v":""},{"$f":"IFERROR(INDEX(Отделения[отделение],SMALL(IF(Отделения[Город]=$K$1,ROW(Отделения[Город])-1),ROW(A48)-ROW($A$2)+1)),\"\")","v":""},{"$f":"IFERROR(INDEX(Отделения[отделение],SMALL(IF(Отделения[Город]=$L$1,ROW(Отделения[Город])-1),ROW(A48)-ROW($A$2)+1)),\"\")","v":""},{"$f":"IFERROR(INDEX(Отделения[отделение],SMALL(IF(Отделения[Город]=$M$1,ROW(Отделения[Город])-1),ROW(B48)-ROW($A$2)+1)),\"\")","v":""},{"$f":"IFERROR(INDEX(Отделения[отделение],SMALL(IF(Отделения[Город]=$N$1,ROW(Отделения[Город])-1),ROW(#REF!)-ROW($A$2)+1)),\"\")","v":""},{"$f":"IFERROR(INDEX(Отделения[отделение],SMALL(IF(Отделения[Город]=$O$1,ROW(Отделения[Город])-1),ROW(C48)-ROW($A$2)+1)),\"\")","v":""},{"$f":"IFERROR(INDEX(Отделения[отделение],SMALL(IF(Отделения[Город]=$P$1,ROW(Отделения[Город])-1),ROW(D48)-ROW($A$2)+1)),\"\")","v":""},{"$f":"IFERROR(INDEX(Отделения[отделение],SMALL(IF(Отделения[Город]=$Q$1,ROW(Отделения[Город])-1),ROW(F48)-ROW($A$2)+1)),\"\")","v":""},{"$f":"IFERROR(INDEX(Отделения[отделение],SMALL(IF(Отделения[Город]=$R$1,ROW(Отделения[Город])-1),ROW(#REF!)-ROW($A$2)+1)),\"\")","v":""},{"$f":"IFERROR(INDEX(Отделения[отделение],SMALL(IF(Отделения[Город]=$S$1,ROW(Отделения[Город])-1),ROW(G48)-ROW($A$2)+1)),\"\")","v":""},{"$f":"IFERROR(INDEX(Отделения[отделение],SMALL(IF(Отделения[Город]=$T$1,ROW(Отделения[Город])-1),ROW(H48)-ROW($A$2)+1)),\"\")","v":""},{"$f":"IFERROR(INDEX(Отделения[отделение],SMALL(IF(Отделения[Город]=$U$1,ROW(Отделения[Город])-1),ROW(I48)-ROW($A$2)+1)),\"\")","v":""},{"$f":"IFERROR(INDEX(Отделения[отделение],SMALL(IF(Отделения[Город]=$V$1,ROW(Отделения[Город])-1),ROW(J48)-ROW($A$2)+1)),\"\")","v":""},{"$f":"IFERROR(INDEX(Отделения[отделение],SMALL(IF(Отделения[Город]=$W$1,ROW(Отделения[Город])-1),ROW(K48)-ROW($A$2)+1)),\"\")","v":""},{"$f":"IFERROR(INDEX(Отделения[отделение],SMALL(IF(Отделения[Город]=$X$1,ROW(Отделения[Город])-1),ROW(L48)-ROW($A$2)+1)),\"\")","v":""},{"$f":"IFERROR(INDEX(Отделения[отделение],SMALL(IF(Отделения[Город]=$Y$1,ROW(Отделения[Город])-1),ROW(M48)-ROW($A$2)+1)),\"\")","v":""},{"$f":"IFERROR(INDEX(Отделения[отделение],SMALL(IF(Отделения[Город]=$Z$1,ROW(Отделения[Город])-1),ROW(N48)-ROW($A$2)+1)),\"\")","v":""},{"$f":"IFERROR(INDEX(Отделения[отделение],SMALL(IF(Отделения[Город]=$AA$1,ROW(Отделения[Город])-1),ROW(O48)-ROW($A$2)+1)),\"\")","v":""},{"$f":"IFERROR(INDEX(Отделения[отделение],SMALL(IF(Отделения[Город]=$AB$1,ROW(Отделения[Город])-1),ROW(P48)-ROW($A$2)+1)),\"\")","v":""},{"$f":"IFERROR(INDEX(Отделения[отделение],SMALL(IF(Отделения[Город]=$AC$1,ROW(Отделения[Город])-1),ROW(Q48)-ROW($A$2)+1)),\"\")","v":""},{"$f":"IFERROR(INDEX(Отделения[отделение],SMALL(IF(Отделения[Город]=$AD$1,ROW(Отделения[Город])-1),ROW(R48)-ROW($A$2)+1)),\"\")","v":""},{"$f":"IFERROR(INDEX(Отделения[отделение],SMALL(IF(Отделения[Город]=$AE$1,ROW(Отделения[Город])-1),ROW(S48)-ROW($A$2)+1)),\"\")","v":""},{"$f":"IFERROR(INDEX(Отделения[отделение],SMALL(IF(Отделения[Город]=$AF$1,ROW(Отделения[Город])-1),ROW(T48)-ROW($A$2)+1)),\"\")","v":""},{"$f":"IFERROR(INDEX(Отделения[отделение],SMALL(IF(Отделения[Город]=$AG$1,ROW(Отделения[Город])-1),ROW(U48)-ROW($A$2)+1)),\"\")","v":""},{"$f":"IFERROR(INDEX(Отделения[отделение],SMALL(IF(Отделения[Город]=$AH$1,ROW(Отделения[Город])-1),ROW(V48)-ROW($A$2)+1)),\"\")","v":""},{"$f":"IFERROR(INDEX(Отделения[отделение],SMALL(IF(Отделения[Город]=$AI$1,ROW(Отделения[Город])-1),ROW(AB48)-ROW($A$2)+1)),\"\")","v":""},{"$f":"IFERROR(INDEX(Отделения[отделение],SMALL(IF(Отделения[Город]=$AJ$1,ROW(Отделения[Город])-1),ROW(AB48)-ROW($A$2)+1)),\"\")","v":""},{"$f":"IFERROR(INDEX(Отделения[отделение],SMALL(IF(Отделения[Город]=$AK$1,ROW(Отделения[Город])-1),ROW(AB48)-ROW($A$2)+1)),\"\")","v":""},{"$f":"IFERROR(INDEX(Отделения[отделение],SMALL(IF(Отделения[Город]=$AL$1,ROW(Отделения[Город])-1),ROW(AB48)-ROW($A$2)+1)),\"\")","v":""},{"$f":"IFERROR(INDEX(Отделения[отделение],SMALL(IF(Отделения[Город]=$AM$1,ROW(Отделения[Город])-1),ROW(AB48)-ROW($A$2)+1)),\"\")","v":""},{"$f":"IFERROR(INDEX(Отделения[отделение],SMALL(IF(Отделения[Город]=$AN$1,ROW(Отделения[Город])-1),ROW(AB48)-ROW($A$2)+1)),\"\")","v":""},{"$f":"IFERROR(INDEX(Отделения[отделение],SMALL(IF(Отделения[Город]=$AO$1,ROW(Отделения[Город])-1),ROW(AB48)-ROW($A$2)+1)),\"\")","v":""},{"$f":"IFERROR(INDEX(Отделения[отделение],SMALL(IF(Отделения[Город]=$AP$1,ROW(Отделения[Город])-1),ROW(AB48)-ROW($A$2)+1)),\"\")","v":""},{"$f":"IFERROR(INDEX(Отделения[отделение],SMALL(IF(Отделения[Город]=$AQ$1,ROW(Отделения[Город])-1),ROW(AB48)-ROW($A$2)+1)),\"\")","v":""},{"$f":"IFERROR(INDEX(Отделения[отделение],SMALL(IF(Отделения[Город]=$AR$1,ROW(Отделения[Город])-1),ROW(AB48)-ROW($A$2)+1)),\"\")","v":""},{"$f":"IFERROR(INDEX(Отделения[отделение],SMALL(IF(Отделения[Город]=$AS$1,ROW(Отделения[Город])-1),ROW(AB48)-ROW($A$2)+1)),\"\")","v":""},{"$f":"IFERROR(INDEX(Отделения[отделение],SMALL(IF(Отделения[Город]=$AT$1,ROW(Отделения[Город])-1),ROW(AB48)-ROW($A$2)+1)),\"\")","v":""},{"$f":"IFERROR(INDEX(Отделения[отделение],SMALL(IF(Отделения[Город]=$AU$1,ROW(Отделения[Город])-1),ROW(AB48)-ROW($A$2)+1)),\"\")","v":""},{"$f":"IFERROR(INDEX(Отделения[отделение],SMALL(IF(Отделения[Город]=$AV$1,ROW(Отделения[Город])-1),ROW(AB48)-ROW($A$2)+1)),\"\")","v":""},{"$f":"IFERROR(INDEX(Отделения[отделение],SMALL(IF(Отделения[Город]=$AW$1,ROW(Отделения[Город])-1),ROW(AB48)-ROW($A$2)+1)),\"\")","v":""},{"$f":"IFERROR(INDEX(Отделения[отделение],SMALL(IF(Отделения[Город]=$AX$1,ROW(Отделения[Город])-1),ROW(AB48)-ROW($A$2)+1)),\"\")","v":""},{"$f":"IFERROR(INDEX(Отделения[отделение],SMALL(IF(Отделения[Город]=$AY$1,ROW(Отделения[Город])-1),ROW(AB48)-ROW($A$2)+1)),\"\")","v":""},{"$f":"IFERROR(INDEX(Отделения[отделение],SMALL(IF(Отделения[Город]=$AZ$1,ROW(Отделения[Город])-1),ROW(AB48)-ROW($A$2)+1)),\"\")","v":""},{"$f":"IFERROR(INDEX(Отделения[отделение],SMALL(IF(Отделения[Город]=$BA$1,ROW(Отделения[Город])-1),ROW(AB48)-ROW($A$2)+1)),\"\")","v":""},{"$f":"IFERROR(INDEX(Отделения[отделение],SMALL(IF(Отделения[Город]=$BB$1,ROW(Отделения[Город])-1),ROW(AB48)-ROW($A$2)+1)),\"\")","v":""},{"$f":"IFERROR(INDEX(Отделения[отделение],SMALL(IF(Отделения[Город]=$BC$1,ROW(Отделения[Город])-1),ROW(AC48)-ROW($A$2)+1)),\"\")","v":""},{"$f":"IFERROR(INDEX(Отделения[отделение],SMALL(IF(Отделения[Город]=$BD$1,ROW(Отделения[Город])-1),ROW(AD48)-ROW($A$2)+1)),\"\")","v":""},{"$f":"IFERROR(INDEX(Отделения[отделение],SMALL(IF(Отделения[Город]=$BE$1,ROW(Отделения[Город])-1),ROW(AE48)-ROW($A$2)+1)),\"\")","v":""},{"$f":"IFERROR(INDEX(Отделения[отделение],SMALL(IF(Отделения[Город]=$BF$1,ROW(Отделения[Город])-1),ROW(AF48)-ROW($A$2)+1)),\"\")","v":""},{"$f":"IFERROR(INDEX(Отделения[отделение],SMALL(IF(Отделения[Город]=$BG$1,ROW(Отделения[Город])-1),ROW(AG48)-ROW($A$2)+1)),\"\")","v":""},{"$f":"IFERROR(INDEX(Отделения[отделение],SMALL(IF(Отделения[Город]=$BH$1,ROW(Отделения[Город])-1),ROW(AH48)-ROW($A$2)+1)),\"\")","v":""},{"$f":"IFERROR(INDEX(Отделения[отделение],SMALL(IF(Отделения[Город]=$BI$1,ROW(Отделения[Город])-1),ROW(AI48)-ROW($A$2)+1)),\"\")","v":""},{"$f":"IFERROR(INDEX(Отделения[отделение],SMALL(IF(Отделения[Город]=$BJ$1,ROW(Отделения[Город])-1),ROW(AJ48)-ROW($A$2)+1)),\"\")","v":""},{"$f":"IFERROR(INDEX(Отделения[отделение],SMALL(IF(Отделения[Город]=$BK$1,ROW(Отделения[Город])-1),ROW(AK48)-ROW($A$2)+1)),\"\")","v":""},{"$f":"IFERROR(INDEX(Отделения[отделение],SMALL(IF(Отделения[Город]=$BL$1,ROW(Отделения[Город])-1),ROW(AL48)-ROW($A$2)+1)),\"\")","v":""},{"$f":"IFERROR(INDEX(Отделения[отделение],SMALL(IF(Отделения[Город]=$BM$1,ROW(Отделения[Город])-1),ROW(AM48)-ROW($A$2)+1)),\"\")","v":""},{"$f":"IFERROR(INDEX(Отделения[отделение],SMALL(IF(Отделения[Город]=$BN$1,ROW(Отделения[Город])-1),ROW(AN48)-ROW($A$2)+1)),\"\")","v":""},{"$f":"IFERROR(INDEX(Отделения[отделение],SMALL(IF(Отделения[Город]=$BO$1,ROW(Отделения[Город])-1),ROW(AO48)-ROW($A$2)+1)),\"\")","v":""},{"$f":"IFERROR(INDEX(Отделения[отделение],SMALL(IF(Отделения[Город]=$BP$1,ROW(Отделения[Город])-1),ROW(AP48)-ROW($A$2)+1)),\"\")","v":""},{"$f":"IFERROR(INDEX(Отделения[отделение],SMALL(IF(Отделения[Город]=$BQ$1,ROW(Отделения[Город])-1),ROW(AQ48)-ROW($A$2)+1)),\"\")","v":""},{"$f":"IFERROR(INDEX(Отделения[отделение],SMALL(IF(Отделения[Город]=$BR$1,ROW(Отделения[Город])-1),ROW(AR48)-ROW($A$2)+1)),\"\")","v":""},{"$f":"IFERROR(INDEX(Отделения[отделение],SMALL(IF(Отделения[Город]=$BS$1,ROW(Отделения[Город])-1),ROW(AS48)-ROW($A$2)+1)),\"\")","v":""},{"$f":"IFERROR(INDEX(Отделения[отделение],SMALL(IF(Отделения[Город]=$BT$1,ROW(Отделения[Город])-1),ROW(AT48)-ROW($A$2)+1)),\"\")","v":""},{"$f":"IFERROR(INDEX(Отделения[отделение],SMALL(IF(Отделения[Город]=$BU$1,ROW(Отделения[Город])-1),ROW(AU48)-ROW($A$2)+1)),\"\")","v":""},{"$f":"IFERROR(INDEX(Отделения[отделение],SMALL(IF(Отделения[Город]=$BV$1,ROW(Отделения[Город])-1),ROW(AV48)-ROW($A$2)+1)),\"\")","v":""},{"$f":"IFERROR(INDEX(Отделения[отделение],SMALL(IF(Отделения[Город]=$BW$1,ROW(Отделения[Город])-1),ROW(AV48)-ROW($A$2)+1)),\"\")","v":""},{"$f":"IFERROR(INDEX(Отделения[отделение],SMALL(IF(Отделения[Город]=$BX$1,ROW(Отделения[Город])-1),ROW(AV48)-ROW($A$2)+1)),\"\")","v":""},{"$f":"IFERROR(INDEX(Отделения[отделение],SMALL(IF(Отделения[Город]=$BY$1,ROW(Отделения[Город])-1),ROW(AV48)-ROW($A$2)+1)),\"\")","v":""},{"$f":"IFERROR(INDEX(Отделения[отделение],SMALL(IF(Отделения[Город]=$BZ$1,ROW(Отделения[Город])-1),ROW(AV48)-ROW($A$2)+1)),\"\")","v":""},{"$f":"IFERROR(INDEX(Отделения[отделение],SMALL(IF(Отделения[Город]=$CA$1,ROW(Отделения[Город])-1),ROW(AV48)-ROW($A$2)+1)),\"\")","v":""},{"$f":"IFERROR(INDEX(Отделения[отделение],SMALL(IF(Отделения[Город]=$CB$1,ROW(Отделения[Город])-1),ROW(AV48)-ROW($A$2)+1)),\"\")","v":""},{"$f":"IFERROR(INDEX(Отделения[отделение],SMALL(IF(Отделения[Город]=$CC$1,ROW(Отделения[Город])-1),ROW(AV48)-ROW($A$2)+1)),\"\")","v":""},{"$f":"IFERROR(INDEX(Отделения[отделение],SMALL(IF(Отделения[Город]=$CD$1,ROW(Отделения[Город])-1),ROW(AV48)-ROW($A$2)+1)),\"\")","v":""},{"$f":"IFERROR(INDEX(Отделения[отделение],SMALL(IF(Отделения[Город]=$CE$1,ROW(Отделения[Город])-1),ROW(AV48)-ROW($A$2)+1)),\"\")","v":""},{"$f":"IFERROR(INDEX(Отделения[отделение],SMALL(IF(Отделения[Город]=$CF$1,ROW(Отделения[Город])-1),ROW(AV48)-ROW($A$2)+1)),\"\")","v":""},{"$f":"IFERROR(INDEX(Отделения[отделение],SMALL(IF(Отделения[Город]=$CG$1,ROW(Отделения[Город])-1),ROW(AV48)-ROW($A$2)+1)),\"\")","v":""},{"$f":"IFERROR(INDEX(Отделения[отделение],SMALL(IF(Отделения[Город]=$CH$1,ROW(Отделения[Город])-1),ROW(AW48)-ROW($A$2)+1)),\"\")","v":""},{"$f":"IFERROR(INDEX(Отделения[отделение],SMALL(IF(Отделения[Город]=$CI$1,ROW(Отделения[Город])-1),ROW(AX48)-ROW($A$2)+1)),\"\")","v":""},{"$f":"IFERROR(INDEX(Отделения[отделение],SMALL(IF(Отделения[Город]=$CJ$1,ROW(Отделения[Город])-1),ROW(AY48)-ROW($A$2)+1)),\"\")","v":""},{"$f":"IFERROR(INDEX(Отделения[отделение],SMALL(IF(Отделения[Город]=$CK$1,ROW(Отделения[Город])-1),ROW(AZ48)-ROW($A$2)+1)),\"\")","v":""},{"$f":"IFERROR(INDEX(Отделения[отделение],SMALL(IF(Отделения[Город]=$CL$1,ROW(Отделения[Город])-1),ROW(BA48)-ROW($A$2)+1)),\"\")","v":""},{"$f":"IFERROR(INDEX(Отделения[отделение],SMALL(IF(Отделения[Город]=$CM$1,ROW(Отделения[Город])-1),ROW(BB48)-ROW($A$2)+1)),\"\")","v":""},{"$f":"IFERROR(INDEX(Отделения[отделение],SMALL(IF(Отделения[Город]=$CN$1,ROW(Отделения[Город])-1),ROW(BC48)-ROW($A$2)+1)),\"\")","v":""},{"$f":"IFERROR(INDEX(Отделения[отделение],SMALL(IF(Отделения[Город]=$CO$1,ROW(Отделения[Город])-1),ROW(BD48)-ROW($A$2)+1)),\"\")","v":""},{"$f":"IFERROR(INDEX(Отделения[отделение],SMALL(IF(Отделения[Город]=$CP$1,ROW(Отделения[Город])-1),ROW(BE48)-ROW($A$2)+1)),\"\")","v":""},{"$f":"IFERROR(INDEX(Отделения[отделение],SMALL(IF(Отделения[Город]=$CQ$1,ROW(Отделения[Город])-1),ROW(BF48)-ROW($A$2)+1)),\"\")","v":""},{"$f":"IFERROR(INDEX(Отделения[отделение],SMALL(IF(Отделения[Город]=$CR$1,ROW(Отделения[Город])-1),ROW(BG48)-ROW($A$2)+1)),\"\")","v":""},{"$f":"IFERROR(INDEX(Отделения[отделение],SMALL(IF(Отделения[Город]=$CS$1,ROW(Отделения[Город])-1),ROW(BH48)-ROW($A$2)+1)),\"\")","v":""},{"$f":"IFERROR(INDEX(Отделения[отделение],SMALL(IF(Отделения[Город]=$CT$1,ROW(Отделения[Город])-1),ROW(BI48)-ROW($A$2)+1)),\"\")","v":""},{"$f":"IFERROR(INDEX(Отделения[отделение],SMALL(IF(Отделения[Город]=$CU$1,ROW(Отделения[Город])-1),ROW(BJ48)-ROW($A$2)+1)),\"\")","v":""},{"$f":"IFERROR(INDEX(Отделения[отделение],SMALL(IF(Отделения[Город]=$CV$1,ROW(Отделения[Город])-1),ROW(BK48)-ROW($A$2)+1)),\"\")","v":""},{"$f":"IFERROR(INDEX(Отделения[отделение],SMALL(IF(Отделения[Город]=$CW$1,ROW(Отделения[Город])-1),ROW(BL48)-ROW($A$2)+1)),\"\")","v":""},{"$f":"IFERROR(INDEX(Отделения[отделение],SMALL(IF(Отделения[Город]=$CX$1,ROW(Отделения[Город])-1),ROW(BM48)-ROW($A$2)+1)),\"\")","v":""},{"$f":"IFERROR(INDEX(Отделения[отделение],SMALL(IF(Отделения[Город]=$CY$1,ROW(Отделения[Город])-1),ROW(BM48)-ROW($A$2)+1)),\"\")","v":""},{"$f":"IFERROR(INDEX(Отделения[отделение],SMALL(IF(Отделения[Город]=$CZ$1,ROW(Отделения[Город])-1),ROW(BM48)-ROW($A$2)+1)),\"\")","v":""},{"$f":"IFERROR(INDEX(Отделения[отделение],SMALL(IF(Отделения[Город]=$DA$1,ROW(Отделения[Город])-1),ROW(BM48)-ROW($A$2)+1)),\"\")","v":""},{"$f":"IFERROR(INDEX(Отделения[отделение],SMALL(IF(Отделения[Город]=$DB$1,ROW(Отделения[Город])-1),ROW(BM48)-ROW($A$2)+1)),\"\")","v":""}]
["Москва","ДО \"ДМИТРОВСКИЙ\" , 127015, г. Москва, ул. Бутырская,д.89","0616","MOMW",null,null,{"$f":"IFERROR(INDEX(Отделения[отделение],SMALL(IF(Отделения[Город]=$G$1,ROW(Отделения[Город])-1),ROW(A49)-ROW($A$2)+1)),\"\")","v":""},{"$f":"IFERROR(INDEX(Отделения[отделение],SMALL(IF(Отделения[Город]=$H$1,ROW(Отделения[Город])-1),ROW(A49)-ROW($A$2)+1)),\"\")","v":""},{"$f":"IFERROR(INDEX(Отделения[отделение],SMALL(IF(Отделения[Город]=$I$1,ROW(Отделения[Город])-1),ROW(A49)-ROW($A$2)+1)),\"\")","v":""},{"$f":"IFERROR(INDEX(Отделения[отделение],SMALL(IF(Отделения[Город]=$J$1,ROW(Отделения[Город])-1),ROW(A49)-ROW($A$2)+1)),\"\")","v":""},{"$f":"IFERROR(INDEX(Отделения[отделение],SMALL(IF(Отделения[Город]=$K$1,ROW(Отделения[Город])-1),ROW(A49)-ROW($A$2)+1)),\"\")","v":""},{"$f":"IFERROR(INDEX(Отделения[отделение],SMALL(IF(Отделения[Город]=$L$1,ROW(Отделения[Город])-1),ROW(A49)-ROW($A$2)+1)),\"\")","v":""},{"$f":"IFERROR(INDEX(Отделения[отделение],SMALL(IF(Отделения[Город]=$M$1,ROW(Отделения[Город])-1),ROW(B49)-ROW($A$2)+1)),\"\")","v":""},{"$f":"IFERROR(INDEX(Отделения[отделение],SMALL(IF(Отделения[Город]=$N$1,ROW(Отделения[Город])-1),ROW(#REF!)-ROW($A$2)+1)),\"\")","v":""},{"$f":"IFERROR(INDEX(Отделения[отделение],SMALL(IF(Отделения[Город]=$O$1,ROW(Отделения[Город])-1),ROW(C49)-ROW($A$2)+1)),\"\")","v":""},{"$f":"IFERROR(INDEX(Отделения[отделение],SMALL(IF(Отделения[Город]=$P$1,ROW(Отделения[Город])-1),ROW(D49)-ROW($A$2)+1)),\"\")","v":""},{"$f":"IFERROR(INDEX(Отделения[отделение],SMALL(IF(Отделения[Город]=$Q$1,ROW(Отделения[Город])-1),ROW(F49)-ROW($A$2)+1)),\"\")","v":""},{"$f":"IFERROR(INDEX(Отделения[отделение],SMALL(IF(Отделения[Город]=$R$1,ROW(Отделения[Город])-1),ROW(#REF!)-ROW($A$2)+1)),\"\")","v":""},{"$f":"IFERROR(INDEX(Отделения[отделение],SMALL(IF(Отделения[Город]=$S$1,ROW(Отделения[Город])-1),ROW(G49)-ROW($A$2)+1)),\"\")","v":""},{"$f":"IFERROR(INDEX(Отделения[отделение],SMALL(IF(Отделения[Город]=$T$1,ROW(Отделения[Город])-1),ROW(H49)-ROW($A$2)+1)),\"\")","v":""},{"$f":"IFERROR(INDEX(Отделения[отделение],SMALL(IF(Отделения[Город]=$U$1,ROW(Отделения[Город])-1),ROW(I49)-ROW($A$2)+1)),\"\")","v":""},{"$f":"IFERROR(INDEX(Отделения[отделение],SMALL(IF(Отделения[Город]=$V$1,ROW(Отделения[Город])-1),ROW(J49)-ROW($A$2)+1)),\"\")","v":""},{"$f":"IFERROR(INDEX(Отделения[отделение],SMALL(IF(Отделения[Город]=$W$1,ROW(Отделения[Город])-1),ROW(K49)-ROW($A$2)+1)),\"\")","v":""},{"$f":"IFERROR(INDEX(Отделения[отделение],SMALL(IF(Отделения[Город]=$X$1,ROW(Отделения[Город])-1),ROW(L49)-ROW($A$2)+1)),\"\")","v":""},{"$f":"IFERROR(INDEX(Отделения[отделение],SMALL(IF(Отделения[Город]=$Y$1,ROW(Отделения[Город])-1),ROW(M49)-ROW($A$2)+1)),\"\")","v":""},{"$f":"IFERROR(INDEX(Отделения[отделение],SMALL(IF(Отделения[Город]=$Z$1,ROW(Отделения[Город])-1),ROW(N49)-ROW($A$2)+1)),\"\")","v":""},{"$f":"IFERROR(INDEX(Отделения[отделение],SMALL(IF(Отделения[Город]=$AA$1,ROW(Отделения[Город])-1),ROW(O49)-ROW($A$2)+1)),\"\")","v":""},{"$f":"IFERROR(INDEX(Отделения[отделение],SMALL(IF(Отделения[Город]=$AB$1,ROW(Отделения[Город])-1),ROW(P49)-ROW($A$2)+1)),\"\")","v":""},{"$f":"IFERROR(INDEX(Отделения[отделение],SMALL(IF(Отделения[Город]=$AC$1,ROW(Отделения[Город])-1),ROW(Q49)-ROW($A$2)+1)),\"\")","v":""},{"$f":"IFERROR(INDEX(Отделения[отделение],SMALL(IF(Отделения[Город]=$AD$1,ROW(Отделения[Город])-1),ROW(R49)-ROW($A$2)+1)),\"\")","v":""},{"$f":"IFERROR(INDEX(Отделения[отделение],SMALL(IF(Отделения[Город]=$AE$1,ROW(Отделения[Город])-1),ROW(S49)-ROW($A$2)+1)),\"\")","v":""},{"$f":"IFERROR(INDEX(Отделения[отделение],SMALL(IF(Отделения[Город]=$AF$1,ROW(Отделения[Город])-1),ROW(T49)-ROW($A$2)+1)),\"\")","v":""},{"$f":"IFERROR(INDEX(Отделения[отделение],SMALL(IF(Отделения[Город]=$AG$1,ROW(Отделения[Город])-1),ROW(U49)-ROW($A$2)+1)),\"\")","v":""},{"$f":"IFERROR(INDEX(Отделения[отделение],SMALL(IF(Отделения[Город]=$AH$1,ROW(Отделения[Город])-1),ROW(V49)-ROW($A$2)+1)),\"\")","v":""},{"$f":"IFERROR(INDEX(Отделения[отделение],SMALL(IF(Отделения[Город]=$AI$1,ROW(Отделения[Город])-1),ROW(AB49)-ROW($A$2)+1)),\"\")","v":""},{"$f":"IFERROR(INDEX(Отделения[отделение],SMALL(IF(Отделения[Город]=$AJ$1,ROW(Отделения[Город])-1),ROW(AB49)-ROW($A$2)+1)),\"\")","v":""},{"$f":"IFERROR(INDEX(Отделения[отделение],SMALL(IF(Отделения[Город]=$AK$1,ROW(Отделения[Город])-1),ROW(AB49)-ROW($A$2)+1)),\"\")","v":""},{"$f":"IFERROR(INDEX(Отделения[отделение],SMALL(IF(Отделения[Город]=$AL$1,ROW(Отделения[Город])-1),ROW(AB49)-ROW($A$2)+1)),\"\")","v":""},{"$f":"IFERROR(INDEX(Отделения[отделение],SMALL(IF(Отделения[Город]=$AM$1,ROW(Отделения[Город])-1),ROW(AB49)-ROW($A$2)+1)),\"\")","v":""},{"$f":"IFERROR(INDEX(Отделения[отделение],SMALL(IF(Отделения[Город]=$AN$1,ROW(Отделения[Город])-1),ROW(AB49)-ROW($A$2)+1)),\"\")","v":""},{"$f":"IFERROR(INDEX(Отделения[отделение],SMALL(IF(Отделения[Город]=$AO$1,ROW(Отделения[Город])-1),ROW(AB49)-ROW($A$2)+1)),\"\")","v":""},{"$f":"IFERROR(INDEX(Отделения[отделение],SMALL(IF(Отделения[Город]=$AP$1,ROW(Отделения[Город])-1),ROW(AB49)-ROW($A$2)+1)),\"\")","v":""},{"$f":"IFERROR(INDEX(Отделения[отделение],SMALL(IF(Отделения[Город]=$AQ$1,ROW(Отделения[Город])-1),ROW(AB49)-ROW($A$2)+1)),\"\")","v":""},{"$f":"IFERROR(INDEX(Отделения[отделение],SMALL(IF(Отделения[Город]=$AR$1,ROW(Отделения[Город])-1),ROW(AB49)-ROW($A$2)+1)),\"\")","v":""},{"$f":"IFERROR(INDEX(Отделения[отделение],SMALL(IF(Отделения[Город]=$AS$1,ROW(Отделения[Город])-1),ROW(AB49)-ROW($A$2)+1)),\"\")","v":""},{"$f":"IFERROR(INDEX(Отделения[отделение],SMALL(IF(Отделения[Город]=$AT$1,ROW(Отделения[Город])-1),ROW(AB49)-ROW($A$2)+1)),\"\")","v":""},{"$f":"IFERROR(INDEX(Отделения[отделение],SMALL(IF(Отделения[Город]=$AU$1,ROW(Отделения[Город])-1),ROW(AB49)-ROW($A$2)+1)),\"\")","v":""},{"$f":"IFERROR(INDEX(Отделения[отделение],SMALL(IF(Отделения[Город]=$AV$1,ROW(Отделения[Город])-1),ROW(AB49)-ROW($A$2)+1)),\"\")","v":""},{"$f":"IFERROR(INDEX(Отделения[отделение],SMALL(IF(Отделения[Город]=$AW$1,ROW(Отделения[Город])-1),ROW(AB49)-ROW($A$2)+1)),\"\")","v":""},{"$f":"IFERROR(INDEX(Отделения[отделение],SMALL(IF(Отделения[Город]=$AX$1,ROW(Отделения[Город])-1),ROW(AB49)-ROW($A$2)+1)),\"\")","v":""},{"$f":"IFERROR(INDEX(Отделения[отделение],SMALL(IF(Отделения[Город]=$AY$1,ROW(Отделения[Город])-1),ROW(AB49)-ROW($A$2)+1)),\"\")","v":""},{"$f":"IFERROR(INDEX(Отделения[отделение],SMALL(IF(Отделения[Город]=$AZ$1,ROW(Отделения[Город])-1),ROW(AB49)-ROW($A$2)+1)),\"\")","v":""},{"$f":"IFERROR(INDEX(Отделения[отделение],SMALL(IF(Отделения[Город]=$BA$1,ROW(Отделения[Город])-1),ROW(AB49)-ROW($A$2)+1)),\"\")","v":""},{"$f":"IFERROR(INDEX(Отделения[отделение],SMALL(IF(Отделения[Город]=$BB$1,ROW(Отделения[Город])-1),ROW(AB49)-ROW($A$2)+1)),\"\")","v":""},{"$f":"IFERROR(INDEX(Отделения[отделение],SMALL(IF(Отделения[Город]=$BC$1,ROW(Отделения[Город])-1),ROW(AC49)-ROW($A$2)+1)),\"\")","v":""},{"$f":"IFERROR(INDEX(Отделения[отделение],SMALL(IF(Отделения[Город]=$BD$1,ROW(Отделения[Город])-1),ROW(AD49)-ROW($A$2)+1)),\"\")","v":""},{"$f":"IFERROR(INDEX(Отделения[отделение],SMALL(IF(Отделения[Город]=$BE$1,ROW(Отделения[Город])-1),ROW(AE49)-ROW($A$2)+1)),\"\")","v":""},{"$f":"IFERROR(INDEX(Отделения[отделение],SMALL(IF(Отделения[Город]=$BF$1,ROW(Отделения[Город])-1),ROW(AF49)-ROW($A$2)+1)),\"\")","v":""},{"$f":"IFERROR(INDEX(Отделения[отделение],SMALL(IF(Отделения[Город]=$BG$1,ROW(Отделения[Город])-1),ROW(AG49)-ROW($A$2)+1)),\"\")","v":""},{"$f":"IFERROR(INDEX(Отделения[отделение],SMALL(IF(Отделения[Город]=$BH$1,ROW(Отделения[Город])-1),ROW(AH49)-ROW($A$2)+1)),\"\")","v":""},{"$f":"IFERROR(INDEX(Отделения[отделение],SMALL(IF(Отделения[Город]=$BI$1,ROW(Отделения[Город])-1),ROW(AI49)-ROW($A$2)+1)),\"\")","v":""},{"$f":"IFERROR(INDEX(Отделения[отделение],SMALL(IF(Отделения[Город]=$BJ$1,ROW(Отделения[Город])-1),ROW(AJ49)-ROW($A$2)+1)),\"\")","v":""},{"$f":"IFERROR(INDEX(Отделения[отделение],SMALL(IF(Отделения[Город]=$BK$1,ROW(Отделения[Город])-1),ROW(AK49)-ROW($A$2)+1)),\"\")","v":""},{"$f":"IFERROR(INDEX(Отделения[отделение],SMALL(IF(Отделения[Город]=$BL$1,ROW(Отделения[Город])-1),ROW(AL49)-ROW($A$2)+1)),\"\")","v":""},{"$f":"IFERROR(INDEX(Отделения[отделение],SMALL(IF(Отделения[Город]=$BM$1,ROW(Отделения[Город])-1),ROW(AM49)-ROW($A$2)+1)),\"\")","v":""},{"$f":"IFERROR(INDEX(Отделения[отделение],SMALL(IF(Отделения[Город]=$BN$1,ROW(Отделения[Город])-1),ROW(AN49)-ROW($A$2)+1)),\"\")","v":""},{"$f":"IFERROR(INDEX(Отделения[отделение],SMALL(IF(Отделения[Город]=$BO$1,ROW(Отделения[Город])-1),ROW(AO49)-ROW($A$2)+1)),\"\")","v":""},{"$f":"IFERROR(INDEX(Отделения[отделение],SMALL(IF(Отделения[Город]=$BP$1,ROW(Отделения[Город])-1),ROW(AP49)-ROW($A$2)+1)),\"\")","v":""},{"$f":"IFERROR(INDEX(Отделения[отделение],SMALL(IF(Отделения[Город]=$BQ$1,ROW(Отделения[Город])-1),ROW(AQ49)-ROW($A$2)+1)),\"\")","v":""},{"$f":"IFERROR(INDEX(Отделения[отделение],SMALL(IF(Отделения[Город]=$BR$1,ROW(Отделения[Город])-1),ROW(AR49)-ROW($A$2)+1)),\"\")","v":""},{"$f":"IFERROR(INDEX(Отделения[отделение],SMALL(IF(Отделения[Город]=$BS$1,ROW(Отделения[Город])-1),ROW(AS49)-ROW($A$2)+1)),\"\")","v":""},{"$f":"IFERROR(INDEX(Отделения[отделение],SMALL(IF(Отделения[Город]=$BT$1,ROW(Отделения[Город])-1),ROW(AT49)-ROW($A$2)+1)),\"\")","v":""},{"$f":"IFERROR(INDEX(Отделения[отделение],SMALL(IF(Отделения[Город]=$BU$1,ROW(Отделения[Город])-1),ROW(AU49)-ROW($A$2)+1)),\"\")","v":""},{"$f":"IFERROR(INDEX(Отделения[отделение],SMALL(IF(Отделения[Город]=$BV$1,ROW(Отделения[Город])-1),ROW(AV49)-ROW($A$2)+1)),\"\")","v":""},{"$f":"IFERROR(INDEX(Отделения[отделение],SMALL(IF(Отделения[Город]=$BW$1,ROW(Отделения[Город])-1),ROW(AV49)-ROW($A$2)+1)),\"\")","v":""},{"$f":"IFERROR(INDEX(Отделения[отделение],SMALL(IF(Отделения[Город]=$BX$1,ROW(Отделения[Город])-1),ROW(AV49)-ROW($A$2)+1)),\"\")","v":""},{"$f":"IFERROR(INDEX(Отделения[отделение],SMALL(IF(Отделения[Город]=$BY$1,ROW(Отделения[Город])-1),ROW(AV49)-ROW($A$2)+1)),\"\")","v":""},{"$f":"IFERROR(INDEX(Отделения[отделение],SMALL(IF(Отделения[Город]=$BZ$1,ROW(Отделения[Город])-1),ROW(AV49)-ROW($A$2)+1)),\"\")","v":""},{"$f":"IFERROR(INDEX(Отделения[отделение],SMALL(IF(Отделения[Город]=$CA$1,ROW(Отделения[Город])-1),ROW(AV49)-ROW($A$2)+1)),\"\")","v":""},{"$f":"IFERROR(INDEX(Отделения[отделение],SMALL(IF(Отделения[Город]=$CB$1,ROW(Отделения[Город])-1),ROW(AV49)-ROW($A$2)+1)),\"\")","v":""},{"$f":"IFERROR(INDEX(Отделения[отделение],SMALL(IF(Отделения[Город]=$CC$1,ROW(Отделения[Город])-1),ROW(AV49)-ROW($A$2)+1)),\"\")","v":""},{"$f":"IFERROR(INDEX(Отделения[отделение],SMALL(IF(Отделения[Город]=$CD$1,ROW(Отделения[Город])-1),ROW(AV49)-ROW($A$2)+1)),\"\")","v":""},{"$f":"IFERROR(INDEX(Отделения[отделение],SMALL(IF(Отделения[Город]=$CE$1,ROW(Отделения[Город])-1),ROW(AV49)-ROW($A$2)+1)),\"\")","v":""},{"$f":"IFERROR(INDEX(Отделения[отделение],SMALL(IF(Отделения[Город]=$CF$1,ROW(Отделения[Город])-1),ROW(AV49)-ROW($A$2)+1)),\"\")","v":""},{"$f":"IFERROR(INDEX(Отделения[отделение],SMALL(IF(Отделения[Город]=$CG$1,ROW(Отделения[Город])-1),ROW(AV49)-ROW($A$2)+1)),\"\")","v":""},{"$f":"IFERROR(INDEX(Отделения[отделение],SMALL(IF(Отделения[Город]=$CH$1,ROW(Отделения[Город])-1),ROW(AW49)-ROW($A$2)+1)),\"\")","v":""},{"$f":"IFERROR(INDEX(Отделения[отделение],SMALL(IF(Отделения[Город]=$CI$1,ROW(Отделения[Город])-1),ROW(AX49)-ROW($A$2)+1)),\"\")","v":""},{"$f":"IFERROR(INDEX(Отделения[отделение],SMALL(IF(Отделения[Город]=$CJ$1,ROW(Отделения[Город])-1),ROW(AY49)-ROW($A$2)+1)),\"\")","v":""},{"$f":"IFERROR(INDEX(Отделения[отделение],SMALL(IF(Отделения[Город]=$CK$1,ROW(Отделения[Город])-1),ROW(AZ49)-ROW($A$2)+1)),\"\")","v":""},{"$f":"IFERROR(INDEX(Отделения[отделение],SMALL(IF(Отделения[Город]=$CL$1,ROW(Отделения[Город])-1),ROW(BA49)-ROW($A$2)+1)),\"\")","v":""},{"$f":"IFERROR(INDEX(Отделения[отделение],SMALL(IF(Отделения[Город]=$CM$1,ROW(Отделения[Город])-1),ROW(BB49)-ROW($A$2)+1)),\"\")","v":""},{"$f":"IFERROR(INDEX(Отделения[отделение],SMALL(IF(Отделения[Город]=$CN$1,ROW(Отделения[Город])-1),ROW(BC49)-ROW($A$2)+1)),\"\")","v":""},{"$f":"IFERROR(INDEX(Отделения[отделение],SMALL(IF(Отделения[Город]=$CO$1,ROW(Отделения[Город])-1),ROW(BD49)-ROW($A$2)+1)),\"\")","v":""},{"$f":"IFERROR(INDEX(Отделения[отделение],SMALL(IF(Отделения[Город]=$CP$1,ROW(Отделения[Город])-1),ROW(BE49)-ROW($A$2)+1)),\"\")","v":""},{"$f":"IFERROR(INDEX(Отделения[отделение],SMALL(IF(Отделения[Город]=$CQ$1,ROW(Отделения[Город])-1),ROW(BF49)-ROW($A$2)+1)),\"\")","v":""},{"$f":"IFERROR(INDEX(Отделения[отделение],SMALL(IF(Отделения[Город]=$CR$1,ROW(Отделения[Город])-1),ROW(BG49)-ROW($A$2)+1)),\"\")","v":""},{"$f":"IFERROR(INDEX(Отделения[отделение],SMALL(IF(Отделения[Город]=$CS$1,ROW(Отделения[Город])-1),ROW(BH49)-ROW($A$2)+1)),\"\")","v":""},{"$f":"IFERROR(INDEX(Отделения[отделение],SMALL(IF(Отделения[Город]=$CT$1,ROW(Отделения[Город])-1),ROW(BI49)-ROW($A$2)+1)),\"\")","v":""},{"$f":"IFERROR(INDEX(Отделения[отделение],SMALL(IF(Отделения[Город]=$CU$1,ROW(Отделения[Город])-1),ROW(BJ49)-ROW($A$2)+1)),\"\")","v":""},{"$f":"IFERROR(INDEX(Отделения[отделение],SMALL(IF(Отделения[Город]=$CV$1,ROW(Отделения[Город])-1),ROW(BK49)-ROW($A$2)+1)),\"\")","v":""},{"$f":"IFERROR(INDEX(Отделения[отделение],SMALL(IF(Отделения[Город]=$CW$1,ROW(Отделения[Город])-1),ROW(BL49)-ROW($A$2)+1)),\"\")","v":""},{"$f":"IFERROR(INDEX(Отделения[отделение],SMALL(IF(Отделения[Город]=$CX$1,ROW(Отделения[Город])-1),ROW(BM49)-ROW($A$2)+1)),\"\")","v":""},{"$f":"IFERROR(INDEX(Отделения[отделение],SMALL(IF(Отделения[Город]=$CY$1,ROW(Отделения[Город])-1),ROW(BM49)-ROW($A$2)+1)),\"\")","v":""},{"$f":"IFERROR(INDEX(Отделения[отделение],SMALL(IF(Отделения[Город]=$CZ$1,ROW(Отделения[Город])-1),ROW(BM49)-ROW($A$2)+1)),\"\")","v":""},{"$f":"IFERROR(INDEX(Отделения[отделение],SMALL(IF(Отделения[Город]=$DA$1,ROW(Отделения[Город])-1),ROW(BM49)-ROW($A$2)+1)),\"\")","v":""},{"$f":"IFERROR(INDEX(Отделения[отделение],SMALL(IF(Отделения[Город]=$DB$1,ROW(Отделения[Город])-1),ROW(BM49)-ROW($A$2)+1)),\"\")","v":""}]
["Москва","ДО \"КРЫЛАТСКОЕ\" , 121609, г. Москва, Осенний бульвар,д. 7, корп. 1","0617","MORW",null,null,{"$f":"IFERROR(INDEX(Отделения[отделение],SMALL(IF(Отделения[Город]=$G$1,ROW(Отделения[Город])-1),ROW(A50)-ROW($A$2)+1)),\"\")","v":""},{"$f":"IFERROR(INDEX(Отделения[отделение],SMALL(IF(Отделения[Город]=$H$1,ROW(Отделения[Город])-1),ROW(A50)-ROW($A$2)+1)),\"\")","v":""},{"$f":"IFERROR(INDEX(Отделения[отделение],SMALL(IF(Отделения[Город]=$I$1,ROW(Отделения[Город])-1),ROW(A50)-ROW($A$2)+1)),\"\")","v":""},{"$f":"IFERROR(INDEX(Отделения[отделение],SMALL(IF(Отделения[Город]=$J$1,ROW(Отделения[Город])-1),ROW(A50)-ROW($A$2)+1)),\"\")","v":""},{"$f":"IFERROR(INDEX(Отделения[отделение],SMALL(IF(Отделения[Город]=$K$1,ROW(Отделения[Город])-1),ROW(A50)-ROW($A$2)+1)),\"\")","v":""},{"$f":"IFERROR(INDEX(Отделения[отделение],SMALL(IF(Отделения[Город]=$L$1,ROW(Отделения[Город])-1),ROW(A50)-ROW($A$2)+1)),\"\")","v":""},{"$f":"IFERROR(INDEX(Отделения[отделение],SMALL(IF(Отделения[Город]=$M$1,ROW(Отделения[Город])-1),ROW(B50)-ROW($A$2)+1)),\"\")","v":""},{"$f":"IFERROR(INDEX(Отделения[отделение],SMALL(IF(Отделения[Город]=$N$1,ROW(Отделения[Город])-1),ROW(#REF!)-ROW($A$2)+1)),\"\")","v":""},{"$f":"IFERROR(INDEX(Отделения[отделение],SMALL(IF(Отделения[Город]=$O$1,ROW(Отделения[Город])-1),ROW(C50)-ROW($A$2)+1)),\"\")","v":""},{"$f":"IFERROR(INDEX(Отделения[отделение],SMALL(IF(Отделения[Город]=$P$1,ROW(Отделения[Город])-1),ROW(D50)-ROW($A$2)+1)),\"\")","v":""},{"$f":"IFERROR(INDEX(Отделения[отделение],SMALL(IF(Отделения[Город]=$Q$1,ROW(Отделения[Город])-1),ROW(F50)-ROW($A$2)+1)),\"\")","v":""},{"$f":"IFERROR(INDEX(Отделения[отделение],SMALL(IF(Отделения[Город]=$R$1,ROW(Отделения[Город])-1),ROW(#REF!)-ROW($A$2)+1)),\"\")","v":""},{"$f":"IFERROR(INDEX(Отделения[отделение],SMALL(IF(Отделения[Город]=$S$1,ROW(Отделения[Город])-1),ROW(G50)-ROW($A$2)+1)),\"\")","v":""},{"$f":"IFERROR(INDEX(Отделения[отделение],SMALL(IF(Отделения[Город]=$T$1,ROW(Отделения[Город])-1),ROW(H50)-ROW($A$2)+1)),\"\")","v":""},{"$f":"IFERROR(INDEX(Отделения[отделение],SMALL(IF(Отделения[Город]=$U$1,ROW(Отделения[Город])-1),ROW(I50)-ROW($A$2)+1)),\"\")","v":""},{"$f":"IFERROR(INDEX(Отделения[отделение],SMALL(IF(Отделения[Город]=$V$1,ROW(Отделения[Город])-1),ROW(J50)-ROW($A$2)+1)),\"\")","v":""},{"$f":"IFERROR(INDEX(Отделения[отделение],SMALL(IF(Отделения[Город]=$W$1,ROW(Отделения[Город])-1),ROW(K50)-ROW($A$2)+1)),\"\")","v":""},{"$f":"IFERROR(INDEX(Отделения[отделение],SMALL(IF(Отделения[Город]=$X$1,ROW(Отделения[Город])-1),ROW(L50)-ROW($A$2)+1)),\"\")","v":""},{"$f":"IFERROR(INDEX(Отделения[отделение],SMALL(IF(Отделения[Город]=$Y$1,ROW(Отделения[Город])-1),ROW(M50)-ROW($A$2)+1)),\"\")","v":""},{"$f":"IFERROR(INDEX(Отделения[отделение],SMALL(IF(Отделения[Город]=$Z$1,ROW(Отделения[Город])-1),ROW(N50)-ROW($A$2)+1)),\"\")","v":""},{"$f":"IFERROR(INDEX(Отделения[отделение],SMALL(IF(Отделения[Город]=$AA$1,ROW(Отделения[Город])-1),ROW(O50)-ROW($A$2)+1)),\"\")","v":""},{"$f":"IFERROR(INDEX(Отделения[отделение],SMALL(IF(Отделения[Город]=$AB$1,ROW(Отделения[Город])-1),ROW(P50)-ROW($A$2)+1)),\"\")","v":""},{"$f":"IFERROR(INDEX(Отделения[отделение],SMALL(IF(Отделения[Город]=$AC$1,ROW(Отделения[Город])-1),ROW(Q50)-ROW($A$2)+1)),\"\")","v":""},{"$f":"IFERROR(INDEX(Отделения[отделение],SMALL(IF(Отделения[Город]=$AD$1,ROW(Отделения[Город])-1),ROW(R50)-ROW($A$2)+1)),\"\")","v":""},{"$f":"IFERROR(INDEX(Отделения[отделение],SMALL(IF(Отделения[Город]=$AE$1,ROW(Отделения[Город])-1),ROW(S50)-ROW($A$2)+1)),\"\")","v":""},{"$f":"IFERROR(INDEX(Отделения[отделение],SMALL(IF(Отделения[Город]=$AF$1,ROW(Отделения[Город])-1),ROW(T50)-ROW($A$2)+1)),\"\")","v":""},{"$f":"IFERROR(INDEX(Отделения[отделение],SMALL(IF(Отделения[Город]=$AG$1,ROW(Отделения[Город])-1),ROW(U50)-ROW($A$2)+1)),\"\")","v":""},{"$f":"IFERROR(INDEX(Отделения[отделение],SMALL(IF(Отделения[Город]=$AH$1,ROW(Отделения[Город])-1),ROW(V50)-ROW($A$2)+1)),\"\")","v":""},{"$f":"IFERROR(INDEX(Отделения[отделение],SMALL(IF(Отделения[Город]=$AI$1,ROW(Отделения[Город])-1),ROW(AB50)-ROW($A$2)+1)),\"\")","v":""},{"$f":"IFERROR(INDEX(Отделения[отделение],SMALL(IF(Отделения[Город]=$AJ$1,ROW(Отделения[Город])-1),ROW(AB50)-ROW($A$2)+1)),\"\")","v":""},{"$f":"IFERROR(INDEX(Отделения[отделение],SMALL(IF(Отделения[Город]=$AK$1,ROW(Отделения[Город])-1),ROW(AB50)-ROW($A$2)+1)),\"\")","v":""},{"$f":"IFERROR(INDEX(Отделения[отделение],SMALL(IF(Отделения[Город]=$AL$1,ROW(Отделения[Город])-1),ROW(AB50)-ROW($A$2)+1)),\"\")","v":""},{"$f":"IFERROR(INDEX(Отделения[отделение],SMALL(IF(Отделения[Город]=$AM$1,ROW(Отделения[Город])-1),ROW(AB50)-ROW($A$2)+1)),\"\")","v":""},{"$f":"IFERROR(INDEX(Отделения[отделение],SMALL(IF(Отделения[Город]=$AN$1,ROW(Отделения[Город])-1),ROW(AB50)-ROW($A$2)+1)),\"\")","v":""},{"$f":"IFERROR(INDEX(Отделения[отделение],SMALL(IF(Отделения[Город]=$AO$1,ROW(Отделения[Город])-1),ROW(AB50)-ROW($A$2)+1)),\"\")","v":""},{"$f":"IFERROR(INDEX(Отделения[отделение],SMALL(IF(Отделения[Город]=$AP$1,ROW(Отделения[Город])-1),ROW(AB50)-ROW($A$2)+1)),\"\")","v":""},{"$f":"IFERROR(INDEX(Отделения[отделение],SMALL(IF(Отделения[Город]=$AQ$1,ROW(Отделения[Город])-1),ROW(AB50)-ROW($A$2)+1)),\"\")","v":""},{"$f":"IFERROR(INDEX(Отделения[отделение],SMALL(IF(Отделения[Город]=$AR$1,ROW(Отделения[Город])-1),ROW(AB50)-ROW($A$2)+1)),\"\")","v":""},{"$f":"IFERROR(INDEX(Отделения[отделение],SMALL(IF(Отделения[Город]=$AS$1,ROW(Отделения[Город])-1),ROW(AB50)-ROW($A$2)+1)),\"\")","v":""},{"$f":"IFERROR(INDEX(Отделения[отделение],SMALL(IF(Отделения[Город]=$AT$1,ROW(Отделения[Город])-1),ROW(AB50)-ROW($A$2)+1)),\"\")","v":""},{"$f":"IFERROR(INDEX(Отделения[отделение],SMALL(IF(Отделения[Город]=$AU$1,ROW(Отделения[Город])-1),ROW(AB50)-ROW($A$2)+1)),\"\")","v":""},{"$f":"IFERROR(INDEX(Отделения[отделение],SMALL(IF(Отделения[Город]=$AV$1,ROW(Отделения[Город])-1),ROW(AB50)-ROW($A$2)+1)),\"\")","v":""},{"$f":"IFERROR(INDEX(Отделения[отделение],SMALL(IF(Отделения[Город]=$AW$1,ROW(Отделения[Город])-1),ROW(AB50)-ROW($A$2)+1)),\"\")","v":""},{"$f":"IFERROR(INDEX(Отделения[отделение],SMALL(IF(Отделения[Город]=$AX$1,ROW(Отделения[Город])-1),ROW(AB50)-ROW($A$2)+1)),\"\")","v":""},{"$f":"IFERROR(INDEX(Отделения[отделение],SMALL(IF(Отделения[Город]=$AY$1,ROW(Отделения[Город])-1),ROW(AB50)-ROW($A$2)+1)),\"\")","v":""},{"$f":"IFERROR(INDEX(Отделения[отделение],SMALL(IF(Отделения[Город]=$AZ$1,ROW(Отделения[Город])-1),ROW(AB50)-ROW($A$2)+1)),\"\")","v":""},{"$f":"IFERROR(INDEX(Отделения[отделение],SMALL(IF(Отделения[Город]=$BA$1,ROW(Отделения[Город])-1),ROW(AB50)-ROW($A$2)+1)),\"\")","v":""},{"$f":"IFERROR(INDEX(Отделения[отделение],SMALL(IF(Отделения[Город]=$BB$1,ROW(Отделения[Город])-1),ROW(AB50)-ROW($A$2)+1)),\"\")","v":""},{"$f":"IFERROR(INDEX(Отделения[отделение],SMALL(IF(Отделения[Город]=$BC$1,ROW(Отделения[Город])-1),ROW(AC50)-ROW($A$2)+1)),\"\")","v":""},{"$f":"IFERROR(INDEX(Отделения[отделение],SMALL(IF(Отделения[Город]=$BD$1,ROW(Отделения[Город])-1),ROW(AD50)-ROW($A$2)+1)),\"\")","v":""},{"$f":"IFERROR(INDEX(Отделения[отделение],SMALL(IF(Отделения[Город]=$BE$1,ROW(Отделения[Город])-1),ROW(AE50)-ROW($A$2)+1)),\"\")","v":""},{"$f":"IFERROR(INDEX(Отделения[отделение],SMALL(IF(Отделения[Город]=$BF$1,ROW(Отделения[Город])-1),ROW(AF50)-ROW($A$2)+1)),\"\")","v":""},{"$f":"IFERROR(INDEX(Отделения[отделение],SMALL(IF(Отделения[Город]=$BG$1,ROW(Отделения[Город])-1),ROW(AG50)-ROW($A$2)+1)),\"\")","v":""},{"$f":"IFERROR(INDEX(Отделения[отделение],SMALL(IF(Отделения[Город]=$BH$1,ROW(Отделения[Город])-1),ROW(AH50)-ROW($A$2)+1)),\"\")","v":""},{"$f":"IFERROR(INDEX(Отделения[отделение],SMALL(IF(Отделения[Город]=$BI$1,ROW(Отделения[Город])-1),ROW(AI50)-ROW($A$2)+1)),\"\")","v":""},{"$f":"IFERROR(INDEX(Отделения[отделение],SMALL(IF(Отделения[Город]=$BJ$1,ROW(Отделения[Город])-1),ROW(AJ50)-ROW($A$2)+1)),\"\")","v":""},{"$f":"IFERROR(INDEX(Отделения[отделение],SMALL(IF(Отделения[Город]=$BK$1,ROW(Отделения[Город])-1),ROW(AK50)-ROW($A$2)+1)),\"\")","v":""},{"$f":"IFERROR(INDEX(Отделения[отделение],SMALL(IF(Отделения[Город]=$BL$1,ROW(Отделения[Город])-1),ROW(AL50)-ROW($A$2)+1)),\"\")","v":""},{"$f":"IFERROR(INDEX(Отделения[отделение],SMALL(IF(Отделения[Город]=$BM$1,ROW(Отделения[Город])-1),ROW(AM50)-ROW($A$2)+1)),\"\")","v":""},{"$f":"IFERROR(INDEX(Отделения[отделение],SMALL(IF(Отделения[Город]=$BN$1,ROW(Отделения[Город])-1),ROW(AN50)-ROW($A$2)+1)),\"\")","v":""},{"$f":"IFERROR(INDEX(Отделения[отделение],SMALL(IF(Отделения[Город]=$BO$1,ROW(Отделения[Город])-1),ROW(AO50)-ROW($A$2)+1)),\"\")","v":""},{"$f":"IFERROR(INDEX(Отделения[отделение],SMALL(IF(Отделения[Город]=$BP$1,ROW(Отделения[Город])-1),ROW(AP50)-ROW($A$2)+1)),\"\")","v":""},{"$f":"IFERROR(INDEX(Отделения[отделение],SMALL(IF(Отделения[Город]=$BQ$1,ROW(Отделения[Город])-1),ROW(AQ50)-ROW($A$2)+1)),\"\")","v":""},{"$f":"IFERROR(INDEX(Отделения[отделение],SMALL(IF(Отделения[Город]=$BR$1,ROW(Отделения[Город])-1),ROW(AR50)-ROW($A$2)+1)),\"\")","v":""},{"$f":"IFERROR(INDEX(Отделения[отделение],SMALL(IF(Отделения[Город]=$BS$1,ROW(Отделения[Город])-1),ROW(AS50)-ROW($A$2)+1)),\"\")","v":""},{"$f":"IFERROR(INDEX(Отделения[отделение],SMALL(IF(Отделения[Город]=$BT$1,ROW(Отделения[Город])-1),ROW(AT50)-ROW($A$2)+1)),\"\")","v":""},{"$f":"IFERROR(INDEX(Отделения[отделение],SMALL(IF(Отделения[Город]=$BU$1,ROW(Отделения[Город])-1),ROW(AU50)-ROW($A$2)+1)),\"\")","v":""},{"$f":"IFERROR(INDEX(Отделения[отделение],SMALL(IF(Отделения[Город]=$BV$1,ROW(Отделения[Город])-1),ROW(AV50)-ROW($A$2)+1)),\"\")","v":""},{"$f":"IFERROR(INDEX(Отделения[отделение],SMALL(IF(Отделения[Город]=$BW$1,ROW(Отделения[Город])-1),ROW(AV50)-ROW($A$2)+1)),\"\")","v":""},{"$f":"IFERROR(INDEX(Отделения[отделение],SMALL(IF(Отделения[Город]=$BX$1,ROW(Отделения[Город])-1),ROW(AV50)-ROW($A$2)+1)),\"\")","v":""},{"$f":"IFERROR(INDEX(Отделения[отделение],SMALL(IF(Отделения[Город]=$BY$1,ROW(Отделения[Город])-1),ROW(AV50)-ROW($A$2)+1)),\"\")","v":""},{"$f":"IFERROR(INDEX(Отделения[отделение],SMALL(IF(Отделения[Город]=$BZ$1,ROW(Отделения[Город])-1),ROW(AV50)-ROW($A$2)+1)),\"\")","v":""},{"$f":"IFERROR(INDEX(Отделения[отделение],SMALL(IF(Отделения[Город]=$CA$1,ROW(Отделения[Город])-1),ROW(AV50)-ROW($A$2)+1)),\"\")","v":""},{"$f":"IFERROR(INDEX(Отделения[отделение],SMALL(IF(Отделения[Город]=$CB$1,ROW(Отделения[Город])-1),ROW(AV50)-ROW($A$2)+1)),\"\")","v":""},{"$f":"IFERROR(INDEX(Отделения[отделение],SMALL(IF(Отделения[Город]=$CC$1,ROW(Отделения[Город])-1),ROW(AV50)-ROW($A$2)+1)),\"\")","v":""},{"$f":"IFERROR(INDEX(Отделения[отделение],SMALL(IF(Отделения[Город]=$CD$1,ROW(Отделения[Город])-1),ROW(AV50)-ROW($A$2)+1)),\"\")","v":""},{"$f":"IFERROR(INDEX(Отделения[отделение],SMALL(IF(Отделения[Город]=$CE$1,ROW(Отделения[Город])-1),ROW(AV50)-ROW($A$2)+1)),\"\")","v":""},{"$f":"IFERROR(INDEX(Отделения[отделение],SMALL(IF(Отделения[Город]=$CF$1,ROW(Отделения[Город])-1),ROW(AV50)-ROW($A$2)+1)),\"\")","v":""},{"$f":"IFERROR(INDEX(Отделения[отделение],SMALL(IF(Отделения[Город]=$CG$1,ROW(Отделения[Город])-1),ROW(AV50)-ROW($A$2)+1)),\"\")","v":""},{"$f":"IFERROR(INDEX(Отделения[отделение],SMALL(IF(Отделения[Город]=$CH$1,ROW(Отделения[Город])-1),ROW(AW50)-ROW($A$2)+1)),\"\")","v":""},{"$f":"IFERROR(INDEX(Отделения[отделение],SMALL(IF(Отделения[Город]=$CI$1,ROW(Отделения[Город])-1),ROW(AX50)-ROW($A$2)+1)),\"\")","v":""},{"$f":"IFERROR(INDEX(Отделения[отделение],SMALL(IF(Отделения[Город]=$CJ$1,ROW(Отделения[Город])-1),ROW(AY50)-ROW($A$2)+1)),\"\")","v":""},{"$f":"IFERROR(INDEX(Отделения[отделение],SMALL(IF(Отделения[Город]=$CK$1,ROW(Отделения[Город])-1),ROW(AZ50)-ROW($A$2)+1)),\"\")","v":""},{"$f":"IFERROR(INDEX(Отделения[отделение],SMALL(IF(Отделения[Город]=$CL$1,ROW(Отделения[Город])-1),ROW(BA50)-ROW($A$2)+1)),\"\")","v":""},{"$f":"IFERROR(INDEX(Отделения[отделение],SMALL(IF(Отделения[Город]=$CM$1,ROW(Отделения[Город])-1),ROW(BB50)-ROW($A$2)+1)),\"\")","v":""},{"$f":"IFERROR(INDEX(Отделения[отделение],SMALL(IF(Отделения[Город]=$CN$1,ROW(Отделения[Город])-1),ROW(BC50)-ROW($A$2)+1)),\"\")","v":""},{"$f":"IFERROR(INDEX(Отделения[отделение],SMALL(IF(Отделения[Город]=$CO$1,ROW(Отделения[Город])-1),ROW(BD50)-ROW($A$2)+1)),\"\")","v":""},{"$f":"IFERROR(INDEX(Отделения[отделение],SMALL(IF(Отделения[Город]=$CP$1,ROW(Отделения[Город])-1),ROW(BE50)-ROW($A$2)+1)),\"\")","v":""},{"$f":"IFERROR(INDEX(Отделения[отделение],SMALL(IF(Отделения[Город]=$CQ$1,ROW(Отделения[Город])-1),ROW(BF50)-ROW($A$2)+1)),\"\")","v":""},{"$f":"IFERROR(INDEX(Отделения[отделение],SMALL(IF(Отделения[Город]=$CR$1,ROW(Отделения[Город])-1),ROW(BG50)-ROW($A$2)+1)),\"\")","v":""},{"$f":"IFERROR(INDEX(Отделения[отделение],SMALL(IF(Отделения[Город]=$CS$1,ROW(Отделения[Город])-1),ROW(BH50)-ROW($A$2)+1)),\"\")","v":""},{"$f":"IFERROR(INDEX(Отделения[отделение],SMALL(IF(Отделения[Город]=$CT$1,ROW(Отделения[Город])-1),ROW(BI50)-ROW($A$2)+1)),\"\")","v":""},{"$f":"IFERROR(INDEX(Отделения[отделение],SMALL(IF(Отделения[Город]=$CU$1,ROW(Отделения[Город])-1),ROW(BJ50)-ROW($A$2)+1)),\"\")","v":""},{"$f":"IFERROR(INDEX(Отделения[отделение],SMALL(IF(Отделения[Город]=$CV$1,ROW(Отделения[Город])-1),ROW(BK50)-ROW($A$2)+1)),\"\")","v":""},{"$f":"IFERROR(INDEX(Отделения[отделение],SMALL(IF(Отделения[Город]=$CW$1,ROW(Отделения[Город])-1),ROW(BL50)-ROW($A$2)+1)),\"\")","v":""},{"$f":"IFERROR(INDEX(Отделения[отделение],SMALL(IF(Отделения[Город]=$CX$1,ROW(Отделения[Город])-1),ROW(BM50)-ROW($A$2)+1)),\"\")","v":""},{"$f":"IFERROR(INDEX(Отделения[отделение],SMALL(IF(Отделения[Город]=$CY$1,ROW(Отделения[Город])-1),ROW(BM50)-ROW($A$2)+1)),\"\")","v":""},{"$f":"IFERROR(INDEX(Отделения[отделение],SMALL(IF(Отделения[Город]=$CZ$1,ROW(Отделения[Город])-1),ROW(BM50)-ROW($A$2)+1)),\"\")","v":""},{"$f":"IFERROR(INDEX(Отделения[отделение],SMALL(IF(Отделения[Город]=$DA$1,ROW(Отделения[Город])-1),ROW(BM50)-ROW($A$2)+1)),\"\")","v":""},{"$f":"IFERROR(INDEX(Отделения[отделение],SMALL(IF(Отделения[Город]=$DB$1,ROW(Отделения[Город])-1),ROW(BM50)-ROW($A$2)+1)),\"\")","v":""}]
["Москва","ДО \"УНИВЕРСИТЕТ\" , 119311, г. Москва, пр-кт Ломоносовский, д.25 к.1","0619","MOGY",null,null,{"$f":"IFERROR(INDEX(Отделения[отделение],SMALL(IF(Отделения[Город]=$G$1,ROW(Отделения[Город])-1),ROW(A51)-ROW($A$2)+1)),\"\")","v":""},{"$f":"IFERROR(INDEX(Отделения[отделение],SMALL(IF(Отделения[Город]=$H$1,ROW(Отделения[Город])-1),ROW(A51)-ROW($A$2)+1)),\"\")","v":""},{"$f":"IFERROR(INDEX(Отделения[отделение],SMALL(IF(Отделения[Город]=$I$1,ROW(Отделения[Город])-1),ROW(A51)-ROW($A$2)+1)),\"\")","v":""},{"$f":"IFERROR(INDEX(Отделения[отделение],SMALL(IF(Отделения[Город]=$J$1,ROW(Отделения[Город])-1),ROW(A51)-ROW($A$2)+1)),\"\")","v":""},{"$f":"IFERROR(INDEX(Отделения[отделение],SMALL(IF(Отделения[Город]=$K$1,ROW(Отделения[Город])-1),ROW(A51)-ROW($A$2)+1)),\"\")","v":""},{"$f":"IFERROR(INDEX(Отделения[отделение],SMALL(IF(Отделения[Город]=$L$1,ROW(Отделения[Город])-1),ROW(A51)-ROW($A$2)+1)),\"\")","v":""},{"$f":"IFERROR(INDEX(Отделения[отделение],SMALL(IF(Отделения[Город]=$M$1,ROW(Отделения[Город])-1),ROW(B51)-ROW($A$2)+1)),\"\")","v":""},{"$f":"IFERROR(INDEX(Отделения[отделение],SMALL(IF(Отделения[Город]=$N$1,ROW(Отделения[Город])-1),ROW(#REF!)-ROW($A$2)+1)),\"\")","v":""},{"$f":"IFERROR(INDEX(Отделения[отделение],SMALL(IF(Отделения[Город]=$O$1,ROW(Отделения[Город])-1),ROW(C51)-ROW($A$2)+1)),\"\")","v":""},{"$f":"IFERROR(INDEX(Отделения[отделение],SMALL(IF(Отделения[Город]=$P$1,ROW(Отделения[Город])-1),ROW(D51)-ROW($A$2)+1)),\"\")","v":""},{"$f":"IFERROR(INDEX(Отделения[отделение],SMALL(IF(Отделения[Город]=$Q$1,ROW(Отделения[Город])-1),ROW(F51)-ROW($A$2)+1)),\"\")","v":""},{"$f":"IFERROR(INDEX(Отделения[отделение],SMALL(IF(Отделения[Город]=$R$1,ROW(Отделения[Город])-1),ROW(#REF!)-ROW($A$2)+1)),\"\")","v":""},{"$f":"IFERROR(INDEX(Отделения[отделение],SMALL(IF(Отделения[Город]=$S$1,ROW(Отделения[Город])-1),ROW(G51)-ROW($A$2)+1)),\"\")","v":""},{"$f":"IFERROR(INDEX(Отделения[отделение],SMALL(IF(Отделения[Город]=$T$1,ROW(Отделения[Город])-1),ROW(H51)-ROW($A$2)+1)),\"\")","v":""},{"$f":"IFERROR(INDEX(Отделения[отделение],SMALL(IF(Отделения[Город]=$U$1,ROW(Отделения[Город])-1),ROW(I51)-ROW($A$2)+1)),\"\")","v":""},{"$f":"IFERROR(INDEX(Отделения[отделение],SMALL(IF(Отделения[Город]=$V$1,ROW(Отделения[Город])-1),ROW(J51)-ROW($A$2)+1)),\"\")","v":""},{"$f":"IFERROR(INDEX(Отделения[отделение],SMALL(IF(Отделения[Город]=$W$1,ROW(Отделения[Город])-1),ROW(K51)-ROW($A$2)+1)),\"\")","v":""},{"$f":"IFERROR(INDEX(Отделения[отделение],SMALL(IF(Отделения[Город]=$X$1,ROW(Отделения[Город])-1),ROW(L51)-ROW($A$2)+1)),\"\")","v":""},{"$f":"IFERROR(INDEX(Отделения[отделение],SMALL(IF(Отделения[Город]=$Y$1,ROW(Отделения[Город])-1),ROW(M51)-ROW($A$2)+1)),\"\")","v":""},{"$f":"IFERROR(INDEX(Отделения[отделение],SMALL(IF(Отделения[Город]=$Z$1,ROW(Отделения[Город])-1),ROW(N51)-ROW($A$2)+1)),\"\")","v":""},{"$f":"IFERROR(INDEX(Отделения[отделение],SMALL(IF(Отделения[Город]=$AA$1,ROW(Отделения[Город])-1),ROW(O51)-ROW($A$2)+1)),\"\")","v":""},{"$f":"IFERROR(INDEX(Отделения[отделение],SMALL(IF(Отделения[Город]=$AB$1,ROW(Отделения[Город])-1),ROW(P51)-ROW($A$2)+1)),\"\")","v":""},{"$f":"IFERROR(INDEX(Отделения[отделение],SMALL(IF(Отделения[Город]=$AC$1,ROW(Отделения[Город])-1),ROW(Q51)-ROW($A$2)+1)),\"\")","v":""},{"$f":"IFERROR(INDEX(Отделения[отделение],SMALL(IF(Отделения[Город]=$AD$1,ROW(Отделения[Город])-1),ROW(R51)-ROW($A$2)+1)),\"\")","v":""},{"$f":"IFERROR(INDEX(Отделения[отделение],SMALL(IF(Отделения[Город]=$AE$1,ROW(Отделения[Город])-1),ROW(S51)-ROW($A$2)+1)),\"\")","v":""},{"$f":"IFERROR(INDEX(Отделения[отделение],SMALL(IF(Отделения[Город]=$AF$1,ROW(Отделения[Город])-1),ROW(T51)-ROW($A$2)+1)),\"\")","v":""},{"$f":"IFERROR(INDEX(Отделения[отделение],SMALL(IF(Отделения[Город]=$AG$1,ROW(Отделения[Город])-1),ROW(U51)-ROW($A$2)+1)),\"\")","v":""},{"$f":"IFERROR(INDEX(Отделения[отделение],SMALL(IF(Отделения[Город]=$AH$1,ROW(Отделения[Город])-1),ROW(V51)-ROW($A$2)+1)),\"\")","v":""},{"$f":"IFERROR(INDEX(Отделения[отделение],SMALL(IF(Отделения[Город]=$AI$1,ROW(Отделения[Город])-1),ROW(AB51)-ROW($A$2)+1)),\"\")","v":""},{"$f":"IFERROR(INDEX(Отделения[отделение],SMALL(IF(Отделения[Город]=$AJ$1,ROW(Отделения[Город])-1),ROW(AB51)-ROW($A$2)+1)),\"\")","v":""},{"$f":"IFERROR(INDEX(Отделения[отделение],SMALL(IF(Отделения[Город]=$AK$1,ROW(Отделения[Город])-1),ROW(AB51)-ROW($A$2)+1)),\"\")","v":""},{"$f":"IFERROR(INDEX(Отделения[отделение],SMALL(IF(Отделения[Город]=$AL$1,ROW(Отделения[Город])-1),ROW(AB51)-ROW($A$2)+1)),\"\")","v":""},{"$f":"IFERROR(INDEX(Отделения[отделение],SMALL(IF(Отделения[Город]=$AM$1,ROW(Отделения[Город])-1),ROW(AB51)-ROW($A$2)+1)),\"\")","v":""},{"$f":"IFERROR(INDEX(Отделения[отделение],SMALL(IF(Отделения[Город]=$AN$1,ROW(Отделения[Город])-1),ROW(AB51)-ROW($A$2)+1)),\"\")","v":""},{"$f":"IFERROR(INDEX(Отделения[отделение],SMALL(IF(Отделения[Город]=$AO$1,ROW(Отделения[Город])-1),ROW(AB51)-ROW($A$2)+1)),\"\")","v":""},{"$f":"IFERROR(INDEX(Отделения[отделение],SMALL(IF(Отделения[Город]=$AP$1,ROW(Отделения[Город])-1),ROW(AB51)-ROW($A$2)+1)),\"\")","v":""},{"$f":"IFERROR(INDEX(Отделения[отделение],SMALL(IF(Отделения[Город]=$AQ$1,ROW(Отделения[Город])-1),ROW(AB51)-ROW($A$2)+1)),\"\")","v":""},{"$f":"IFERROR(INDEX(Отделения[отделение],SMALL(IF(Отделения[Город]=$AR$1,ROW(Отделения[Город])-1),ROW(AB51)-ROW($A$2)+1)),\"\")","v":""},{"$f":"IFERROR(INDEX(Отделения[отделение],SMALL(IF(Отделения[Город]=$AS$1,ROW(Отделения[Город])-1),ROW(AB51)-ROW($A$2)+1)),\"\")","v":""},{"$f":"IFERROR(INDEX(Отделения[отделение],SMALL(IF(Отделения[Город]=$AT$1,ROW(Отделения[Город])-1),ROW(AB51)-ROW($A$2)+1)),\"\")","v":""},{"$f":"IFERROR(INDEX(Отделения[отделение],SMALL(IF(Отделения[Город]=$AU$1,ROW(Отделения[Город])-1),ROW(AB51)-ROW($A$2)+1)),\"\")","v":""},{"$f":"IFERROR(INDEX(Отделения[отделение],SMALL(IF(Отделения[Город]=$AV$1,ROW(Отделения[Город])-1),ROW(AB51)-ROW($A$2)+1)),\"\")","v":""},{"$f":"IFERROR(INDEX(Отделения[отделение],SMALL(IF(Отделения[Город]=$AW$1,ROW(Отделения[Город])-1),ROW(AB51)-ROW($A$2)+1)),\"\")","v":""},{"$f":"IFERROR(INDEX(Отделения[отделение],SMALL(IF(Отделения[Город]=$AX$1,ROW(Отделения[Город])-1),ROW(AB51)-ROW($A$2)+1)),\"\")","v":""},{"$f":"IFERROR(INDEX(Отделения[отделение],SMALL(IF(Отделения[Город]=$AY$1,ROW(Отделения[Город])-1),ROW(AB51)-ROW($A$2)+1)),\"\")","v":""},{"$f":"IFERROR(INDEX(Отделения[отделение],SMALL(IF(Отделения[Город]=$AZ$1,ROW(Отделения[Город])-1),ROW(AB51)-ROW($A$2)+1)),\"\")","v":""},{"$f":"IFERROR(INDEX(Отделения[отделение],SMALL(IF(Отделения[Город]=$BA$1,ROW(Отделения[Город])-1),ROW(AB51)-ROW($A$2)+1)),\"\")","v":""},{"$f":"IFERROR(INDEX(Отделения[отделение],SMALL(IF(Отделения[Город]=$BB$1,ROW(Отделения[Город])-1),ROW(AB51)-ROW($A$2)+1)),\"\")","v":""},{"$f":"IFERROR(INDEX(Отделения[отделение],SMALL(IF(Отделения[Город]=$BC$1,ROW(Отделения[Город])-1),ROW(AC51)-ROW($A$2)+1)),\"\")","v":""},{"$f":"IFERROR(INDEX(Отделения[отделение],SMALL(IF(Отделения[Город]=$BD$1,ROW(Отделения[Город])-1),ROW(AD51)-ROW($A$2)+1)),\"\")","v":""},{"$f":"IFERROR(INDEX(Отделения[отделение],SMALL(IF(Отделения[Город]=$BE$1,ROW(Отделения[Город])-1),ROW(AE51)-ROW($A$2)+1)),\"\")","v":""},{"$f":"IFERROR(INDEX(Отделения[отделение],SMALL(IF(Отделения[Город]=$BF$1,ROW(Отделения[Город])-1),ROW(AF51)-ROW($A$2)+1)),\"\")","v":""},{"$f":"IFERROR(INDEX(Отделения[отделение],SMALL(IF(Отделения[Город]=$BG$1,ROW(Отделения[Город])-1),ROW(AG51)-ROW($A$2)+1)),\"\")","v":""},{"$f":"IFERROR(INDEX(Отделения[отделение],SMALL(IF(Отделения[Город]=$BH$1,ROW(Отделения[Город])-1),ROW(AH51)-ROW($A$2)+1)),\"\")","v":""},{"$f":"IFERROR(INDEX(Отделения[отделение],SMALL(IF(Отделения[Город]=$BI$1,ROW(Отделения[Город])-1),ROW(AI51)-ROW($A$2)+1)),\"\")","v":""},{"$f":"IFERROR(INDEX(Отделения[отделение],SMALL(IF(Отделения[Город]=$BJ$1,ROW(Отделения[Город])-1),ROW(AJ51)-ROW($A$2)+1)),\"\")","v":""},{"$f":"IFERROR(INDEX(Отделения[отделение],SMALL(IF(Отделения[Город]=$BK$1,ROW(Отделения[Город])-1),ROW(AK51)-ROW($A$2)+1)),\"\")","v":""},{"$f":"IFERROR(INDEX(Отделения[отделение],SMALL(IF(Отделения[Город]=$BL$1,ROW(Отделения[Город])-1),ROW(AL51)-ROW($A$2)+1)),\"\")","v":""},{"$f":"IFERROR(INDEX(Отделения[отделение],SMALL(IF(Отделения[Город]=$BM$1,ROW(Отделения[Город])-1),ROW(AM51)-ROW($A$2)+1)),\"\")","v":""},{"$f":"IFERROR(INDEX(Отделения[отделение],SMALL(IF(Отделения[Город]=$BN$1,ROW(Отделения[Город])-1),ROW(AN51)-ROW($A$2)+1)),\"\")","v":""},{"$f":"IFERROR(INDEX(Отделения[отделение],SMALL(IF(Отделения[Город]=$BO$1,ROW(Отделения[Город])-1),ROW(AO51)-ROW($A$2)+1)),\"\")","v":""},{"$f":"IFERROR(INDEX(Отделения[отделение],SMALL(IF(Отделения[Город]=$BP$1,ROW(Отделения[Город])-1),ROW(AP51)-ROW($A$2)+1)),\"\")","v":""},{"$f":"IFERROR(INDEX(Отделения[отделение],SMALL(IF(Отделения[Город]=$BQ$1,ROW(Отделения[Город])-1),ROW(AQ51)-ROW($A$2)+1)),\"\")","v":""},{"$f":"IFERROR(INDEX(Отделения[отделение],SMALL(IF(Отделения[Город]=$BR$1,ROW(Отделения[Город])-1),ROW(AR51)-ROW($A$2)+1)),\"\")","v":""},{"$f":"IFERROR(INDEX(Отделения[отделение],SMALL(IF(Отделения[Город]=$BS$1,ROW(Отделения[Город])-1),ROW(AS51)-ROW($A$2)+1)),\"\")","v":""},{"$f":"IFERROR(INDEX(Отделения[отделение],SMALL(IF(Отделения[Город]=$BT$1,ROW(Отделения[Город])-1),ROW(AT51)-ROW($A$2)+1)),\"\")","v":""},{"$f":"IFERROR(INDEX(Отделения[отделение],SMALL(IF(Отделения[Город]=$BU$1,ROW(Отделения[Город])-1),ROW(AU51)-ROW($A$2)+1)),\"\")","v":""},{"$f":"IFERROR(INDEX(Отделения[отделение],SMALL(IF(Отделения[Город]=$BV$1,ROW(Отделения[Город])-1),ROW(AV51)-ROW($A$2)+1)),\"\")","v":""},{"$f":"IFERROR(INDEX(Отделения[отделение],SMALL(IF(Отделения[Город]=$BW$1,ROW(Отделения[Город])-1),ROW(AV51)-ROW($A$2)+1)),\"\")","v":""},{"$f":"IFERROR(INDEX(Отделения[отделение],SMALL(IF(Отделения[Город]=$BX$1,ROW(Отделения[Город])-1),ROW(AV51)-ROW($A$2)+1)),\"\")","v":""},{"$f":"IFERROR(INDEX(Отделения[отделение],SMALL(IF(Отделения[Город]=$BY$1,ROW(Отделения[Город])-1),ROW(AV51)-ROW($A$2)+1)),\"\")","v":""},{"$f":"IFERROR(INDEX(Отделения[отделение],SMALL(IF(Отделения[Город]=$BZ$1,ROW(Отделения[Город])-1),ROW(AV51)-ROW($A$2)+1)),\"\")","v":""},{"$f":"IFERROR(INDEX(Отделения[отделение],SMALL(IF(Отделения[Город]=$CA$1,ROW(Отделения[Город])-1),ROW(AV51)-ROW($A$2)+1)),\"\")","v":""},{"$f":"IFERROR(INDEX(Отделения[отделение],SMALL(IF(Отделения[Город]=$CB$1,ROW(Отделения[Город])-1),ROW(AV51)-ROW($A$2)+1)),\"\")","v":""},{"$f":"IFERROR(INDEX(Отделения[отделение],SMALL(IF(Отделения[Город]=$CC$1,ROW(Отделения[Город])-1),ROW(AV51)-ROW($A$2)+1)),\"\")","v":""},{"$f":"IFERROR(INDEX(Отделения[отделение],SMALL(IF(Отделения[Город]=$CD$1,ROW(Отделения[Город])-1),ROW(AV51)-ROW($A$2)+1)),\"\")","v":""},{"$f":"IFERROR(INDEX(Отделения[отделение],SMALL(IF(Отделения[Город]=$CE$1,ROW(Отделения[Город])-1),ROW(AV51)-ROW($A$2)+1)),\"\")","v":""},{"$f":"IFERROR(INDEX(Отделения[отделение],SMALL(IF(Отделения[Город]=$CF$1,ROW(Отделения[Город])-1),ROW(AV51)-ROW($A$2)+1)),\"\")","v":""},{"$f":"IFERROR(INDEX(Отделения[отделение],SMALL(IF(Отделения[Город]=$CG$1,ROW(Отделения[Город])-1),ROW(AV51)-ROW($A$2)+1)),\"\")","v":""},{"$f":"IFERROR(INDEX(Отделения[отделение],SMALL(IF(Отделения[Город]=$CH$1,ROW(Отделения[Город])-1),ROW(AW51)-ROW($A$2)+1)),\"\")","v":""},{"$f":"IFERROR(INDEX(Отделения[отделение],SMALL(IF(Отделения[Город]=$CI$1,ROW(Отделения[Город])-1),ROW(AX51)-ROW($A$2)+1)),\"\")","v":""},{"$f":"IFERROR(INDEX(Отделения[отделение],SMALL(IF(Отделения[Город]=$CJ$1,ROW(Отделения[Город])-1),ROW(AY51)-ROW($A$2)+1)),\"\")","v":""},{"$f":"IFERROR(INDEX(Отделения[отделение],SMALL(IF(Отделения[Город]=$CK$1,ROW(Отделения[Город])-1),ROW(AZ51)-ROW($A$2)+1)),\"\")","v":""},{"$f":"IFERROR(INDEX(Отделения[отделение],SMALL(IF(Отделения[Город]=$CL$1,ROW(Отделения[Город])-1),ROW(BA51)-ROW($A$2)+1)),\"\")","v":""},{"$f":"IFERROR(INDEX(Отделения[отделение],SMALL(IF(Отделения[Город]=$CM$1,ROW(Отделения[Город])-1),ROW(BB51)-ROW($A$2)+1)),\"\")","v":""},{"$f":"IFERROR(INDEX(Отделения[отделение],SMALL(IF(Отделения[Город]=$CN$1,ROW(Отделения[Город])-1),ROW(BC51)-ROW($A$2)+1)),\"\")","v":""},{"$f":"IFERROR(INDEX(Отделения[отделение],SMALL(IF(Отделения[Город]=$CO$1,ROW(Отделения[Город])-1),ROW(BD51)-ROW($A$2)+1)),\"\")","v":""},{"$f":"IFERROR(INDEX(Отделения[отделение],SMALL(IF(Отделения[Город]=$CP$1,ROW(Отделения[Город])-1),ROW(BE51)-ROW($A$2)+1)),\"\")","v":""},{"$f":"IFERROR(INDEX(Отделения[отделение],SMALL(IF(Отделения[Город]=$CQ$1,ROW(Отделения[Город])-1),ROW(BF51)-ROW($A$2)+1)),\"\")","v":""},{"$f":"IFERROR(INDEX(Отделения[отделение],SMALL(IF(Отделения[Город]=$CR$1,ROW(Отделения[Город])-1),ROW(BG51)-ROW($A$2)+1)),\"\")","v":""},{"$f":"IFERROR(INDEX(Отделения[отделение],SMALL(IF(Отделения[Город]=$CS$1,ROW(Отделения[Город])-1),ROW(BH51)-ROW($A$2)+1)),\"\")","v":""},{"$f":"IFERROR(INDEX(Отделения[отделение],SMALL(IF(Отделения[Город]=$CT$1,ROW(Отделения[Город])-1),ROW(BI51)-ROW($A$2)+1)),\"\")","v":""},{"$f":"IFERROR(INDEX(Отделения[отделение],SMALL(IF(Отделения[Город]=$CU$1,ROW(Отделения[Город])-1),ROW(BJ51)-ROW($A$2)+1)),\"\")","v":""},{"$f":"IFERROR(INDEX(Отделения[отделение],SMALL(IF(Отделения[Город]=$CV$1,ROW(Отделения[Город])-1),ROW(BK51)-ROW($A$2)+1)),\"\")","v":""},{"$f":"IFERROR(INDEX(Отделения[отделение],SMALL(IF(Отделения[Город]=$CW$1,ROW(Отделения[Город])-1),ROW(BL51)-ROW($A$2)+1)),\"\")","v":""},{"$f":"IFERROR(INDEX(Отделения[отделение],SMALL(IF(Отделения[Город]=$CX$1,ROW(Отделения[Город])-1),ROW(BM51)-ROW($A$2)+1)),\"\")","v":""},{"$f":"IFERROR(INDEX(Отделения[отделение],SMALL(IF(Отделения[Город]=$CY$1,ROW(Отделения[Город])-1),ROW(BM51)-ROW($A$2)+1)),\"\")","v":""},{"$f":"IFERROR(INDEX(Отделения[отделение],SMALL(IF(Отделения[Город]=$CZ$1,ROW(Отделения[Город])-1),ROW(BM51)-ROW($A$2)+1)),\"\")","v":""},{"$f":"IFERROR(INDEX(Отделения[отделение],SMALL(IF(Отделения[Город]=$DA$1,ROW(Отделения[Город])-1),ROW(BM51)-ROW($A$2)+1)),\"\")","v":""},{"$f":"IFERROR(INDEX(Отделения[отделение],SMALL(IF(Отделения[Город]=$DB$1,ROW(Отделения[Город])-1),ROW(BM51)-ROW($A$2)+1)),\"\")","v":""}]
["БАЛАШИХА","ДО \"БАЛАШИХА\" , 143912, Московская обл. г. Балашиха, ш. Энтузиастов, д.7/1","0620","MOLJ",null,null,{"$f":"IFERROR(INDEX(Отделения[отделение],SMALL(IF(Отделения[Город]=$G$1,ROW(Отделения[Город])-1),ROW(A52)-ROW($A$2)+1)),\"\")","v":""},{"$f":"IFERROR(INDEX(Отделения[отделение],SMALL(IF(Отделения[Город]=$H$1,ROW(Отделения[Город])-1),ROW(A52)-ROW($A$2)+1)),\"\")","v":""},{"$f":"IFERROR(INDEX(Отделения[отделение],SMALL(IF(Отделения[Город]=$I$1,ROW(Отделения[Город])-1),ROW(A52)-ROW($A$2)+1)),\"\")","v":""},{"$f":"IFERROR(INDEX(Отделения[отделение],SMALL(IF(Отделения[Город]=$J$1,ROW(Отделения[Город])-1),ROW(A52)-ROW($A$2)+1)),\"\")","v":""},{"$f":"IFERROR(INDEX(Отделения[отделение],SMALL(IF(Отделения[Город]=$K$1,ROW(Отделения[Город])-1),ROW(A52)-ROW($A$2)+1)),\"\")","v":""},{"$f":"IFERROR(INDEX(Отделения[отделение],SMALL(IF(Отделения[Город]=$L$1,ROW(Отделения[Город])-1),ROW(A52)-ROW($A$2)+1)),\"\")","v":""},{"$f":"IFERROR(INDEX(Отделения[отделение],SMALL(IF(Отделения[Город]=$M$1,ROW(Отделения[Город])-1),ROW(B52)-ROW($A$2)+1)),\"\")","v":""},{"$f":"IFERROR(INDEX(Отделения[отделение],SMALL(IF(Отделения[Город]=$N$1,ROW(Отделения[Город])-1),ROW(#REF!)-ROW($A$2)+1)),\"\")","v":""},{"$f":"IFERROR(INDEX(Отделения[отделение],SMALL(IF(Отделения[Город]=$O$1,ROW(Отделения[Город])-1),ROW(C52)-ROW($A$2)+1)),\"\")","v":""},{"$f":"IFERROR(INDEX(Отделения[отделение],SMALL(IF(Отделения[Город]=$P$1,ROW(Отделения[Город])-1),ROW(D52)-ROW($A$2)+1)),\"\")","v":""},{"$f":"IFERROR(INDEX(Отделения[отделение],SMALL(IF(Отделения[Город]=$Q$1,ROW(Отделения[Город])-1),ROW(F52)-ROW($A$2)+1)),\"\")","v":""},{"$f":"IFERROR(INDEX(Отделения[отделение],SMALL(IF(Отделения[Город]=$R$1,ROW(Отделения[Город])-1),ROW(#REF!)-ROW($A$2)+1)),\"\")","v":""},{"$f":"IFERROR(INDEX(Отделения[отделение],SMALL(IF(Отделения[Город]=$S$1,ROW(Отделения[Город])-1),ROW(G52)-ROW($A$2)+1)),\"\")","v":""},{"$f":"IFERROR(INDEX(Отделения[отделение],SMALL(IF(Отделения[Город]=$T$1,ROW(Отделения[Город])-1),ROW(H52)-ROW($A$2)+1)),\"\")","v":""},{"$f":"IFERROR(INDEX(Отделения[отделение],SMALL(IF(Отделения[Город]=$U$1,ROW(Отделения[Город])-1),ROW(I52)-ROW($A$2)+1)),\"\")","v":""},{"$f":"IFERROR(INDEX(Отделения[отделение],SMALL(IF(Отделения[Город]=$V$1,ROW(Отделения[Город])-1),ROW(J52)-ROW($A$2)+1)),\"\")","v":""},{"$f":"IFERROR(INDEX(Отделения[отделение],SMALL(IF(Отделения[Город]=$W$1,ROW(Отделения[Город])-1),ROW(K52)-ROW($A$2)+1)),\"\")","v":""},{"$f":"IFERROR(INDEX(Отделения[отделение],SMALL(IF(Отделения[Город]=$X$1,ROW(Отделения[Город])-1),ROW(L52)-ROW($A$2)+1)),\"\")","v":""},{"$f":"IFERROR(INDEX(Отделения[отделение],SMALL(IF(Отделения[Город]=$Y$1,ROW(Отделения[Город])-1),ROW(M52)-ROW($A$2)+1)),\"\")","v":""},{"$f":"IFERROR(INDEX(Отделения[отделение],SMALL(IF(Отделения[Город]=$Z$1,ROW(Отделения[Город])-1),ROW(N52)-ROW($A$2)+1)),\"\")","v":""},{"$f":"IFERROR(INDEX(Отделения[отделение],SMALL(IF(Отделения[Город]=$AA$1,ROW(Отделения[Город])-1),ROW(O52)-ROW($A$2)+1)),\"\")","v":""},{"$f":"IFERROR(INDEX(Отделения[отделение],SMALL(IF(Отделения[Город]=$AB$1,ROW(Отделения[Город])-1),ROW(P52)-ROW($A$2)+1)),\"\")","v":""},{"$f":"IFERROR(INDEX(Отделения[отделение],SMALL(IF(Отделения[Город]=$AC$1,ROW(Отделения[Город])-1),ROW(Q52)-ROW($A$2)+1)),\"\")","v":""},{"$f":"IFERROR(INDEX(Отделения[отделение],SMALL(IF(Отделения[Город]=$AD$1,ROW(Отделения[Город])-1),ROW(R52)-ROW($A$2)+1)),\"\")","v":""},{"$f":"IFERROR(INDEX(Отделения[отделение],SMALL(IF(Отделения[Город]=$AE$1,ROW(Отделения[Город])-1),ROW(S52)-ROW($A$2)+1)),\"\")","v":""},{"$f":"IFERROR(INDEX(Отделения[отделение],SMALL(IF(Отделения[Город]=$AF$1,ROW(Отделения[Город])-1),ROW(T52)-ROW($A$2)+1)),\"\")","v":""},{"$f":"IFERROR(INDEX(Отделения[отделение],SMALL(IF(Отделения[Город]=$AG$1,ROW(Отделения[Город])-1),ROW(U52)-ROW($A$2)+1)),\"\")","v":""},{"$f":"IFERROR(INDEX(Отделения[отделение],SMALL(IF(Отделения[Город]=$AH$1,ROW(Отделения[Город])-1),ROW(V52)-ROW($A$2)+1)),\"\")","v":""},{"$f":"IFERROR(INDEX(Отделения[отделение],SMALL(IF(Отделения[Город]=$AI$1,ROW(Отделения[Город])-1),ROW(AB52)-ROW($A$2)+1)),\"\")","v":""},{"$f":"IFERROR(INDEX(Отделения[отделение],SMALL(IF(Отделения[Город]=$AJ$1,ROW(Отделения[Город])-1),ROW(AB52)-ROW($A$2)+1)),\"\")","v":""},{"$f":"IFERROR(INDEX(Отделения[отделение],SMALL(IF(Отделения[Город]=$AK$1,ROW(Отделения[Город])-1),ROW(AB52)-ROW($A$2)+1)),\"\")","v":""},{"$f":"IFERROR(INDEX(Отделения[отделение],SMALL(IF(Отделения[Город]=$AL$1,ROW(Отделения[Город])-1),ROW(AB52)-ROW($A$2)+1)),\"\")","v":""},{"$f":"IFERROR(INDEX(Отделения[отделение],SMALL(IF(Отделения[Город]=$AM$1,ROW(Отделения[Город])-1),ROW(AB52)-ROW($A$2)+1)),\"\")","v":""},{"$f":"IFERROR(INDEX(Отделения[отделение],SMALL(IF(Отделения[Город]=$AN$1,ROW(Отделения[Город])-1),ROW(AB52)-ROW($A$2)+1)),\"\")","v":""},{"$f":"IFERROR(INDEX(Отделения[отделение],SMALL(IF(Отделения[Город]=$AO$1,ROW(Отделения[Город])-1),ROW(AB52)-ROW($A$2)+1)),\"\")","v":""},{"$f":"IFERROR(INDEX(Отделения[отделение],SMALL(IF(Отделения[Город]=$AP$1,ROW(Отделения[Город])-1),ROW(AB52)-ROW($A$2)+1)),\"\")","v":""},{"$f":"IFERROR(INDEX(Отделения[отделение],SMALL(IF(Отделения[Город]=$AQ$1,ROW(Отделения[Город])-1),ROW(AB52)-ROW($A$2)+1)),\"\")","v":""},{"$f":"IFERROR(INDEX(Отделения[отделение],SMALL(IF(Отделения[Город]=$AR$1,ROW(Отделения[Город])-1),ROW(AB52)-ROW($A$2)+1)),\"\")","v":""},{"$f":"IFERROR(INDEX(Отделения[отделение],SMALL(IF(Отделения[Город]=$AS$1,ROW(Отделения[Город])-1),ROW(AB52)-ROW($A$2)+1)),\"\")","v":""},{"$f":"IFERROR(INDEX(Отделения[отделение],SMALL(IF(Отделения[Город]=$AT$1,ROW(Отделения[Город])-1),ROW(AB52)-ROW($A$2)+1)),\"\")","v":""},{"$f":"IFERROR(INDEX(Отделения[отделение],SMALL(IF(Отделения[Город]=$AU$1,ROW(Отделения[Город])-1),ROW(AB52)-ROW($A$2)+1)),\"\")","v":""},{"$f":"IFERROR(INDEX(Отделения[отделение],SMALL(IF(Отделения[Город]=$AV$1,ROW(Отделения[Город])-1),ROW(AB52)-ROW($A$2)+1)),\"\")","v":""},{"$f":"IFERROR(INDEX(Отделения[отделение],SMALL(IF(Отделения[Город]=$AW$1,ROW(Отделения[Город])-1),ROW(AB52)-ROW($A$2)+1)),\"\")","v":""},{"$f":"IFERROR(INDEX(Отделения[отделение],SMALL(IF(Отделения[Город]=$AX$1,ROW(Отделения[Город])-1),ROW(AB52)-ROW($A$2)+1)),\"\")","v":""},{"$f":"IFERROR(INDEX(Отделения[отделение],SMALL(IF(Отделения[Город]=$AY$1,ROW(Отделения[Город])-1),ROW(AB52)-ROW($A$2)+1)),\"\")","v":""},{"$f":"IFERROR(INDEX(Отделения[отделение],SMALL(IF(Отделения[Город]=$AZ$1,ROW(Отделения[Город])-1),ROW(AB52)-ROW($A$2)+1)),\"\")","v":""},{"$f":"IFERROR(INDEX(Отделения[отделение],SMALL(IF(Отделения[Город]=$BA$1,ROW(Отделения[Город])-1),ROW(AB52)-ROW($A$2)+1)),\"\")","v":""},{"$f":"IFERROR(INDEX(Отделения[отделение],SMALL(IF(Отделения[Город]=$BB$1,ROW(Отделения[Город])-1),ROW(AB52)-ROW($A$2)+1)),\"\")","v":""},{"$f":"IFERROR(INDEX(Отделения[отделение],SMALL(IF(Отделения[Город]=$BC$1,ROW(Отделения[Город])-1),ROW(AC52)-ROW($A$2)+1)),\"\")","v":""},{"$f":"IFERROR(INDEX(Отделения[отделение],SMALL(IF(Отделения[Город]=$BD$1,ROW(Отделения[Город])-1),ROW(AD52)-ROW($A$2)+1)),\"\")","v":""},{"$f":"IFERROR(INDEX(Отделения[отделение],SMALL(IF(Отделения[Город]=$BE$1,ROW(Отделения[Город])-1),ROW(AE52)-ROW($A$2)+1)),\"\")","v":""},{"$f":"IFERROR(INDEX(Отделения[отделение],SMALL(IF(Отделения[Город]=$BF$1,ROW(Отделения[Город])-1),ROW(AF52)-ROW($A$2)+1)),\"\")","v":""},{"$f":"IFERROR(INDEX(Отделения[отделение],SMALL(IF(Отделения[Город]=$BG$1,ROW(Отделения[Город])-1),ROW(AG52)-ROW($A$2)+1)),\"\")","v":""},{"$f":"IFERROR(INDEX(Отделения[отделение],SMALL(IF(Отделения[Город]=$BH$1,ROW(Отделения[Город])-1),ROW(AH52)-ROW($A$2)+1)),\"\")","v":""},{"$f":"IFERROR(INDEX(Отделения[отделение],SMALL(IF(Отделения[Город]=$BI$1,ROW(Отделения[Город])-1),ROW(AI52)-ROW($A$2)+1)),\"\")","v":""},{"$f":"IFERROR(INDEX(Отделения[отделение],SMALL(IF(Отделения[Город]=$BJ$1,ROW(Отделения[Город])-1),ROW(AJ52)-ROW($A$2)+1)),\"\")","v":""},{"$f":"IFERROR(INDEX(Отделения[отделение],SMALL(IF(Отделения[Город]=$BK$1,ROW(Отделения[Город])-1),ROW(AK52)-ROW($A$2)+1)),\"\")","v":""},{"$f":"IFERROR(INDEX(Отделения[отделение],SMALL(IF(Отделения[Город]=$BL$1,ROW(Отделения[Город])-1),ROW(AL52)-ROW($A$2)+1)),\"\")","v":""},{"$f":"IFERROR(INDEX(Отделения[отделение],SMALL(IF(Отделения[Город]=$BM$1,ROW(Отделения[Город])-1),ROW(AM52)-ROW($A$2)+1)),\"\")","v":""},{"$f":"IFERROR(INDEX(Отделения[отделение],SMALL(IF(Отделения[Город]=$BN$1,ROW(Отделения[Город])-1),ROW(AN52)-ROW($A$2)+1)),\"\")","v":""},{"$f":"IFERROR(INDEX(Отделения[отделение],SMALL(IF(Отделения[Город]=$BO$1,ROW(Отделения[Город])-1),ROW(AO52)-ROW($A$2)+1)),\"\")","v":""},{"$f":"IFERROR(INDEX(Отделения[отделение],SMALL(IF(Отделения[Город]=$BP$1,ROW(Отделения[Город])-1),ROW(AP52)-ROW($A$2)+1)),\"\")","v":""},{"$f":"IFERROR(INDEX(Отделения[отделение],SMALL(IF(Отделения[Город]=$BQ$1,ROW(Отделения[Город])-1),ROW(AQ52)-ROW($A$2)+1)),\"\")","v":""},{"$f":"IFERROR(INDEX(Отделения[отделение],SMALL(IF(Отделения[Город]=$BR$1,ROW(Отделения[Город])-1),ROW(AR52)-ROW($A$2)+1)),\"\")","v":""},{"$f":"IFERROR(INDEX(Отделения[отделение],SMALL(IF(Отделения[Город]=$BS$1,ROW(Отделения[Город])-1),ROW(AS52)-ROW($A$2)+1)),\"\")","v":""},{"$f":"IFERROR(INDEX(Отделения[отделение],SMALL(IF(Отделения[Город]=$BT$1,ROW(Отделения[Город])-1),ROW(AT52)-ROW($A$2)+1)),\"\")","v":""},{"$f":"IFERROR(INDEX(Отделения[отделение],SMALL(IF(Отделения[Город]=$BU$1,ROW(Отделения[Город])-1),ROW(AU52)-ROW($A$2)+1)),\"\")","v":""},{"$f":"IFERROR(INDEX(Отделения[отделение],SMALL(IF(Отделения[Город]=$BV$1,ROW(Отделения[Город])-1),ROW(AV52)-ROW($A$2)+1)),\"\")","v":""},{"$f":"IFERROR(INDEX(Отделения[отделение],SMALL(IF(Отделения[Город]=$BW$1,ROW(Отделения[Город])-1),ROW(AV52)-ROW($A$2)+1)),\"\")","v":""},{"$f":"IFERROR(INDEX(Отделения[отделение],SMALL(IF(Отделения[Город]=$BX$1,ROW(Отделения[Город])-1),ROW(AV52)-ROW($A$2)+1)),\"\")","v":""},{"$f":"IFERROR(INDEX(Отделения[отделение],SMALL(IF(Отделения[Город]=$BY$1,ROW(Отделения[Город])-1),ROW(AV52)-ROW($A$2)+1)),\"\")","v":""},{"$f":"IFERROR(INDEX(Отделения[отделение],SMALL(IF(Отделения[Город]=$BZ$1,ROW(Отделения[Город])-1),ROW(AV52)-ROW($A$2)+1)),\"\")","v":""},{"$f":"IFERROR(INDEX(Отделения[отделение],SMALL(IF(Отделения[Город]=$CA$1,ROW(Отделения[Город])-1),ROW(AV52)-ROW($A$2)+1)),\"\")","v":""},{"$f":"IFERROR(INDEX(Отделения[отделение],SMALL(IF(Отделения[Город]=$CB$1,ROW(Отделения[Город])-1),ROW(AV52)-ROW($A$2)+1)),\"\")","v":""},{"$f":"IFERROR(INDEX(Отделения[отделение],SMALL(IF(Отделения[Город]=$CC$1,ROW(Отделения[Город])-1),ROW(AV52)-ROW($A$2)+1)),\"\")","v":""},{"$f":"IFERROR(INDEX(Отделения[отделение],SMALL(IF(Отделения[Город]=$CD$1,ROW(Отделения[Город])-1),ROW(AV52)-ROW($A$2)+1)),\"\")","v":""},{"$f":"IFERROR(INDEX(Отделения[отделение],SMALL(IF(Отделения[Город]=$CE$1,ROW(Отделения[Город])-1),ROW(AV52)-ROW($A$2)+1)),\"\")","v":""},{"$f":"IFERROR(INDEX(Отделения[отделение],SMALL(IF(Отделения[Город]=$CF$1,ROW(Отделения[Город])-1),ROW(AV52)-ROW($A$2)+1)),\"\")","v":""},{"$f":"IFERROR(INDEX(Отделения[отделение],SMALL(IF(Отделения[Город]=$CG$1,ROW(Отделения[Город])-1),ROW(AV52)-ROW($A$2)+1)),\"\")","v":""},{"$f":"IFERROR(INDEX(Отделения[отделение],SMALL(IF(Отделения[Город]=$CH$1,ROW(Отделения[Город])-1),ROW(AW52)-ROW($A$2)+1)),\"\")","v":""},{"$f":"IFERROR(INDEX(Отделения[отделение],SMALL(IF(Отделения[Город]=$CI$1,ROW(Отделения[Город])-1),ROW(AX52)-ROW($A$2)+1)),\"\")","v":""},{"$f":"IFERROR(INDEX(Отделения[отделение],SMALL(IF(Отделения[Город]=$CJ$1,ROW(Отделения[Город])-1),ROW(AY52)-ROW($A$2)+1)),\"\")","v":""},{"$f":"IFERROR(INDEX(Отделения[отделение],SMALL(IF(Отделения[Город]=$CK$1,ROW(Отделения[Город])-1),ROW(AZ52)-ROW($A$2)+1)),\"\")","v":""},{"$f":"IFERROR(INDEX(Отделения[отделение],SMALL(IF(Отделения[Город]=$CL$1,ROW(Отделения[Город])-1),ROW(BA52)-ROW($A$2)+1)),\"\")","v":""},{"$f":"IFERROR(INDEX(Отделения[отделение],SMALL(IF(Отделения[Город]=$CM$1,ROW(Отделения[Город])-1),ROW(BB52)-ROW($A$2)+1)),\"\")","v":""},{"$f":"IFERROR(INDEX(Отделения[отделение],SMALL(IF(Отделения[Город]=$CN$1,ROW(Отделения[Город])-1),ROW(BC52)-ROW($A$2)+1)),\"\")","v":""},{"$f":"IFERROR(INDEX(Отделения[отделение],SMALL(IF(Отделения[Город]=$CO$1,ROW(Отделения[Город])-1),ROW(BD52)-ROW($A$2)+1)),\"\")","v":""},{"$f":"IFERROR(INDEX(Отделения[отделение],SMALL(IF(Отделения[Город]=$CP$1,ROW(Отделения[Город])-1),ROW(BE52)-ROW($A$2)+1)),\"\")","v":""},{"$f":"IFERROR(INDEX(Отделения[отделение],SMALL(IF(Отделения[Город]=$CQ$1,ROW(Отделения[Город])-1),ROW(BF52)-ROW($A$2)+1)),\"\")","v":""},{"$f":"IFERROR(INDEX(Отделения[отделение],SMALL(IF(Отделения[Город]=$CR$1,ROW(Отделения[Город])-1),ROW(BG52)-ROW($A$2)+1)),\"\")","v":""},{"$f":"IFERROR(INDEX(Отделения[отделение],SMALL(IF(Отделения[Город]=$CS$1,ROW(Отделения[Город])-1),ROW(BH52)-ROW($A$2)+1)),\"\")","v":""},{"$f":"IFERROR(INDEX(Отделения[отделение],SMALL(IF(Отделения[Город]=$CT$1,ROW(Отделения[Город])-1),ROW(BI52)-ROW($A$2)+1)),\"\")","v":""},{"$f":"IFERROR(INDEX(Отделения[отделение],SMALL(IF(Отделения[Город]=$CU$1,ROW(Отделения[Город])-1),ROW(BJ52)-ROW($A$2)+1)),\"\")","v":""},{"$f":"IFERROR(INDEX(Отделения[отделение],SMALL(IF(Отделения[Город]=$CV$1,ROW(Отделения[Город])-1),ROW(BK52)-ROW($A$2)+1)),\"\")","v":""},{"$f":"IFERROR(INDEX(Отделения[отделение],SMALL(IF(Отделения[Город]=$CW$1,ROW(Отделения[Город])-1),ROW(BL52)-ROW($A$2)+1)),\"\")","v":""},{"$f":"IFERROR(INDEX(Отделения[отделение],SMALL(IF(Отделения[Город]=$CX$1,ROW(Отделения[Город])-1),ROW(BM52)-ROW($A$2)+1)),\"\")","v":""},{"$f":"IFERROR(INDEX(Отделения[отделение],SMALL(IF(Отделения[Город]=$CY$1,ROW(Отделения[Город])-1),ROW(BM52)-ROW($A$2)+1)),\"\")","v":""},{"$f":"IFERROR(INDEX(Отделения[отделение],SMALL(IF(Отделения[Город]=$CZ$1,ROW(Отделения[Город])-1),ROW(BM52)-ROW($A$2)+1)),\"\")","v":""},{"$f":"IFERROR(INDEX(Отделения[отделение],SMALL(IF(Отделения[Город]=$DA$1,ROW(Отделения[Город])-1),ROW(BM52)-ROW($A$2)+1)),\"\")","v":""},{"$f":"IFERROR(INDEX(Отделения[отделение],SMALL(IF(Отделения[Город]=$DB$1,ROW(Отделения[Город])-1),ROW(BM52)-ROW($A$2)+1)),\"\")","v":""}]
["Москва","ДО \"ХОРОШЕВСКИЙ\" , 123007, г. Москва, ш.Хорошевское, д. 35, корп. 1","0621","MOXR",null,null,{"$f":"IFERROR(INDEX(Отделения[отделение],SMALL(IF(Отделения[Город]=$G$1,ROW(Отделения[Город])-1),ROW(A53)-ROW($A$2)+1)),\"\")","v":""},{"$f":"IFERROR(INDEX(Отделения[отделение],SMALL(IF(Отделения[Город]=$H$1,ROW(Отделения[Город])-1),ROW(A53)-ROW($A$2)+1)),\"\")","v":""},{"$f":"IFERROR(INDEX(Отделения[отделение],SMALL(IF(Отделения[Город]=$I$1,ROW(Отделения[Город])-1),ROW(A53)-ROW($A$2)+1)),\"\")","v":""},{"$f":"IFERROR(INDEX(Отделения[отделение],SMALL(IF(Отделения[Город]=$J$1,ROW(Отделения[Город])-1),ROW(A53)-ROW($A$2)+1)),\"\")","v":""},{"$f":"IFERROR(INDEX(Отделения[отделение],SMALL(IF(Отделения[Город]=$K$1,ROW(Отделения[Город])-1),ROW(A53)-ROW($A$2)+1)),\"\")","v":""},{"$f":"IFERROR(INDEX(Отделения[отделение],SMALL(IF(Отделения[Город]=$L$1,ROW(Отделения[Город])-1),ROW(A53)-ROW($A$2)+1)),\"\")","v":""},{"$f":"IFERROR(INDEX(Отделения[отделение],SMALL(IF(Отделения[Город]=$M$1,ROW(Отделения[Город])-1),ROW(B53)-ROW($A$2)+1)),\"\")","v":""},{"$f":"IFERROR(INDEX(Отделения[отделение],SMALL(IF(Отделения[Город]=$N$1,ROW(Отделения[Город])-1),ROW(#REF!)-ROW($A$2)+1)),\"\")","v":""},{"$f":"IFERROR(INDEX(Отделения[отделение],SMALL(IF(Отделения[Город]=$O$1,ROW(Отделения[Город])-1),ROW(C53)-ROW($A$2)+1)),\"\")","v":""},{"$f":"IFERROR(INDEX(Отделения[отделение],SMALL(IF(Отделения[Город]=$P$1,ROW(Отделения[Город])-1),ROW(D53)-ROW($A$2)+1)),\"\")","v":""},{"$f":"IFERROR(INDEX(Отделения[отделение],SMALL(IF(Отделения[Город]=$Q$1,ROW(Отделения[Город])-1),ROW(F53)-ROW($A$2)+1)),\"\")","v":""},{"$f":"IFERROR(INDEX(Отделения[отделение],SMALL(IF(Отделения[Город]=$R$1,ROW(Отделения[Город])-1),ROW(#REF!)-ROW($A$2)+1)),\"\")","v":""},{"$f":"IFERROR(INDEX(Отделения[отделение],SMALL(IF(Отделения[Город]=$S$1,ROW(Отделения[Город])-1),ROW(G53)-ROW($A$2)+1)),\"\")","v":""},{"$f":"IFERROR(INDEX(Отделения[отделение],SMALL(IF(Отделения[Город]=$T$1,ROW(Отделения[Город])-1),ROW(H53)-ROW($A$2)+1)),\"\")","v":""},{"$f":"IFERROR(INDEX(Отделения[отделение],SMALL(IF(Отделения[Город]=$U$1,ROW(Отделения[Город])-1),ROW(I53)-ROW($A$2)+1)),\"\")","v":""},{"$f":"IFERROR(INDEX(Отделения[отделение],SMALL(IF(Отделения[Город]=$V$1,ROW(Отделения[Город])-1),ROW(J53)-ROW($A$2)+1)),\"\")","v":""},{"$f":"IFERROR(INDEX(Отделения[отделение],SMALL(IF(Отделения[Город]=$W$1,ROW(Отделения[Город])-1),ROW(K53)-ROW($A$2)+1)),\"\")","v":""},{"$f":"IFERROR(INDEX(Отделения[отделение],SMALL(IF(Отделения[Город]=$X$1,ROW(Отделения[Город])-1),ROW(L53)-ROW($A$2)+1)),\"\")","v":""},{"$f":"IFERROR(INDEX(Отделения[отделение],SMALL(IF(Отделения[Город]=$Y$1,ROW(Отделения[Город])-1),ROW(M53)-ROW($A$2)+1)),\"\")","v":""},{"$f":"IFERROR(INDEX(Отделения[отделение],SMALL(IF(Отделения[Город]=$Z$1,ROW(Отделения[Город])-1),ROW(N53)-ROW($A$2)+1)),\"\")","v":""},{"$f":"IFERROR(INDEX(Отделения[отделение],SMALL(IF(Отделения[Город]=$AA$1,ROW(Отделения[Город])-1),ROW(O53)-ROW($A$2)+1)),\"\")","v":""},{"$f":"IFERROR(INDEX(Отделения[отделение],SMALL(IF(Отделения[Город]=$AB$1,ROW(Отделения[Город])-1),ROW(P53)-ROW($A$2)+1)),\"\")","v":""},{"$f":"IFERROR(INDEX(Отделения[отделение],SMALL(IF(Отделения[Город]=$AC$1,ROW(Отделения[Город])-1),ROW(Q53)-ROW($A$2)+1)),\"\")","v":""},{"$f":"IFERROR(INDEX(Отделения[отделение],SMALL(IF(Отделения[Город]=$AD$1,ROW(Отделения[Город])-1),ROW(R53)-ROW($A$2)+1)),\"\")","v":""},{"$f":"IFERROR(INDEX(Отделения[отделение],SMALL(IF(Отделения[Город]=$AE$1,ROW(Отделения[Город])-1),ROW(S53)-ROW($A$2)+1)),\"\")","v":""},{"$f":"IFERROR(INDEX(Отделения[отделение],SMALL(IF(Отделения[Город]=$AF$1,ROW(Отделения[Город])-1),ROW(T53)-ROW($A$2)+1)),\"\")","v":""},{"$f":"IFERROR(INDEX(Отделения[отделение],SMALL(IF(Отделения[Город]=$AG$1,ROW(Отделения[Город])-1),ROW(U53)-ROW($A$2)+1)),\"\")","v":""},{"$f":"IFERROR(INDEX(Отделения[отделение],SMALL(IF(Отделения[Город]=$AH$1,ROW(Отделения[Город])-1),ROW(V53)-ROW($A$2)+1)),\"\")","v":""},{"$f":"IFERROR(INDEX(Отделения[отделение],SMALL(IF(Отделения[Город]=$AI$1,ROW(Отделения[Город])-1),ROW(AB53)-ROW($A$2)+1)),\"\")","v":""},{"$f":"IFERROR(INDEX(Отделения[отделение],SMALL(IF(Отделения[Город]=$AJ$1,ROW(Отделения[Город])-1),ROW(AB53)-ROW($A$2)+1)),\"\")","v":""},{"$f":"IFERROR(INDEX(Отделения[отделение],SMALL(IF(Отделения[Город]=$AK$1,ROW(Отделения[Город])-1),ROW(AB53)-ROW($A$2)+1)),\"\")","v":""},{"$f":"IFERROR(INDEX(Отделения[отделение],SMALL(IF(Отделения[Город]=$AL$1,ROW(Отделения[Город])-1),ROW(AB53)-ROW($A$2)+1)),\"\")","v":""},{"$f":"IFERROR(INDEX(Отделения[отделение],SMALL(IF(Отделения[Город]=$AM$1,ROW(Отделения[Город])-1),ROW(AB53)-ROW($A$2)+1)),\"\")","v":""},{"$f":"IFERROR(INDEX(Отделения[отделение],SMALL(IF(Отделения[Город]=$AN$1,ROW(Отделения[Город])-1),ROW(AB53)-ROW($A$2)+1)),\"\")","v":""},{"$f":"IFERROR(INDEX(Отделения[отделение],SMALL(IF(Отделения[Город]=$AO$1,ROW(Отделения[Город])-1),ROW(AB53)-ROW($A$2)+1)),\"\")","v":""},{"$f":"IFERROR(INDEX(Отделения[отделение],SMALL(IF(Отделения[Город]=$AP$1,ROW(Отделения[Город])-1),ROW(AB53)-ROW($A$2)+1)),\"\")","v":""},{"$f":"IFERROR(INDEX(Отделения[отделение],SMALL(IF(Отделения[Город]=$AQ$1,ROW(Отделения[Город])-1),ROW(AB53)-ROW($A$2)+1)),\"\")","v":""},{"$f":"IFERROR(INDEX(Отделения[отделение],SMALL(IF(Отделения[Город]=$AR$1,ROW(Отделения[Город])-1),ROW(AB53)-ROW($A$2)+1)),\"\")","v":""},{"$f":"IFERROR(INDEX(Отделения[отделение],SMALL(IF(Отделения[Город]=$AS$1,ROW(Отделения[Город])-1),ROW(AB53)-ROW($A$2)+1)),\"\")","v":""},{"$f":"IFERROR(INDEX(Отделения[отделение],SMALL(IF(Отделения[Город]=$AT$1,ROW(Отделения[Город])-1),ROW(AB53)-ROW($A$2)+1)),\"\")","v":""},{"$f":"IFERROR(INDEX(Отделения[отделение],SMALL(IF(Отделения[Город]=$AU$1,ROW(Отделения[Город])-1),ROW(AB53)-ROW($A$2)+1)),\"\")","v":""},{"$f":"IFERROR(INDEX(Отделения[отделение],SMALL(IF(Отделения[Город]=$AV$1,ROW(Отделения[Город])-1),ROW(AB53)-ROW($A$2)+1)),\"\")","v":""},{"$f":"IFERROR(INDEX(Отделения[отделение],SMALL(IF(Отделения[Город]=$AW$1,ROW(Отделения[Город])-1),ROW(AB53)-ROW($A$2)+1)),\"\")","v":""},{"$f":"IFERROR(INDEX(Отделения[отделение],SMALL(IF(Отделения[Город]=$AX$1,ROW(Отделения[Город])-1),ROW(AB53)-ROW($A$2)+1)),\"\")","v":""},{"$f":"IFERROR(INDEX(Отделения[отделение],SMALL(IF(Отделения[Город]=$AY$1,ROW(Отделения[Город])-1),ROW(AB53)-ROW($A$2)+1)),\"\")","v":""},{"$f":"IFERROR(INDEX(Отделения[отделение],SMALL(IF(Отделения[Город]=$AZ$1,ROW(Отделения[Город])-1),ROW(AB53)-ROW($A$2)+1)),\"\")","v":""},{"$f":"IFERROR(INDEX(Отделения[отделение],SMALL(IF(Отделения[Город]=$BA$1,ROW(Отделения[Город])-1),ROW(AB53)-ROW($A$2)+1)),\"\")","v":""},{"$f":"IFERROR(INDEX(Отделения[отделение],SMALL(IF(Отделения[Город]=$BB$1,ROW(Отделения[Город])-1),ROW(AB53)-ROW($A$2)+1)),\"\")","v":""},{"$f":"IFERROR(INDEX(Отделения[отделение],SMALL(IF(Отделения[Город]=$BC$1,ROW(Отделения[Город])-1),ROW(AC53)-ROW($A$2)+1)),\"\")","v":""},{"$f":"IFERROR(INDEX(Отделения[отделение],SMALL(IF(Отделения[Город]=$BD$1,ROW(Отделения[Город])-1),ROW(AD53)-ROW($A$2)+1)),\"\")","v":""},{"$f":"IFERROR(INDEX(Отделения[отделение],SMALL(IF(Отделения[Город]=$BE$1,ROW(Отделения[Город])-1),ROW(AE53)-ROW($A$2)+1)),\"\")","v":""},{"$f":"IFERROR(INDEX(Отделения[отделение],SMALL(IF(Отделения[Город]=$BF$1,ROW(Отделения[Город])-1),ROW(AF53)-ROW($A$2)+1)),\"\")","v":""},{"$f":"IFERROR(INDEX(Отделения[отделение],SMALL(IF(Отделения[Город]=$BG$1,ROW(Отделения[Город])-1),ROW(AG53)-ROW($A$2)+1)),\"\")","v":""},{"$f":"IFERROR(INDEX(Отделения[отделение],SMALL(IF(Отделения[Город]=$BH$1,ROW(Отделения[Город])-1),ROW(AH53)-ROW($A$2)+1)),\"\")","v":""},{"$f":"IFERROR(INDEX(Отделения[отделение],SMALL(IF(Отделения[Город]=$BI$1,ROW(Отделения[Город])-1),ROW(AI53)-ROW($A$2)+1)),\"\")","v":""},{"$f":"IFERROR(INDEX(Отделения[отделение],SMALL(IF(Отделения[Город]=$BJ$1,ROW(Отделения[Город])-1),ROW(AJ53)-ROW($A$2)+1)),\"\")","v":""},{"$f":"IFERROR(INDEX(Отделения[отделение],SMALL(IF(Отделения[Город]=$BK$1,ROW(Отделения[Город])-1),ROW(AK53)-ROW($A$2)+1)),\"\")","v":""},{"$f":"IFERROR(INDEX(Отделения[отделение],SMALL(IF(Отделения[Город]=$BL$1,ROW(Отделения[Город])-1),ROW(AL53)-ROW($A$2)+1)),\"\")","v":""},{"$f":"IFERROR(INDEX(Отделения[отделение],SMALL(IF(Отделения[Город]=$BM$1,ROW(Отделения[Город])-1),ROW(AM53)-ROW($A$2)+1)),\"\")","v":""},{"$f":"IFERROR(INDEX(Отделения[отделение],SMALL(IF(Отделения[Город]=$BN$1,ROW(Отделения[Город])-1),ROW(AN53)-ROW($A$2)+1)),\"\")","v":""},{"$f":"IFERROR(INDEX(Отделения[отделение],SMALL(IF(Отделения[Город]=$BO$1,ROW(Отделения[Город])-1),ROW(AO53)-ROW($A$2)+1)),\"\")","v":""},{"$f":"IFERROR(INDEX(Отделения[отделение],SMALL(IF(Отделения[Город]=$BP$1,ROW(Отделения[Город])-1),ROW(AP53)-ROW($A$2)+1)),\"\")","v":""},{"$f":"IFERROR(INDEX(Отделения[отделение],SMALL(IF(Отделения[Город]=$BQ$1,ROW(Отделения[Город])-1),ROW(AQ53)-ROW($A$2)+1)),\"\")","v":""},{"$f":"IFERROR(INDEX(Отделения[отделение],SMALL(IF(Отделения[Город]=$BR$1,ROW(Отделения[Город])-1),ROW(AR53)-ROW($A$2)+1)),\"\")","v":""},{"$f":"IFERROR(INDEX(Отделения[отделение],SMALL(IF(Отделения[Город]=$BS$1,ROW(Отделения[Город])-1),ROW(AS53)-ROW($A$2)+1)),\"\")","v":""},{"$f":"IFERROR(INDEX(Отделения[отделение],SMALL(IF(Отделения[Город]=$BT$1,ROW(Отделения[Город])-1),ROW(AT53)-ROW($A$2)+1)),\"\")","v":""},{"$f":"IFERROR(INDEX(Отделения[отделение],SMALL(IF(Отделения[Город]=$BU$1,ROW(Отделения[Город])-1),ROW(AU53)-ROW($A$2)+1)),\"\")","v":""},{"$f":"IFERROR(INDEX(Отделения[отделение],SMALL(IF(Отделения[Город]=$BV$1,ROW(Отделения[Город])-1),ROW(AV53)-ROW($A$2)+1)),\"\")","v":""},{"$f":"IFERROR(INDEX(Отделения[отделение],SMALL(IF(Отделения[Город]=$BW$1,ROW(Отделения[Город])-1),ROW(AV53)-ROW($A$2)+1)),\"\")","v":""},{"$f":"IFERROR(INDEX(Отделения[отделение],SMALL(IF(Отделения[Город]=$BX$1,ROW(Отделения[Город])-1),ROW(AV53)-ROW($A$2)+1)),\"\")","v":""},{"$f":"IFERROR(INDEX(Отделения[отделение],SMALL(IF(Отделения[Город]=$BY$1,ROW(Отделения[Город])-1),ROW(AV53)-ROW($A$2)+1)),\"\")","v":""},{"$f":"IFERROR(INDEX(Отделения[отделение],SMALL(IF(Отделения[Город]=$BZ$1,ROW(Отделения[Город])-1),ROW(AV53)-ROW($A$2)+1)),\"\")","v":""},{"$f":"IFERROR(INDEX(Отделения[отделение],SMALL(IF(Отделения[Город]=$CA$1,ROW(Отделения[Город])-1),ROW(AV53)-ROW($A$2)+1)),\"\")","v":""},{"$f":"IFERROR(INDEX(Отделения[отделение],SMALL(IF(Отделения[Город]=$CB$1,ROW(Отделения[Город])-1),ROW(AV53)-ROW($A$2)+1)),\"\")","v":""},{"$f":"IFERROR(INDEX(Отделения[отделение],SMALL(IF(Отделения[Город]=$CC$1,ROW(Отделения[Город])-1),ROW(AV53)-ROW($A$2)+1)),\"\")","v":""},{"$f":"IFERROR(INDEX(Отделения[отделение],SMALL(IF(Отделения[Город]=$CD$1,ROW(Отделения[Город])-1),ROW(AV53)-ROW($A$2)+1)),\"\")","v":""},{"$f":"IFERROR(INDEX(Отделения[отделение],SMALL(IF(Отделения[Город]=$CE$1,ROW(Отделения[Город])-1),ROW(AV53)-ROW($A$2)+1)),\"\")","v":""},{"$f":"IFERROR(INDEX(Отделения[отделение],SMALL(IF(Отделения[Город]=$CF$1,ROW(Отделения[Город])-1),ROW(AV53)-ROW($A$2)+1)),\"\")","v":""},{"$f":"IFERROR(INDEX(Отделения[отделение],SMALL(IF(Отделения[Город]=$CG$1,ROW(Отделения[Город])-1),ROW(AV53)-ROW($A$2)+1)),\"\")","v":""},{"$f":"IFERROR(INDEX(Отделения[отделение],SMALL(IF(Отделения[Город]=$CH$1,ROW(Отделения[Город])-1),ROW(AW53)-ROW($A$2)+1)),\"\")","v":""},{"$f":"IFERROR(INDEX(Отделения[отделение],SMALL(IF(Отделения[Город]=$CI$1,ROW(Отделения[Город])-1),ROW(AX53)-ROW($A$2)+1)),\"\")","v":""},{"$f":"IFERROR(INDEX(Отделения[отделение],SMALL(IF(Отделения[Город]=$CJ$1,ROW(Отделения[Город])-1),ROW(AY53)-ROW($A$2)+1)),\"\")","v":""},{"$f":"IFERROR(INDEX(Отделения[отделение],SMALL(IF(Отделения[Город]=$CK$1,ROW(Отделения[Город])-1),ROW(AZ53)-ROW($A$2)+1)),\"\")","v":""},{"$f":"IFERROR(INDEX(Отделения[отделение],SMALL(IF(Отделения[Город]=$CL$1,ROW(Отделения[Город])-1),ROW(BA53)-ROW($A$2)+1)),\"\")","v":""},{"$f":"IFERROR(INDEX(Отделения[отделение],SMALL(IF(Отделения[Город]=$CM$1,ROW(Отделения[Город])-1),ROW(BB53)-ROW($A$2)+1)),\"\")","v":""},{"$f":"IFERROR(INDEX(Отделения[отделение],SMALL(IF(Отделения[Город]=$CN$1,ROW(Отделения[Город])-1),ROW(BC53)-ROW($A$2)+1)),\"\")","v":""},{"$f":"IFERROR(INDEX(Отделения[отделение],SMALL(IF(Отделения[Город]=$CO$1,ROW(Отделения[Город])-1),ROW(BD53)-ROW($A$2)+1)),\"\")","v":""},{"$f":"IFERROR(INDEX(Отделения[отделение],SMALL(IF(Отделения[Город]=$CP$1,ROW(Отделения[Город])-1),ROW(BE53)-ROW($A$2)+1)),\"\")","v":""},{"$f":"IFERROR(INDEX(Отделения[отделение],SMALL(IF(Отделения[Город]=$CQ$1,ROW(Отделения[Город])-1),ROW(BF53)-ROW($A$2)+1)),\"\")","v":""},{"$f":"IFERROR(INDEX(Отделения[отделение],SMALL(IF(Отделения[Город]=$CR$1,ROW(Отделения[Город])-1),ROW(BG53)-ROW($A$2)+1)),\"\")","v":""},{"$f":"IFERROR(INDEX(Отделения[отделение],SMALL(IF(Отделения[Город]=$CS$1,ROW(Отделения[Город])-1),ROW(BH53)-ROW($A$2)+1)),\"\")","v":""},{"$f":"IFERROR(INDEX(Отделения[отделение],SMALL(IF(Отделения[Город]=$CT$1,ROW(Отделения[Город])-1),ROW(BI53)-ROW($A$2)+1)),\"\")","v":""},{"$f":"IFERROR(INDEX(Отделения[отделение],SMALL(IF(Отделения[Город]=$CU$1,ROW(Отделения[Город])-1),ROW(BJ53)-ROW($A$2)+1)),\"\")","v":""},{"$f":"IFERROR(INDEX(Отделения[отделение],SMALL(IF(Отделения[Город]=$CV$1,ROW(Отделения[Город])-1),ROW(BK53)-ROW($A$2)+1)),\"\")","v":""},{"$f":"IFERROR(INDEX(Отделения[отделение],SMALL(IF(Отделения[Город]=$CW$1,ROW(Отделения[Город])-1),ROW(BL53)-ROW($A$2)+1)),\"\")","v":""},{"$f":"IFERROR(INDEX(Отделения[отделение],SMALL(IF(Отделения[Город]=$CX$1,ROW(Отделения[Город])-1),ROW(BM53)-ROW($A$2)+1)),\"\")","v":""},{"$f":"IFERROR(INDEX(Отделения[отделение],SMALL(IF(Отделения[Город]=$CY$1,ROW(Отделения[Город])-1),ROW(BM53)-ROW($A$2)+1)),\"\")","v":""},{"$f":"IFERROR(INDEX(Отделения[отделение],SMALL(IF(Отделения[Город]=$CZ$1,ROW(Отделения[Город])-1),ROW(BM53)-ROW($A$2)+1)),\"\")","v":""},{"$f":"IFERROR(INDEX(Отделения[отделение],SMALL(IF(Отделения[Город]=$DA$1,ROW(Отделения[Город])-1),ROW(BM53)-ROW($A$2)+1)),\"\")","v":""},{"$f":"IFERROR(INDEX(Отделения[отделение],SMALL(IF(Отделения[Город]=$DB$1,ROW(Отделения[Город])-1),ROW(BM53)-ROW($A$2)+1)),\"\")","v":""}]
["Мытищи","ДО \"МЫТИЩИ\" , 141006, Московская обл., г. Мытищи,пр-кт Олимпийский, д.19, корп.1","0622","MOMX",null,null,{"$f":"IFERROR(INDEX(Отделения[отделение],SMALL(IF(Отделения[Город]=$G$1,ROW(Отделения[Город])-1),ROW(A54)-ROW($A$2)+1)),\"\")","v":""},{"$f":"IFERROR(INDEX(Отделения[отделение],SMALL(IF(Отделения[Город]=$H$1,ROW(Отделения[Город])-1),ROW(A54)-ROW($A$2)+1)),\"\")","v":""},{"$f":"IFERROR(INDEX(Отделения[отделение],SMALL(IF(Отделения[Город]=$I$1,ROW(Отделения[Город])-1),ROW(A54)-ROW($A$2)+1)),\"\")","v":""},{"$f":"IFERROR(INDEX(Отделения[отделение],SMALL(IF(Отделения[Город]=$J$1,ROW(Отделения[Город])-1),ROW(A54)-ROW($A$2)+1)),\"\")","v":""},{"$f":"IFERROR(INDEX(Отделения[отделение],SMALL(IF(Отделения[Город]=$K$1,ROW(Отделения[Город])-1),ROW(A54)-ROW($A$2)+1)),\"\")","v":""},{"$f":"IFERROR(INDEX(Отделения[отделение],SMALL(IF(Отделения[Город]=$L$1,ROW(Отделения[Город])-1),ROW(A54)-ROW($A$2)+1)),\"\")","v":""},{"$f":"IFERROR(INDEX(Отделения[отделение],SMALL(IF(Отделения[Город]=$M$1,ROW(Отделения[Город])-1),ROW(B54)-ROW($A$2)+1)),\"\")","v":""},{"$f":"IFERROR(INDEX(Отделения[отделение],SMALL(IF(Отделения[Город]=$N$1,ROW(Отделения[Город])-1),ROW(#REF!)-ROW($A$2)+1)),\"\")","v":""},{"$f":"IFERROR(INDEX(Отделения[отделение],SMALL(IF(Отделения[Город]=$O$1,ROW(Отделения[Город])-1),ROW(C54)-ROW($A$2)+1)),\"\")","v":""},{"$f":"IFERROR(INDEX(Отделения[отделение],SMALL(IF(Отделения[Город]=$P$1,ROW(Отделения[Город])-1),ROW(D54)-ROW($A$2)+1)),\"\")","v":""},{"$f":"IFERROR(INDEX(Отделения[отделение],SMALL(IF(Отделения[Город]=$Q$1,ROW(Отделения[Город])-1),ROW(F54)-ROW($A$2)+1)),\"\")","v":""},{"$f":"IFERROR(INDEX(Отделения[отделение],SMALL(IF(Отделения[Город]=$R$1,ROW(Отделения[Город])-1),ROW(#REF!)-ROW($A$2)+1)),\"\")","v":""},{"$f":"IFERROR(INDEX(Отделения[отделение],SMALL(IF(Отделения[Город]=$S$1,ROW(Отделения[Город])-1),ROW(G54)-ROW($A$2)+1)),\"\")","v":""},{"$f":"IFERROR(INDEX(Отделения[отделение],SMALL(IF(Отделения[Город]=$T$1,ROW(Отделения[Город])-1),ROW(H54)-ROW($A$2)+1)),\"\")","v":""},{"$f":"IFERROR(INDEX(Отделения[отделение],SMALL(IF(Отделения[Город]=$U$1,ROW(Отделения[Город])-1),ROW(I54)-ROW($A$2)+1)),\"\")","v":""},{"$f":"IFERROR(INDEX(Отделения[отделение],SMALL(IF(Отделения[Город]=$V$1,ROW(Отделения[Город])-1),ROW(J54)-ROW($A$2)+1)),\"\")","v":""},{"$f":"IFERROR(INDEX(Отделения[отделение],SMALL(IF(Отделения[Город]=$W$1,ROW(Отделения[Город])-1),ROW(K54)-ROW($A$2)+1)),\"\")","v":""},{"$f":"IFERROR(INDEX(Отделения[отделение],SMALL(IF(Отделения[Город]=$X$1,ROW(Отделения[Город])-1),ROW(L54)-ROW($A$2)+1)),\"\")","v":""},{"$f":"IFERROR(INDEX(Отделения[отделение],SMALL(IF(Отделения[Город]=$Y$1,ROW(Отделения[Город])-1),ROW(M54)-ROW($A$2)+1)),\"\")","v":""},{"$f":"IFERROR(INDEX(Отделения[отделение],SMALL(IF(Отделения[Город]=$Z$1,ROW(Отделения[Город])-1),ROW(N54)-ROW($A$2)+1)),\"\")","v":""},{"$f":"IFERROR(INDEX(Отделения[отделение],SMALL(IF(Отделения[Город]=$AA$1,ROW(Отделения[Город])-1),ROW(O54)-ROW($A$2)+1)),\"\")","v":""},{"$f":"IFERROR(INDEX(Отделения[отделение],SMALL(IF(Отделения[Город]=$AB$1,ROW(Отделения[Город])-1),ROW(P54)-ROW($A$2)+1)),\"\")","v":""},{"$f":"IFERROR(INDEX(Отделения[отделение],SMALL(IF(Отделения[Город]=$AC$1,ROW(Отделения[Город])-1),ROW(Q54)-ROW($A$2)+1)),\"\")","v":""},{"$f":"IFERROR(INDEX(Отделения[отделение],SMALL(IF(Отделения[Город]=$AD$1,ROW(Отделения[Город])-1),ROW(R54)-ROW($A$2)+1)),\"\")","v":""},{"$f":"IFERROR(INDEX(Отделения[отделение],SMALL(IF(Отделения[Город]=$AE$1,ROW(Отделения[Город])-1),ROW(S54)-ROW($A$2)+1)),\"\")","v":""},{"$f":"IFERROR(INDEX(Отделения[отделение],SMALL(IF(Отделения[Город]=$AF$1,ROW(Отделения[Город])-1),ROW(T54)-ROW($A$2)+1)),\"\")","v":""},{"$f":"IFERROR(INDEX(Отделения[отделение],SMALL(IF(Отделения[Город]=$AG$1,ROW(Отделения[Город])-1),ROW(U54)-ROW($A$2)+1)),\"\")","v":""},{"$f":"IFERROR(INDEX(Отделения[отделение],SMALL(IF(Отделения[Город]=$AH$1,ROW(Отделения[Город])-1),ROW(V54)-ROW($A$2)+1)),\"\")","v":""},{"$f":"IFERROR(INDEX(Отделения[отделение],SMALL(IF(Отделения[Город]=$AI$1,ROW(Отделения[Город])-1),ROW(AB54)-ROW($A$2)+1)),\"\")","v":""},{"$f":"IFERROR(INDEX(Отделения[отделение],SMALL(IF(Отделения[Город]=$AJ$1,ROW(Отделения[Город])-1),ROW(AB54)-ROW($A$2)+1)),\"\")","v":""},{"$f":"IFERROR(INDEX(Отделения[отделение],SMALL(IF(Отделения[Город]=$AK$1,ROW(Отделения[Город])-1),ROW(AB54)-ROW($A$2)+1)),\"\")","v":""},{"$f":"IFERROR(INDEX(Отделения[отделение],SMALL(IF(Отделения[Город]=$AL$1,ROW(Отделения[Город])-1),ROW(AB54)-ROW($A$2)+1)),\"\")","v":""},{"$f":"IFERROR(INDEX(Отделения[отделение],SMALL(IF(Отделения[Город]=$AM$1,ROW(Отделения[Город])-1),ROW(AB54)-ROW($A$2)+1)),\"\")","v":""},{"$f":"IFERROR(INDEX(Отделения[отделение],SMALL(IF(Отделения[Город]=$AN$1,ROW(Отделения[Город])-1),ROW(AB54)-ROW($A$2)+1)),\"\")","v":""},{"$f":"IFERROR(INDEX(Отделения[отделение],SMALL(IF(Отделения[Город]=$AO$1,ROW(Отделения[Город])-1),ROW(AB54)-ROW($A$2)+1)),\"\")","v":""},{"$f":"IFERROR(INDEX(Отделения[отделение],SMALL(IF(Отделения[Город]=$AP$1,ROW(Отделения[Город])-1),ROW(AB54)-ROW($A$2)+1)),\"\")","v":""},{"$f":"IFERROR(INDEX(Отделения[отделение],SMALL(IF(Отделения[Город]=$AQ$1,ROW(Отделения[Город])-1),ROW(AB54)-ROW($A$2)+1)),\"\")","v":""},{"$f":"IFERROR(INDEX(Отделения[отделение],SMALL(IF(Отделения[Город]=$AR$1,ROW(Отделения[Город])-1),ROW(AB54)-ROW($A$2)+1)),\"\")","v":""},{"$f":"IFERROR(INDEX(Отделения[отделение],SMALL(IF(Отделения[Город]=$AS$1,ROW(Отделения[Город])-1),ROW(AB54)-ROW($A$2)+1)),\"\")","v":""},{"$f":"IFERROR(INDEX(Отделения[отделение],SMALL(IF(Отделения[Город]=$AT$1,ROW(Отделения[Город])-1),ROW(AB54)-ROW($A$2)+1)),\"\")","v":""},{"$f":"IFERROR(INDEX(Отделения[отделение],SMALL(IF(Отделения[Город]=$AU$1,ROW(Отделения[Город])-1),ROW(AB54)-ROW($A$2)+1)),\"\")","v":""},{"$f":"IFERROR(INDEX(Отделения[отделение],SMALL(IF(Отделения[Город]=$AV$1,ROW(Отделения[Город])-1),ROW(AB54)-ROW($A$2)+1)),\"\")","v":""},{"$f":"IFERROR(INDEX(Отделения[отделение],SMALL(IF(Отделения[Город]=$AW$1,ROW(Отделения[Город])-1),ROW(AB54)-ROW($A$2)+1)),\"\")","v":""},{"$f":"IFERROR(INDEX(Отделения[отделение],SMALL(IF(Отделения[Город]=$AX$1,ROW(Отделения[Город])-1),ROW(AB54)-ROW($A$2)+1)),\"\")","v":""},{"$f":"IFERROR(INDEX(Отделения[отделение],SMALL(IF(Отделения[Город]=$AY$1,ROW(Отделения[Город])-1),ROW(AB54)-ROW($A$2)+1)),\"\")","v":""},{"$f":"IFERROR(INDEX(Отделения[отделение],SMALL(IF(Отделения[Город]=$AZ$1,ROW(Отделения[Город])-1),ROW(AB54)-ROW($A$2)+1)),\"\")","v":""},{"$f":"IFERROR(INDEX(Отделения[отделение],SMALL(IF(Отделения[Город]=$BA$1,ROW(Отделения[Город])-1),ROW(AB54)-ROW($A$2)+1)),\"\")","v":""},{"$f":"IFERROR(INDEX(Отделения[отделение],SMALL(IF(Отделения[Город]=$BB$1,ROW(Отделения[Город])-1),ROW(AB54)-ROW($A$2)+1)),\"\")","v":""},{"$f":"IFERROR(INDEX(Отделения[отделение],SMALL(IF(Отделения[Город]=$BC$1,ROW(Отделения[Город])-1),ROW(AC54)-ROW($A$2)+1)),\"\")","v":""},{"$f":"IFERROR(INDEX(Отделения[отделение],SMALL(IF(Отделения[Город]=$BD$1,ROW(Отделения[Город])-1),ROW(AD54)-ROW($A$2)+1)),\"\")","v":""},{"$f":"IFERROR(INDEX(Отделения[отделение],SMALL(IF(Отделения[Город]=$BE$1,ROW(Отделения[Город])-1),ROW(AE54)-ROW($A$2)+1)),\"\")","v":""},{"$f":"IFERROR(INDEX(Отделения[отделение],SMALL(IF(Отделения[Город]=$BF$1,ROW(Отделения[Город])-1),ROW(AF54)-ROW($A$2)+1)),\"\")","v":""},{"$f":"IFERROR(INDEX(Отделения[отделение],SMALL(IF(Отделения[Город]=$BG$1,ROW(Отделения[Город])-1),ROW(AG54)-ROW($A$2)+1)),\"\")","v":""},{"$f":"IFERROR(INDEX(Отделения[отделение],SMALL(IF(Отделения[Город]=$BH$1,ROW(Отделения[Город])-1),ROW(AH54)-ROW($A$2)+1)),\"\")","v":""},{"$f":"IFERROR(INDEX(Отделения[отделение],SMALL(IF(Отделения[Город]=$BI$1,ROW(Отделения[Город])-1),ROW(AI54)-ROW($A$2)+1)),\"\")","v":""},{"$f":"IFERROR(INDEX(Отделения[отделение],SMALL(IF(Отделения[Город]=$BJ$1,ROW(Отделения[Город])-1),ROW(AJ54)-ROW($A$2)+1)),\"\")","v":""},{"$f":"IFERROR(INDEX(Отделения[отделение],SMALL(IF(Отделения[Город]=$BK$1,ROW(Отделения[Город])-1),ROW(AK54)-ROW($A$2)+1)),\"\")","v":""},{"$f":"IFERROR(INDEX(Отделения[отделение],SMALL(IF(Отделения[Город]=$BL$1,ROW(Отделения[Город])-1),ROW(AL54)-ROW($A$2)+1)),\"\")","v":""},{"$f":"IFERROR(INDEX(Отделения[отделение],SMALL(IF(Отделения[Город]=$BM$1,ROW(Отделения[Город])-1),ROW(AM54)-ROW($A$2)+1)),\"\")","v":""},{"$f":"IFERROR(INDEX(Отделения[отделение],SMALL(IF(Отделения[Город]=$BN$1,ROW(Отделения[Город])-1),ROW(AN54)-ROW($A$2)+1)),\"\")","v":""},{"$f":"IFERROR(INDEX(Отделения[отделение],SMALL(IF(Отделения[Город]=$BO$1,ROW(Отделения[Город])-1),ROW(AO54)-ROW($A$2)+1)),\"\")","v":""},{"$f":"IFERROR(INDEX(Отделения[отделение],SMALL(IF(Отделения[Город]=$BP$1,ROW(Отделения[Город])-1),ROW(AP54)-ROW($A$2)+1)),\"\")","v":""},{"$f":"IFERROR(INDEX(Отделения[отделение],SMALL(IF(Отделения[Город]=$BQ$1,ROW(Отделения[Город])-1),ROW(AQ54)-ROW($A$2)+1)),\"\")","v":""},{"$f":"IFERROR(INDEX(Отделения[отделение],SMALL(IF(Отделения[Город]=$BR$1,ROW(Отделения[Город])-1),ROW(AR54)-ROW($A$2)+1)),\"\")","v":""},{"$f":"IFERROR(INDEX(Отделения[отделение],SMALL(IF(Отделения[Город]=$BS$1,ROW(Отделения[Город])-1),ROW(AS54)-ROW($A$2)+1)),\"\")","v":""},{"$f":"IFERROR(INDEX(Отделения[отделение],SMALL(IF(Отделения[Город]=$BT$1,ROW(Отделения[Город])-1),ROW(AT54)-ROW($A$2)+1)),\"\")","v":""},{"$f":"IFERROR(INDEX(Отделения[отделение],SMALL(IF(Отделения[Город]=$BU$1,ROW(Отделения[Город])-1),ROW(AU54)-ROW($A$2)+1)),\"\")","v":""},{"$f":"IFERROR(INDEX(Отделения[отделение],SMALL(IF(Отделения[Город]=$BV$1,ROW(Отделения[Город])-1),ROW(AV54)-ROW($A$2)+1)),\"\")","v":""},{"$f":"IFERROR(INDEX(Отделения[отделение],SMALL(IF(Отделения[Город]=$BW$1,ROW(Отделения[Город])-1),ROW(AV54)-ROW($A$2)+1)),\"\")","v":""},{"$f":"IFERROR(INDEX(Отделения[отделение],SMALL(IF(Отделения[Город]=$BX$1,ROW(Отделения[Город])-1),ROW(AV54)-ROW($A$2)+1)),\"\")","v":""},{"$f":"IFERROR(INDEX(Отделения[отделение],SMALL(IF(Отделения[Город]=$BY$1,ROW(Отделения[Город])-1),ROW(AV54)-ROW($A$2)+1)),\"\")","v":""},{"$f":"IFERROR(INDEX(Отделения[отделение],SMALL(IF(Отделения[Город]=$BZ$1,ROW(Отделения[Город])-1),ROW(AV54)-ROW($A$2)+1)),\"\")","v":""},{"$f":"IFERROR(INDEX(Отделения[отделение],SMALL(IF(Отделения[Город]=$CA$1,ROW(Отделения[Город])-1),ROW(AV54)-ROW($A$2)+1)),\"\")","v":""},{"$f":"IFERROR(INDEX(Отделения[отделение],SMALL(IF(Отделения[Город]=$CB$1,ROW(Отделения[Город])-1),ROW(AV54)-ROW($A$2)+1)),\"\")","v":""},{"$f":"IFERROR(INDEX(Отделения[отделение],SMALL(IF(Отделения[Город]=$CC$1,ROW(Отделения[Город])-1),ROW(AV54)-ROW($A$2)+1)),\"\")","v":""},{"$f":"IFERROR(INDEX(Отделения[отделение],SMALL(IF(Отделения[Город]=$CD$1,ROW(Отделения[Город])-1),ROW(AV54)-ROW($A$2)+1)),\"\")","v":""},{"$f":"IFERROR(INDEX(Отделения[отделение],SMALL(IF(Отделения[Город]=$CE$1,ROW(Отделения[Город])-1),ROW(AV54)-ROW($A$2)+1)),\"\")","v":""},{"$f":"IFERROR(INDEX(Отделения[отделение],SMALL(IF(Отделения[Город]=$CF$1,ROW(Отделения[Город])-1),ROW(AV54)-ROW($A$2)+1)),\"\")","v":""},{"$f":"IFERROR(INDEX(Отделения[отделение],SMALL(IF(Отделения[Город]=$CG$1,ROW(Отделения[Город])-1),ROW(AV54)-ROW($A$2)+1)),\"\")","v":""},{"$f":"IFERROR(INDEX(Отделения[отделение],SMALL(IF(Отделения[Город]=$CH$1,ROW(Отделения[Город])-1),ROW(AW54)-ROW($A$2)+1)),\"\")","v":""},{"$f":"IFERROR(INDEX(Отделения[отделение],SMALL(IF(Отделения[Город]=$CI$1,ROW(Отделения[Город])-1),ROW(AX54)-ROW($A$2)+1)),\"\")","v":""},{"$f":"IFERROR(INDEX(Отделения[отделение],SMALL(IF(Отделения[Город]=$CJ$1,ROW(Отделения[Город])-1),ROW(AY54)-ROW($A$2)+1)),\"\")","v":""},{"$f":"IFERROR(INDEX(Отделения[отделение],SMALL(IF(Отделения[Город]=$CK$1,ROW(Отделения[Город])-1),ROW(AZ54)-ROW($A$2)+1)),\"\")","v":""},{"$f":"IFERROR(INDEX(Отделения[отделение],SMALL(IF(Отделения[Город]=$CL$1,ROW(Отделения[Город])-1),ROW(BA54)-ROW($A$2)+1)),\"\")","v":""},{"$f":"IFERROR(INDEX(Отделения[отделение],SMALL(IF(Отделения[Город]=$CM$1,ROW(Отделения[Город])-1),ROW(BB54)-ROW($A$2)+1)),\"\")","v":""},{"$f":"IFERROR(INDEX(Отделения[отделение],SMALL(IF(Отделения[Город]=$CN$1,ROW(Отделения[Город])-1),ROW(BC54)-ROW($A$2)+1)),\"\")","v":""},{"$f":"IFERROR(INDEX(Отделения[отделение],SMALL(IF(Отделения[Город]=$CO$1,ROW(Отделения[Город])-1),ROW(BD54)-ROW($A$2)+1)),\"\")","v":""},{"$f":"IFERROR(INDEX(Отделения[отделение],SMALL(IF(Отделения[Город]=$CP$1,ROW(Отделения[Город])-1),ROW(BE54)-ROW($A$2)+1)),\"\")","v":""},{"$f":"IFERROR(INDEX(Отделения[отделение],SMALL(IF(Отделения[Город]=$CQ$1,ROW(Отделения[Город])-1),ROW(BF54)-ROW($A$2)+1)),\"\")","v":""},{"$f":"IFERROR(INDEX(Отделения[отделение],SMALL(IF(Отделения[Город]=$CR$1,ROW(Отделения[Город])-1),ROW(BG54)-ROW($A$2)+1)),\"\")","v":""},{"$f":"IFERROR(INDEX(Отделения[отделение],SMALL(IF(Отделения[Город]=$CS$1,ROW(Отделения[Город])-1),ROW(BH54)-ROW($A$2)+1)),\"\")","v":""},{"$f":"IFERROR(INDEX(Отделения[отделение],SMALL(IF(Отделения[Город]=$CT$1,ROW(Отделения[Город])-1),ROW(BI54)-ROW($A$2)+1)),\"\")","v":""},{"$f":"IFERROR(INDEX(Отделения[отделение],SMALL(IF(Отделения[Город]=$CU$1,ROW(Отделения[Город])-1),ROW(BJ54)-ROW($A$2)+1)),\"\")","v":""},{"$f":"IFERROR(INDEX(Отделения[отделение],SMALL(IF(Отделения[Город]=$CV$1,ROW(Отделения[Город])-1),ROW(BK54)-ROW($A$2)+1)),\"\")","v":""},{"$f":"IFERROR(INDEX(Отделения[отделение],SMALL(IF(Отделения[Город]=$CW$1,ROW(Отделения[Город])-1),ROW(BL54)-ROW($A$2)+1)),\"\")","v":""},{"$f":"IFERROR(INDEX(Отделения[отделение],SMALL(IF(Отделения[Город]=$CX$1,ROW(Отделения[Город])-1),ROW(BM54)-ROW($A$2)+1)),\"\")","v":""},{"$f":"IFERROR(INDEX(Отделения[отделение],SMALL(IF(Отделения[Город]=$CY$1,ROW(Отделения[Город])-1),ROW(BM54)-ROW($A$2)+1)),\"\")","v":""},{"$f":"IFERROR(INDEX(Отделения[отделение],SMALL(IF(Отделения[Город]=$CZ$1,ROW(Отделения[Город])-1),ROW(BM54)-ROW($A$2)+1)),\"\")","v":""},{"$f":"IFERROR(INDEX(Отделения[отделение],SMALL(IF(Отделения[Город]=$DA$1,ROW(Отделения[Город])-1),ROW(BM54)-ROW($A$2)+1)),\"\")","v":""},{"$f":"IFERROR(INDEX(Отделения[отделение],SMALL(IF(Отделения[Город]=$DB$1,ROW(Отделения[Город])-1),ROW(BM54)-ROW($A$2)+1)),\"\")","v":""}]
["Москва","ДО \"СЕМЕНОВСКИЙ\" , 105318, г. Москва, ул.Вельяминовская, д. 6, стр. 2","0623","MOMZ",null,null,{"$f":"IFERROR(INDEX(Отделения[отделение],SMALL(IF(Отделения[Город]=$G$1,ROW(Отделения[Город])-1),ROW(A55)-ROW($A$2)+1)),\"\")","v":""},{"$f":"IFERROR(INDEX(Отделения[отделение],SMALL(IF(Отделения[Город]=$H$1,ROW(Отделения[Город])-1),ROW(A55)-ROW($A$2)+1)),\"\")","v":""},{"$f":"IFERROR(INDEX(Отделения[отделение],SMALL(IF(Отделения[Город]=$I$1,ROW(Отделения[Город])-1),ROW(A55)-ROW($A$2)+1)),\"\")","v":""},{"$f":"IFERROR(INDEX(Отделения[отделение],SMALL(IF(Отделения[Город]=$J$1,ROW(Отделения[Город])-1),ROW(A55)-ROW($A$2)+1)),\"\")","v":""},{"$f":"IFERROR(INDEX(Отделения[отделение],SMALL(IF(Отделения[Город]=$K$1,ROW(Отделения[Город])-1),ROW(A55)-ROW($A$2)+1)),\"\")","v":""},{"$f":"IFERROR(INDEX(Отделения[отделение],SMALL(IF(Отделения[Город]=$L$1,ROW(Отделения[Город])-1),ROW(A55)-ROW($A$2)+1)),\"\")","v":""},{"$f":"IFERROR(INDEX(Отделения[отделение],SMALL(IF(Отделения[Город]=$M$1,ROW(Отделения[Город])-1),ROW(B55)-ROW($A$2)+1)),\"\")","v":""},{"$f":"IFERROR(INDEX(Отделения[отделение],SMALL(IF(Отделения[Город]=$N$1,ROW(Отделения[Город])-1),ROW(#REF!)-ROW($A$2)+1)),\"\")","v":""},{"$f":"IFERROR(INDEX(Отделения[отделение],SMALL(IF(Отделения[Город]=$O$1,ROW(Отделения[Город])-1),ROW(C55)-ROW($A$2)+1)),\"\")","v":""},{"$f":"IFERROR(INDEX(Отделения[отделение],SMALL(IF(Отделения[Город]=$P$1,ROW(Отделения[Город])-1),ROW(D55)-ROW($A$2)+1)),\"\")","v":""},{"$f":"IFERROR(INDEX(Отделения[отделение],SMALL(IF(Отделения[Город]=$Q$1,ROW(Отделения[Город])-1),ROW(F55)-ROW($A$2)+1)),\"\")","v":""},{"$f":"IFERROR(INDEX(Отделения[отделение],SMALL(IF(Отделения[Город]=$R$1,ROW(Отделения[Город])-1),ROW(#REF!)-ROW($A$2)+1)),\"\")","v":""},{"$f":"IFERROR(INDEX(Отделения[отделение],SMALL(IF(Отделения[Город]=$S$1,ROW(Отделения[Город])-1),ROW(G55)-ROW($A$2)+1)),\"\")","v":""},{"$f":"IFERROR(INDEX(Отделения[отделение],SMALL(IF(Отделения[Город]=$T$1,ROW(Отделения[Город])-1),ROW(H55)-ROW($A$2)+1)),\"\")","v":""},{"$f":"IFERROR(INDEX(Отделения[отделение],SMALL(IF(Отделения[Город]=$U$1,ROW(Отделения[Город])-1),ROW(I55)-ROW($A$2)+1)),\"\")","v":""},{"$f":"IFERROR(INDEX(Отделения[отделение],SMALL(IF(Отделения[Город]=$V$1,ROW(Отделения[Город])-1),ROW(J55)-ROW($A$2)+1)),\"\")","v":""},{"$f":"IFERROR(INDEX(Отделения[отделение],SMALL(IF(Отделения[Город]=$W$1,ROW(Отделения[Город])-1),ROW(K55)-ROW($A$2)+1)),\"\")","v":""},{"$f":"IFERROR(INDEX(Отделения[отделение],SMALL(IF(Отделения[Город]=$X$1,ROW(Отделения[Город])-1),ROW(L55)-ROW($A$2)+1)),\"\")","v":""},{"$f":"IFERROR(INDEX(Отделения[отделение],SMALL(IF(Отделения[Город]=$Y$1,ROW(Отделения[Город])-1),ROW(M55)-ROW($A$2)+1)),\"\")","v":""},{"$f":"IFERROR(INDEX(Отделения[отделение],SMALL(IF(Отделения[Город]=$Z$1,ROW(Отделения[Город])-1),ROW(N55)-ROW($A$2)+1)),\"\")","v":""},{"$f":"IFERROR(INDEX(Отделения[отделение],SMALL(IF(Отделения[Город]=$AA$1,ROW(Отделения[Город])-1),ROW(O55)-ROW($A$2)+1)),\"\")","v":""},{"$f":"IFERROR(INDEX(Отделения[отделение],SMALL(IF(Отделения[Город]=$AB$1,ROW(Отделения[Город])-1),ROW(P55)-ROW($A$2)+1)),\"\")","v":""},{"$f":"IFERROR(INDEX(Отделения[отделение],SMALL(IF(Отделения[Город]=$AC$1,ROW(Отделения[Город])-1),ROW(Q55)-ROW($A$2)+1)),\"\")","v":""},{"$f":"IFERROR(INDEX(Отделения[отделение],SMALL(IF(Отделения[Город]=$AD$1,ROW(Отделения[Город])-1),ROW(R55)-ROW($A$2)+1)),\"\")","v":""},{"$f":"IFERROR(INDEX(Отделения[отделение],SMALL(IF(Отделения[Город]=$AE$1,ROW(Отделения[Город])-1),ROW(S55)-ROW($A$2)+1)),\"\")","v":""},{"$f":"IFERROR(INDEX(Отделения[отделение],SMALL(IF(Отделения[Город]=$AF$1,ROW(Отделения[Город])-1),ROW(T55)-ROW($A$2)+1)),\"\")","v":""},{"$f":"IFERROR(INDEX(Отделения[отделение],SMALL(IF(Отделения[Город]=$AG$1,ROW(Отделения[Город])-1),ROW(U55)-ROW($A$2)+1)),\"\")","v":""},{"$f":"IFERROR(INDEX(Отделения[отделение],SMALL(IF(Отделения[Город]=$AH$1,ROW(Отделения[Город])-1),ROW(V55)-ROW($A$2)+1)),\"\")","v":""},{"$f":"IFERROR(INDEX(Отделения[отделение],SMALL(IF(Отделения[Город]=$AI$1,ROW(Отделения[Город])-1),ROW(AB55)-ROW($A$2)+1)),\"\")","v":""},{"$f":"IFERROR(INDEX(Отделения[отделение],SMALL(IF(Отделения[Город]=$AJ$1,ROW(Отделения[Город])-1),ROW(AB55)-ROW($A$2)+1)),\"\")","v":""},{"$f":"IFERROR(INDEX(Отделения[отделение],SMALL(IF(Отделения[Город]=$AK$1,ROW(Отделения[Город])-1),ROW(AB55)-ROW($A$2)+1)),\"\")","v":""},{"$f":"IFERROR(INDEX(Отделения[отделение],SMALL(IF(Отделения[Город]=$AL$1,ROW(Отделения[Город])-1),ROW(AB55)-ROW($A$2)+1)),\"\")","v":""},{"$f":"IFERROR(INDEX(Отделения[отделение],SMALL(IF(Отделения[Город]=$AM$1,ROW(Отделения[Город])-1),ROW(AB55)-ROW($A$2)+1)),\"\")","v":""},{"$f":"IFERROR(INDEX(Отделения[отделение],SMALL(IF(Отделения[Город]=$AN$1,ROW(Отделения[Город])-1),ROW(AB55)-ROW($A$2)+1)),\"\")","v":""},{"$f":"IFERROR(INDEX(Отделения[отделение],SMALL(IF(Отделения[Город]=$AO$1,ROW(Отделения[Город])-1),ROW(AB55)-ROW($A$2)+1)),\"\")","v":""},{"$f":"IFERROR(INDEX(Отделения[отделение],SMALL(IF(Отделения[Город]=$AP$1,ROW(Отделения[Город])-1),ROW(AB55)-ROW($A$2)+1)),\"\")","v":""},{"$f":"IFERROR(INDEX(Отделения[отделение],SMALL(IF(Отделения[Город]=$AQ$1,ROW(Отделения[Город])-1),ROW(AB55)-ROW($A$2)+1)),\"\")","v":""},{"$f":"IFERROR(INDEX(Отделения[отделение],SMALL(IF(Отделения[Город]=$AR$1,ROW(Отделения[Город])-1),ROW(AB55)-ROW($A$2)+1)),\"\")","v":""},{"$f":"IFERROR(INDEX(Отделения[отделение],SMALL(IF(Отделения[Город]=$AS$1,ROW(Отделения[Город])-1),ROW(AB55)-ROW($A$2)+1)),\"\")","v":""},{"$f":"IFERROR(INDEX(Отделения[отделение],SMALL(IF(Отделения[Город]=$AT$1,ROW(Отделения[Город])-1),ROW(AB55)-ROW($A$2)+1)),\"\")","v":""},{"$f":"IFERROR(INDEX(Отделения[отделение],SMALL(IF(Отделения[Город]=$AU$1,ROW(Отделения[Город])-1),ROW(AB55)-ROW($A$2)+1)),\"\")","v":""},{"$f":"IFERROR(INDEX(Отделения[отделение],SMALL(IF(Отделения[Город]=$AV$1,ROW(Отделения[Город])-1),ROW(AB55)-ROW($A$2)+1)),\"\")","v":""},{"$f":"IFERROR(INDEX(Отделения[отделение],SMALL(IF(Отделения[Город]=$AW$1,ROW(Отделения[Город])-1),ROW(AB55)-ROW($A$2)+1)),\"\")","v":""},{"$f":"IFERROR(INDEX(Отделения[отделение],SMALL(IF(Отделения[Город]=$AX$1,ROW(Отделения[Город])-1),ROW(AB55)-ROW($A$2)+1)),\"\")","v":""},{"$f":"IFERROR(INDEX(Отделения[отделение],SMALL(IF(Отделения[Город]=$AY$1,ROW(Отделения[Город])-1),ROW(AB55)-ROW($A$2)+1)),\"\")","v":""},{"$f":"IFERROR(INDEX(Отделения[отделение],SMALL(IF(Отделения[Город]=$AZ$1,ROW(Отделения[Город])-1),ROW(AB55)-ROW($A$2)+1)),\"\")","v":""},{"$f":"IFERROR(INDEX(Отделения[отделение],SMALL(IF(Отделения[Город]=$BA$1,ROW(Отделения[Город])-1),ROW(AB55)-ROW($A$2)+1)),\"\")","v":""},{"$f":"IFERROR(INDEX(Отделения[отделение],SMALL(IF(Отделения[Город]=$BB$1,ROW(Отделения[Город])-1),ROW(AB55)-ROW($A$2)+1)),\"\")","v":""},{"$f":"IFERROR(INDEX(Отделения[отделение],SMALL(IF(Отделения[Город]=$BC$1,ROW(Отделения[Город])-1),ROW(AC55)-ROW($A$2)+1)),\"\")","v":""},{"$f":"IFERROR(INDEX(Отделения[отделение],SMALL(IF(Отделения[Город]=$BD$1,ROW(Отделения[Город])-1),ROW(AD55)-ROW($A$2)+1)),\"\")","v":""},{"$f":"IFERROR(INDEX(Отделения[отделение],SMALL(IF(Отделения[Город]=$BE$1,ROW(Отделения[Город])-1),ROW(AE55)-ROW($A$2)+1)),\"\")","v":""},{"$f":"IFERROR(INDEX(Отделения[отделение],SMALL(IF(Отделения[Город]=$BF$1,ROW(Отделения[Город])-1),ROW(AF55)-ROW($A$2)+1)),\"\")","v":""},{"$f":"IFERROR(INDEX(Отделения[отделение],SMALL(IF(Отделения[Город]=$BG$1,ROW(Отделения[Город])-1),ROW(AG55)-ROW($A$2)+1)),\"\")","v":""},{"$f":"IFERROR(INDEX(Отделения[отделение],SMALL(IF(Отделения[Город]=$BH$1,ROW(Отделения[Город])-1),ROW(AH55)-ROW($A$2)+1)),\"\")","v":""},{"$f":"IFERROR(INDEX(Отделения[отделение],SMALL(IF(Отделения[Город]=$BI$1,ROW(Отделения[Город])-1),ROW(AI55)-ROW($A$2)+1)),\"\")","v":""},{"$f":"IFERROR(INDEX(Отделения[отделение],SMALL(IF(Отделения[Город]=$BJ$1,ROW(Отделения[Город])-1),ROW(AJ55)-ROW($A$2)+1)),\"\")","v":""},{"$f":"IFERROR(INDEX(Отделения[отделение],SMALL(IF(Отделения[Город]=$BK$1,ROW(Отделения[Город])-1),ROW(AK55)-ROW($A$2)+1)),\"\")","v":""},{"$f":"IFERROR(INDEX(Отделения[отделение],SMALL(IF(Отделения[Город]=$BL$1,ROW(Отделения[Город])-1),ROW(AL55)-ROW($A$2)+1)),\"\")","v":""},{"$f":"IFERROR(INDEX(Отделения[отделение],SMALL(IF(Отделения[Город]=$BM$1,ROW(Отделения[Город])-1),ROW(AM55)-ROW($A$2)+1)),\"\")","v":""},{"$f":"IFERROR(INDEX(Отделения[отделение],SMALL(IF(Отделения[Город]=$BN$1,ROW(Отделения[Город])-1),ROW(AN55)-ROW($A$2)+1)),\"\")","v":""},{"$f":"IFERROR(INDEX(Отделения[отделение],SMALL(IF(Отделения[Город]=$BO$1,ROW(Отделения[Город])-1),ROW(AO55)-ROW($A$2)+1)),\"\")","v":""},{"$f":"IFERROR(INDEX(Отделения[отделение],SMALL(IF(Отделения[Город]=$BP$1,ROW(Отделения[Город])-1),ROW(AP55)-ROW($A$2)+1)),\"\")","v":""},{"$f":"IFERROR(INDEX(Отделения[отделение],SMALL(IF(Отделения[Город]=$BQ$1,ROW(Отделения[Город])-1),ROW(AQ55)-ROW($A$2)+1)),\"\")","v":""},{"$f":"IFERROR(INDEX(Отделения[отделение],SMALL(IF(Отделения[Город]=$BR$1,ROW(Отделения[Город])-1),ROW(AR55)-ROW($A$2)+1)),\"\")","v":""},{"$f":"IFERROR(INDEX(Отделения[отделение],SMALL(IF(Отделения[Город]=$BS$1,ROW(Отделения[Город])-1),ROW(AS55)-ROW($A$2)+1)),\"\")","v":""},{"$f":"IFERROR(INDEX(Отделения[отделение],SMALL(IF(Отделения[Город]=$BT$1,ROW(Отделения[Город])-1),ROW(AT55)-ROW($A$2)+1)),\"\")","v":""},{"$f":"IFERROR(INDEX(Отделения[отделение],SMALL(IF(Отделения[Город]=$BU$1,ROW(Отделения[Город])-1),ROW(AU55)-ROW($A$2)+1)),\"\")","v":""},{"$f":"IFERROR(INDEX(Отделения[отделение],SMALL(IF(Отделения[Город]=$BV$1,ROW(Отделения[Город])-1),ROW(AV55)-ROW($A$2)+1)),\"\")","v":""},{"$f":"IFERROR(INDEX(Отделения[отделение],SMALL(IF(Отделения[Город]=$BW$1,ROW(Отделения[Город])-1),ROW(AV55)-ROW($A$2)+1)),\"\")","v":""},{"$f":"IFERROR(INDEX(Отделения[отделение],SMALL(IF(Отделения[Город]=$BX$1,ROW(Отделения[Город])-1),ROW(AV55)-ROW($A$2)+1)),\"\")","v":""},{"$f":"IFERROR(INDEX(Отделения[отделение],SMALL(IF(Отделения[Город]=$BY$1,ROW(Отделения[Город])-1),ROW(AV55)-ROW($A$2)+1)),\"\")","v":""},{"$f":"IFERROR(INDEX(Отделения[отделение],SMALL(IF(Отделения[Город]=$BZ$1,ROW(Отделения[Город])-1),ROW(AV55)-ROW($A$2)+1)),\"\")","v":""},{"$f":"IFERROR(INDEX(Отделения[отделение],SMALL(IF(Отделения[Город]=$CA$1,ROW(Отделения[Город])-1),ROW(AV55)-ROW($A$2)+1)),\"\")","v":""},{"$f":"IFERROR(INDEX(Отделения[отделение],SMALL(IF(Отделения[Город]=$CB$1,ROW(Отделения[Город])-1),ROW(AV55)-ROW($A$2)+1)),\"\")","v":""},{"$f":"IFERROR(INDEX(Отделения[отделение],SMALL(IF(Отделения[Город]=$CC$1,ROW(Отделения[Город])-1),ROW(AV55)-ROW($A$2)+1)),\"\")","v":""},{"$f":"IFERROR(INDEX(Отделения[отделение],SMALL(IF(Отделения[Город]=$CD$1,ROW(Отделения[Город])-1),ROW(AV55)-ROW($A$2)+1)),\"\")","v":""},{"$f":"IFERROR(INDEX(Отделения[отделение],SMALL(IF(Отделения[Город]=$CE$1,ROW(Отделения[Город])-1),ROW(AV55)-ROW($A$2)+1)),\"\")","v":""},{"$f":"IFERROR(INDEX(Отделения[отделение],SMALL(IF(Отделения[Город]=$CF$1,ROW(Отделения[Город])-1),ROW(AV55)-ROW($A$2)+1)),\"\")","v":""},{"$f":"IFERROR(INDEX(Отделения[отделение],SMALL(IF(Отделения[Город]=$CG$1,ROW(Отделения[Город])-1),ROW(AV55)-ROW($A$2)+1)),\"\")","v":""},{"$f":"IFERROR(INDEX(Отделения[отделение],SMALL(IF(Отделения[Город]=$CH$1,ROW(Отделения[Город])-1),ROW(AW55)-ROW($A$2)+1)),\"\")","v":""},{"$f":"IFERROR(INDEX(Отделения[отделение],SMALL(IF(Отделения[Город]=$CI$1,ROW(Отделения[Город])-1),ROW(AX55)-ROW($A$2)+1)),\"\")","v":""},{"$f":"IFERROR(INDEX(Отделения[отделение],SMALL(IF(Отделения[Город]=$CJ$1,ROW(Отделения[Город])-1),ROW(AY55)-ROW($A$2)+1)),\"\")","v":""},{"$f":"IFERROR(INDEX(Отделения[отделение],SMALL(IF(Отделения[Город]=$CK$1,ROW(Отделения[Город])-1),ROW(AZ55)-ROW($A$2)+1)),\"\")","v":""},{"$f":"IFERROR(INDEX(Отделения[отделение],SMALL(IF(Отделения[Город]=$CL$1,ROW(Отделения[Город])-1),ROW(BA55)-ROW($A$2)+1)),\"\")","v":""},{"$f":"IFERROR(INDEX(Отделения[отделение],SMALL(IF(Отделения[Город]=$CM$1,ROW(Отделения[Город])-1),ROW(BB55)-ROW($A$2)+1)),\"\")","v":""},{"$f":"IFERROR(INDEX(Отделения[отделение],SMALL(IF(Отделения[Город]=$CN$1,ROW(Отделения[Город])-1),ROW(BC55)-ROW($A$2)+1)),\"\")","v":""},{"$f":"IFERROR(INDEX(Отделения[отделение],SMALL(IF(Отделения[Город]=$CO$1,ROW(Отделения[Город])-1),ROW(BD55)-ROW($A$2)+1)),\"\")","v":""},{"$f":"IFERROR(INDEX(Отделения[отделение],SMALL(IF(Отделения[Город]=$CP$1,ROW(Отделения[Город])-1),ROW(BE55)-ROW($A$2)+1)),\"\")","v":""},{"$f":"IFERROR(INDEX(Отделения[отделение],SMALL(IF(Отделения[Город]=$CQ$1,ROW(Отделения[Город])-1),ROW(BF55)-ROW($A$2)+1)),\"\")","v":""},{"$f":"IFERROR(INDEX(Отделения[отделение],SMALL(IF(Отделения[Город]=$CR$1,ROW(Отделения[Город])-1),ROW(BG55)-ROW($A$2)+1)),\"\")","v":""},{"$f":"IFERROR(INDEX(Отделения[отделение],SMALL(IF(Отделения[Город]=$CS$1,ROW(Отделения[Город])-1),ROW(BH55)-ROW($A$2)+1)),\"\")","v":""},{"$f":"IFERROR(INDEX(Отделения[отделение],SMALL(IF(Отделения[Город]=$CT$1,ROW(Отделения[Город])-1),ROW(BI55)-ROW($A$2)+1)),\"\")","v":""},{"$f":"IFERROR(INDEX(Отделения[отделение],SMALL(IF(Отделения[Город]=$CU$1,ROW(Отделения[Город])-1),ROW(BJ55)-ROW($A$2)+1)),\"\")","v":""},{"$f":"IFERROR(INDEX(Отделения[отделение],SMALL(IF(Отделения[Город]=$CV$1,ROW(Отделения[Город])-1),ROW(BK55)-ROW($A$2)+1)),\"\")","v":""},{"$f":"IFERROR(INDEX(Отделения[отделение],SMALL(IF(Отделения[Город]=$CW$1,ROW(Отделения[Город])-1),ROW(BL55)-ROW($A$2)+1)),\"\")","v":""},{"$f":"IFERROR(INDEX(Отделения[отделение],SMALL(IF(Отделения[Город]=$CX$1,ROW(Отделения[Город])-1),ROW(BM55)-ROW($A$2)+1)),\"\")","v":""},{"$f":"IFERROR(INDEX(Отделения[отделение],SMALL(IF(Отделения[Город]=$CY$1,ROW(Отделения[Город])-1),ROW(BM55)-ROW($A$2)+1)),\"\")","v":""},{"$f":"IFERROR(INDEX(Отделения[отделение],SMALL(IF(Отделения[Город]=$CZ$1,ROW(Отделения[Город])-1),ROW(BM55)-ROW($A$2)+1)),\"\")","v":""},{"$f":"IFERROR(INDEX(Отделения[отделение],SMALL(IF(Отделения[Город]=$DA$1,ROW(Отделения[Город])-1),ROW(BM55)-ROW($A$2)+1)),\"\")","v":""},{"$f":"IFERROR(INDEX(Отделения[отделение],SMALL(IF(Отделения[Город]=$DB$1,ROW(Отделения[Город])-1),ROW(BM55)-ROW($A$2)+1)),\"\")","v":""}]
["Подольск","ДО \"ПОДОЛЬСКИЙ\" , 142100, Московская область, г. Подольск, ул. Рабочая, д. 4","0624","MOLX",null,null,{"$f":"IFERROR(INDEX(Отделения[отделение],SMALL(IF(Отделения[Город]=$G$1,ROW(Отделения[Город])-1),ROW(A56)-ROW($A$2)+1)),\"\")","v":""},{"$f":"IFERROR(INDEX(Отделения[отделение],SMALL(IF(Отделения[Город]=$H$1,ROW(Отделения[Город])-1),ROW(A56)-ROW($A$2)+1)),\"\")","v":""},{"$f":"IFERROR(INDEX(Отделения[отделение],SMALL(IF(Отделения[Город]=$I$1,ROW(Отделения[Город])-1),ROW(A56)-ROW($A$2)+1)),\"\")","v":""},{"$f":"IFERROR(INDEX(Отделения[отделение],SMALL(IF(Отделения[Город]=$J$1,ROW(Отделения[Город])-1),ROW(A56)-ROW($A$2)+1)),\"\")","v":""},{"$f":"IFERROR(INDEX(Отделения[отделение],SMALL(IF(Отделения[Город]=$K$1,ROW(Отделения[Город])-1),ROW(A56)-ROW($A$2)+1)),\"\")","v":""},{"$f":"IFERROR(INDEX(Отделения[отделение],SMALL(IF(Отделения[Город]=$L$1,ROW(Отделения[Город])-1),ROW(A56)-ROW($A$2)+1)),\"\")","v":""},{"$f":"IFERROR(INDEX(Отделения[отделение],SMALL(IF(Отделения[Город]=$M$1,ROW(Отделения[Город])-1),ROW(B56)-ROW($A$2)+1)),\"\")","v":""},{"$f":"IFERROR(INDEX(Отделения[отделение],SMALL(IF(Отделения[Город]=$N$1,ROW(Отделения[Город])-1),ROW(#REF!)-ROW($A$2)+1)),\"\")","v":""},{"$f":"IFERROR(INDEX(Отделения[отделение],SMALL(IF(Отделения[Город]=$O$1,ROW(Отделения[Город])-1),ROW(C56)-ROW($A$2)+1)),\"\")","v":""},{"$f":"IFERROR(INDEX(Отделения[отделение],SMALL(IF(Отделения[Город]=$P$1,ROW(Отделения[Город])-1),ROW(D56)-ROW($A$2)+1)),\"\")","v":""},{"$f":"IFERROR(INDEX(Отделения[отделение],SMALL(IF(Отделения[Город]=$Q$1,ROW(Отделения[Город])-1),ROW(F56)-ROW($A$2)+1)),\"\")","v":""},{"$f":"IFERROR(INDEX(Отделения[отделение],SMALL(IF(Отделения[Город]=$R$1,ROW(Отделения[Город])-1),ROW(#REF!)-ROW($A$2)+1)),\"\")","v":""},{"$f":"IFERROR(INDEX(Отделения[отделение],SMALL(IF(Отделения[Город]=$S$1,ROW(Отделения[Город])-1),ROW(G56)-ROW($A$2)+1)),\"\")","v":""},{"$f":"IFERROR(INDEX(Отделения[отделение],SMALL(IF(Отделения[Город]=$T$1,ROW(Отделения[Город])-1),ROW(H56)-ROW($A$2)+1)),\"\")","v":""},{"$f":"IFERROR(INDEX(Отделения[отделение],SMALL(IF(Отделения[Город]=$U$1,ROW(Отделения[Город])-1),ROW(I56)-ROW($A$2)+1)),\"\")","v":""},{"$f":"IFERROR(INDEX(Отделения[отделение],SMALL(IF(Отделения[Город]=$V$1,ROW(Отделения[Город])-1),ROW(J56)-ROW($A$2)+1)),\"\")","v":""},{"$f":"IFERROR(INDEX(Отделения[отделение],SMALL(IF(Отделения[Город]=$W$1,ROW(Отделения[Город])-1),ROW(K56)-ROW($A$2)+1)),\"\")","v":""},{"$f":"IFERROR(INDEX(Отделения[отделение],SMALL(IF(Отделения[Город]=$X$1,ROW(Отделения[Город])-1),ROW(L56)-ROW($A$2)+1)),\"\")","v":""},{"$f":"IFERROR(INDEX(Отделения[отделение],SMALL(IF(Отделения[Город]=$Y$1,ROW(Отделения[Город])-1),ROW(M56)-ROW($A$2)+1)),\"\")","v":""},{"$f":"IFERROR(INDEX(Отделения[отделение],SMALL(IF(Отделения[Город]=$Z$1,ROW(Отделения[Город])-1),ROW(N56)-ROW($A$2)+1)),\"\")","v":""},{"$f":"IFERROR(INDEX(Отделения[отделение],SMALL(IF(Отделения[Город]=$AA$1,ROW(Отделения[Город])-1),ROW(O56)-ROW($A$2)+1)),\"\")","v":""},{"$f":"IFERROR(INDEX(Отделения[отделение],SMALL(IF(Отделения[Город]=$AB$1,ROW(Отделения[Город])-1),ROW(P56)-ROW($A$2)+1)),\"\")","v":""},{"$f":"IFERROR(INDEX(Отделения[отделение],SMALL(IF(Отделения[Город]=$AC$1,ROW(Отделения[Город])-1),ROW(Q56)-ROW($A$2)+1)),\"\")","v":""},{"$f":"IFERROR(INDEX(Отделения[отделение],SMALL(IF(Отделения[Город]=$AD$1,ROW(Отделения[Город])-1),ROW(R56)-ROW($A$2)+1)),\"\")","v":""},{"$f":"IFERROR(INDEX(Отделения[отделение],SMALL(IF(Отделения[Город]=$AE$1,ROW(Отделения[Город])-1),ROW(S56)-ROW($A$2)+1)),\"\")","v":""},{"$f":"IFERROR(INDEX(Отделения[отделение],SMALL(IF(Отделения[Город]=$AF$1,ROW(Отделения[Город])-1),ROW(T56)-ROW($A$2)+1)),\"\")","v":""},{"$f":"IFERROR(INDEX(Отделения[отделение],SMALL(IF(Отделения[Город]=$AG$1,ROW(Отделения[Город])-1),ROW(U56)-ROW($A$2)+1)),\"\")","v":""},{"$f":"IFERROR(INDEX(Отделения[отделение],SMALL(IF(Отделения[Город]=$AH$1,ROW(Отделения[Город])-1),ROW(V56)-ROW($A$2)+1)),\"\")","v":""},{"$f":"IFERROR(INDEX(Отделения[отделение],SMALL(IF(Отделения[Город]=$AI$1,ROW(Отделения[Город])-1),ROW(AB56)-ROW($A$2)+1)),\"\")","v":""},{"$f":"IFERROR(INDEX(Отделения[отделение],SMALL(IF(Отделения[Город]=$AJ$1,ROW(Отделения[Город])-1),ROW(AB56)-ROW($A$2)+1)),\"\")","v":""},{"$f":"IFERROR(INDEX(Отделения[отделение],SMALL(IF(Отделения[Город]=$AK$1,ROW(Отделения[Город])-1),ROW(AB56)-ROW($A$2)+1)),\"\")","v":""},{"$f":"IFERROR(INDEX(Отделения[отделение],SMALL(IF(Отделения[Город]=$AL$1,ROW(Отделения[Город])-1),ROW(AB56)-ROW($A$2)+1)),\"\")","v":""},{"$f":"IFERROR(INDEX(Отделения[отделение],SMALL(IF(Отделения[Город]=$AM$1,ROW(Отделения[Город])-1),ROW(AB56)-ROW($A$2)+1)),\"\")","v":""},{"$f":"IFERROR(INDEX(Отделения[отделение],SMALL(IF(Отделения[Город]=$AN$1,ROW(Отделения[Город])-1),ROW(AB56)-ROW($A$2)+1)),\"\")","v":""},{"$f":"IFERROR(INDEX(Отделения[отделение],SMALL(IF(Отделения[Город]=$AO$1,ROW(Отделения[Город])-1),ROW(AB56)-ROW($A$2)+1)),\"\")","v":""},{"$f":"IFERROR(INDEX(Отделения[отделение],SMALL(IF(Отделения[Город]=$AP$1,ROW(Отделения[Город])-1),ROW(AB56)-ROW($A$2)+1)),\"\")","v":""},{"$f":"IFERROR(INDEX(Отделения[отделение],SMALL(IF(Отделения[Город]=$AQ$1,ROW(Отделения[Город])-1),ROW(AB56)-ROW($A$2)+1)),\"\")","v":""},{"$f":"IFERROR(INDEX(Отделения[отделение],SMALL(IF(Отделения[Город]=$AR$1,ROW(Отделения[Город])-1),ROW(AB56)-ROW($A$2)+1)),\"\")","v":""},{"$f":"IFERROR(INDEX(Отделения[отделение],SMALL(IF(Отделения[Город]=$AS$1,ROW(Отделения[Город])-1),ROW(AB56)-ROW($A$2)+1)),\"\")","v":""},{"$f":"IFERROR(INDEX(Отделения[отделение],SMALL(IF(Отделения[Город]=$AT$1,ROW(Отделения[Город])-1),ROW(AB56)-ROW($A$2)+1)),\"\")","v":""},{"$f":"IFERROR(INDEX(Отделения[отделение],SMALL(IF(Отделения[Город]=$AU$1,ROW(Отделения[Город])-1),ROW(AB56)-ROW($A$2)+1)),\"\")","v":""},{"$f":"IFERROR(INDEX(Отделения[отделение],SMALL(IF(Отделения[Город]=$AV$1,ROW(Отделения[Город])-1),ROW(AB56)-ROW($A$2)+1)),\"\")","v":""},{"$f":"IFERROR(INDEX(Отделения[отделение],SMALL(IF(Отделения[Город]=$AW$1,ROW(Отделения[Город])-1),ROW(AB56)-ROW($A$2)+1)),\"\")","v":""},{"$f":"IFERROR(INDEX(Отделения[отделение],SMALL(IF(Отделения[Город]=$AX$1,ROW(Отделения[Город])-1),ROW(AB56)-ROW($A$2)+1)),\"\")","v":""},{"$f":"IFERROR(INDEX(Отделения[отделение],SMALL(IF(Отделения[Город]=$AY$1,ROW(Отделения[Город])-1),ROW(AB56)-ROW($A$2)+1)),\"\")","v":""},{"$f":"IFERROR(INDEX(Отделения[отделение],SMALL(IF(Отделения[Город]=$AZ$1,ROW(Отделения[Город])-1),ROW(AB56)-ROW($A$2)+1)),\"\")","v":""},{"$f":"IFERROR(INDEX(Отделения[отделение],SMALL(IF(Отделения[Город]=$BA$1,ROW(Отделения[Город])-1),ROW(AB56)-ROW($A$2)+1)),\"\")","v":""},{"$f":"IFERROR(INDEX(Отделения[отделение],SMALL(IF(Отделения[Город]=$BB$1,ROW(Отделения[Город])-1),ROW(AB56)-ROW($A$2)+1)),\"\")","v":""},{"$f":"IFERROR(INDEX(Отделения[отделение],SMALL(IF(Отделения[Город]=$BC$1,ROW(Отделения[Город])-1),ROW(AC56)-ROW($A$2)+1)),\"\")","v":""},{"$f":"IFERROR(INDEX(Отделения[отделение],SMALL(IF(Отделения[Город]=$BD$1,ROW(Отделения[Город])-1),ROW(AD56)-ROW($A$2)+1)),\"\")","v":""},{"$f":"IFERROR(INDEX(Отделения[отделение],SMALL(IF(Отделения[Город]=$BE$1,ROW(Отделения[Город])-1),ROW(AE56)-ROW($A$2)+1)),\"\")","v":""},{"$f":"IFERROR(INDEX(Отделения[отделение],SMALL(IF(Отделения[Город]=$BF$1,ROW(Отделения[Город])-1),ROW(AF56)-ROW($A$2)+1)),\"\")","v":""},{"$f":"IFERROR(INDEX(Отделения[отделение],SMALL(IF(Отделения[Город]=$BG$1,ROW(Отделения[Город])-1),ROW(AG56)-ROW($A$2)+1)),\"\")","v":""},{"$f":"IFERROR(INDEX(Отделения[отделение],SMALL(IF(Отделения[Город]=$BH$1,ROW(Отделения[Город])-1),ROW(AH56)-ROW($A$2)+1)),\"\")","v":""},{"$f":"IFERROR(INDEX(Отделения[отделение],SMALL(IF(Отделения[Город]=$BI$1,ROW(Отделения[Город])-1),ROW(AI56)-ROW($A$2)+1)),\"\")","v":""},{"$f":"IFERROR(INDEX(Отделения[отделение],SMALL(IF(Отделения[Город]=$BJ$1,ROW(Отделения[Город])-1),ROW(AJ56)-ROW($A$2)+1)),\"\")","v":""},{"$f":"IFERROR(INDEX(Отделения[отделение],SMALL(IF(Отделения[Город]=$BK$1,ROW(Отделения[Город])-1),ROW(AK56)-ROW($A$2)+1)),\"\")","v":""},{"$f":"IFERROR(INDEX(Отделения[отделение],SMALL(IF(Отделения[Город]=$BL$1,ROW(Отделения[Город])-1),ROW(AL56)-ROW($A$2)+1)),\"\")","v":""},{"$f":"IFERROR(INDEX(Отделения[отделение],SMALL(IF(Отделения[Город]=$BM$1,ROW(Отделения[Город])-1),ROW(AM56)-ROW($A$2)+1)),\"\")","v":""},{"$f":"IFERROR(INDEX(Отделения[отделение],SMALL(IF(Отделения[Город]=$BN$1,ROW(Отделения[Город])-1),ROW(AN56)-ROW($A$2)+1)),\"\")","v":""},{"$f":"IFERROR(INDEX(Отделения[отделение],SMALL(IF(Отделения[Город]=$BO$1,ROW(Отделения[Город])-1),ROW(AO56)-ROW($A$2)+1)),\"\")","v":""},{"$f":"IFERROR(INDEX(Отделения[отделение],SMALL(IF(Отделения[Город]=$BP$1,ROW(Отделения[Город])-1),ROW(AP56)-ROW($A$2)+1)),\"\")","v":""},{"$f":"IFERROR(INDEX(Отделения[отделение],SMALL(IF(Отделения[Город]=$BQ$1,ROW(Отделения[Город])-1),ROW(AQ56)-ROW($A$2)+1)),\"\")","v":""},{"$f":"IFERROR(INDEX(Отделения[отделение],SMALL(IF(Отделения[Город]=$BR$1,ROW(Отделения[Город])-1),ROW(AR56)-ROW($A$2)+1)),\"\")","v":""},{"$f":"IFERROR(INDEX(Отделения[отделение],SMALL(IF(Отделения[Город]=$BS$1,ROW(Отделения[Город])-1),ROW(AS56)-ROW($A$2)+1)),\"\")","v":""},{"$f":"IFERROR(INDEX(Отделения[отделение],SMALL(IF(Отделения[Город]=$BT$1,ROW(Отделения[Город])-1),ROW(AT56)-ROW($A$2)+1)),\"\")","v":""},{"$f":"IFERROR(INDEX(Отделения[отделение],SMALL(IF(Отделения[Город]=$BU$1,ROW(Отделения[Город])-1),ROW(AU56)-ROW($A$2)+1)),\"\")","v":""},{"$f":"IFERROR(INDEX(Отделения[отделение],SMALL(IF(Отделения[Город]=$BV$1,ROW(Отделения[Город])-1),ROW(AV56)-ROW($A$2)+1)),\"\")","v":""},{"$f":"IFERROR(INDEX(Отделения[отделение],SMALL(IF(Отделения[Город]=$BW$1,ROW(Отделения[Город])-1),ROW(AV56)-ROW($A$2)+1)),\"\")","v":""},{"$f":"IFERROR(INDEX(Отделения[отделение],SMALL(IF(Отделения[Город]=$BX$1,ROW(Отделения[Город])-1),ROW(AV56)-ROW($A$2)+1)),\"\")","v":""},{"$f":"IFERROR(INDEX(Отделения[отделение],SMALL(IF(Отделения[Город]=$BY$1,ROW(Отделения[Город])-1),ROW(AV56)-ROW($A$2)+1)),\"\")","v":""},{"$f":"IFERROR(INDEX(Отделения[отделение],SMALL(IF(Отделения[Город]=$BZ$1,ROW(Отделения[Город])-1),ROW(AV56)-ROW($A$2)+1)),\"\")","v":""},{"$f":"IFERROR(INDEX(Отделения[отделение],SMALL(IF(Отделения[Город]=$CA$1,ROW(Отделения[Город])-1),ROW(AV56)-ROW($A$2)+1)),\"\")","v":""},{"$f":"IFERROR(INDEX(Отделения[отделение],SMALL(IF(Отделения[Город]=$CB$1,ROW(Отделения[Город])-1),ROW(AV56)-ROW($A$2)+1)),\"\")","v":""},{"$f":"IFERROR(INDEX(Отделения[отделение],SMALL(IF(Отделения[Город]=$CC$1,ROW(Отделения[Город])-1),ROW(AV56)-ROW($A$2)+1)),\"\")","v":""},{"$f":"IFERROR(INDEX(Отделения[отделение],SMALL(IF(Отделения[Город]=$CD$1,ROW(Отделения[Город])-1),ROW(AV56)-ROW($A$2)+1)),\"\")","v":""},{"$f":"IFERROR(INDEX(Отделения[отделение],SMALL(IF(Отделения[Город]=$CE$1,ROW(Отделения[Город])-1),ROW(AV56)-ROW($A$2)+1)),\"\")","v":""},{"$f":"IFERROR(INDEX(Отделения[отделение],SMALL(IF(Отделения[Город]=$CF$1,ROW(Отделения[Город])-1),ROW(AV56)-ROW($A$2)+1)),\"\")","v":""},{"$f":"IFERROR(INDEX(Отделения[отделение],SMALL(IF(Отделения[Город]=$CG$1,ROW(Отделения[Город])-1),ROW(AV56)-ROW($A$2)+1)),\"\")","v":""},{"$f":"IFERROR(INDEX(Отделения[отделение],SMALL(IF(Отделения[Город]=$CH$1,ROW(Отделения[Город])-1),ROW(AW56)-ROW($A$2)+1)),\"\")","v":""},{"$f":"IFERROR(INDEX(Отделения[отделение],SMALL(IF(Отделения[Город]=$CI$1,ROW(Отделения[Город])-1),ROW(AX56)-ROW($A$2)+1)),\"\")","v":""},{"$f":"IFERROR(INDEX(Отделения[отделение],SMALL(IF(Отделения[Город]=$CJ$1,ROW(Отделения[Город])-1),ROW(AY56)-ROW($A$2)+1)),\"\")","v":""},{"$f":"IFERROR(INDEX(Отделения[отделение],SMALL(IF(Отделения[Город]=$CK$1,ROW(Отделения[Город])-1),ROW(AZ56)-ROW($A$2)+1)),\"\")","v":""},{"$f":"IFERROR(INDEX(Отделения[отделение],SMALL(IF(Отделения[Город]=$CL$1,ROW(Отделения[Город])-1),ROW(BA56)-ROW($A$2)+1)),\"\")","v":""},{"$f":"IFERROR(INDEX(Отделения[отделение],SMALL(IF(Отделения[Город]=$CM$1,ROW(Отделения[Город])-1),ROW(BB56)-ROW($A$2)+1)),\"\")","v":""},{"$f":"IFERROR(INDEX(Отделения[отделение],SMALL(IF(Отделения[Город]=$CN$1,ROW(Отделения[Город])-1),ROW(BC56)-ROW($A$2)+1)),\"\")","v":""},{"$f":"IFERROR(INDEX(Отделения[отделение],SMALL(IF(Отделения[Город]=$CO$1,ROW(Отделения[Город])-1),ROW(BD56)-ROW($A$2)+1)),\"\")","v":""},{"$f":"IFERROR(INDEX(Отделения[отделение],SMALL(IF(Отделения[Город]=$CP$1,ROW(Отделения[Город])-1),ROW(BE56)-ROW($A$2)+1)),\"\")","v":""},{"$f":"IFERROR(INDEX(Отделения[отделение],SMALL(IF(Отделения[Город]=$CQ$1,ROW(Отделения[Город])-1),ROW(BF56)-ROW($A$2)+1)),\"\")","v":""},{"$f":"IFERROR(INDEX(Отделения[отделение],SMALL(IF(Отделения[Город]=$CR$1,ROW(Отделения[Город])-1),ROW(BG56)-ROW($A$2)+1)),\"\")","v":""},{"$f":"IFERROR(INDEX(Отделения[отделение],SMALL(IF(Отделения[Город]=$CS$1,ROW(Отделения[Город])-1),ROW(BH56)-ROW($A$2)+1)),\"\")","v":""},{"$f":"IFERROR(INDEX(Отделения[отделение],SMALL(IF(Отделения[Город]=$CT$1,ROW(Отделения[Город])-1),ROW(BI56)-ROW($A$2)+1)),\"\")","v":""},{"$f":"IFERROR(INDEX(Отделения[отделение],SMALL(IF(Отделения[Город]=$CU$1,ROW(Отделения[Город])-1),ROW(BJ56)-ROW($A$2)+1)),\"\")","v":""},{"$f":"IFERROR(INDEX(Отделения[отделение],SMALL(IF(Отделения[Город]=$CV$1,ROW(Отделения[Город])-1),ROW(BK56)-ROW($A$2)+1)),\"\")","v":""},{"$f":"IFERROR(INDEX(Отделения[отделение],SMALL(IF(Отделения[Город]=$CW$1,ROW(Отделения[Город])-1),ROW(BL56)-ROW($A$2)+1)),\"\")","v":""},{"$f":"IFERROR(INDEX(Отделения[отделение],SMALL(IF(Отделения[Город]=$CX$1,ROW(Отделения[Город])-1),ROW(BM56)-ROW($A$2)+1)),\"\")","v":""},{"$f":"IFERROR(INDEX(Отделения[отделение],SMALL(IF(Отделения[Город]=$CY$1,ROW(Отделения[Город])-1),ROW(BM56)-ROW($A$2)+1)),\"\")","v":""},{"$f":"IFERROR(INDEX(Отделения[отделение],SMALL(IF(Отделения[Город]=$CZ$1,ROW(Отделения[Город])-1),ROW(BM56)-ROW($A$2)+1)),\"\")","v":""},{"$f":"IFERROR(INDEX(Отделения[отделение],SMALL(IF(Отделения[Город]=$DA$1,ROW(Отделения[Город])-1),ROW(BM56)-ROW($A$2)+1)),\"\")","v":""},{"$f":"IFERROR(INDEX(Отделения[отделение],SMALL(IF(Отделения[Город]=$DB$1,ROW(Отделения[Город])-1),ROW(BM56)-ROW($A$2)+1)),\"\")","v":""}]
["Москва","ДО \"ЩУКИНСКИЙ\" , 123182, г. Москва, ул. Авиационная,д. 66","0625","MOTJ",null,null,{"$f":"IFERROR(INDEX(Отделения[отделение],SMALL(IF(Отделения[Город]=$G$1,ROW(Отделения[Город])-1),ROW(A57)-ROW($A$2)+1)),\"\")","v":""},{"$f":"IFERROR(INDEX(Отделения[отделение],SMALL(IF(Отделения[Город]=$H$1,ROW(Отделения[Город])-1),ROW(A57)-ROW($A$2)+1)),\"\")","v":""},{"$f":"IFERROR(INDEX(Отделения[отделение],SMALL(IF(Отделения[Город]=$I$1,ROW(Отделения[Город])-1),ROW(A57)-ROW($A$2)+1)),\"\")","v":""},{"$f":"IFERROR(INDEX(Отделения[отделение],SMALL(IF(Отделения[Город]=$J$1,ROW(Отделения[Город])-1),ROW(A57)-ROW($A$2)+1)),\"\")","v":""},{"$f":"IFERROR(INDEX(Отделения[отделение],SMALL(IF(Отделения[Город]=$K$1,ROW(Отделения[Город])-1),ROW(A57)-ROW($A$2)+1)),\"\")","v":""},{"$f":"IFERROR(INDEX(Отделения[отделение],SMALL(IF(Отделения[Город]=$L$1,ROW(Отделения[Город])-1),ROW(A57)-ROW($A$2)+1)),\"\")","v":""},{"$f":"IFERROR(INDEX(Отделения[отделение],SMALL(IF(Отделения[Город]=$M$1,ROW(Отделения[Город])-1),ROW(B57)-ROW($A$2)+1)),\"\")","v":""},{"$f":"IFERROR(INDEX(Отделения[отделение],SMALL(IF(Отделения[Город]=$N$1,ROW(Отделения[Город])-1),ROW(#REF!)-ROW($A$2)+1)),\"\")","v":""},{"$f":"IFERROR(INDEX(Отделения[отделение],SMALL(IF(Отделения[Город]=$O$1,ROW(Отделения[Город])-1),ROW(C57)-ROW($A$2)+1)),\"\")","v":""},{"$f":"IFERROR(INDEX(Отделения[отделение],SMALL(IF(Отделения[Город]=$P$1,ROW(Отделения[Город])-1),ROW(D57)-ROW($A$2)+1)),\"\")","v":""},{"$f":"IFERROR(INDEX(Отделения[отделение],SMALL(IF(Отделения[Город]=$Q$1,ROW(Отделения[Город])-1),ROW(F57)-ROW($A$2)+1)),\"\")","v":""},{"$f":"IFERROR(INDEX(Отделения[отделение],SMALL(IF(Отделения[Город]=$R$1,ROW(Отделения[Город])-1),ROW(#REF!)-ROW($A$2)+1)),\"\")","v":""},{"$f":"IFERROR(INDEX(Отделения[отделение],SMALL(IF(Отделения[Город]=$S$1,ROW(Отделения[Город])-1),ROW(G57)-ROW($A$2)+1)),\"\")","v":""},{"$f":"IFERROR(INDEX(Отделения[отделение],SMALL(IF(Отделения[Город]=$T$1,ROW(Отделения[Город])-1),ROW(H57)-ROW($A$2)+1)),\"\")","v":""},{"$f":"IFERROR(INDEX(Отделения[отделение],SMALL(IF(Отделения[Город]=$U$1,ROW(Отделения[Город])-1),ROW(I57)-ROW($A$2)+1)),\"\")","v":""},{"$f":"IFERROR(INDEX(Отделения[отделение],SMALL(IF(Отделения[Город]=$V$1,ROW(Отделения[Город])-1),ROW(J57)-ROW($A$2)+1)),\"\")","v":""},{"$f":"IFERROR(INDEX(Отделения[отделение],SMALL(IF(Отделения[Город]=$W$1,ROW(Отделения[Город])-1),ROW(K57)-ROW($A$2)+1)),\"\")","v":""},{"$f":"IFERROR(INDEX(Отделения[отделение],SMALL(IF(Отделения[Город]=$X$1,ROW(Отделения[Город])-1),ROW(L57)-ROW($A$2)+1)),\"\")","v":""},{"$f":"IFERROR(INDEX(Отделения[отделение],SMALL(IF(Отделения[Город]=$Y$1,ROW(Отделения[Город])-1),ROW(M57)-ROW($A$2)+1)),\"\")","v":""},{"$f":"IFERROR(INDEX(Отделения[отделение],SMALL(IF(Отделения[Город]=$Z$1,ROW(Отделения[Город])-1),ROW(N57)-ROW($A$2)+1)),\"\")","v":""},{"$f":"IFERROR(INDEX(Отделения[отделение],SMALL(IF(Отделения[Город]=$AA$1,ROW(Отделения[Город])-1),ROW(O57)-ROW($A$2)+1)),\"\")","v":""},{"$f":"IFERROR(INDEX(Отделения[отделение],SMALL(IF(Отделения[Город]=$AB$1,ROW(Отделения[Город])-1),ROW(P57)-ROW($A$2)+1)),\"\")","v":""},{"$f":"IFERROR(INDEX(Отделения[отделение],SMALL(IF(Отделения[Город]=$AC$1,ROW(Отделения[Город])-1),ROW(Q57)-ROW($A$2)+1)),\"\")","v":""},{"$f":"IFERROR(INDEX(Отделения[отделение],SMALL(IF(Отделения[Город]=$AD$1,ROW(Отделения[Город])-1),ROW(R57)-ROW($A$2)+1)),\"\")","v":""},{"$f":"IFERROR(INDEX(Отделения[отделение],SMALL(IF(Отделения[Город]=$AE$1,ROW(Отделения[Город])-1),ROW(S57)-ROW($A$2)+1)),\"\")","v":""},{"$f":"IFERROR(INDEX(Отделения[отделение],SMALL(IF(Отделения[Город]=$AF$1,ROW(Отделения[Город])-1),ROW(T57)-ROW($A$2)+1)),\"\")","v":""},{"$f":"IFERROR(INDEX(Отделения[отделение],SMALL(IF(Отделения[Город]=$AG$1,ROW(Отделения[Город])-1),ROW(U57)-ROW($A$2)+1)),\"\")","v":""},{"$f":"IFERROR(INDEX(Отделения[отделение],SMALL(IF(Отделения[Город]=$AH$1,ROW(Отделения[Город])-1),ROW(V57)-ROW($A$2)+1)),\"\")","v":""},{"$f":"IFERROR(INDEX(Отделения[отделение],SMALL(IF(Отделения[Город]=$AI$1,ROW(Отделения[Город])-1),ROW(AB57)-ROW($A$2)+1)),\"\")","v":""},{"$f":"IFERROR(INDEX(Отделения[отделение],SMALL(IF(Отделения[Город]=$AJ$1,ROW(Отделения[Город])-1),ROW(AB57)-ROW($A$2)+1)),\"\")","v":""},{"$f":"IFERROR(INDEX(Отделения[отделение],SMALL(IF(Отделения[Город]=$AK$1,ROW(Отделения[Город])-1),ROW(AB57)-ROW($A$2)+1)),\"\")","v":""},{"$f":"IFERROR(INDEX(Отделения[отделение],SMALL(IF(Отделения[Город]=$AL$1,ROW(Отделения[Город])-1),ROW(AB57)-ROW($A$2)+1)),\"\")","v":""},{"$f":"IFERROR(INDEX(Отделения[отделение],SMALL(IF(Отделения[Город]=$AM$1,ROW(Отделения[Город])-1),ROW(AB57)-ROW($A$2)+1)),\"\")","v":""},{"$f":"IFERROR(INDEX(Отделения[отделение],SMALL(IF(Отделения[Город]=$AN$1,ROW(Отделения[Город])-1),ROW(AB57)-ROW($A$2)+1)),\"\")","v":""},{"$f":"IFERROR(INDEX(Отделения[отделение],SMALL(IF(Отделения[Город]=$AO$1,ROW(Отделения[Город])-1),ROW(AB57)-ROW($A$2)+1)),\"\")","v":""},{"$f":"IFERROR(INDEX(Отделения[отделение],SMALL(IF(Отделения[Город]=$AP$1,ROW(Отделения[Город])-1),ROW(AB57)-ROW($A$2)+1)),\"\")","v":""},{"$f":"IFERROR(INDEX(Отделения[отделение],SMALL(IF(Отделения[Город]=$AQ$1,ROW(Отделения[Город])-1),ROW(AB57)-ROW($A$2)+1)),\"\")","v":""},{"$f":"IFERROR(INDEX(Отделения[отделение],SMALL(IF(Отделения[Город]=$AR$1,ROW(Отделения[Город])-1),ROW(AB57)-ROW($A$2)+1)),\"\")","v":""},{"$f":"IFERROR(INDEX(Отделения[отделение],SMALL(IF(Отделения[Город]=$AS$1,ROW(Отделения[Город])-1),ROW(AB57)-ROW($A$2)+1)),\"\")","v":""},{"$f":"IFERROR(INDEX(Отделения[отделение],SMALL(IF(Отделения[Город]=$AT$1,ROW(Отделения[Город])-1),ROW(AB57)-ROW($A$2)+1)),\"\")","v":""},{"$f":"IFERROR(INDEX(Отделения[отделение],SMALL(IF(Отделения[Город]=$AU$1,ROW(Отделения[Город])-1),ROW(AB57)-ROW($A$2)+1)),\"\")","v":""},{"$f":"IFERROR(INDEX(Отделения[отделение],SMALL(IF(Отделения[Город]=$AV$1,ROW(Отделения[Город])-1),ROW(AB57)-ROW($A$2)+1)),\"\")","v":""},{"$f":"IFERROR(INDEX(Отделения[отделение],SMALL(IF(Отделения[Город]=$AW$1,ROW(Отделения[Город])-1),ROW(AB57)-ROW($A$2)+1)),\"\")","v":""},{"$f":"IFERROR(INDEX(Отделения[отделение],SMALL(IF(Отделения[Город]=$AX$1,ROW(Отделения[Город])-1),ROW(AB57)-ROW($A$2)+1)),\"\")","v":""},{"$f":"IFERROR(INDEX(Отделения[отделение],SMALL(IF(Отделения[Город]=$AY$1,ROW(Отделения[Город])-1),ROW(AB57)-ROW($A$2)+1)),\"\")","v":""},{"$f":"IFERROR(INDEX(Отделения[отделение],SMALL(IF(Отделения[Город]=$AZ$1,ROW(Отделения[Город])-1),ROW(AB57)-ROW($A$2)+1)),\"\")","v":""},{"$f":"IFERROR(INDEX(Отделения[отделение],SMALL(IF(Отделения[Город]=$BA$1,ROW(Отделения[Город])-1),ROW(AB57)-ROW($A$2)+1)),\"\")","v":""},{"$f":"IFERROR(INDEX(Отделения[отделение],SMALL(IF(Отделения[Город]=$BB$1,ROW(Отделения[Город])-1),ROW(AB57)-ROW($A$2)+1)),\"\")","v":""},{"$f":"IFERROR(INDEX(Отделения[отделение],SMALL(IF(Отделения[Город]=$BC$1,ROW(Отделения[Город])-1),ROW(AC57)-ROW($A$2)+1)),\"\")","v":""},{"$f":"IFERROR(INDEX(Отделения[отделение],SMALL(IF(Отделения[Город]=$BD$1,ROW(Отделения[Город])-1),ROW(AD57)-ROW($A$2)+1)),\"\")","v":""},{"$f":"IFERROR(INDEX(Отделения[отделение],SMALL(IF(Отделения[Город]=$BE$1,ROW(Отделения[Город])-1),ROW(AE57)-ROW($A$2)+1)),\"\")","v":""},{"$f":"IFERROR(INDEX(Отделения[отделение],SMALL(IF(Отделения[Город]=$BF$1,ROW(Отделения[Город])-1),ROW(AF57)-ROW($A$2)+1)),\"\")","v":""},{"$f":"IFERROR(INDEX(Отделения[отделение],SMALL(IF(Отделения[Город]=$BG$1,ROW(Отделения[Город])-1),ROW(AG57)-ROW($A$2)+1)),\"\")","v":""},{"$f":"IFERROR(INDEX(Отделения[отделение],SMALL(IF(Отделения[Город]=$BH$1,ROW(Отделения[Город])-1),ROW(AH57)-ROW($A$2)+1)),\"\")","v":""},{"$f":"IFERROR(INDEX(Отделения[отделение],SMALL(IF(Отделения[Город]=$BI$1,ROW(Отделения[Город])-1),ROW(AI57)-ROW($A$2)+1)),\"\")","v":""},{"$f":"IFERROR(INDEX(Отделения[отделение],SMALL(IF(Отделения[Город]=$BJ$1,ROW(Отделения[Город])-1),ROW(AJ57)-ROW($A$2)+1)),\"\")","v":""},{"$f":"IFERROR(INDEX(Отделения[отделение],SMALL(IF(Отделения[Город]=$BK$1,ROW(Отделения[Город])-1),ROW(AK57)-ROW($A$2)+1)),\"\")","v":""},{"$f":"IFERROR(INDEX(Отделения[отделение],SMALL(IF(Отделения[Город]=$BL$1,ROW(Отделения[Город])-1),ROW(AL57)-ROW($A$2)+1)),\"\")","v":""},{"$f":"IFERROR(INDEX(Отделения[отделение],SMALL(IF(Отделения[Город]=$BM$1,ROW(Отделения[Город])-1),ROW(AM57)-ROW($A$2)+1)),\"\")","v":""},{"$f":"IFERROR(INDEX(Отделения[отделение],SMALL(IF(Отделения[Город]=$BN$1,ROW(Отделения[Город])-1),ROW(AN57)-ROW($A$2)+1)),\"\")","v":""},{"$f":"IFERROR(INDEX(Отделения[отделение],SMALL(IF(Отделения[Город]=$BO$1,ROW(Отделения[Город])-1),ROW(AO57)-ROW($A$2)+1)),\"\")","v":""},{"$f":"IFERROR(INDEX(Отделения[отделение],SMALL(IF(Отделения[Город]=$BP$1,ROW(Отделения[Город])-1),ROW(AP57)-ROW($A$2)+1)),\"\")","v":""},{"$f":"IFERROR(INDEX(Отделения[отделение],SMALL(IF(Отделения[Город]=$BQ$1,ROW(Отделения[Город])-1),ROW(AQ57)-ROW($A$2)+1)),\"\")","v":""},{"$f":"IFERROR(INDEX(Отделения[отделение],SMALL(IF(Отделения[Город]=$BR$1,ROW(Отделения[Город])-1),ROW(AR57)-ROW($A$2)+1)),\"\")","v":""},{"$f":"IFERROR(INDEX(Отделения[отделение],SMALL(IF(Отделения[Город]=$BS$1,ROW(Отделения[Город])-1),ROW(AS57)-ROW($A$2)+1)),\"\")","v":""},{"$f":"IFERROR(INDEX(Отделения[отделение],SMALL(IF(Отделения[Город]=$BT$1,ROW(Отделения[Город])-1),ROW(AT57)-ROW($A$2)+1)),\"\")","v":""},{"$f":"IFERROR(INDEX(Отделения[отделение],SMALL(IF(Отделения[Город]=$BU$1,ROW(Отделения[Город])-1),ROW(AU57)-ROW($A$2)+1)),\"\")","v":""},{"$f":"IFERROR(INDEX(Отделения[отделение],SMALL(IF(Отделения[Город]=$BV$1,ROW(Отделения[Город])-1),ROW(AV57)-ROW($A$2)+1)),\"\")","v":""},{"$f":"IFERROR(INDEX(Отделения[отделение],SMALL(IF(Отделения[Город]=$BW$1,ROW(Отделения[Город])-1),ROW(AV57)-ROW($A$2)+1)),\"\")","v":""},{"$f":"IFERROR(INDEX(Отделения[отделение],SMALL(IF(Отделения[Город]=$BX$1,ROW(Отделения[Город])-1),ROW(AV57)-ROW($A$2)+1)),\"\")","v":""},{"$f":"IFERROR(INDEX(Отделения[отделение],SMALL(IF(Отделения[Город]=$BY$1,ROW(Отделения[Город])-1),ROW(AV57)-ROW($A$2)+1)),\"\")","v":""},{"$f":"IFERROR(INDEX(Отделения[отделение],SMALL(IF(Отделения[Город]=$BZ$1,ROW(Отделения[Город])-1),ROW(AV57)-ROW($A$2)+1)),\"\")","v":""},{"$f":"IFERROR(INDEX(Отделения[отделение],SMALL(IF(Отделения[Город]=$CA$1,ROW(Отделения[Город])-1),ROW(AV57)-ROW($A$2)+1)),\"\")","v":""},{"$f":"IFERROR(INDEX(Отделения[отделение],SMALL(IF(Отделения[Город]=$CB$1,ROW(Отделения[Город])-1),ROW(AV57)-ROW($A$2)+1)),\"\")","v":""},{"$f":"IFERROR(INDEX(Отделения[отделение],SMALL(IF(Отделения[Город]=$CC$1,ROW(Отделения[Город])-1),ROW(AV57)-ROW($A$2)+1)),\"\")","v":""},{"$f":"IFERROR(INDEX(Отделения[отделение],SMALL(IF(Отделения[Город]=$CD$1,ROW(Отделения[Город])-1),ROW(AV57)-ROW($A$2)+1)),\"\")","v":""},{"$f":"IFERROR(INDEX(Отделения[отделение],SMALL(IF(Отделения[Город]=$CE$1,ROW(Отделения[Город])-1),ROW(AV57)-ROW($A$2)+1)),\"\")","v":""},{"$f":"IFERROR(INDEX(Отделения[отделение],SMALL(IF(Отделения[Город]=$CF$1,ROW(Отделения[Город])-1),ROW(AV57)-ROW($A$2)+1)),\"\")","v":""},{"$f":"IFERROR(INDEX(Отделения[отделение],SMALL(IF(Отделения[Город]=$CG$1,ROW(Отделения[Город])-1),ROW(AV57)-ROW($A$2)+1)),\"\")","v":""},{"$f":"IFERROR(INDEX(Отделения[отделение],SMALL(IF(Отделения[Город]=$CH$1,ROW(Отделения[Город])-1),ROW(AW57)-ROW($A$2)+1)),\"\")","v":""},{"$f":"IFERROR(INDEX(Отделения[отделение],SMALL(IF(Отделения[Город]=$CI$1,ROW(Отделения[Город])-1),ROW(AX57)-ROW($A$2)+1)),\"\")","v":""},{"$f":"IFERROR(INDEX(Отделения[отделение],SMALL(IF(Отделения[Город]=$CJ$1,ROW(Отделения[Город])-1),ROW(AY57)-ROW($A$2)+1)),\"\")","v":""},{"$f":"IFERROR(INDEX(Отделения[отделение],SMALL(IF(Отделения[Город]=$CK$1,ROW(Отделения[Город])-1),ROW(AZ57)-ROW($A$2)+1)),\"\")","v":""},{"$f":"IFERROR(INDEX(Отделения[отделение],SMALL(IF(Отделения[Город]=$CL$1,ROW(Отделения[Город])-1),ROW(BA57)-ROW($A$2)+1)),\"\")","v":""},{"$f":"IFERROR(INDEX(Отделения[отделение],SMALL(IF(Отделения[Город]=$CM$1,ROW(Отделения[Город])-1),ROW(BB57)-ROW($A$2)+1)),\"\")","v":""},{"$f":"IFERROR(INDEX(Отделения[отделение],SMALL(IF(Отделения[Город]=$CN$1,ROW(Отделения[Город])-1),ROW(BC57)-ROW($A$2)+1)),\"\")","v":""},{"$f":"IFERROR(INDEX(Отделения[отделение],SMALL(IF(Отделения[Город]=$CO$1,ROW(Отделения[Город])-1),ROW(BD57)-ROW($A$2)+1)),\"\")","v":""},{"$f":"IFERROR(INDEX(Отделения[отделение],SMALL(IF(Отделения[Город]=$CP$1,ROW(Отделения[Город])-1),ROW(BE57)-ROW($A$2)+1)),\"\")","v":""},{"$f":"IFERROR(INDEX(Отделения[отделение],SMALL(IF(Отделения[Город]=$CQ$1,ROW(Отделения[Город])-1),ROW(BF57)-ROW($A$2)+1)),\"\")","v":""},{"$f":"IFERROR(INDEX(Отделения[отделение],SMALL(IF(Отделения[Город]=$CR$1,ROW(Отделения[Город])-1),ROW(BG57)-ROW($A$2)+1)),\"\")","v":""},{"$f":"IFERROR(INDEX(Отделения[отделение],SMALL(IF(Отделения[Город]=$CS$1,ROW(Отделения[Город])-1),ROW(BH57)-ROW($A$2)+1)),\"\")","v":""},{"$f":"IFERROR(INDEX(Отделения[отделение],SMALL(IF(Отделения[Город]=$CT$1,ROW(Отделения[Город])-1),ROW(BI57)-ROW($A$2)+1)),\"\")","v":""},{"$f":"IFERROR(INDEX(Отделения[отделение],SMALL(IF(Отделения[Город]=$CU$1,ROW(Отделения[Город])-1),ROW(BJ57)-ROW($A$2)+1)),\"\")","v":""},{"$f":"IFERROR(INDEX(Отделения[отделение],SMALL(IF(Отделения[Город]=$CV$1,ROW(Отделения[Город])-1),ROW(BK57)-ROW($A$2)+1)),\"\")","v":""},{"$f":"IFERROR(INDEX(Отделения[отделение],SMALL(IF(Отделения[Город]=$CW$1,ROW(Отделения[Город])-1),ROW(BL57)-ROW($A$2)+1)),\"\")","v":""},{"$f":"IFERROR(INDEX(Отделения[отделение],SMALL(IF(Отделения[Город]=$CX$1,ROW(Отделения[Город])-1),ROW(BM57)-ROW($A$2)+1)),\"\")","v":""},{"$f":"IFERROR(INDEX(Отделения[отделение],SMALL(IF(Отделения[Город]=$CY$1,ROW(Отделения[Город])-1),ROW(BM57)-ROW($A$2)+1)),\"\")","v":""},{"$f":"IFERROR(INDEX(Отделения[отделение],SMALL(IF(Отделения[Город]=$CZ$1,ROW(Отделения[Город])-1),ROW(BM57)-ROW($A$2)+1)),\"\")","v":""},{"$f":"IFERROR(INDEX(Отделения[отделение],SMALL(IF(Отделения[Город]=$DA$1,ROW(Отделения[Город])-1),ROW(BM57)-ROW($A$2)+1)),\"\")","v":""},{"$f":"IFERROR(INDEX(Отделения[отделение],SMALL(IF(Отделения[Город]=$DB$1,ROW(Отделения[Город])-1),ROW(BM57)-ROW($A$2)+1)),\"\")","v":""}]
["Красногорск","ДО \"КРАСНОГОРСК\" , 143409, Московская обл., г. Красногорск, ул. Ленина д. 38Б","0626","MOHG",null,null,{"$f":"IFERROR(INDEX(Отделения[отделение],SMALL(IF(Отделения[Город]=$G$1,ROW(Отделения[Город])-1),ROW(A58)-ROW($A$2)+1)),\"\")","v":""},{"$f":"IFERROR(INDEX(Отделения[отделение],SMALL(IF(Отделения[Город]=$H$1,ROW(Отделения[Город])-1),ROW(A58)-ROW($A$2)+1)),\"\")","v":""},{"$f":"IFERROR(INDEX(Отделения[отделение],SMALL(IF(Отделения[Город]=$I$1,ROW(Отделения[Город])-1),ROW(A58)-ROW($A$2)+1)),\"\")","v":""},{"$f":"IFERROR(INDEX(Отделения[отделение],SMALL(IF(Отделения[Город]=$J$1,ROW(Отделения[Город])-1),ROW(A58)-ROW($A$2)+1)),\"\")","v":""},{"$f":"IFERROR(INDEX(Отделения[отделение],SMALL(IF(Отделения[Город]=$K$1,ROW(Отделения[Город])-1),ROW(A58)-ROW($A$2)+1)),\"\")","v":""},{"$f":"IFERROR(INDEX(Отделения[отделение],SMALL(IF(Отделения[Город]=$L$1,ROW(Отделения[Город])-1),ROW(A58)-ROW($A$2)+1)),\"\")","v":""},{"$f":"IFERROR(INDEX(Отделения[отделение],SMALL(IF(Отделения[Город]=$M$1,ROW(Отделения[Город])-1),ROW(B58)-ROW($A$2)+1)),\"\")","v":""},{"$f":"IFERROR(INDEX(Отделения[отделение],SMALL(IF(Отделения[Город]=$N$1,ROW(Отделения[Город])-1),ROW(#REF!)-ROW($A$2)+1)),\"\")","v":""},{"$f":"IFERROR(INDEX(Отделения[отделение],SMALL(IF(Отделения[Город]=$O$1,ROW(Отделения[Город])-1),ROW(C58)-ROW($A$2)+1)),\"\")","v":""},{"$f":"IFERROR(INDEX(Отделения[отделение],SMALL(IF(Отделения[Город]=$P$1,ROW(Отделения[Город])-1),ROW(D58)-ROW($A$2)+1)),\"\")","v":""},{"$f":"IFERROR(INDEX(Отделения[отделение],SMALL(IF(Отделения[Город]=$Q$1,ROW(Отделения[Город])-1),ROW(F58)-ROW($A$2)+1)),\"\")","v":""},{"$f":"IFERROR(INDEX(Отделения[отделение],SMALL(IF(Отделения[Город]=$R$1,ROW(Отделения[Город])-1),ROW(#REF!)-ROW($A$2)+1)),\"\")","v":""},{"$f":"IFERROR(INDEX(Отделения[отделение],SMALL(IF(Отделения[Город]=$S$1,ROW(Отделения[Город])-1),ROW(G58)-ROW($A$2)+1)),\"\")","v":""},{"$f":"IFERROR(INDEX(Отделения[отделение],SMALL(IF(Отделения[Город]=$T$1,ROW(Отделения[Город])-1),ROW(H58)-ROW($A$2)+1)),\"\")","v":""},{"$f":"IFERROR(INDEX(Отделения[отделение],SMALL(IF(Отделения[Город]=$U$1,ROW(Отделения[Город])-1),ROW(I58)-ROW($A$2)+1)),\"\")","v":""},{"$f":"IFERROR(INDEX(Отделения[отделение],SMALL(IF(Отделения[Город]=$V$1,ROW(Отделения[Город])-1),ROW(J58)-ROW($A$2)+1)),\"\")","v":""},{"$f":"IFERROR(INDEX(Отделения[отделение],SMALL(IF(Отделения[Город]=$W$1,ROW(Отделения[Город])-1),ROW(K58)-ROW($A$2)+1)),\"\")","v":""},{"$f":"IFERROR(INDEX(Отделения[отделение],SMALL(IF(Отделения[Город]=$X$1,ROW(Отделения[Город])-1),ROW(L58)-ROW($A$2)+1)),\"\")","v":""},{"$f":"IFERROR(INDEX(Отделения[отделение],SMALL(IF(Отделения[Город]=$Y$1,ROW(Отделения[Город])-1),ROW(M58)-ROW($A$2)+1)),\"\")","v":""},{"$f":"IFERROR(INDEX(Отделения[отделение],SMALL(IF(Отделения[Город]=$Z$1,ROW(Отделения[Город])-1),ROW(N58)-ROW($A$2)+1)),\"\")","v":""},{"$f":"IFERROR(INDEX(Отделения[отделение],SMALL(IF(Отделения[Город]=$AA$1,ROW(Отделения[Город])-1),ROW(O58)-ROW($A$2)+1)),\"\")","v":""},{"$f":"IFERROR(INDEX(Отделения[отделение],SMALL(IF(Отделения[Город]=$AB$1,ROW(Отделения[Город])-1),ROW(P58)-ROW($A$2)+1)),\"\")","v":""},{"$f":"IFERROR(INDEX(Отделения[отделение],SMALL(IF(Отделения[Город]=$AC$1,ROW(Отделения[Город])-1),ROW(Q58)-ROW($A$2)+1)),\"\")","v":""},{"$f":"IFERROR(INDEX(Отделения[отделение],SMALL(IF(Отделения[Город]=$AD$1,ROW(Отделения[Город])-1),ROW(R58)-ROW($A$2)+1)),\"\")","v":""},{"$f":"IFERROR(INDEX(Отделения[отделение],SMALL(IF(Отделения[Город]=$AE$1,ROW(Отделения[Город])-1),ROW(S58)-ROW($A$2)+1)),\"\")","v":""},{"$f":"IFERROR(INDEX(Отделения[отделение],SMALL(IF(Отделения[Город]=$AF$1,ROW(Отделения[Город])-1),ROW(T58)-ROW($A$2)+1)),\"\")","v":""},{"$f":"IFERROR(INDEX(Отделения[отделение],SMALL(IF(Отделения[Город]=$AG$1,ROW(Отделения[Город])-1),ROW(U58)-ROW($A$2)+1)),\"\")","v":""},{"$f":"IFERROR(INDEX(Отделения[отделение],SMALL(IF(Отделения[Город]=$AH$1,ROW(Отделения[Город])-1),ROW(V58)-ROW($A$2)+1)),\"\")","v":""},{"$f":"IFERROR(INDEX(Отделения[отделение],SMALL(IF(Отделения[Город]=$AI$1,ROW(Отделения[Город])-1),ROW(AB58)-ROW($A$2)+1)),\"\")","v":""},{"$f":"IFERROR(INDEX(Отделения[отделение],SMALL(IF(Отделения[Город]=$AJ$1,ROW(Отделения[Город])-1),ROW(AB58)-ROW($A$2)+1)),\"\")","v":""},{"$f":"IFERROR(INDEX(Отделения[отделение],SMALL(IF(Отделения[Город]=$AK$1,ROW(Отделения[Город])-1),ROW(AB58)-ROW($A$2)+1)),\"\")","v":""},{"$f":"IFERROR(INDEX(Отделения[отделение],SMALL(IF(Отделения[Город]=$AL$1,ROW(Отделения[Город])-1),ROW(AB58)-ROW($A$2)+1)),\"\")","v":""},{"$f":"IFERROR(INDEX(Отделения[отделение],SMALL(IF(Отделения[Город]=$AM$1,ROW(Отделения[Город])-1),ROW(AB58)-ROW($A$2)+1)),\"\")","v":""},{"$f":"IFERROR(INDEX(Отделения[отделение],SMALL(IF(Отделения[Город]=$AN$1,ROW(Отделения[Город])-1),ROW(AB58)-ROW($A$2)+1)),\"\")","v":""},{"$f":"IFERROR(INDEX(Отделения[отделение],SMALL(IF(Отделения[Город]=$AO$1,ROW(Отделения[Город])-1),ROW(AB58)-ROW($A$2)+1)),\"\")","v":""},{"$f":"IFERROR(INDEX(Отделения[отделение],SMALL(IF(Отделения[Город]=$AP$1,ROW(Отделения[Город])-1),ROW(AB58)-ROW($A$2)+1)),\"\")","v":""},{"$f":"IFERROR(INDEX(Отделения[отделение],SMALL(IF(Отделения[Город]=$AQ$1,ROW(Отделения[Город])-1),ROW(AB58)-ROW($A$2)+1)),\"\")","v":""},{"$f":"IFERROR(INDEX(Отделения[отделение],SMALL(IF(Отделения[Город]=$AR$1,ROW(Отделения[Город])-1),ROW(AB58)-ROW($A$2)+1)),\"\")","v":""},{"$f":"IFERROR(INDEX(Отделения[отделение],SMALL(IF(Отделения[Город]=$AS$1,ROW(Отделения[Город])-1),ROW(AB58)-ROW($A$2)+1)),\"\")","v":""},{"$f":"IFERROR(INDEX(Отделения[отделение],SMALL(IF(Отделения[Город]=$AT$1,ROW(Отделения[Город])-1),ROW(AB58)-ROW($A$2)+1)),\"\")","v":""},{"$f":"IFERROR(INDEX(Отделения[отделение],SMALL(IF(Отделения[Город]=$AU$1,ROW(Отделения[Город])-1),ROW(AB58)-ROW($A$2)+1)),\"\")","v":""},{"$f":"IFERROR(INDEX(Отделения[отделение],SMALL(IF(Отделения[Город]=$AV$1,ROW(Отделения[Город])-1),ROW(AB58)-ROW($A$2)+1)),\"\")","v":""},{"$f":"IFERROR(INDEX(Отделения[отделение],SMALL(IF(Отделения[Город]=$AW$1,ROW(Отделения[Город])-1),ROW(AB58)-ROW($A$2)+1)),\"\")","v":""},{"$f":"IFERROR(INDEX(Отделения[отделение],SMALL(IF(Отделения[Город]=$AX$1,ROW(Отделения[Город])-1),ROW(AB58)-ROW($A$2)+1)),\"\")","v":""},{"$f":"IFERROR(INDEX(Отделения[отделение],SMALL(IF(Отделения[Город]=$AY$1,ROW(Отделения[Город])-1),ROW(AB58)-ROW($A$2)+1)),\"\")","v":""},{"$f":"IFERROR(INDEX(Отделения[отделение],SMALL(IF(Отделения[Город]=$AZ$1,ROW(Отделения[Город])-1),ROW(AB58)-ROW($A$2)+1)),\"\")","v":""},{"$f":"IFERROR(INDEX(Отделения[отделение],SMALL(IF(Отделения[Город]=$BA$1,ROW(Отделения[Город])-1),ROW(AB58)-ROW($A$2)+1)),\"\")","v":""},{"$f":"IFERROR(INDEX(Отделения[отделение],SMALL(IF(Отделения[Город]=$BB$1,ROW(Отделения[Город])-1),ROW(AB58)-ROW($A$2)+1)),\"\")","v":""},{"$f":"IFERROR(INDEX(Отделения[отделение],SMALL(IF(Отделения[Город]=$BC$1,ROW(Отделения[Город])-1),ROW(AC58)-ROW($A$2)+1)),\"\")","v":""},{"$f":"IFERROR(INDEX(Отделения[отделение],SMALL(IF(Отделения[Город]=$BD$1,ROW(Отделения[Город])-1),ROW(AD58)-ROW($A$2)+1)),\"\")","v":""},{"$f":"IFERROR(INDEX(Отделения[отделение],SMALL(IF(Отделения[Город]=$BE$1,ROW(Отделения[Город])-1),ROW(AE58)-ROW($A$2)+1)),\"\")","v":""},{"$f":"IFERROR(INDEX(Отделения[отделение],SMALL(IF(Отделения[Город]=$BF$1,ROW(Отделения[Город])-1),ROW(AF58)-ROW($A$2)+1)),\"\")","v":""},{"$f":"IFERROR(INDEX(Отделения[отделение],SMALL(IF(Отделения[Город]=$BG$1,ROW(Отделения[Город])-1),ROW(AG58)-ROW($A$2)+1)),\"\")","v":""},{"$f":"IFERROR(INDEX(Отделения[отделение],SMALL(IF(Отделения[Город]=$BH$1,ROW(Отделения[Город])-1),ROW(AH58)-ROW($A$2)+1)),\"\")","v":""},{"$f":"IFERROR(INDEX(Отделения[отделение],SMALL(IF(Отделения[Город]=$BI$1,ROW(Отделения[Город])-1),ROW(AI58)-ROW($A$2)+1)),\"\")","v":""},{"$f":"IFERROR(INDEX(Отделения[отделение],SMALL(IF(Отделения[Город]=$BJ$1,ROW(Отделения[Город])-1),ROW(AJ58)-ROW($A$2)+1)),\"\")","v":""},{"$f":"IFERROR(INDEX(Отделения[отделение],SMALL(IF(Отделения[Город]=$BK$1,ROW(Отделения[Город])-1),ROW(AK58)-ROW($A$2)+1)),\"\")","v":""},{"$f":"IFERROR(INDEX(Отделения[отделение],SMALL(IF(Отделения[Город]=$BL$1,ROW(Отделения[Город])-1),ROW(AL58)-ROW($A$2)+1)),\"\")","v":""},{"$f":"IFERROR(INDEX(Отделения[отделение],SMALL(IF(Отделения[Город]=$BM$1,ROW(Отделения[Город])-1),ROW(AM58)-ROW($A$2)+1)),\"\")","v":""},{"$f":"IFERROR(INDEX(Отделения[отделение],SMALL(IF(Отделения[Город]=$BN$1,ROW(Отделения[Город])-1),ROW(AN58)-ROW($A$2)+1)),\"\")","v":""},{"$f":"IFERROR(INDEX(Отделения[отделение],SMALL(IF(Отделения[Город]=$BO$1,ROW(Отделения[Город])-1),ROW(AO58)-ROW($A$2)+1)),\"\")","v":""},{"$f":"IFERROR(INDEX(Отделения[отделение],SMALL(IF(Отделения[Город]=$BP$1,ROW(Отделения[Город])-1),ROW(AP58)-ROW($A$2)+1)),\"\")","v":""},{"$f":"IFERROR(INDEX(Отделения[отделение],SMALL(IF(Отделения[Город]=$BQ$1,ROW(Отделения[Город])-1),ROW(AQ58)-ROW($A$2)+1)),\"\")","v":""},{"$f":"IFERROR(INDEX(Отделения[отделение],SMALL(IF(Отделения[Город]=$BR$1,ROW(Отделения[Город])-1),ROW(AR58)-ROW($A$2)+1)),\"\")","v":""},{"$f":"IFERROR(INDEX(Отделения[отделение],SMALL(IF(Отделения[Город]=$BS$1,ROW(Отделения[Город])-1),ROW(AS58)-ROW($A$2)+1)),\"\")","v":""},{"$f":"IFERROR(INDEX(Отделения[отделение],SMALL(IF(Отделения[Город]=$BT$1,ROW(Отделения[Город])-1),ROW(AT58)-ROW($A$2)+1)),\"\")","v":""},{"$f":"IFERROR(INDEX(Отделения[отделение],SMALL(IF(Отделения[Город]=$BU$1,ROW(Отделения[Город])-1),ROW(AU58)-ROW($A$2)+1)),\"\")","v":""},{"$f":"IFERROR(INDEX(Отделения[отделение],SMALL(IF(Отделения[Город]=$BV$1,ROW(Отделения[Город])-1),ROW(AV58)-ROW($A$2)+1)),\"\")","v":""},{"$f":"IFERROR(INDEX(Отделения[отделение],SMALL(IF(Отделения[Город]=$BW$1,ROW(Отделения[Город])-1),ROW(AV58)-ROW($A$2)+1)),\"\")","v":""},{"$f":"IFERROR(INDEX(Отделения[отделение],SMALL(IF(Отделения[Город]=$BX$1,ROW(Отделения[Город])-1),ROW(AV58)-ROW($A$2)+1)),\"\")","v":""},{"$f":"IFERROR(INDEX(Отделения[отделение],SMALL(IF(Отделения[Город]=$BY$1,ROW(Отделения[Город])-1),ROW(AV58)-ROW($A$2)+1)),\"\")","v":""},{"$f":"IFERROR(INDEX(Отделения[отделение],SMALL(IF(Отделения[Город]=$BZ$1,ROW(Отделения[Город])-1),ROW(AV58)-ROW($A$2)+1)),\"\")","v":""},{"$f":"IFERROR(INDEX(Отделения[отделение],SMALL(IF(Отделения[Город]=$CA$1,ROW(Отделения[Город])-1),ROW(AV58)-ROW($A$2)+1)),\"\")","v":""},{"$f":"IFERROR(INDEX(Отделения[отделение],SMALL(IF(Отделения[Город]=$CB$1,ROW(Отделения[Город])-1),ROW(AV58)-ROW($A$2)+1)),\"\")","v":""},{"$f":"IFERROR(INDEX(Отделения[отделение],SMALL(IF(Отделения[Город]=$CC$1,ROW(Отделения[Город])-1),ROW(AV58)-ROW($A$2)+1)),\"\")","v":""},{"$f":"IFERROR(INDEX(Отделения[отделение],SMALL(IF(Отделения[Город]=$CD$1,ROW(Отделения[Город])-1),ROW(AV58)-ROW($A$2)+1)),\"\")","v":""},{"$f":"IFERROR(INDEX(Отделения[отделение],SMALL(IF(Отделения[Город]=$CE$1,ROW(Отделения[Город])-1),ROW(AV58)-ROW($A$2)+1)),\"\")","v":""},{"$f":"IFERROR(INDEX(Отделения[отделение],SMALL(IF(Отделения[Город]=$CF$1,ROW(Отделения[Город])-1),ROW(AV58)-ROW($A$2)+1)),\"\")","v":""},{"$f":"IFERROR(INDEX(Отделения[отделение],SMALL(IF(Отделения[Город]=$CG$1,ROW(Отделения[Город])-1),ROW(AV58)-ROW($A$2)+1)),\"\")","v":""},{"$f":"IFERROR(INDEX(Отделения[отделение],SMALL(IF(Отделения[Город]=$CH$1,ROW(Отделения[Город])-1),ROW(AW58)-ROW($A$2)+1)),\"\")","v":""},{"$f":"IFERROR(INDEX(Отделения[отделение],SMALL(IF(Отделения[Город]=$CI$1,ROW(Отделения[Город])-1),ROW(AX58)-ROW($A$2)+1)),\"\")","v":""},{"$f":"IFERROR(INDEX(Отделения[отделение],SMALL(IF(Отделения[Город]=$CJ$1,ROW(Отделения[Город])-1),ROW(AY58)-ROW($A$2)+1)),\"\")","v":""},{"$f":"IFERROR(INDEX(Отделения[отделение],SMALL(IF(Отделения[Город]=$CK$1,ROW(Отделения[Город])-1),ROW(AZ58)-ROW($A$2)+1)),\"\")","v":""},{"$f":"IFERROR(INDEX(Отделения[отделение],SMALL(IF(Отделения[Город]=$CL$1,ROW(Отделения[Город])-1),ROW(BA58)-ROW($A$2)+1)),\"\")","v":""},{"$f":"IFERROR(INDEX(Отделения[отделение],SMALL(IF(Отделения[Город]=$CM$1,ROW(Отделения[Город])-1),ROW(BB58)-ROW($A$2)+1)),\"\")","v":""},{"$f":"IFERROR(INDEX(Отделения[отделение],SMALL(IF(Отделения[Город]=$CN$1,ROW(Отделения[Город])-1),ROW(BC58)-ROW($A$2)+1)),\"\")","v":""},{"$f":"IFERROR(INDEX(Отделения[отделение],SMALL(IF(Отделения[Город]=$CO$1,ROW(Отделения[Город])-1),ROW(BD58)-ROW($A$2)+1)),\"\")","v":""},{"$f":"IFERROR(INDEX(Отделения[отделение],SMALL(IF(Отделения[Город]=$CP$1,ROW(Отделения[Город])-1),ROW(BE58)-ROW($A$2)+1)),\"\")","v":""},{"$f":"IFERROR(INDEX(Отделения[отделение],SMALL(IF(Отделения[Город]=$CQ$1,ROW(Отделения[Город])-1),ROW(BF58)-ROW($A$2)+1)),\"\")","v":""},{"$f":"IFERROR(INDEX(Отделения[отделение],SMALL(IF(Отделения[Город]=$CR$1,ROW(Отделения[Город])-1),ROW(BG58)-ROW($A$2)+1)),\"\")","v":""},{"$f":"IFERROR(INDEX(Отделения[отделение],SMALL(IF(Отделения[Город]=$CS$1,ROW(Отделения[Город])-1),ROW(BH58)-ROW($A$2)+1)),\"\")","v":""},{"$f":"IFERROR(INDEX(Отделения[отделение],SMALL(IF(Отделения[Город]=$CT$1,ROW(Отделения[Город])-1),ROW(BI58)-ROW($A$2)+1)),\"\")","v":""},{"$f":"IFERROR(INDEX(Отделения[отделение],SMALL(IF(Отделения[Город]=$CU$1,ROW(Отделения[Город])-1),ROW(BJ58)-ROW($A$2)+1)),\"\")","v":""},{"$f":"IFERROR(INDEX(Отделения[отделение],SMALL(IF(Отделения[Город]=$CV$1,ROW(Отделения[Город])-1),ROW(BK58)-ROW($A$2)+1)),\"\")","v":""},{"$f":"IFERROR(INDEX(Отделения[отделение],SMALL(IF(Отделения[Город]=$CW$1,ROW(Отделения[Город])-1),ROW(BL58)-ROW($A$2)+1)),\"\")","v":""},{"$f":"IFERROR(INDEX(Отделения[отделение],SMALL(IF(Отделения[Город]=$CX$1,ROW(Отделения[Город])-1),ROW(BM58)-ROW($A$2)+1)),\"\")","v":""},{"$f":"IFERROR(INDEX(Отделения[отделение],SMALL(IF(Отделения[Город]=$CY$1,ROW(Отделения[Город])-1),ROW(BM58)-ROW($A$2)+1)),\"\")","v":""},{"$f":"IFERROR(INDEX(Отделения[отделение],SMALL(IF(Отделения[Город]=$CZ$1,ROW(Отделения[Город])-1),ROW(BM58)-ROW($A$2)+1)),\"\")","v":""},{"$f":"IFERROR(INDEX(Отделения[отделение],SMALL(IF(Отделения[Город]=$DA$1,ROW(Отделения[Город])-1),ROW(BM58)-ROW($A$2)+1)),\"\")","v":""},{"$f":"IFERROR(INDEX(Отделения[отделение],SMALL(IF(Отделения[Город]=$DB$1,ROW(Отделения[Город])-1),ROW(BM58)-ROW($A$2)+1)),\"\")","v":""}]
["Москва","ДО \"АЛТУФЬЕВО\" , 127349 г. Москва, ул. Лескова д. 3Г","0627","MOHH",null,null,{"$f":"IFERROR(INDEX(Отделения[отделение],SMALL(IF(Отделения[Город]=$G$1,ROW(Отделения[Город])-1),ROW(A59)-ROW($A$2)+1)),\"\")","v":""},{"$f":"IFERROR(INDEX(Отделения[отделение],SMALL(IF(Отделения[Город]=$H$1,ROW(Отделения[Город])-1),ROW(A59)-ROW($A$2)+1)),\"\")","v":""},{"$f":"IFERROR(INDEX(Отделения[отделение],SMALL(IF(Отделения[Город]=$I$1,ROW(Отделения[Город])-1),ROW(A59)-ROW($A$2)+1)),\"\")","v":""},{"$f":"IFERROR(INDEX(Отделения[отделение],SMALL(IF(Отделения[Город]=$J$1,ROW(Отделения[Город])-1),ROW(A59)-ROW($A$2)+1)),\"\")","v":""},{"$f":"IFERROR(INDEX(Отделения[отделение],SMALL(IF(Отделения[Город]=$K$1,ROW(Отделения[Город])-1),ROW(A59)-ROW($A$2)+1)),\"\")","v":""},{"$f":"IFERROR(INDEX(Отделения[отделение],SMALL(IF(Отделения[Город]=$L$1,ROW(Отделения[Город])-1),ROW(A59)-ROW($A$2)+1)),\"\")","v":""},{"$f":"IFERROR(INDEX(Отделения[отделение],SMALL(IF(Отделения[Город]=$M$1,ROW(Отделения[Город])-1),ROW(B59)-ROW($A$2)+1)),\"\")","v":""},{"$f":"IFERROR(INDEX(Отделения[отделение],SMALL(IF(Отделения[Город]=$N$1,ROW(Отделения[Город])-1),ROW(#REF!)-ROW($A$2)+1)),\"\")","v":""},{"$f":"IFERROR(INDEX(Отделения[отделение],SMALL(IF(Отделения[Город]=$O$1,ROW(Отделения[Город])-1),ROW(C59)-ROW($A$2)+1)),\"\")","v":""},{"$f":"IFERROR(INDEX(Отделения[отделение],SMALL(IF(Отделения[Город]=$P$1,ROW(Отделения[Город])-1),ROW(D59)-ROW($A$2)+1)),\"\")","v":""},{"$f":"IFERROR(INDEX(Отделения[отделение],SMALL(IF(Отделения[Город]=$Q$1,ROW(Отделения[Город])-1),ROW(F59)-ROW($A$2)+1)),\"\")","v":""},{"$f":"IFERROR(INDEX(Отделения[отделение],SMALL(IF(Отделения[Город]=$R$1,ROW(Отделения[Город])-1),ROW(#REF!)-ROW($A$2)+1)),\"\")","v":""},{"$f":"IFERROR(INDEX(Отделения[отделение],SMALL(IF(Отделения[Город]=$S$1,ROW(Отделения[Город])-1),ROW(G59)-ROW($A$2)+1)),\"\")","v":""},{"$f":"IFERROR(INDEX(Отделения[отделение],SMALL(IF(Отделения[Город]=$T$1,ROW(Отделения[Город])-1),ROW(H59)-ROW($A$2)+1)),\"\")","v":""},{"$f":"IFERROR(INDEX(Отделения[отделение],SMALL(IF(Отделения[Город]=$U$1,ROW(Отделения[Город])-1),ROW(I59)-ROW($A$2)+1)),\"\")","v":""},{"$f":"IFERROR(INDEX(Отделения[отделение],SMALL(IF(Отделения[Город]=$V$1,ROW(Отделения[Город])-1),ROW(J59)-ROW($A$2)+1)),\"\")","v":""},{"$f":"IFERROR(INDEX(Отделения[отделение],SMALL(IF(Отделения[Город]=$W$1,ROW(Отделения[Город])-1),ROW(K59)-ROW($A$2)+1)),\"\")","v":""},{"$f":"IFERROR(INDEX(Отделения[отделение],SMALL(IF(Отделения[Город]=$X$1,ROW(Отделения[Город])-1),ROW(L59)-ROW($A$2)+1)),\"\")","v":""},{"$f":"IFERROR(INDEX(Отделения[отделение],SMALL(IF(Отделения[Город]=$Y$1,ROW(Отделения[Город])-1),ROW(M59)-ROW($A$2)+1)),\"\")","v":""},{"$f":"IFERROR(INDEX(Отделения[отделение],SMALL(IF(Отделения[Город]=$Z$1,ROW(Отделения[Город])-1),ROW(N59)-ROW($A$2)+1)),\"\")","v":""},{"$f":"IFERROR(INDEX(Отделения[отделение],SMALL(IF(Отделения[Город]=$AA$1,ROW(Отделения[Город])-1),ROW(O59)-ROW($A$2)+1)),\"\")","v":""},{"$f":"IFERROR(INDEX(Отделения[отделение],SMALL(IF(Отделения[Город]=$AB$1,ROW(Отделения[Город])-1),ROW(P59)-ROW($A$2)+1)),\"\")","v":""},{"$f":"IFERROR(INDEX(Отделения[отделение],SMALL(IF(Отделения[Город]=$AC$1,ROW(Отделения[Город])-1),ROW(Q59)-ROW($A$2)+1)),\"\")","v":""},{"$f":"IFERROR(INDEX(Отделения[отделение],SMALL(IF(Отделения[Город]=$AD$1,ROW(Отделения[Город])-1),ROW(R59)-ROW($A$2)+1)),\"\")","v":""},{"$f":"IFERROR(INDEX(Отделения[отделение],SMALL(IF(Отделения[Город]=$AE$1,ROW(Отделения[Город])-1),ROW(S59)-ROW($A$2)+1)),\"\")","v":""},{"$f":"IFERROR(INDEX(Отделения[отделение],SMALL(IF(Отделения[Город]=$AF$1,ROW(Отделения[Город])-1),ROW(T59)-ROW($A$2)+1)),\"\")","v":""},{"$f":"IFERROR(INDEX(Отделения[отделение],SMALL(IF(Отделения[Город]=$AG$1,ROW(Отделения[Город])-1),ROW(U59)-ROW($A$2)+1)),\"\")","v":""},{"$f":"IFERROR(INDEX(Отделения[отделение],SMALL(IF(Отделения[Город]=$AH$1,ROW(Отделения[Город])-1),ROW(V59)-ROW($A$2)+1)),\"\")","v":""},{"$f":"IFERROR(INDEX(Отделения[отделение],SMALL(IF(Отделения[Город]=$AI$1,ROW(Отделения[Город])-1),ROW(AB59)-ROW($A$2)+1)),\"\")","v":""},{"$f":"IFERROR(INDEX(Отделения[отделение],SMALL(IF(Отделения[Город]=$AJ$1,ROW(Отделения[Город])-1),ROW(AB59)-ROW($A$2)+1)),\"\")","v":""},{"$f":"IFERROR(INDEX(Отделения[отделение],SMALL(IF(Отделения[Город]=$AK$1,ROW(Отделения[Город])-1),ROW(AB59)-ROW($A$2)+1)),\"\")","v":""},{"$f":"IFERROR(INDEX(Отделения[отделение],SMALL(IF(Отделения[Город]=$AL$1,ROW(Отделения[Город])-1),ROW(AB59)-ROW($A$2)+1)),\"\")","v":""},{"$f":"IFERROR(INDEX(Отделения[отделение],SMALL(IF(Отделения[Город]=$AM$1,ROW(Отделения[Город])-1),ROW(AB59)-ROW($A$2)+1)),\"\")","v":""},{"$f":"IFERROR(INDEX(Отделения[отделение],SMALL(IF(Отделения[Город]=$AN$1,ROW(Отделения[Город])-1),ROW(AB59)-ROW($A$2)+1)),\"\")","v":""},{"$f":"IFERROR(INDEX(Отделения[отделение],SMALL(IF(Отделения[Город]=$AO$1,ROW(Отделения[Город])-1),ROW(AB59)-ROW($A$2)+1)),\"\")","v":""},{"$f":"IFERROR(INDEX(Отделения[отделение],SMALL(IF(Отделения[Город]=$AP$1,ROW(Отделения[Город])-1),ROW(AB59)-ROW($A$2)+1)),\"\")","v":""},{"$f":"IFERROR(INDEX(Отделения[отделение],SMALL(IF(Отделения[Город]=$AQ$1,ROW(Отделения[Город])-1),ROW(AB59)-ROW($A$2)+1)),\"\")","v":""},{"$f":"IFERROR(INDEX(Отделения[отделение],SMALL(IF(Отделения[Город]=$AR$1,ROW(Отделения[Город])-1),ROW(AB59)-ROW($A$2)+1)),\"\")","v":""},{"$f":"IFERROR(INDEX(Отделения[отделение],SMALL(IF(Отделения[Город]=$AS$1,ROW(Отделения[Город])-1),ROW(AB59)-ROW($A$2)+1)),\"\")","v":""},{"$f":"IFERROR(INDEX(Отделения[отделение],SMALL(IF(Отделения[Город]=$AT$1,ROW(Отделения[Город])-1),ROW(AB59)-ROW($A$2)+1)),\"\")","v":""},{"$f":"IFERROR(INDEX(Отделения[отделение],SMALL(IF(Отделения[Город]=$AU$1,ROW(Отделения[Город])-1),ROW(AB59)-ROW($A$2)+1)),\"\")","v":""},{"$f":"IFERROR(INDEX(Отделения[отделение],SMALL(IF(Отделения[Город]=$AV$1,ROW(Отделения[Город])-1),ROW(AB59)-ROW($A$2)+1)),\"\")","v":""},{"$f":"IFERROR(INDEX(Отделения[отделение],SMALL(IF(Отделения[Город]=$AW$1,ROW(Отделения[Город])-1),ROW(AB59)-ROW($A$2)+1)),\"\")","v":""},{"$f":"IFERROR(INDEX(Отделения[отделение],SMALL(IF(Отделения[Город]=$AX$1,ROW(Отделения[Город])-1),ROW(AB59)-ROW($A$2)+1)),\"\")","v":""},{"$f":"IFERROR(INDEX(Отделения[отделение],SMALL(IF(Отделения[Город]=$AY$1,ROW(Отделения[Город])-1),ROW(AB59)-ROW($A$2)+1)),\"\")","v":""},{"$f":"IFERROR(INDEX(Отделения[отделение],SMALL(IF(Отделения[Город]=$AZ$1,ROW(Отделения[Город])-1),ROW(AB59)-ROW($A$2)+1)),\"\")","v":""},{"$f":"IFERROR(INDEX(Отделения[отделение],SMALL(IF(Отделения[Город]=$BA$1,ROW(Отделения[Город])-1),ROW(AB59)-ROW($A$2)+1)),\"\")","v":""},{"$f":"IFERROR(INDEX(Отделения[отделение],SMALL(IF(Отделения[Город]=$BB$1,ROW(Отделения[Город])-1),ROW(AB59)-ROW($A$2)+1)),\"\")","v":""},{"$f":"IFERROR(INDEX(Отделения[отделение],SMALL(IF(Отделения[Город]=$BC$1,ROW(Отделения[Город])-1),ROW(AC59)-ROW($A$2)+1)),\"\")","v":""},{"$f":"IFERROR(INDEX(Отделения[отделение],SMALL(IF(Отделения[Город]=$BD$1,ROW(Отделения[Город])-1),ROW(AD59)-ROW($A$2)+1)),\"\")","v":""},{"$f":"IFERROR(INDEX(Отделения[отделение],SMALL(IF(Отделения[Город]=$BE$1,ROW(Отделения[Город])-1),ROW(AE59)-ROW($A$2)+1)),\"\")","v":""},{"$f":"IFERROR(INDEX(Отделения[отделение],SMALL(IF(Отделения[Город]=$BF$1,ROW(Отделения[Город])-1),ROW(AF59)-ROW($A$2)+1)),\"\")","v":""},{"$f":"IFERROR(INDEX(Отделения[отделение],SMALL(IF(Отделения[Город]=$BG$1,ROW(Отделения[Город])-1),ROW(AG59)-ROW($A$2)+1)),\"\")","v":""},{"$f":"IFERROR(INDEX(Отделения[отделение],SMALL(IF(Отделения[Город]=$BH$1,ROW(Отделения[Город])-1),ROW(AH59)-ROW($A$2)+1)),\"\")","v":""},{"$f":"IFERROR(INDEX(Отделения[отделение],SMALL(IF(Отделения[Город]=$BI$1,ROW(Отделения[Город])-1),ROW(AI59)-ROW($A$2)+1)),\"\")","v":""},{"$f":"IFERROR(INDEX(Отделения[отделение],SMALL(IF(Отделения[Город]=$BJ$1,ROW(Отделения[Город])-1),ROW(AJ59)-ROW($A$2)+1)),\"\")","v":""},{"$f":"IFERROR(INDEX(Отделения[отделение],SMALL(IF(Отделения[Город]=$BK$1,ROW(Отделения[Город])-1),ROW(AK59)-ROW($A$2)+1)),\"\")","v":""},{"$f":"IFERROR(INDEX(Отделения[отделение],SMALL(IF(Отделения[Город]=$BL$1,ROW(Отделения[Город])-1),ROW(AL59)-ROW($A$2)+1)),\"\")","v":""},{"$f":"IFERROR(INDEX(Отделения[отделение],SMALL(IF(Отделения[Город]=$BM$1,ROW(Отделения[Город])-1),ROW(AM59)-ROW($A$2)+1)),\"\")","v":""},{"$f":"IFERROR(INDEX(Отделения[отделение],SMALL(IF(Отделения[Город]=$BN$1,ROW(Отделения[Город])-1),ROW(AN59)-ROW($A$2)+1)),\"\")","v":""},{"$f":"IFERROR(INDEX(Отделения[отделение],SMALL(IF(Отделения[Город]=$BO$1,ROW(Отделения[Город])-1),ROW(AO59)-ROW($A$2)+1)),\"\")","v":""},{"$f":"IFERROR(INDEX(Отделения[отделение],SMALL(IF(Отделения[Город]=$BP$1,ROW(Отделения[Город])-1),ROW(AP59)-ROW($A$2)+1)),\"\")","v":""},{"$f":"IFERROR(INDEX(Отделения[отделение],SMALL(IF(Отделения[Город]=$BQ$1,ROW(Отделения[Город])-1),ROW(AQ59)-ROW($A$2)+1)),\"\")","v":""},{"$f":"IFERROR(INDEX(Отделения[отделение],SMALL(IF(Отделения[Город]=$BR$1,ROW(Отделения[Город])-1),ROW(AR59)-ROW($A$2)+1)),\"\")","v":""},{"$f":"IFERROR(INDEX(Отделения[отделение],SMALL(IF(Отделения[Город]=$BS$1,ROW(Отделения[Город])-1),ROW(AS59)-ROW($A$2)+1)),\"\")","v":""},{"$f":"IFERROR(INDEX(Отделения[отделение],SMALL(IF(Отделения[Город]=$BT$1,ROW(Отделения[Город])-1),ROW(AT59)-ROW($A$2)+1)),\"\")","v":""},{"$f":"IFERROR(INDEX(Отделения[отделение],SMALL(IF(Отделения[Город]=$BU$1,ROW(Отделения[Город])-1),ROW(AU59)-ROW($A$2)+1)),\"\")","v":""},{"$f":"IFERROR(INDEX(Отделения[отделение],SMALL(IF(Отделения[Город]=$BV$1,ROW(Отделения[Город])-1),ROW(AV59)-ROW($A$2)+1)),\"\")","v":""},{"$f":"IFERROR(INDEX(Отделения[отделение],SMALL(IF(Отделения[Город]=$BW$1,ROW(Отделения[Город])-1),ROW(AV59)-ROW($A$2)+1)),\"\")","v":""},{"$f":"IFERROR(INDEX(Отделения[отделение],SMALL(IF(Отделения[Город]=$BX$1,ROW(Отделения[Город])-1),ROW(AV59)-ROW($A$2)+1)),\"\")","v":""},{"$f":"IFERROR(INDEX(Отделения[отделение],SMALL(IF(Отделения[Город]=$BY$1,ROW(Отделения[Город])-1),ROW(AV59)-ROW($A$2)+1)),\"\")","v":""},{"$f":"IFERROR(INDEX(Отделения[отделение],SMALL(IF(Отделения[Город]=$BZ$1,ROW(Отделения[Город])-1),ROW(AV59)-ROW($A$2)+1)),\"\")","v":""},{"$f":"IFERROR(INDEX(Отделения[отделение],SMALL(IF(Отделения[Город]=$CA$1,ROW(Отделения[Город])-1),ROW(AV59)-ROW($A$2)+1)),\"\")","v":""},{"$f":"IFERROR(INDEX(Отделения[отделение],SMALL(IF(Отделения[Город]=$CB$1,ROW(Отделения[Город])-1),ROW(AV59)-ROW($A$2)+1)),\"\")","v":""},{"$f":"IFERROR(INDEX(Отделения[отделение],SMALL(IF(Отделения[Город]=$CC$1,ROW(Отделения[Город])-1),ROW(AV59)-ROW($A$2)+1)),\"\")","v":""},{"$f":"IFERROR(INDEX(Отделения[отделение],SMALL(IF(Отделения[Город]=$CD$1,ROW(Отделения[Город])-1),ROW(AV59)-ROW($A$2)+1)),\"\")","v":""},{"$f":"IFERROR(INDEX(Отделения[отделение],SMALL(IF(Отделения[Город]=$CE$1,ROW(Отделения[Город])-1),ROW(AV59)-ROW($A$2)+1)),\"\")","v":""},{"$f":"IFERROR(INDEX(Отделения[отделение],SMALL(IF(Отделения[Город]=$CF$1,ROW(Отделения[Город])-1),ROW(AV59)-ROW($A$2)+1)),\"\")","v":""},{"$f":"IFERROR(INDEX(Отделения[отделение],SMALL(IF(Отделения[Город]=$CG$1,ROW(Отделения[Город])-1),ROW(AV59)-ROW($A$2)+1)),\"\")","v":""},{"$f":"IFERROR(INDEX(Отделения[отделение],SMALL(IF(Отделения[Город]=$CH$1,ROW(Отделения[Город])-1),ROW(AW59)-ROW($A$2)+1)),\"\")","v":""},{"$f":"IFERROR(INDEX(Отделения[отделение],SMALL(IF(Отделения[Город]=$CI$1,ROW(Отделения[Город])-1),ROW(AX59)-ROW($A$2)+1)),\"\")","v":""},{"$f":"IFERROR(INDEX(Отделения[отделение],SMALL(IF(Отделения[Город]=$CJ$1,ROW(Отделения[Город])-1),ROW(AY59)-ROW($A$2)+1)),\"\")","v":""},{"$f":"IFERROR(INDEX(Отделения[отделение],SMALL(IF(Отделения[Город]=$CK$1,ROW(Отделения[Город])-1),ROW(AZ59)-ROW($A$2)+1)),\"\")","v":""},{"$f":"IFERROR(INDEX(Отделения[отделение],SMALL(IF(Отделения[Город]=$CL$1,ROW(Отделения[Город])-1),ROW(BA59)-ROW($A$2)+1)),\"\")","v":""},{"$f":"IFERROR(INDEX(Отделения[отделение],SMALL(IF(Отделения[Город]=$CM$1,ROW(Отделения[Город])-1),ROW(BB59)-ROW($A$2)+1)),\"\")","v":""},{"$f":"IFERROR(INDEX(Отделения[отделение],SMALL(IF(Отделения[Город]=$CN$1,ROW(Отделения[Город])-1),ROW(BC59)-ROW($A$2)+1)),\"\")","v":""},{"$f":"IFERROR(INDEX(Отделения[отделение],SMALL(IF(Отделения[Город]=$CO$1,ROW(Отделения[Город])-1),ROW(BD59)-ROW($A$2)+1)),\"\")","v":""},{"$f":"IFERROR(INDEX(Отделения[отделение],SMALL(IF(Отделения[Город]=$CP$1,ROW(Отделения[Город])-1),ROW(BE59)-ROW($A$2)+1)),\"\")","v":""},{"$f":"IFERROR(INDEX(Отделения[отделение],SMALL(IF(Отделения[Город]=$CQ$1,ROW(Отделения[Город])-1),ROW(BF59)-ROW($A$2)+1)),\"\")","v":""},{"$f":"IFERROR(INDEX(Отделения[отделение],SMALL(IF(Отделения[Город]=$CR$1,ROW(Отделения[Город])-1),ROW(BG59)-ROW($A$2)+1)),\"\")","v":""},{"$f":"IFERROR(INDEX(Отделения[отделение],SMALL(IF(Отделения[Город]=$CS$1,ROW(Отделения[Город])-1),ROW(BH59)-ROW($A$2)+1)),\"\")","v":""},{"$f":"IFERROR(INDEX(Отделения[отделение],SMALL(IF(Отделения[Город]=$CT$1,ROW(Отделения[Город])-1),ROW(BI59)-ROW($A$2)+1)),\"\")","v":""},{"$f":"IFERROR(INDEX(Отделения[отделение],SMALL(IF(Отделения[Город]=$CU$1,ROW(Отделения[Город])-1),ROW(BJ59)-ROW($A$2)+1)),\"\")","v":""},{"$f":"IFERROR(INDEX(Отделения[отделение],SMALL(IF(Отделения[Город]=$CV$1,ROW(Отделения[Город])-1),ROW(BK59)-ROW($A$2)+1)),\"\")","v":""},{"$f":"IFERROR(INDEX(Отделения[отделение],SMALL(IF(Отделения[Город]=$CW$1,ROW(Отделения[Город])-1),ROW(BL59)-ROW($A$2)+1)),\"\")","v":""},{"$f":"IFERROR(INDEX(Отделения[отделение],SMALL(IF(Отделения[Город]=$CX$1,ROW(Отделения[Город])-1),ROW(BM59)-ROW($A$2)+1)),\"\")","v":""},{"$f":"IFERROR(INDEX(Отделения[отделение],SMALL(IF(Отделения[Город]=$CY$1,ROW(Отделения[Город])-1),ROW(BM59)-ROW($A$2)+1)),\"\")","v":""},{"$f":"IFERROR(INDEX(Отделения[отделение],SMALL(IF(Отделения[Город]=$CZ$1,ROW(Отделения[Город])-1),ROW(BM59)-ROW($A$2)+1)),\"\")","v":""},{"$f":"IFERROR(INDEX(Отделения[отделение],SMALL(IF(Отделения[Город]=$DA$1,ROW(Отделения[Город])-1),ROW(BM59)-ROW($A$2)+1)),\"\")","v":""},{"$f":"IFERROR(INDEX(Отделения[отделение],SMALL(IF(Отделения[Город]=$DB$1,ROW(Отделения[Город])-1),ROW(BM59)-ROW($A$2)+1)),\"\")","v":""}]
["Москва","ДО \"ПРОФСОЮЗНАЯ\" , 117218, г. Москва, ул. Профсоюзная,д. 13/12","0628","MOYB",null,null,{"$f":"IFERROR(INDEX(Отделения[отделение],SMALL(IF(Отделения[Город]=$G$1,ROW(Отделения[Город])-1),ROW(A60)-ROW($A$2)+1)),\"\")","v":""},{"$f":"IFERROR(INDEX(Отделения[отделение],SMALL(IF(Отделения[Город]=$H$1,ROW(Отделения[Город])-1),ROW(A60)-ROW($A$2)+1)),\"\")","v":""},{"$f":"IFERROR(INDEX(Отделения[отделение],SMALL(IF(Отделения[Город]=$I$1,ROW(Отделения[Город])-1),ROW(A60)-ROW($A$2)+1)),\"\")","v":""},{"$f":"IFERROR(INDEX(Отделения[отделение],SMALL(IF(Отделения[Город]=$J$1,ROW(Отделения[Город])-1),ROW(A60)-ROW($A$2)+1)),\"\")","v":""},{"$f":"IFERROR(INDEX(Отделения[отделение],SMALL(IF(Отделения[Город]=$K$1,ROW(Отделения[Город])-1),ROW(A60)-ROW($A$2)+1)),\"\")","v":""},{"$f":"IFERROR(INDEX(Отделения[отделение],SMALL(IF(Отделения[Город]=$L$1,ROW(Отделения[Город])-1),ROW(A60)-ROW($A$2)+1)),\"\")","v":""},{"$f":"IFERROR(INDEX(Отделения[отделение],SMALL(IF(Отделения[Город]=$M$1,ROW(Отделения[Город])-1),ROW(B60)-ROW($A$2)+1)),\"\")","v":""},{"$f":"IFERROR(INDEX(Отделения[отделение],SMALL(IF(Отделения[Город]=$N$1,ROW(Отделения[Город])-1),ROW(#REF!)-ROW($A$2)+1)),\"\")","v":""},{"$f":"IFERROR(INDEX(Отделения[отделение],SMALL(IF(Отделения[Город]=$O$1,ROW(Отделения[Город])-1),ROW(C60)-ROW($A$2)+1)),\"\")","v":""},{"$f":"IFERROR(INDEX(Отделения[отделение],SMALL(IF(Отделения[Город]=$P$1,ROW(Отделения[Город])-1),ROW(D60)-ROW($A$2)+1)),\"\")","v":""},{"$f":"IFERROR(INDEX(Отделения[отделение],SMALL(IF(Отделения[Город]=$Q$1,ROW(Отделения[Город])-1),ROW(F60)-ROW($A$2)+1)),\"\")","v":""},{"$f":"IFERROR(INDEX(Отделения[отделение],SMALL(IF(Отделения[Город]=$R$1,ROW(Отделения[Город])-1),ROW(#REF!)-ROW($A$2)+1)),\"\")","v":""},{"$f":"IFERROR(INDEX(Отделения[отделение],SMALL(IF(Отделения[Город]=$S$1,ROW(Отделения[Город])-1),ROW(G60)-ROW($A$2)+1)),\"\")","v":""},{"$f":"IFERROR(INDEX(Отделения[отделение],SMALL(IF(Отделения[Город]=$T$1,ROW(Отделения[Город])-1),ROW(H60)-ROW($A$2)+1)),\"\")","v":""},{"$f":"IFERROR(INDEX(Отделения[отделение],SMALL(IF(Отделения[Город]=$U$1,ROW(Отделения[Город])-1),ROW(I60)-ROW($A$2)+1)),\"\")","v":""},{"$f":"IFERROR(INDEX(Отделения[отделение],SMALL(IF(Отделения[Город]=$V$1,ROW(Отделения[Город])-1),ROW(J60)-ROW($A$2)+1)),\"\")","v":""},{"$f":"IFERROR(INDEX(Отделения[отделение],SMALL(IF(Отделения[Город]=$W$1,ROW(Отделения[Город])-1),ROW(K60)-ROW($A$2)+1)),\"\")","v":""},{"$f":"IFERROR(INDEX(Отделения[отделение],SMALL(IF(Отделения[Город]=$X$1,ROW(Отделения[Город])-1),ROW(L60)-ROW($A$2)+1)),\"\")","v":""},{"$f":"IFERROR(INDEX(Отделения[отделение],SMALL(IF(Отделения[Город]=$Y$1,ROW(Отделения[Город])-1),ROW(M60)-ROW($A$2)+1)),\"\")","v":""},{"$f":"IFERROR(INDEX(Отделения[отделение],SMALL(IF(Отделения[Город]=$Z$1,ROW(Отделения[Город])-1),ROW(N60)-ROW($A$2)+1)),\"\")","v":""},{"$f":"IFERROR(INDEX(Отделения[отделение],SMALL(IF(Отделения[Город]=$AA$1,ROW(Отделения[Город])-1),ROW(O60)-ROW($A$2)+1)),\"\")","v":""},{"$f":"IFERROR(INDEX(Отделения[отделение],SMALL(IF(Отделения[Город]=$AB$1,ROW(Отделения[Город])-1),ROW(P60)-ROW($A$2)+1)),\"\")","v":""},{"$f":"IFERROR(INDEX(Отделения[отделение],SMALL(IF(Отделения[Город]=$AC$1,ROW(Отделения[Город])-1),ROW(Q60)-ROW($A$2)+1)),\"\")","v":""},{"$f":"IFERROR(INDEX(Отделения[отделение],SMALL(IF(Отделения[Город]=$AD$1,ROW(Отделения[Город])-1),ROW(R60)-ROW($A$2)+1)),\"\")","v":""},{"$f":"IFERROR(INDEX(Отделения[отделение],SMALL(IF(Отделения[Город]=$AE$1,ROW(Отделения[Город])-1),ROW(S60)-ROW($A$2)+1)),\"\")","v":""},{"$f":"IFERROR(INDEX(Отделения[отделение],SMALL(IF(Отделения[Город]=$AF$1,ROW(Отделения[Город])-1),ROW(T60)-ROW($A$2)+1)),\"\")","v":""},{"$f":"IFERROR(INDEX(Отделения[отделение],SMALL(IF(Отделения[Город]=$AG$1,ROW(Отделения[Город])-1),ROW(U60)-ROW($A$2)+1)),\"\")","v":""},{"$f":"IFERROR(INDEX(Отделения[отделение],SMALL(IF(Отделения[Город]=$AH$1,ROW(Отделения[Город])-1),ROW(V60)-ROW($A$2)+1)),\"\")","v":""},{"$f":"IFERROR(INDEX(Отделения[отделение],SMALL(IF(Отделения[Город]=$AI$1,ROW(Отделения[Город])-1),ROW(AB60)-ROW($A$2)+1)),\"\")","v":""},{"$f":"IFERROR(INDEX(Отделения[отделение],SMALL(IF(Отделения[Город]=$AJ$1,ROW(Отделения[Город])-1),ROW(AB60)-ROW($A$2)+1)),\"\")","v":""},{"$f":"IFERROR(INDEX(Отделения[отделение],SMALL(IF(Отделения[Город]=$AK$1,ROW(Отделения[Город])-1),ROW(AB60)-ROW($A$2)+1)),\"\")","v":""},{"$f":"IFERROR(INDEX(Отделения[отделение],SMALL(IF(Отделения[Город]=$AL$1,ROW(Отделения[Город])-1),ROW(AB60)-ROW($A$2)+1)),\"\")","v":""},{"$f":"IFERROR(INDEX(Отделения[отделение],SMALL(IF(Отделения[Город]=$AM$1,ROW(Отделения[Город])-1),ROW(AB60)-ROW($A$2)+1)),\"\")","v":""},{"$f":"IFERROR(INDEX(Отделения[отделение],SMALL(IF(Отделения[Город]=$AN$1,ROW(Отделения[Город])-1),ROW(AB60)-ROW($A$2)+1)),\"\")","v":""},{"$f":"IFERROR(INDEX(Отделения[отделение],SMALL(IF(Отделения[Город]=$AO$1,ROW(Отделения[Город])-1),ROW(AB60)-ROW($A$2)+1)),\"\")","v":""},{"$f":"IFERROR(INDEX(Отделения[отделение],SMALL(IF(Отделения[Город]=$AP$1,ROW(Отделения[Город])-1),ROW(AB60)-ROW($A$2)+1)),\"\")","v":""},{"$f":"IFERROR(INDEX(Отделения[отделение],SMALL(IF(Отделения[Город]=$AQ$1,ROW(Отделения[Город])-1),ROW(AB60)-ROW($A$2)+1)),\"\")","v":""},{"$f":"IFERROR(INDEX(Отделения[отделение],SMALL(IF(Отделения[Город]=$AR$1,ROW(Отделения[Город])-1),ROW(AB60)-ROW($A$2)+1)),\"\")","v":""},{"$f":"IFERROR(INDEX(Отделения[отделение],SMALL(IF(Отделения[Город]=$AS$1,ROW(Отделения[Город])-1),ROW(AB60)-ROW($A$2)+1)),\"\")","v":""},{"$f":"IFERROR(INDEX(Отделения[отделение],SMALL(IF(Отделения[Город]=$AT$1,ROW(Отделения[Город])-1),ROW(AB60)-ROW($A$2)+1)),\"\")","v":""},{"$f":"IFERROR(INDEX(Отделения[отделение],SMALL(IF(Отделения[Город]=$AU$1,ROW(Отделения[Город])-1),ROW(AB60)-ROW($A$2)+1)),\"\")","v":""},{"$f":"IFERROR(INDEX(Отделения[отделение],SMALL(IF(Отделения[Город]=$AV$1,ROW(Отделения[Город])-1),ROW(AB60)-ROW($A$2)+1)),\"\")","v":""},{"$f":"IFERROR(INDEX(Отделения[отделение],SMALL(IF(Отделения[Город]=$AW$1,ROW(Отделения[Город])-1),ROW(AB60)-ROW($A$2)+1)),\"\")","v":""},{"$f":"IFERROR(INDEX(Отделения[отделение],SMALL(IF(Отделения[Город]=$AX$1,ROW(Отделения[Город])-1),ROW(AB60)-ROW($A$2)+1)),\"\")","v":""},{"$f":"IFERROR(INDEX(Отделения[отделение],SMALL(IF(Отделения[Город]=$AY$1,ROW(Отделения[Город])-1),ROW(AB60)-ROW($A$2)+1)),\"\")","v":""},{"$f":"IFERROR(INDEX(Отделения[отделение],SMALL(IF(Отделения[Город]=$AZ$1,ROW(Отделения[Город])-1),ROW(AB60)-ROW($A$2)+1)),\"\")","v":""},{"$f":"IFERROR(INDEX(Отделения[отделение],SMALL(IF(Отделения[Город]=$BA$1,ROW(Отделения[Город])-1),ROW(AB60)-ROW($A$2)+1)),\"\")","v":""},{"$f":"IFERROR(INDEX(Отделения[отделение],SMALL(IF(Отделения[Город]=$BB$1,ROW(Отделения[Город])-1),ROW(AB60)-ROW($A$2)+1)),\"\")","v":""},{"$f":"IFERROR(INDEX(Отделения[отделение],SMALL(IF(Отделения[Город]=$BC$1,ROW(Отделения[Город])-1),ROW(AC60)-ROW($A$2)+1)),\"\")","v":""},{"$f":"IFERROR(INDEX(Отделения[отделение],SMALL(IF(Отделения[Город]=$BD$1,ROW(Отделения[Город])-1),ROW(AD60)-ROW($A$2)+1)),\"\")","v":""},{"$f":"IFERROR(INDEX(Отделения[отделение],SMALL(IF(Отделения[Город]=$BE$1,ROW(Отделения[Город])-1),ROW(AE60)-ROW($A$2)+1)),\"\")","v":""},{"$f":"IFERROR(INDEX(Отделения[отделение],SMALL(IF(Отделения[Город]=$BF$1,ROW(Отделения[Город])-1),ROW(AF60)-ROW($A$2)+1)),\"\")","v":""},{"$f":"IFERROR(INDEX(Отделения[отделение],SMALL(IF(Отделения[Город]=$BG$1,ROW(Отделения[Город])-1),ROW(AG60)-ROW($A$2)+1)),\"\")","v":""},{"$f":"IFERROR(INDEX(Отделения[отделение],SMALL(IF(Отделения[Город]=$BH$1,ROW(Отделения[Город])-1),ROW(AH60)-ROW($A$2)+1)),\"\")","v":""},{"$f":"IFERROR(INDEX(Отделения[отделение],SMALL(IF(Отделения[Город]=$BI$1,ROW(Отделения[Город])-1),ROW(AI60)-ROW($A$2)+1)),\"\")","v":""},{"$f":"IFERROR(INDEX(Отделения[отделение],SMALL(IF(Отделения[Город]=$BJ$1,ROW(Отделения[Город])-1),ROW(AJ60)-ROW($A$2)+1)),\"\")","v":""},{"$f":"IFERROR(INDEX(Отделения[отделение],SMALL(IF(Отделения[Город]=$BK$1,ROW(Отделения[Город])-1),ROW(AK60)-ROW($A$2)+1)),\"\")","v":""},{"$f":"IFERROR(INDEX(Отделения[отделение],SMALL(IF(Отделения[Город]=$BL$1,ROW(Отделения[Город])-1),ROW(AL60)-ROW($A$2)+1)),\"\")","v":""},{"$f":"IFERROR(INDEX(Отделения[отделение],SMALL(IF(Отделения[Город]=$BM$1,ROW(Отделения[Город])-1),ROW(AM60)-ROW($A$2)+1)),\"\")","v":""},{"$f":"IFERROR(INDEX(Отделения[отделение],SMALL(IF(Отделения[Город]=$BN$1,ROW(Отделения[Город])-1),ROW(AN60)-ROW($A$2)+1)),\"\")","v":""},{"$f":"IFERROR(INDEX(Отделения[отделение],SMALL(IF(Отделения[Город]=$BO$1,ROW(Отделения[Город])-1),ROW(AO60)-ROW($A$2)+1)),\"\")","v":""},{"$f":"IFERROR(INDEX(Отделения[отделение],SMALL(IF(Отделения[Город]=$BP$1,ROW(Отделения[Город])-1),ROW(AP60)-ROW($A$2)+1)),\"\")","v":""},{"$f":"IFERROR(INDEX(Отделения[отделение],SMALL(IF(Отделения[Город]=$BQ$1,ROW(Отделения[Город])-1),ROW(AQ60)-ROW($A$2)+1)),\"\")","v":""},{"$f":"IFERROR(INDEX(Отделения[отделение],SMALL(IF(Отделения[Город]=$BR$1,ROW(Отделения[Город])-1),ROW(AR60)-ROW($A$2)+1)),\"\")","v":""},{"$f":"IFERROR(INDEX(Отделения[отделение],SMALL(IF(Отделения[Город]=$BS$1,ROW(Отделения[Город])-1),ROW(AS60)-ROW($A$2)+1)),\"\")","v":""},{"$f":"IFERROR(INDEX(Отделения[отделение],SMALL(IF(Отделения[Город]=$BT$1,ROW(Отделения[Город])-1),ROW(AT60)-ROW($A$2)+1)),\"\")","v":""},{"$f":"IFERROR(INDEX(Отделения[отделение],SMALL(IF(Отделения[Город]=$BU$1,ROW(Отделения[Город])-1),ROW(AU60)-ROW($A$2)+1)),\"\")","v":""},{"$f":"IFERROR(INDEX(Отделения[отделение],SMALL(IF(Отделения[Город]=$BV$1,ROW(Отделения[Город])-1),ROW(AV60)-ROW($A$2)+1)),\"\")","v":""},{"$f":"IFERROR(INDEX(Отделения[отделение],SMALL(IF(Отделения[Город]=$BW$1,ROW(Отделения[Город])-1),ROW(AV60)-ROW($A$2)+1)),\"\")","v":""},{"$f":"IFERROR(INDEX(Отделения[отделение],SMALL(IF(Отделения[Город]=$BX$1,ROW(Отделения[Город])-1),ROW(AV60)-ROW($A$2)+1)),\"\")","v":""},{"$f":"IFERROR(INDEX(Отделения[отделение],SMALL(IF(Отделения[Город]=$BY$1,ROW(Отделения[Город])-1),ROW(AV60)-ROW($A$2)+1)),\"\")","v":""},{"$f":"IFERROR(INDEX(Отделения[отделение],SMALL(IF(Отделения[Город]=$BZ$1,ROW(Отделения[Город])-1),ROW(AV60)-ROW($A$2)+1)),\"\")","v":""},{"$f":"IFERROR(INDEX(Отделения[отделение],SMALL(IF(Отделения[Город]=$CA$1,ROW(Отделения[Город])-1),ROW(AV60)-ROW($A$2)+1)),\"\")","v":""},{"$f":"IFERROR(INDEX(Отделения[отделение],SMALL(IF(Отделения[Город]=$CB$1,ROW(Отделения[Город])-1),ROW(AV60)-ROW($A$2)+1)),\"\")","v":""},{"$f":"IFERROR(INDEX(Отделения[отделение],SMALL(IF(Отделения[Город]=$CC$1,ROW(Отделения[Город])-1),ROW(AV60)-ROW($A$2)+1)),\"\")","v":""},{"$f":"IFERROR(INDEX(Отделения[отделение],SMALL(IF(Отделения[Город]=$CD$1,ROW(Отделения[Город])-1),ROW(AV60)-ROW($A$2)+1)),\"\")","v":""},{"$f":"IFERROR(INDEX(Отделения[отделение],SMALL(IF(Отделения[Город]=$CE$1,ROW(Отделения[Город])-1),ROW(AV60)-ROW($A$2)+1)),\"\")","v":""},{"$f":"IFERROR(INDEX(Отделения[отделение],SMALL(IF(Отделения[Город]=$CF$1,ROW(Отделения[Город])-1),ROW(AV60)-ROW($A$2)+1)),\"\")","v":""},{"$f":"IFERROR(INDEX(Отделения[отделение],SMALL(IF(Отделения[Город]=$CG$1,ROW(Отделения[Город])-1),ROW(AV60)-ROW($A$2)+1)),\"\")","v":""},{"$f":"IFERROR(INDEX(Отделения[отделение],SMALL(IF(Отделения[Город]=$CH$1,ROW(Отделения[Город])-1),ROW(AW60)-ROW($A$2)+1)),\"\")","v":""},{"$f":"IFERROR(INDEX(Отделения[отделение],SMALL(IF(Отделения[Город]=$CI$1,ROW(Отделения[Город])-1),ROW(AX60)-ROW($A$2)+1)),\"\")","v":""},{"$f":"IFERROR(INDEX(Отделения[отделение],SMALL(IF(Отделения[Город]=$CJ$1,ROW(Отделения[Город])-1),ROW(AY60)-ROW($A$2)+1)),\"\")","v":""},{"$f":"IFERROR(INDEX(Отделения[отделение],SMALL(IF(Отделения[Город]=$CK$1,ROW(Отделения[Город])-1),ROW(AZ60)-ROW($A$2)+1)),\"\")","v":""},{"$f":"IFERROR(INDEX(Отделения[отделение],SMALL(IF(Отделения[Город]=$CL$1,ROW(Отделения[Город])-1),ROW(BA60)-ROW($A$2)+1)),\"\")","v":""},{"$f":"IFERROR(INDEX(Отделения[отделение],SMALL(IF(Отделения[Город]=$CM$1,ROW(Отделения[Город])-1),ROW(BB60)-ROW($A$2)+1)),\"\")","v":""},{"$f":"IFERROR(INDEX(Отделения[отделение],SMALL(IF(Отделения[Город]=$CN$1,ROW(Отделения[Город])-1),ROW(BC60)-ROW($A$2)+1)),\"\")","v":""},{"$f":"IFERROR(INDEX(Отделения[отделение],SMALL(IF(Отделения[Город]=$CO$1,ROW(Отделения[Город])-1),ROW(BD60)-ROW($A$2)+1)),\"\")","v":""},{"$f":"IFERROR(INDEX(Отделения[отделение],SMALL(IF(Отделения[Город]=$CP$1,ROW(Отделения[Город])-1),ROW(BE60)-ROW($A$2)+1)),\"\")","v":""},{"$f":"IFERROR(INDEX(Отделения[отделение],SMALL(IF(Отделения[Город]=$CQ$1,ROW(Отделения[Город])-1),ROW(BF60)-ROW($A$2)+1)),\"\")","v":""},{"$f":"IFERROR(INDEX(Отделения[отделение],SMALL(IF(Отделения[Город]=$CR$1,ROW(Отделения[Город])-1),ROW(BG60)-ROW($A$2)+1)),\"\")","v":""},{"$f":"IFERROR(INDEX(Отделения[отделение],SMALL(IF(Отделения[Город]=$CS$1,ROW(Отделения[Город])-1),ROW(BH60)-ROW($A$2)+1)),\"\")","v":""},{"$f":"IFERROR(INDEX(Отделения[отделение],SMALL(IF(Отделения[Город]=$CT$1,ROW(Отделения[Город])-1),ROW(BI60)-ROW($A$2)+1)),\"\")","v":""},{"$f":"IFERROR(INDEX(Отделения[отделение],SMALL(IF(Отделения[Город]=$CU$1,ROW(Отделения[Город])-1),ROW(BJ60)-ROW($A$2)+1)),\"\")","v":""},{"$f":"IFERROR(INDEX(Отделения[отделение],SMALL(IF(Отделения[Город]=$CV$1,ROW(Отделения[Город])-1),ROW(BK60)-ROW($A$2)+1)),\"\")","v":""},{"$f":"IFERROR(INDEX(Отделения[отделение],SMALL(IF(Отделения[Город]=$CW$1,ROW(Отделения[Город])-1),ROW(BL60)-ROW($A$2)+1)),\"\")","v":""},{"$f":"IFERROR(INDEX(Отделения[отделение],SMALL(IF(Отделения[Город]=$CX$1,ROW(Отделения[Город])-1),ROW(BM60)-ROW($A$2)+1)),\"\")","v":""},{"$f":"IFERROR(INDEX(Отделения[отделение],SMALL(IF(Отделения[Город]=$CY$1,ROW(Отделения[Город])-1),ROW(BM60)-ROW($A$2)+1)),\"\")","v":""},{"$f":"IFERROR(INDEX(Отделения[отделение],SMALL(IF(Отделения[Город]=$CZ$1,ROW(Отделения[Город])-1),ROW(BM60)-ROW($A$2)+1)),\"\")","v":""},{"$f":"IFERROR(INDEX(Отделения[отделение],SMALL(IF(Отделения[Город]=$DA$1,ROW(Отделения[Город])-1),ROW(BM60)-ROW($A$2)+1)),\"\")","v":""},{"$f":"IFERROR(INDEX(Отделения[отделение],SMALL(IF(Отделения[Город]=$DB$1,ROW(Отделения[Город])-1),ROW(BM60)-ROW($A$2)+1)),\"\")","v":""}]
["Москва","ДО \"КОСИНО\" , 109145, г. Москва, Лермонтовский проспект, д. 10, корп. 1","0630","MOJI",null,null,{"$f":"IFERROR(INDEX(Отделения[отделение],SMALL(IF(Отделения[Город]=$G$1,ROW(Отделения[Город])-1),ROW(A61)-ROW($A$2)+1)),\"\")","v":""},{"$f":"IFERROR(INDEX(Отделения[отделение],SMALL(IF(Отделения[Город]=$H$1,ROW(Отделения[Город])-1),ROW(A61)-ROW($A$2)+1)),\"\")","v":""},{"$f":"IFERROR(INDEX(Отделения[отделение],SMALL(IF(Отделения[Город]=$I$1,ROW(Отделения[Город])-1),ROW(A61)-ROW($A$2)+1)),\"\")","v":""},{"$f":"IFERROR(INDEX(Отделения[отделение],SMALL(IF(Отделения[Город]=$J$1,ROW(Отделения[Город])-1),ROW(A61)-ROW($A$2)+1)),\"\")","v":""},{"$f":"IFERROR(INDEX(Отделения[отделение],SMALL(IF(Отделения[Город]=$K$1,ROW(Отделения[Город])-1),ROW(A61)-ROW($A$2)+1)),\"\")","v":""},{"$f":"IFERROR(INDEX(Отделения[отделение],SMALL(IF(Отделения[Город]=$L$1,ROW(Отделения[Город])-1),ROW(A61)-ROW($A$2)+1)),\"\")","v":""},{"$f":"IFERROR(INDEX(Отделения[отделение],SMALL(IF(Отделения[Город]=$M$1,ROW(Отделения[Город])-1),ROW(B61)-ROW($A$2)+1)),\"\")","v":""},{"$f":"IFERROR(INDEX(Отделения[отделение],SMALL(IF(Отделения[Город]=$N$1,ROW(Отделения[Город])-1),ROW(#REF!)-ROW($A$2)+1)),\"\")","v":""},{"$f":"IFERROR(INDEX(Отделения[отделение],SMALL(IF(Отделения[Город]=$O$1,ROW(Отделения[Город])-1),ROW(C61)-ROW($A$2)+1)),\"\")","v":""},{"$f":"IFERROR(INDEX(Отделения[отделение],SMALL(IF(Отделения[Город]=$P$1,ROW(Отделения[Город])-1),ROW(D61)-ROW($A$2)+1)),\"\")","v":""},{"$f":"IFERROR(INDEX(Отделения[отделение],SMALL(IF(Отделения[Город]=$Q$1,ROW(Отделения[Город])-1),ROW(F61)-ROW($A$2)+1)),\"\")","v":""},{"$f":"IFERROR(INDEX(Отделения[отделение],SMALL(IF(Отделения[Город]=$R$1,ROW(Отделения[Город])-1),ROW(#REF!)-ROW($A$2)+1)),\"\")","v":""},{"$f":"IFERROR(INDEX(Отделения[отделение],SMALL(IF(Отделения[Город]=$S$1,ROW(Отделения[Город])-1),ROW(G61)-ROW($A$2)+1)),\"\")","v":""},{"$f":"IFERROR(INDEX(Отделения[отделение],SMALL(IF(Отделения[Город]=$T$1,ROW(Отделения[Город])-1),ROW(H61)-ROW($A$2)+1)),\"\")","v":""},{"$f":"IFERROR(INDEX(Отделения[отделение],SMALL(IF(Отделения[Город]=$U$1,ROW(Отделения[Город])-1),ROW(I61)-ROW($A$2)+1)),\"\")","v":""},{"$f":"IFERROR(INDEX(Отделения[отделение],SMALL(IF(Отделения[Город]=$V$1,ROW(Отделения[Город])-1),ROW(J61)-ROW($A$2)+1)),\"\")","v":""},{"$f":"IFERROR(INDEX(Отделения[отделение],SMALL(IF(Отделения[Город]=$W$1,ROW(Отделения[Город])-1),ROW(K61)-ROW($A$2)+1)),\"\")","v":""},{"$f":"IFERROR(INDEX(Отделения[отделение],SMALL(IF(Отделения[Город]=$X$1,ROW(Отделения[Город])-1),ROW(L61)-ROW($A$2)+1)),\"\")","v":""},{"$f":"IFERROR(INDEX(Отделения[отделение],SMALL(IF(Отделения[Город]=$Y$1,ROW(Отделения[Город])-1),ROW(M61)-ROW($A$2)+1)),\"\")","v":""},{"$f":"IFERROR(INDEX(Отделения[отделение],SMALL(IF(Отделения[Город]=$Z$1,ROW(Отделения[Город])-1),ROW(N61)-ROW($A$2)+1)),\"\")","v":""},{"$f":"IFERROR(INDEX(Отделения[отделение],SMALL(IF(Отделения[Город]=$AA$1,ROW(Отделения[Город])-1),ROW(O61)-ROW($A$2)+1)),\"\")","v":""},{"$f":"IFERROR(INDEX(Отделения[отделение],SMALL(IF(Отделения[Город]=$AB$1,ROW(Отделения[Город])-1),ROW(P61)-ROW($A$2)+1)),\"\")","v":""},{"$f":"IFERROR(INDEX(Отделения[отделение],SMALL(IF(Отделения[Город]=$AC$1,ROW(Отделения[Город])-1),ROW(Q61)-ROW($A$2)+1)),\"\")","v":""},{"$f":"IFERROR(INDEX(Отделения[отделение],SMALL(IF(Отделения[Город]=$AD$1,ROW(Отделения[Город])-1),ROW(R61)-ROW($A$2)+1)),\"\")","v":""},{"$f":"IFERROR(INDEX(Отделения[отделение],SMALL(IF(Отделения[Город]=$AE$1,ROW(Отделения[Город])-1),ROW(S61)-ROW($A$2)+1)),\"\")","v":""},{"$f":"IFERROR(INDEX(Отделения[отделение],SMALL(IF(Отделения[Город]=$AF$1,ROW(Отделения[Город])-1),ROW(T61)-ROW($A$2)+1)),\"\")","v":""},{"$f":"IFERROR(INDEX(Отделения[отделение],SMALL(IF(Отделения[Город]=$AG$1,ROW(Отделения[Город])-1),ROW(U61)-ROW($A$2)+1)),\"\")","v":""},{"$f":"IFERROR(INDEX(Отделения[отделение],SMALL(IF(Отделения[Город]=$AH$1,ROW(Отделения[Город])-1),ROW(V61)-ROW($A$2)+1)),\"\")","v":""},{"$f":"IFERROR(INDEX(Отделения[отделение],SMALL(IF(Отделения[Город]=$AI$1,ROW(Отделения[Город])-1),ROW(AB61)-ROW($A$2)+1)),\"\")","v":""},{"$f":"IFERROR(INDEX(Отделения[отделение],SMALL(IF(Отделения[Город]=$AJ$1,ROW(Отделения[Город])-1),ROW(AB61)-ROW($A$2)+1)),\"\")","v":""},{"$f":"IFERROR(INDEX(Отделения[отделение],SMALL(IF(Отделения[Город]=$AK$1,ROW(Отделения[Город])-1),ROW(AB61)-ROW($A$2)+1)),\"\")","v":""},{"$f":"IFERROR(INDEX(Отделения[отделение],SMALL(IF(Отделения[Город]=$AL$1,ROW(Отделения[Город])-1),ROW(AB61)-ROW($A$2)+1)),\"\")","v":""},{"$f":"IFERROR(INDEX(Отделения[отделение],SMALL(IF(Отделения[Город]=$AM$1,ROW(Отделения[Город])-1),ROW(AB61)-ROW($A$2)+1)),\"\")","v":""},{"$f":"IFERROR(INDEX(Отделения[отделение],SMALL(IF(Отделения[Город]=$AN$1,ROW(Отделения[Город])-1),ROW(AB61)-ROW($A$2)+1)),\"\")","v":""},{"$f":"IFERROR(INDEX(Отделения[отделение],SMALL(IF(Отделения[Город]=$AO$1,ROW(Отделения[Город])-1),ROW(AB61)-ROW($A$2)+1)),\"\")","v":""},{"$f":"IFERROR(INDEX(Отделения[отделение],SMALL(IF(Отделения[Город]=$AP$1,ROW(Отделения[Город])-1),ROW(AB61)-ROW($A$2)+1)),\"\")","v":""},{"$f":"IFERROR(INDEX(Отделения[отделение],SMALL(IF(Отделения[Город]=$AQ$1,ROW(Отделения[Город])-1),ROW(AB61)-ROW($A$2)+1)),\"\")","v":""},{"$f":"IFERROR(INDEX(Отделения[отделение],SMALL(IF(Отделения[Город]=$AR$1,ROW(Отделения[Город])-1),ROW(AB61)-ROW($A$2)+1)),\"\")","v":""},{"$f":"IFERROR(INDEX(Отделения[отделение],SMALL(IF(Отделения[Город]=$AS$1,ROW(Отделения[Город])-1),ROW(AB61)-ROW($A$2)+1)),\"\")","v":""},{"$f":"IFERROR(INDEX(Отделения[отделение],SMALL(IF(Отделения[Город]=$AT$1,ROW(Отделения[Город])-1),ROW(AB61)-ROW($A$2)+1)),\"\")","v":""},{"$f":"IFERROR(INDEX(Отделения[отделение],SMALL(IF(Отделения[Город]=$AU$1,ROW(Отделения[Город])-1),ROW(AB61)-ROW($A$2)+1)),\"\")","v":""},{"$f":"IFERROR(INDEX(Отделения[отделение],SMALL(IF(Отделения[Город]=$AV$1,ROW(Отделения[Город])-1),ROW(AB61)-ROW($A$2)+1)),\"\")","v":""},{"$f":"IFERROR(INDEX(Отделения[отделение],SMALL(IF(Отделения[Город]=$AW$1,ROW(Отделения[Город])-1),ROW(AB61)-ROW($A$2)+1)),\"\")","v":""},{"$f":"IFERROR(INDEX(Отделения[отделение],SMALL(IF(Отделения[Город]=$AX$1,ROW(Отделения[Город])-1),ROW(AB61)-ROW($A$2)+1)),\"\")","v":""},{"$f":"IFERROR(INDEX(Отделения[отделение],SMALL(IF(Отделения[Город]=$AY$1,ROW(Отделения[Город])-1),ROW(AB61)-ROW($A$2)+1)),\"\")","v":""},{"$f":"IFERROR(INDEX(Отделения[отделение],SMALL(IF(Отделения[Город]=$AZ$1,ROW(Отделения[Город])-1),ROW(AB61)-ROW($A$2)+1)),\"\")","v":""},{"$f":"IFERROR(INDEX(Отделения[отделение],SMALL(IF(Отделения[Город]=$BA$1,ROW(Отделения[Город])-1),ROW(AB61)-ROW($A$2)+1)),\"\")","v":""},{"$f":"IFERROR(INDEX(Отделения[отделение],SMALL(IF(Отделения[Город]=$BB$1,ROW(Отделения[Город])-1),ROW(AB61)-ROW($A$2)+1)),\"\")","v":""},{"$f":"IFERROR(INDEX(Отделения[отделение],SMALL(IF(Отделения[Город]=$BC$1,ROW(Отделения[Город])-1),ROW(AC61)-ROW($A$2)+1)),\"\")","v":""},{"$f":"IFERROR(INDEX(Отделения[отделение],SMALL(IF(Отделения[Город]=$BD$1,ROW(Отделения[Город])-1),ROW(AD61)-ROW($A$2)+1)),\"\")","v":""},{"$f":"IFERROR(INDEX(Отделения[отделение],SMALL(IF(Отделения[Город]=$BE$1,ROW(Отделения[Город])-1),ROW(AE61)-ROW($A$2)+1)),\"\")","v":""},{"$f":"IFERROR(INDEX(Отделения[отделение],SMALL(IF(Отделения[Город]=$BF$1,ROW(Отделения[Город])-1),ROW(AF61)-ROW($A$2)+1)),\"\")","v":""},{"$f":"IFERROR(INDEX(Отделения[отделение],SMALL(IF(Отделения[Город]=$BG$1,ROW(Отделения[Город])-1),ROW(AG61)-ROW($A$2)+1)),\"\")","v":""},{"$f":"IFERROR(INDEX(Отделения[отделение],SMALL(IF(Отделения[Город]=$BH$1,ROW(Отделения[Город])-1),ROW(AH61)-ROW($A$2)+1)),\"\")","v":""},{"$f":"IFERROR(INDEX(Отделения[отделение],SMALL(IF(Отделения[Город]=$BI$1,ROW(Отделения[Город])-1),ROW(AI61)-ROW($A$2)+1)),\"\")","v":""},{"$f":"IFERROR(INDEX(Отделения[отделение],SMALL(IF(Отделения[Город]=$BJ$1,ROW(Отделения[Город])-1),ROW(AJ61)-ROW($A$2)+1)),\"\")","v":""},{"$f":"IFERROR(INDEX(Отделения[отделение],SMALL(IF(Отделения[Город]=$BK$1,ROW(Отделения[Город])-1),ROW(AK61)-ROW($A$2)+1)),\"\")","v":""},{"$f":"IFERROR(INDEX(Отделения[отделение],SMALL(IF(Отделения[Город]=$BL$1,ROW(Отделения[Город])-1),ROW(AL61)-ROW($A$2)+1)),\"\")","v":""},{"$f":"IFERROR(INDEX(Отделения[отделение],SMALL(IF(Отделения[Город]=$BM$1,ROW(Отделения[Город])-1),ROW(AM61)-ROW($A$2)+1)),\"\")","v":""},{"$f":"IFERROR(INDEX(Отделения[отделение],SMALL(IF(Отделения[Город]=$BN$1,ROW(Отделения[Город])-1),ROW(AN61)-ROW($A$2)+1)),\"\")","v":""},{"$f":"IFERROR(INDEX(Отделения[отделение],SMALL(IF(Отделения[Город]=$BO$1,ROW(Отделения[Город])-1),ROW(AO61)-ROW($A$2)+1)),\"\")","v":""},{"$f":"IFERROR(INDEX(Отделения[отделение],SMALL(IF(Отделения[Город]=$BP$1,ROW(Отделения[Город])-1),ROW(AP61)-ROW($A$2)+1)),\"\")","v":""},{"$f":"IFERROR(INDEX(Отделения[отделение],SMALL(IF(Отделения[Город]=$BQ$1,ROW(Отделения[Город])-1),ROW(AQ61)-ROW($A$2)+1)),\"\")","v":""},{"$f":"IFERROR(INDEX(Отделения[отделение],SMALL(IF(Отделения[Город]=$BR$1,ROW(Отделения[Город])-1),ROW(AR61)-ROW($A$2)+1)),\"\")","v":""},{"$f":"IFERROR(INDEX(Отделения[отделение],SMALL(IF(Отделения[Город]=$BS$1,ROW(Отделения[Город])-1),ROW(AS61)-ROW($A$2)+1)),\"\")","v":""},{"$f":"IFERROR(INDEX(Отделения[отделение],SMALL(IF(Отделения[Город]=$BT$1,ROW(Отделения[Город])-1),ROW(AT61)-ROW($A$2)+1)),\"\")","v":""},{"$f":"IFERROR(INDEX(Отделения[отделение],SMALL(IF(Отделения[Город]=$BU$1,ROW(Отделения[Город])-1),ROW(AU61)-ROW($A$2)+1)),\"\")","v":""},{"$f":"IFERROR(INDEX(Отделения[отделение],SMALL(IF(Отделения[Город]=$BV$1,ROW(Отделения[Город])-1),ROW(AV61)-ROW($A$2)+1)),\"\")","v":""},{"$f":"IFERROR(INDEX(Отделения[отделение],SMALL(IF(Отделения[Город]=$BW$1,ROW(Отделения[Город])-1),ROW(AV61)-ROW($A$2)+1)),\"\")","v":""},{"$f":"IFERROR(INDEX(Отделения[отделение],SMALL(IF(Отделения[Город]=$BX$1,ROW(Отделения[Город])-1),ROW(AV61)-ROW($A$2)+1)),\"\")","v":""},{"$f":"IFERROR(INDEX(Отделения[отделение],SMALL(IF(Отделения[Город]=$BY$1,ROW(Отделения[Город])-1),ROW(AV61)-ROW($A$2)+1)),\"\")","v":""},{"$f":"IFERROR(INDEX(Отделения[отделение],SMALL(IF(Отделения[Город]=$BZ$1,ROW(Отделения[Город])-1),ROW(AV61)-ROW($A$2)+1)),\"\")","v":""},{"$f":"IFERROR(INDEX(Отделения[отделение],SMALL(IF(Отделения[Город]=$CA$1,ROW(Отделения[Город])-1),ROW(AV61)-ROW($A$2)+1)),\"\")","v":""},{"$f":"IFERROR(INDEX(Отделения[отделение],SMALL(IF(Отделения[Город]=$CB$1,ROW(Отделения[Город])-1),ROW(AV61)-ROW($A$2)+1)),\"\")","v":""},{"$f":"IFERROR(INDEX(Отделения[отделение],SMALL(IF(Отделения[Город]=$CC$1,ROW(Отделения[Город])-1),ROW(AV61)-ROW($A$2)+1)),\"\")","v":""},{"$f":"IFERROR(INDEX(Отделения[отделение],SMALL(IF(Отделения[Город]=$CD$1,ROW(Отделения[Город])-1),ROW(AV61)-ROW($A$2)+1)),\"\")","v":""},{"$f":"IFERROR(INDEX(Отделения[отделение],SMALL(IF(Отделения[Город]=$CE$1,ROW(Отделения[Город])-1),ROW(AV61)-ROW($A$2)+1)),\"\")","v":""},{"$f":"IFERROR(INDEX(Отделения[отделение],SMALL(IF(Отделения[Город]=$CF$1,ROW(Отделения[Город])-1),ROW(AV61)-ROW($A$2)+1)),\"\")","v":""},{"$f":"IFERROR(INDEX(Отделения[отделение],SMALL(IF(Отделения[Город]=$CG$1,ROW(Отделения[Город])-1),ROW(AV61)-ROW($A$2)+1)),\"\")","v":""},{"$f":"IFERROR(INDEX(Отделения[отделение],SMALL(IF(Отделения[Город]=$CH$1,ROW(Отделения[Город])-1),ROW(AW61)-ROW($A$2)+1)),\"\")","v":""},{"$f":"IFERROR(INDEX(Отделения[отделение],SMALL(IF(Отделения[Город]=$CI$1,ROW(Отделения[Город])-1),ROW(AX61)-ROW($A$2)+1)),\"\")","v":""},{"$f":"IFERROR(INDEX(Отделения[отделение],SMALL(IF(Отделения[Город]=$CJ$1,ROW(Отделения[Город])-1),ROW(AY61)-ROW($A$2)+1)),\"\")","v":""},{"$f":"IFERROR(INDEX(Отделения[отделение],SMALL(IF(Отделения[Город]=$CK$1,ROW(Отделения[Город])-1),ROW(AZ61)-ROW($A$2)+1)),\"\")","v":""},{"$f":"IFERROR(INDEX(Отделения[отделение],SMALL(IF(Отделения[Город]=$CL$1,ROW(Отделения[Город])-1),ROW(BA61)-ROW($A$2)+1)),\"\")","v":""},{"$f":"IFERROR(INDEX(Отделения[отделение],SMALL(IF(Отделения[Город]=$CM$1,ROW(Отделения[Город])-1),ROW(BB61)-ROW($A$2)+1)),\"\")","v":""},{"$f":"IFERROR(INDEX(Отделения[отделение],SMALL(IF(Отделения[Город]=$CN$1,ROW(Отделения[Город])-1),ROW(BC61)-ROW($A$2)+1)),\"\")","v":""},{"$f":"IFERROR(INDEX(Отделения[отделение],SMALL(IF(Отделения[Город]=$CO$1,ROW(Отделения[Город])-1),ROW(BD61)-ROW($A$2)+1)),\"\")","v":""},{"$f":"IFERROR(INDEX(Отделения[отделение],SMALL(IF(Отделения[Город]=$CP$1,ROW(Отделения[Город])-1),ROW(BE61)-ROW($A$2)+1)),\"\")","v":""},{"$f":"IFERROR(INDEX(Отделения[отделение],SMALL(IF(Отделения[Город]=$CQ$1,ROW(Отделения[Город])-1),ROW(BF61)-ROW($A$2)+1)),\"\")","v":""},{"$f":"IFERROR(INDEX(Отделения[отделение],SMALL(IF(Отделения[Город]=$CR$1,ROW(Отделения[Город])-1),ROW(BG61)-ROW($A$2)+1)),\"\")","v":""},{"$f":"IFERROR(INDEX(Отделения[отделение],SMALL(IF(Отделения[Город]=$CS$1,ROW(Отделения[Город])-1),ROW(BH61)-ROW($A$2)+1)),\"\")","v":""},{"$f":"IFERROR(INDEX(Отделения[отделение],SMALL(IF(Отделения[Город]=$CT$1,ROW(Отделения[Город])-1),ROW(BI61)-ROW($A$2)+1)),\"\")","v":""},{"$f":"IFERROR(INDEX(Отделения[отделение],SMALL(IF(Отделения[Город]=$CU$1,ROW(Отделения[Город])-1),ROW(BJ61)-ROW($A$2)+1)),\"\")","v":""},{"$f":"IFERROR(INDEX(Отделения[отделение],SMALL(IF(Отделения[Город]=$CV$1,ROW(Отделения[Город])-1),ROW(BK61)-ROW($A$2)+1)),\"\")","v":""},{"$f":"IFERROR(INDEX(Отделения[отделение],SMALL(IF(Отделения[Город]=$CW$1,ROW(Отделения[Город])-1),ROW(BL61)-ROW($A$2)+1)),\"\")","v":""},{"$f":"IFERROR(INDEX(Отделения[отделение],SMALL(IF(Отделения[Город]=$CX$1,ROW(Отделения[Город])-1),ROW(BM61)-ROW($A$2)+1)),\"\")","v":""},{"$f":"IFERROR(INDEX(Отделения[отделение],SMALL(IF(Отделения[Город]=$CY$1,ROW(Отделения[Город])-1),ROW(BM61)-ROW($A$2)+1)),\"\")","v":""},{"$f":"IFERROR(INDEX(Отделения[отделение],SMALL(IF(Отделения[Город]=$CZ$1,ROW(Отделения[Город])-1),ROW(BM61)-ROW($A$2)+1)),\"\")","v":""},{"$f":"IFERROR(INDEX(Отделения[отделение],SMALL(IF(Отделения[Город]=$DA$1,ROW(Отделения[Город])-1),ROW(BM61)-ROW($A$2)+1)),\"\")","v":""},{"$f":"IFERROR(INDEX(Отделения[отделение],SMALL(IF(Отделения[Город]=$DB$1,ROW(Отделения[Город])-1),ROW(BM61)-ROW($A$2)+1)),\"\")","v":""}]
["Москва","ДО \"ЧЕРТАНОВСКИЙ\" , 117639, г. Москва, ул. Чертановская, д.1В, корп. 1","0633","MOZT",null,null,{"$f":"IFERROR(INDEX(Отделения[отделение],SMALL(IF(Отделения[Город]=$G$1,ROW(Отделения[Город])-1),ROW(A62)-ROW($A$2)+1)),\"\")","v":""},{"$f":"IFERROR(INDEX(Отделения[отделение],SMALL(IF(Отделения[Город]=$H$1,ROW(Отделения[Город])-1),ROW(A62)-ROW($A$2)+1)),\"\")","v":""},{"$f":"IFERROR(INDEX(Отделения[отделение],SMALL(IF(Отделения[Город]=$I$1,ROW(Отделения[Город])-1),ROW(A62)-ROW($A$2)+1)),\"\")","v":""},{"$f":"IFERROR(INDEX(Отделения[отделение],SMALL(IF(Отделения[Город]=$J$1,ROW(Отделения[Город])-1),ROW(A62)-ROW($A$2)+1)),\"\")","v":""},{"$f":"IFERROR(INDEX(Отделения[отделение],SMALL(IF(Отделения[Город]=$K$1,ROW(Отделения[Город])-1),ROW(A62)-ROW($A$2)+1)),\"\")","v":""},{"$f":"IFERROR(INDEX(Отделения[отделение],SMALL(IF(Отделения[Город]=$L$1,ROW(Отделения[Город])-1),ROW(A62)-ROW($A$2)+1)),\"\")","v":""},{"$f":"IFERROR(INDEX(Отделения[отделение],SMALL(IF(Отделения[Город]=$M$1,ROW(Отделения[Город])-1),ROW(B62)-ROW($A$2)+1)),\"\")","v":""},{"$f":"IFERROR(INDEX(Отделения[отделение],SMALL(IF(Отделения[Город]=$N$1,ROW(Отделения[Город])-1),ROW(#REF!)-ROW($A$2)+1)),\"\")","v":""},{"$f":"IFERROR(INDEX(Отделения[отделение],SMALL(IF(Отделения[Город]=$O$1,ROW(Отделения[Город])-1),ROW(C62)-ROW($A$2)+1)),\"\")","v":""},{"$f":"IFERROR(INDEX(Отделения[отделение],SMALL(IF(Отделения[Город]=$P$1,ROW(Отделения[Город])-1),ROW(D62)-ROW($A$2)+1)),\"\")","v":""},{"$f":"IFERROR(INDEX(Отделения[отделение],SMALL(IF(Отделения[Город]=$Q$1,ROW(Отделения[Город])-1),ROW(F62)-ROW($A$2)+1)),\"\")","v":""},{"$f":"IFERROR(INDEX(Отделения[отделение],SMALL(IF(Отделения[Город]=$R$1,ROW(Отделения[Город])-1),ROW(#REF!)-ROW($A$2)+1)),\"\")","v":""},{"$f":"IFERROR(INDEX(Отделения[отделение],SMALL(IF(Отделения[Город]=$S$1,ROW(Отделения[Город])-1),ROW(G62)-ROW($A$2)+1)),\"\")","v":""},{"$f":"IFERROR(INDEX(Отделения[отделение],SMALL(IF(Отделения[Город]=$T$1,ROW(Отделения[Город])-1),ROW(H62)-ROW($A$2)+1)),\"\")","v":""},{"$f":"IFERROR(INDEX(Отделения[отделение],SMALL(IF(Отделения[Город]=$U$1,ROW(Отделения[Город])-1),ROW(I62)-ROW($A$2)+1)),\"\")","v":""},{"$f":"IFERROR(INDEX(Отделения[отделение],SMALL(IF(Отделения[Город]=$V$1,ROW(Отделения[Город])-1),ROW(J62)-ROW($A$2)+1)),\"\")","v":""},{"$f":"IFERROR(INDEX(Отделения[отделение],SMALL(IF(Отделения[Город]=$W$1,ROW(Отделения[Город])-1),ROW(K62)-ROW($A$2)+1)),\"\")","v":""},{"$f":"IFERROR(INDEX(Отделения[отделение],SMALL(IF(Отделения[Город]=$X$1,ROW(Отделения[Город])-1),ROW(L62)-ROW($A$2)+1)),\"\")","v":""},{"$f":"IFERROR(INDEX(Отделения[отделение],SMALL(IF(Отделения[Город]=$Y$1,ROW(Отделения[Город])-1),ROW(M62)-ROW($A$2)+1)),\"\")","v":""},{"$f":"IFERROR(INDEX(Отделения[отделение],SMALL(IF(Отделения[Город]=$Z$1,ROW(Отделения[Город])-1),ROW(N62)-ROW($A$2)+1)),\"\")","v":""},{"$f":"IFERROR(INDEX(Отделения[отделение],SMALL(IF(Отделения[Город]=$AA$1,ROW(Отделения[Город])-1),ROW(O62)-ROW($A$2)+1)),\"\")","v":""},{"$f":"IFERROR(INDEX(Отделения[отделение],SMALL(IF(Отделения[Город]=$AB$1,ROW(Отделения[Город])-1),ROW(P62)-ROW($A$2)+1)),\"\")","v":""},{"$f":"IFERROR(INDEX(Отделения[отделение],SMALL(IF(Отделения[Город]=$AC$1,ROW(Отделения[Город])-1),ROW(Q62)-ROW($A$2)+1)),\"\")","v":""},{"$f":"IFERROR(INDEX(Отделения[отделение],SMALL(IF(Отделения[Город]=$AD$1,ROW(Отделения[Город])-1),ROW(R62)-ROW($A$2)+1)),\"\")","v":""},{"$f":"IFERROR(INDEX(Отделения[отделение],SMALL(IF(Отделения[Город]=$AE$1,ROW(Отделения[Город])-1),ROW(S62)-ROW($A$2)+1)),\"\")","v":""},{"$f":"IFERROR(INDEX(Отделения[отделение],SMALL(IF(Отделения[Город]=$AF$1,ROW(Отделения[Город])-1),ROW(T62)-ROW($A$2)+1)),\"\")","v":""},{"$f":"IFERROR(INDEX(Отделения[отделение],SMALL(IF(Отделения[Город]=$AG$1,ROW(Отделения[Город])-1),ROW(U62)-ROW($A$2)+1)),\"\")","v":""},{"$f":"IFERROR(INDEX(Отделения[отделение],SMALL(IF(Отделения[Город]=$AH$1,ROW(Отделения[Город])-1),ROW(V62)-ROW($A$2)+1)),\"\")","v":""},{"$f":"IFERROR(INDEX(Отделения[отделение],SMALL(IF(Отделения[Город]=$AI$1,ROW(Отделения[Город])-1),ROW(AB62)-ROW($A$2)+1)),\"\")","v":""},{"$f":"IFERROR(INDEX(Отделения[отделение],SMALL(IF(Отделения[Город]=$AJ$1,ROW(Отделения[Город])-1),ROW(AB62)-ROW($A$2)+1)),\"\")","v":""},{"$f":"IFERROR(INDEX(Отделения[отделение],SMALL(IF(Отделения[Город]=$AK$1,ROW(Отделения[Город])-1),ROW(AB62)-ROW($A$2)+1)),\"\")","v":""},{"$f":"IFERROR(INDEX(Отделения[отделение],SMALL(IF(Отделения[Город]=$AL$1,ROW(Отделения[Город])-1),ROW(AB62)-ROW($A$2)+1)),\"\")","v":""},{"$f":"IFERROR(INDEX(Отделения[отделение],SMALL(IF(Отделения[Город]=$AM$1,ROW(Отделения[Город])-1),ROW(AB62)-ROW($A$2)+1)),\"\")","v":""},{"$f":"IFERROR(INDEX(Отделения[отделение],SMALL(IF(Отделения[Город]=$AN$1,ROW(Отделения[Город])-1),ROW(AB62)-ROW($A$2)+1)),\"\")","v":""},{"$f":"IFERROR(INDEX(Отделения[отделение],SMALL(IF(Отделения[Город]=$AO$1,ROW(Отделения[Город])-1),ROW(AB62)-ROW($A$2)+1)),\"\")","v":""},{"$f":"IFERROR(INDEX(Отделения[отделение],SMALL(IF(Отделения[Город]=$AP$1,ROW(Отделения[Город])-1),ROW(AB62)-ROW($A$2)+1)),\"\")","v":""},{"$f":"IFERROR(INDEX(Отделения[отделение],SMALL(IF(Отделения[Город]=$AQ$1,ROW(Отделения[Город])-1),ROW(AB62)-ROW($A$2)+1)),\"\")","v":""},{"$f":"IFERROR(INDEX(Отделения[отделение],SMALL(IF(Отделения[Город]=$AR$1,ROW(Отделения[Город])-1),ROW(AB62)-ROW($A$2)+1)),\"\")","v":""},{"$f":"IFERROR(INDEX(Отделения[отделение],SMALL(IF(Отделения[Город]=$AS$1,ROW(Отделения[Город])-1),ROW(AB62)-ROW($A$2)+1)),\"\")","v":""},{"$f":"IFERROR(INDEX(Отделения[отделение],SMALL(IF(Отделения[Город]=$AT$1,ROW(Отделения[Город])-1),ROW(AB62)-ROW($A$2)+1)),\"\")","v":""},{"$f":"IFERROR(INDEX(Отделения[отделение],SMALL(IF(Отделения[Город]=$AU$1,ROW(Отделения[Город])-1),ROW(AB62)-ROW($A$2)+1)),\"\")","v":""},{"$f":"IFERROR(INDEX(Отделения[отделение],SMALL(IF(Отделения[Город]=$AV$1,ROW(Отделения[Город])-1),ROW(AB62)-ROW($A$2)+1)),\"\")","v":""},{"$f":"IFERROR(INDEX(Отделения[отделение],SMALL(IF(Отделения[Город]=$AW$1,ROW(Отделения[Город])-1),ROW(AB62)-ROW($A$2)+1)),\"\")","v":""},{"$f":"IFERROR(INDEX(Отделения[отделение],SMALL(IF(Отделения[Город]=$AX$1,ROW(Отделения[Город])-1),ROW(AB62)-ROW($A$2)+1)),\"\")","v":""},{"$f":"IFERROR(INDEX(Отделения[отделение],SMALL(IF(Отделения[Город]=$AY$1,ROW(Отделения[Город])-1),ROW(AB62)-ROW($A$2)+1)),\"\")","v":""},{"$f":"IFERROR(INDEX(Отделения[отделение],SMALL(IF(Отделения[Город]=$AZ$1,ROW(Отделения[Город])-1),ROW(AB62)-ROW($A$2)+1)),\"\")","v":""},{"$f":"IFERROR(INDEX(Отделения[отделение],SMALL(IF(Отделения[Город]=$BA$1,ROW(Отделения[Город])-1),ROW(AB62)-ROW($A$2)+1)),\"\")","v":""},{"$f":"IFERROR(INDEX(Отделения[отделение],SMALL(IF(Отделения[Город]=$BB$1,ROW(Отделения[Город])-1),ROW(AB62)-ROW($A$2)+1)),\"\")","v":""},{"$f":"IFERROR(INDEX(Отделения[отделение],SMALL(IF(Отделения[Город]=$BC$1,ROW(Отделения[Город])-1),ROW(AC62)-ROW($A$2)+1)),\"\")","v":""},{"$f":"IFERROR(INDEX(Отделения[отделение],SMALL(IF(Отделения[Город]=$BD$1,ROW(Отделения[Город])-1),ROW(AD62)-ROW($A$2)+1)),\"\")","v":""},{"$f":"IFERROR(INDEX(Отделения[отделение],SMALL(IF(Отделения[Город]=$BE$1,ROW(Отделения[Город])-1),ROW(AE62)-ROW($A$2)+1)),\"\")","v":""},{"$f":"IFERROR(INDEX(Отделения[отделение],SMALL(IF(Отделения[Город]=$BF$1,ROW(Отделения[Город])-1),ROW(AF62)-ROW($A$2)+1)),\"\")","v":""},{"$f":"IFERROR(INDEX(Отделения[отделение],SMALL(IF(Отделения[Город]=$BG$1,ROW(Отделения[Город])-1),ROW(AG62)-ROW($A$2)+1)),\"\")","v":""},{"$f":"IFERROR(INDEX(Отделения[отделение],SMALL(IF(Отделения[Город]=$BH$1,ROW(Отделения[Город])-1),ROW(AH62)-ROW($A$2)+1)),\"\")","v":""},{"$f":"IFERROR(INDEX(Отделения[отделение],SMALL(IF(Отделения[Город]=$BI$1,ROW(Отделения[Город])-1),ROW(AI62)-ROW($A$2)+1)),\"\")","v":""},{"$f":"IFERROR(INDEX(Отделения[отделение],SMALL(IF(Отделения[Город]=$BJ$1,ROW(Отделения[Город])-1),ROW(AJ62)-ROW($A$2)+1)),\"\")","v":""},{"$f":"IFERROR(INDEX(Отделения[отделение],SMALL(IF(Отделения[Город]=$BK$1,ROW(Отделения[Город])-1),ROW(AK62)-ROW($A$2)+1)),\"\")","v":""},{"$f":"IFERROR(INDEX(Отделения[отделение],SMALL(IF(Отделения[Город]=$BL$1,ROW(Отделения[Город])-1),ROW(AL62)-ROW($A$2)+1)),\"\")","v":""},{"$f":"IFERROR(INDEX(Отделения[отделение],SMALL(IF(Отделения[Город]=$BM$1,ROW(Отделения[Город])-1),ROW(AM62)-ROW($A$2)+1)),\"\")","v":""},{"$f":"IFERROR(INDEX(Отделения[отделение],SMALL(IF(Отделения[Город]=$BN$1,ROW(Отделения[Город])-1),ROW(AN62)-ROW($A$2)+1)),\"\")","v":""},{"$f":"IFERROR(INDEX(Отделения[отделение],SMALL(IF(Отделения[Город]=$BO$1,ROW(Отделения[Город])-1),ROW(AO62)-ROW($A$2)+1)),\"\")","v":""},{"$f":"IFERROR(INDEX(Отделения[отделение],SMALL(IF(Отделения[Город]=$BP$1,ROW(Отделения[Город])-1),ROW(AP62)-ROW($A$2)+1)),\"\")","v":""},{"$f":"IFERROR(INDEX(Отделения[отделение],SMALL(IF(Отделения[Город]=$BQ$1,ROW(Отделения[Город])-1),ROW(AQ62)-ROW($A$2)+1)),\"\")","v":""},{"$f":"IFERROR(INDEX(Отделения[отделение],SMALL(IF(Отделения[Город]=$BR$1,ROW(Отделения[Город])-1),ROW(AR62)-ROW($A$2)+1)),\"\")","v":""},{"$f":"IFERROR(INDEX(Отделения[отделение],SMALL(IF(Отделения[Город]=$BS$1,ROW(Отделения[Город])-1),ROW(AS62)-ROW($A$2)+1)),\"\")","v":""},{"$f":"IFERROR(INDEX(Отделения[отделение],SMALL(IF(Отделения[Город]=$BT$1,ROW(Отделения[Город])-1),ROW(AT62)-ROW($A$2)+1)),\"\")","v":""},{"$f":"IFERROR(INDEX(Отделения[отделение],SMALL(IF(Отделения[Город]=$BU$1,ROW(Отделения[Город])-1),ROW(AU62)-ROW($A$2)+1)),\"\")","v":""},{"$f":"IFERROR(INDEX(Отделения[отделение],SMALL(IF(Отделения[Город]=$BV$1,ROW(Отделения[Город])-1),ROW(AV62)-ROW($A$2)+1)),\"\")","v":""},{"$f":"IFERROR(INDEX(Отделения[отделение],SMALL(IF(Отделения[Город]=$BW$1,ROW(Отделения[Город])-1),ROW(AV62)-ROW($A$2)+1)),\"\")","v":""},{"$f":"IFERROR(INDEX(Отделения[отделение],SMALL(IF(Отделения[Город]=$BX$1,ROW(Отделения[Город])-1),ROW(AV62)-ROW($A$2)+1)),\"\")","v":""},{"$f":"IFERROR(INDEX(Отделения[отделение],SMALL(IF(Отделения[Город]=$BY$1,ROW(Отделения[Город])-1),ROW(AV62)-ROW($A$2)+1)),\"\")","v":""},{"$f":"IFERROR(INDEX(Отделения[отделение],SMALL(IF(Отделения[Город]=$BZ$1,ROW(Отделения[Город])-1),ROW(AV62)-ROW($A$2)+1)),\"\")","v":""},{"$f":"IFERROR(INDEX(Отделения[отделение],SMALL(IF(Отделения[Город]=$CA$1,ROW(Отделения[Город])-1),ROW(AV62)-ROW($A$2)+1)),\"\")","v":""},{"$f":"IFERROR(INDEX(Отделения[отделение],SMALL(IF(Отделения[Город]=$CB$1,ROW(Отделения[Город])-1),ROW(AV62)-ROW($A$2)+1)),\"\")","v":""},{"$f":"IFERROR(INDEX(Отделения[отделение],SMALL(IF(Отделения[Город]=$CC$1,ROW(Отделения[Город])-1),ROW(AV62)-ROW($A$2)+1)),\"\")","v":""},{"$f":"IFERROR(INDEX(Отделения[отделение],SMALL(IF(Отделения[Город]=$CD$1,ROW(Отделения[Город])-1),ROW(AV62)-ROW($A$2)+1)),\"\")","v":""},{"$f":"IFERROR(INDEX(Отделения[отделение],SMALL(IF(Отделения[Город]=$CE$1,ROW(Отделения[Город])-1),ROW(AV62)-ROW($A$2)+1)),\"\")","v":""},{"$f":"IFERROR(INDEX(Отделения[отделение],SMALL(IF(Отделения[Город]=$CF$1,ROW(Отделения[Город])-1),ROW(AV62)-ROW($A$2)+1)),\"\")","v":""},{"$f":"IFERROR(INDEX(Отделения[отделение],SMALL(IF(Отделения[Город]=$CG$1,ROW(Отделения[Город])-1),ROW(AV62)-ROW($A$2)+1)),\"\")","v":""},{"$f":"IFERROR(INDEX(Отделения[отделение],SMALL(IF(Отделения[Город]=$CH$1,ROW(Отделения[Город])-1),ROW(AW62)-ROW($A$2)+1)),\"\")","v":""},{"$f":"IFERROR(INDEX(Отделения[отделение],SMALL(IF(Отделения[Город]=$CI$1,ROW(Отделения[Город])-1),ROW(AX62)-ROW($A$2)+1)),\"\")","v":""},{"$f":"IFERROR(INDEX(Отделения[отделение],SMALL(IF(Отделения[Город]=$CJ$1,ROW(Отделения[Город])-1),ROW(AY62)-ROW($A$2)+1)),\"\")","v":""},{"$f":"IFERROR(INDEX(Отделения[отделение],SMALL(IF(Отделения[Город]=$CK$1,ROW(Отделения[Город])-1),ROW(AZ62)-ROW($A$2)+1)),\"\")","v":""},{"$f":"IFERROR(INDEX(Отделения[отделение],SMALL(IF(Отделения[Город]=$CL$1,ROW(Отделения[Город])-1),ROW(BA62)-ROW($A$2)+1)),\"\")","v":""},{"$f":"IFERROR(INDEX(Отделения[отделение],SMALL(IF(Отделения[Город]=$CM$1,ROW(Отделения[Город])-1),ROW(BB62)-ROW($A$2)+1)),\"\")","v":""},{"$f":"IFERROR(INDEX(Отделения[отделение],SMALL(IF(Отделения[Город]=$CN$1,ROW(Отделения[Город])-1),ROW(BC62)-ROW($A$2)+1)),\"\")","v":""},{"$f":"IFERROR(INDEX(Отделения[отделение],SMALL(IF(Отделения[Город]=$CO$1,ROW(Отделения[Город])-1),ROW(BD62)-ROW($A$2)+1)),\"\")","v":""},{"$f":"IFERROR(INDEX(Отделения[отделение],SMALL(IF(Отделения[Город]=$CP$1,ROW(Отделения[Город])-1),ROW(BE62)-ROW($A$2)+1)),\"\")","v":""},{"$f":"IFERROR(INDEX(Отделения[отделение],SMALL(IF(Отделения[Город]=$CQ$1,ROW(Отделения[Город])-1),ROW(BF62)-ROW($A$2)+1)),\"\")","v":""},{"$f":"IFERROR(INDEX(Отделения[отделение],SMALL(IF(Отделения[Город]=$CR$1,ROW(Отделения[Город])-1),ROW(BG62)-ROW($A$2)+1)),\"\")","v":""},{"$f":"IFERROR(INDEX(Отделения[отделение],SMALL(IF(Отделения[Город]=$CS$1,ROW(Отделения[Город])-1),ROW(BH62)-ROW($A$2)+1)),\"\")","v":""},{"$f":"IFERROR(INDEX(Отделения[отделение],SMALL(IF(Отделения[Город]=$CT$1,ROW(Отделения[Город])-1),ROW(BI62)-ROW($A$2)+1)),\"\")","v":""},{"$f":"IFERROR(INDEX(Отделения[отделение],SMALL(IF(Отделения[Город]=$CU$1,ROW(Отделения[Город])-1),ROW(BJ62)-ROW($A$2)+1)),\"\")","v":""},{"$f":"IFERROR(INDEX(Отделения[отделение],SMALL(IF(Отделения[Город]=$CV$1,ROW(Отделения[Город])-1),ROW(BK62)-ROW($A$2)+1)),\"\")","v":""},{"$f":"IFERROR(INDEX(Отделения[отделение],SMALL(IF(Отделения[Город]=$CW$1,ROW(Отделения[Город])-1),ROW(BL62)-ROW($A$2)+1)),\"\")","v":""},{"$f":"IFERROR(INDEX(Отделения[отделение],SMALL(IF(Отделения[Город]=$CX$1,ROW(Отделения[Город])-1),ROW(BM62)-ROW($A$2)+1)),\"\")","v":""},{"$f":"IFERROR(INDEX(Отделения[отделение],SMALL(IF(Отделения[Город]=$CY$1,ROW(Отделения[Город])-1),ROW(BM62)-ROW($A$2)+1)),\"\")","v":""},{"$f":"IFERROR(INDEX(Отделения[отделение],SMALL(IF(Отделения[Город]=$CZ$1,ROW(Отделения[Город])-1),ROW(BM62)-ROW($A$2)+1)),\"\")","v":""},{"$f":"IFERROR(INDEX(Отделения[отделение],SMALL(IF(Отделения[Город]=$DA$1,ROW(Отделения[Город])-1),ROW(BM62)-ROW($A$2)+1)),\"\")","v":""},{"$f":"IFERROR(INDEX(Отделения[отделение],SMALL(IF(Отделения[Город]=$DB$1,ROW(Отделения[Город])-1),ROW(BM62)-ROW($A$2)+1)),\"\")","v":""}]
["Москва","ДО \"СМОЛЕНСКАЯ\" , 119121, г. Москва, пл. Смоленская-Сенная, д.27, стр.1","0635","MOYH",null,null,{"$f":"IFERROR(INDEX(Отделения[отделение],SMALL(IF(Отделения[Город]=$G$1,ROW(Отделения[Город])-1),ROW(A63)-ROW($A$2)+1)),\"\")","v":""},{"$f":"IFERROR(INDEX(Отделения[отделение],SMALL(IF(Отделения[Город]=$H$1,ROW(Отделения[Город])-1),ROW(A63)-ROW($A$2)+1)),\"\")","v":""},{"$f":"IFERROR(INDEX(Отделения[отделение],SMALL(IF(Отделения[Город]=$I$1,ROW(Отделения[Город])-1),ROW(A63)-ROW($A$2)+1)),\"\")","v":""},{"$f":"IFERROR(INDEX(Отделения[отделение],SMALL(IF(Отделения[Город]=$J$1,ROW(Отделения[Город])-1),ROW(A63)-ROW($A$2)+1)),\"\")","v":""},{"$f":"IFERROR(INDEX(Отделения[отделение],SMALL(IF(Отделения[Город]=$K$1,ROW(Отделения[Город])-1),ROW(A63)-ROW($A$2)+1)),\"\")","v":""},{"$f":"IFERROR(INDEX(Отделения[отделение],SMALL(IF(Отделения[Город]=$L$1,ROW(Отделения[Город])-1),ROW(A63)-ROW($A$2)+1)),\"\")","v":""},{"$f":"IFERROR(INDEX(Отделения[отделение],SMALL(IF(Отделения[Город]=$M$1,ROW(Отделения[Город])-1),ROW(B63)-ROW($A$2)+1)),\"\")","v":""},{"$f":"IFERROR(INDEX(Отделения[отделение],SMALL(IF(Отделения[Город]=$N$1,ROW(Отделения[Город])-1),ROW(#REF!)-ROW($A$2)+1)),\"\")","v":""},{"$f":"IFERROR(INDEX(Отделения[отделение],SMALL(IF(Отделения[Город]=$O$1,ROW(Отделения[Город])-1),ROW(C63)-ROW($A$2)+1)),\"\")","v":""},{"$f":"IFERROR(INDEX(Отделения[отделение],SMALL(IF(Отделения[Город]=$P$1,ROW(Отделения[Город])-1),ROW(D63)-ROW($A$2)+1)),\"\")","v":""},{"$f":"IFERROR(INDEX(Отделения[отделение],SMALL(IF(Отделения[Город]=$Q$1,ROW(Отделения[Город])-1),ROW(F63)-ROW($A$2)+1)),\"\")","v":""},{"$f":"IFERROR(INDEX(Отделения[отделение],SMALL(IF(Отделения[Город]=$R$1,ROW(Отделения[Город])-1),ROW(#REF!)-ROW($A$2)+1)),\"\")","v":""},{"$f":"IFERROR(INDEX(Отделения[отделение],SMALL(IF(Отделения[Город]=$S$1,ROW(Отделения[Город])-1),ROW(G63)-ROW($A$2)+1)),\"\")","v":""},{"$f":"IFERROR(INDEX(Отделения[отделение],SMALL(IF(Отделения[Город]=$T$1,ROW(Отделения[Город])-1),ROW(H63)-ROW($A$2)+1)),\"\")","v":""},{"$f":"IFERROR(INDEX(Отделения[отделение],SMALL(IF(Отделения[Город]=$U$1,ROW(Отделения[Город])-1),ROW(I63)-ROW($A$2)+1)),\"\")","v":""},{"$f":"IFERROR(INDEX(Отделения[отделение],SMALL(IF(Отделения[Город]=$V$1,ROW(Отделения[Город])-1),ROW(J63)-ROW($A$2)+1)),\"\")","v":""},{"$f":"IFERROR(INDEX(Отделения[отделение],SMALL(IF(Отделения[Город]=$W$1,ROW(Отделения[Город])-1),ROW(K63)-ROW($A$2)+1)),\"\")","v":""},{"$f":"IFERROR(INDEX(Отделения[отделение],SMALL(IF(Отделения[Город]=$X$1,ROW(Отделения[Город])-1),ROW(L63)-ROW($A$2)+1)),\"\")","v":""},{"$f":"IFERROR(INDEX(Отделения[отделение],SMALL(IF(Отделения[Город]=$Y$1,ROW(Отделения[Город])-1),ROW(M63)-ROW($A$2)+1)),\"\")","v":""},{"$f":"IFERROR(INDEX(Отделения[отделение],SMALL(IF(Отделения[Город]=$Z$1,ROW(Отделения[Город])-1),ROW(N63)-ROW($A$2)+1)),\"\")","v":""},{"$f":"IFERROR(INDEX(Отделения[отделение],SMALL(IF(Отделения[Город]=$AA$1,ROW(Отделения[Город])-1),ROW(O63)-ROW($A$2)+1)),\"\")","v":""},{"$f":"IFERROR(INDEX(Отделения[отделение],SMALL(IF(Отделения[Город]=$AB$1,ROW(Отделения[Город])-1),ROW(P63)-ROW($A$2)+1)),\"\")","v":""},{"$f":"IFERROR(INDEX(Отделения[отделение],SMALL(IF(Отделения[Город]=$AC$1,ROW(Отделения[Город])-1),ROW(Q63)-ROW($A$2)+1)),\"\")","v":""},{"$f":"IFERROR(INDEX(Отделения[отделение],SMALL(IF(Отделения[Город]=$AD$1,ROW(Отделения[Город])-1),ROW(R63)-ROW($A$2)+1)),\"\")","v":""},{"$f":"IFERROR(INDEX(Отделения[отделение],SMALL(IF(Отделения[Город]=$AE$1,ROW(Отделения[Город])-1),ROW(S63)-ROW($A$2)+1)),\"\")","v":""},{"$f":"IFERROR(INDEX(Отделения[отделение],SMALL(IF(Отделения[Город]=$AF$1,ROW(Отделения[Город])-1),ROW(T63)-ROW($A$2)+1)),\"\")","v":""},{"$f":"IFERROR(INDEX(Отделения[отделение],SMALL(IF(Отделения[Город]=$AG$1,ROW(Отделения[Город])-1),ROW(U63)-ROW($A$2)+1)),\"\")","v":""},{"$f":"IFERROR(INDEX(Отделения[отделение],SMALL(IF(Отделения[Город]=$AH$1,ROW(Отделения[Город])-1),ROW(V63)-ROW($A$2)+1)),\"\")","v":""},{"$f":"IFERROR(INDEX(Отделения[отделение],SMALL(IF(Отделения[Город]=$AI$1,ROW(Отделения[Город])-1),ROW(AB63)-ROW($A$2)+1)),\"\")","v":""},{"$f":"IFERROR(INDEX(Отделения[отделение],SMALL(IF(Отделения[Город]=$AJ$1,ROW(Отделения[Город])-1),ROW(AB63)-ROW($A$2)+1)),\"\")","v":""},{"$f":"IFERROR(INDEX(Отделения[отделение],SMALL(IF(Отделения[Город]=$AK$1,ROW(Отделения[Город])-1),ROW(AB63)-ROW($A$2)+1)),\"\")","v":""},{"$f":"IFERROR(INDEX(Отделения[отделение],SMALL(IF(Отделения[Город]=$AL$1,ROW(Отделения[Город])-1),ROW(AB63)-ROW($A$2)+1)),\"\")","v":""},{"$f":"IFERROR(INDEX(Отделения[отделение],SMALL(IF(Отделения[Город]=$AM$1,ROW(Отделения[Город])-1),ROW(AB63)-ROW($A$2)+1)),\"\")","v":""},{"$f":"IFERROR(INDEX(Отделения[отделение],SMALL(IF(Отделения[Город]=$AN$1,ROW(Отделения[Город])-1),ROW(AB63)-ROW($A$2)+1)),\"\")","v":""},{"$f":"IFERROR(INDEX(Отделения[отделение],SMALL(IF(Отделения[Город]=$AO$1,ROW(Отделения[Город])-1),ROW(AB63)-ROW($A$2)+1)),\"\")","v":""},{"$f":"IFERROR(INDEX(Отделения[отделение],SMALL(IF(Отделения[Город]=$AP$1,ROW(Отделения[Город])-1),ROW(AB63)-ROW($A$2)+1)),\"\")","v":""},{"$f":"IFERROR(INDEX(Отделения[отделение],SMALL(IF(Отделения[Город]=$AQ$1,ROW(Отделения[Город])-1),ROW(AB63)-ROW($A$2)+1)),\"\")","v":""},{"$f":"IFERROR(INDEX(Отделения[отделение],SMALL(IF(Отделения[Город]=$AR$1,ROW(Отделения[Город])-1),ROW(AB63)-ROW($A$2)+1)),\"\")","v":""},{"$f":"IFERROR(INDEX(Отделения[отделение],SMALL(IF(Отделения[Город]=$AS$1,ROW(Отделения[Город])-1),ROW(AB63)-ROW($A$2)+1)),\"\")","v":""},{"$f":"IFERROR(INDEX(Отделения[отделение],SMALL(IF(Отделения[Город]=$AT$1,ROW(Отделения[Город])-1),ROW(AB63)-ROW($A$2)+1)),\"\")","v":""},{"$f":"IFERROR(INDEX(Отделения[отделение],SMALL(IF(Отделения[Город]=$AU$1,ROW(Отделения[Город])-1),ROW(AB63)-ROW($A$2)+1)),\"\")","v":""},{"$f":"IFERROR(INDEX(Отделения[отделение],SMALL(IF(Отделения[Город]=$AV$1,ROW(Отделения[Город])-1),ROW(AB63)-ROW($A$2)+1)),\"\")","v":""},{"$f":"IFERROR(INDEX(Отделения[отделение],SMALL(IF(Отделения[Город]=$AW$1,ROW(Отделения[Город])-1),ROW(AB63)-ROW($A$2)+1)),\"\")","v":""},{"$f":"IFERROR(INDEX(Отделения[отделение],SMALL(IF(Отделения[Город]=$AX$1,ROW(Отделения[Город])-1),ROW(AB63)-ROW($A$2)+1)),\"\")","v":""},{"$f":"IFERROR(INDEX(Отделения[отделение],SMALL(IF(Отделения[Город]=$AY$1,ROW(Отделения[Город])-1),ROW(AB63)-ROW($A$2)+1)),\"\")","v":""},{"$f":"IFERROR(INDEX(Отделения[отделение],SMALL(IF(Отделения[Город]=$AZ$1,ROW(Отделения[Город])-1),ROW(AB63)-ROW($A$2)+1)),\"\")","v":""},{"$f":"IFERROR(INDEX(Отделения[отделение],SMALL(IF(Отделения[Город]=$BA$1,ROW(Отделения[Город])-1),ROW(AB63)-ROW($A$2)+1)),\"\")","v":""},{"$f":"IFERROR(INDEX(Отделения[отделение],SMALL(IF(Отделения[Город]=$BB$1,ROW(Отделения[Город])-1),ROW(AB63)-ROW($A$2)+1)),\"\")","v":""},{"$f":"IFERROR(INDEX(Отделения[отделение],SMALL(IF(Отделения[Город]=$BC$1,ROW(Отделения[Город])-1),ROW(AC63)-ROW($A$2)+1)),\"\")","v":""},{"$f":"IFERROR(INDEX(Отделения[отделение],SMALL(IF(Отделения[Город]=$BD$1,ROW(Отделения[Город])-1),ROW(AD63)-ROW($A$2)+1)),\"\")","v":""},{"$f":"IFERROR(INDEX(Отделения[отделение],SMALL(IF(Отделения[Город]=$BE$1,ROW(Отделения[Город])-1),ROW(AE63)-ROW($A$2)+1)),\"\")","v":""},{"$f":"IFERROR(INDEX(Отделения[отделение],SMALL(IF(Отделения[Город]=$BF$1,ROW(Отделения[Город])-1),ROW(AF63)-ROW($A$2)+1)),\"\")","v":""},{"$f":"IFERROR(INDEX(Отделения[отделение],SMALL(IF(Отделения[Город]=$BG$1,ROW(Отделения[Город])-1),ROW(AG63)-ROW($A$2)+1)),\"\")","v":""},{"$f":"IFERROR(INDEX(Отделения[отделение],SMALL(IF(Отделения[Город]=$BH$1,ROW(Отделения[Город])-1),ROW(AH63)-ROW($A$2)+1)),\"\")","v":""},{"$f":"IFERROR(INDEX(Отделения[отделение],SMALL(IF(Отделения[Город]=$BI$1,ROW(Отделения[Город])-1),ROW(AI63)-ROW($A$2)+1)),\"\")","v":""},{"$f":"IFERROR(INDEX(Отделения[отделение],SMALL(IF(Отделения[Город]=$BJ$1,ROW(Отделения[Город])-1),ROW(AJ63)-ROW($A$2)+1)),\"\")","v":""},{"$f":"IFERROR(INDEX(Отделения[отделение],SMALL(IF(Отделения[Город]=$BK$1,ROW(Отделения[Город])-1),ROW(AK63)-ROW($A$2)+1)),\"\")","v":""},{"$f":"IFERROR(INDEX(Отделения[отделение],SMALL(IF(Отделения[Город]=$BL$1,ROW(Отделения[Город])-1),ROW(AL63)-ROW($A$2)+1)),\"\")","v":""},{"$f":"IFERROR(INDEX(Отделения[отделение],SMALL(IF(Отделения[Город]=$BM$1,ROW(Отделения[Город])-1),ROW(AM63)-ROW($A$2)+1)),\"\")","v":""},{"$f":"IFERROR(INDEX(Отделения[отделение],SMALL(IF(Отделения[Город]=$BN$1,ROW(Отделения[Город])-1),ROW(AN63)-ROW($A$2)+1)),\"\")","v":""},{"$f":"IFERROR(INDEX(Отделения[отделение],SMALL(IF(Отделения[Город]=$BO$1,ROW(Отделения[Город])-1),ROW(AO63)-ROW($A$2)+1)),\"\")","v":""},{"$f":"IFERROR(INDEX(Отделения[отделение],SMALL(IF(Отделения[Город]=$BP$1,ROW(Отделения[Город])-1),ROW(AP63)-ROW($A$2)+1)),\"\")","v":""},{"$f":"IFERROR(INDEX(Отделения[отделение],SMALL(IF(Отделения[Город]=$BQ$1,ROW(Отделения[Город])-1),ROW(AQ63)-ROW($A$2)+1)),\"\")","v":""},{"$f":"IFERROR(INDEX(Отделения[отделение],SMALL(IF(Отделения[Город]=$BR$1,ROW(Отделения[Город])-1),ROW(AR63)-ROW($A$2)+1)),\"\")","v":""},{"$f":"IFERROR(INDEX(Отделения[отделение],SMALL(IF(Отделения[Город]=$BS$1,ROW(Отделения[Город])-1),ROW(AS63)-ROW($A$2)+1)),\"\")","v":""},{"$f":"IFERROR(INDEX(Отделения[отделение],SMALL(IF(Отделения[Город]=$BT$1,ROW(Отделения[Город])-1),ROW(AT63)-ROW($A$2)+1)),\"\")","v":""},{"$f":"IFERROR(INDEX(Отделения[отделение],SMALL(IF(Отделения[Город]=$BU$1,ROW(Отделения[Город])-1),ROW(AU63)-ROW($A$2)+1)),\"\")","v":""},{"$f":"IFERROR(INDEX(Отделения[отделение],SMALL(IF(Отделения[Город]=$BV$1,ROW(Отделения[Город])-1),ROW(AV63)-ROW($A$2)+1)),\"\")","v":""},{"$f":"IFERROR(INDEX(Отделения[отделение],SMALL(IF(Отделения[Город]=$BW$1,ROW(Отделения[Город])-1),ROW(AV63)-ROW($A$2)+1)),\"\")","v":""},{"$f":"IFERROR(INDEX(Отделения[отделение],SMALL(IF(Отделения[Город]=$BX$1,ROW(Отделения[Город])-1),ROW(AV63)-ROW($A$2)+1)),\"\")","v":""},{"$f":"IFERROR(INDEX(Отделения[отделение],SMALL(IF(Отделения[Город]=$BY$1,ROW(Отделения[Город])-1),ROW(AV63)-ROW($A$2)+1)),\"\")","v":""},{"$f":"IFERROR(INDEX(Отделения[отделение],SMALL(IF(Отделения[Город]=$BZ$1,ROW(Отделения[Город])-1),ROW(AV63)-ROW($A$2)+1)),\"\")","v":""},{"$f":"IFERROR(INDEX(Отделения[отделение],SMALL(IF(Отделения[Город]=$CA$1,ROW(Отделения[Город])-1),ROW(AV63)-ROW($A$2)+1)),\"\")","v":""},{"$f":"IFERROR(INDEX(Отделения[отделение],SMALL(IF(Отделения[Город]=$CB$1,ROW(Отделения[Город])-1),ROW(AV63)-ROW($A$2)+1)),\"\")","v":""},{"$f":"IFERROR(INDEX(Отделения[отделение],SMALL(IF(Отделения[Город]=$CC$1,ROW(Отделения[Город])-1),ROW(AV63)-ROW($A$2)+1)),\"\")","v":""},{"$f":"IFERROR(INDEX(Отделения[отделение],SMALL(IF(Отделения[Город]=$CD$1,ROW(Отделения[Город])-1),ROW(AV63)-ROW($A$2)+1)),\"\")","v":""},{"$f":"IFERROR(INDEX(Отделения[отделение],SMALL(IF(Отделения[Город]=$CE$1,ROW(Отделения[Город])-1),ROW(AV63)-ROW($A$2)+1)),\"\")","v":""},{"$f":"IFERROR(INDEX(Отделения[отделение],SMALL(IF(Отделения[Город]=$CF$1,ROW(Отделения[Город])-1),ROW(AV63)-ROW($A$2)+1)),\"\")","v":""},{"$f":"IFERROR(INDEX(Отделения[отделение],SMALL(IF(Отделения[Город]=$CG$1,ROW(Отделения[Город])-1),ROW(AV63)-ROW($A$2)+1)),\"\")","v":""},{"$f":"IFERROR(INDEX(Отделения[отделение],SMALL(IF(Отделения[Город]=$CH$1,ROW(Отделения[Город])-1),ROW(AW63)-ROW($A$2)+1)),\"\")","v":""},{"$f":"IFERROR(INDEX(Отделения[отделение],SMALL(IF(Отделения[Город]=$CI$1,ROW(Отделения[Город])-1),ROW(AX63)-ROW($A$2)+1)),\"\")","v":""},{"$f":"IFERROR(INDEX(Отделения[отделение],SMALL(IF(Отделения[Город]=$CJ$1,ROW(Отделения[Город])-1),ROW(AY63)-ROW($A$2)+1)),\"\")","v":""},{"$f":"IFERROR(INDEX(Отделения[отделение],SMALL(IF(Отделения[Город]=$CK$1,ROW(Отделения[Город])-1),ROW(AZ63)-ROW($A$2)+1)),\"\")","v":""},{"$f":"IFERROR(INDEX(Отделения[отделение],SMALL(IF(Отделения[Город]=$CL$1,ROW(Отделения[Город])-1),ROW(BA63)-ROW($A$2)+1)),\"\")","v":""},{"$f":"IFERROR(INDEX(Отделения[отделение],SMALL(IF(Отделения[Город]=$CM$1,ROW(Отделения[Город])-1),ROW(BB63)-ROW($A$2)+1)),\"\")","v":""},{"$f":"IFERROR(INDEX(Отделения[отделение],SMALL(IF(Отделения[Город]=$CN$1,ROW(Отделения[Город])-1),ROW(BC63)-ROW($A$2)+1)),\"\")","v":""},{"$f":"IFERROR(INDEX(Отделения[отделение],SMALL(IF(Отделения[Город]=$CO$1,ROW(Отделения[Город])-1),ROW(BD63)-ROW($A$2)+1)),\"\")","v":""},{"$f":"IFERROR(INDEX(Отделения[отделение],SMALL(IF(Отделения[Город]=$CP$1,ROW(Отделения[Город])-1),ROW(BE63)-ROW($A$2)+1)),\"\")","v":""},{"$f":"IFERROR(INDEX(Отделения[отделение],SMALL(IF(Отделения[Город]=$CQ$1,ROW(Отделения[Город])-1),ROW(BF63)-ROW($A$2)+1)),\"\")","v":""},{"$f":"IFERROR(INDEX(Отделения[отделение],SMALL(IF(Отделения[Город]=$CR$1,ROW(Отделения[Город])-1),ROW(BG63)-ROW($A$2)+1)),\"\")","v":""},{"$f":"IFERROR(INDEX(Отделения[отделение],SMALL(IF(Отделения[Город]=$CS$1,ROW(Отделения[Город])-1),ROW(BH63)-ROW($A$2)+1)),\"\")","v":""},{"$f":"IFERROR(INDEX(Отделения[отделение],SMALL(IF(Отделения[Город]=$CT$1,ROW(Отделения[Город])-1),ROW(BI63)-ROW($A$2)+1)),\"\")","v":""},{"$f":"IFERROR(INDEX(Отделения[отделение],SMALL(IF(Отделения[Город]=$CU$1,ROW(Отделения[Город])-1),ROW(BJ63)-ROW($A$2)+1)),\"\")","v":""},{"$f":"IFERROR(INDEX(Отделения[отделение],SMALL(IF(Отделения[Город]=$CV$1,ROW(Отделения[Город])-1),ROW(BK63)-ROW($A$2)+1)),\"\")","v":""},{"$f":"IFERROR(INDEX(Отделения[отделение],SMALL(IF(Отделения[Город]=$CW$1,ROW(Отделения[Город])-1),ROW(BL63)-ROW($A$2)+1)),\"\")","v":""},{"$f":"IFERROR(INDEX(Отделения[отделение],SMALL(IF(Отделения[Город]=$CX$1,ROW(Отделения[Город])-1),ROW(BM63)-ROW($A$2)+1)),\"\")","v":""},{"$f":"IFERROR(INDEX(Отделения[отделение],SMALL(IF(Отделения[Город]=$CY$1,ROW(Отделения[Город])-1),ROW(BM63)-ROW($A$2)+1)),\"\")","v":""},{"$f":"IFERROR(INDEX(Отделения[отделение],SMALL(IF(Отделения[Город]=$CZ$1,ROW(Отделения[Город])-1),ROW(BM63)-ROW($A$2)+1)),\"\")","v":""},{"$f":"IFERROR(INDEX(Отделения[отделение],SMALL(IF(Отделения[Город]=$DA$1,ROW(Отделения[Город])-1),ROW(BM63)-ROW($A$2)+1)),\"\")","v":""},{"$f":"IFERROR(INDEX(Отделения[отделение],SMALL(IF(Отделения[Город]=$DB$1,ROW(Отделения[Город])-1),ROW(BM63)-ROW($A$2)+1)),\"\")","v":""}]
["Москва","ДО \"СХОДНЕНСКИЙ\" , 125363, г. Москва, б-р Яна Райниса,д. 1","0636","MOYY",null,null,{"$f":"IFERROR(INDEX(Отделения[отделение],SMALL(IF(Отделения[Город]=$G$1,ROW(Отделения[Город])-1),ROW(A64)-ROW($A$2)+1)),\"\")","v":""},{"$f":"IFERROR(INDEX(Отделения[отделение],SMALL(IF(Отделения[Город]=$H$1,ROW(Отделения[Город])-1),ROW(A64)-ROW($A$2)+1)),\"\")","v":""},{"$f":"IFERROR(INDEX(Отделения[отделение],SMALL(IF(Отделения[Город]=$I$1,ROW(Отделения[Город])-1),ROW(A64)-ROW($A$2)+1)),\"\")","v":""},{"$f":"IFERROR(INDEX(Отделения[отделение],SMALL(IF(Отделения[Город]=$J$1,ROW(Отделения[Город])-1),ROW(A64)-ROW($A$2)+1)),\"\")","v":""},{"$f":"IFERROR(INDEX(Отделения[отделение],SMALL(IF(Отделения[Город]=$K$1,ROW(Отделения[Город])-1),ROW(A64)-ROW($A$2)+1)),\"\")","v":""},{"$f":"IFERROR(INDEX(Отделения[отделение],SMALL(IF(Отделения[Город]=$L$1,ROW(Отделения[Город])-1),ROW(A64)-ROW($A$2)+1)),\"\")","v":""},{"$f":"IFERROR(INDEX(Отделения[отделение],SMALL(IF(Отделения[Город]=$M$1,ROW(Отделения[Город])-1),ROW(B64)-ROW($A$2)+1)),\"\")","v":""},{"$f":"IFERROR(INDEX(Отделения[отделение],SMALL(IF(Отделения[Город]=$N$1,ROW(Отделения[Город])-1),ROW(#REF!)-ROW($A$2)+1)),\"\")","v":""},{"$f":"IFERROR(INDEX(Отделения[отделение],SMALL(IF(Отделения[Город]=$O$1,ROW(Отделения[Город])-1),ROW(C64)-ROW($A$2)+1)),\"\")","v":""},{"$f":"IFERROR(INDEX(Отделения[отделение],SMALL(IF(Отделения[Город]=$P$1,ROW(Отделения[Город])-1),ROW(D64)-ROW($A$2)+1)),\"\")","v":""},{"$f":"IFERROR(INDEX(Отделения[отделение],SMALL(IF(Отделения[Город]=$Q$1,ROW(Отделения[Город])-1),ROW(F64)-ROW($A$2)+1)),\"\")","v":""},{"$f":"IFERROR(INDEX(Отделения[отделение],SMALL(IF(Отделения[Город]=$R$1,ROW(Отделения[Город])-1),ROW(#REF!)-ROW($A$2)+1)),\"\")","v":""},{"$f":"IFERROR(INDEX(Отделения[отделение],SMALL(IF(Отделения[Город]=$S$1,ROW(Отделения[Город])-1),ROW(G64)-ROW($A$2)+1)),\"\")","v":""},{"$f":"IFERROR(INDEX(Отделения[отделение],SMALL(IF(Отделения[Город]=$T$1,ROW(Отделения[Город])-1),ROW(H64)-ROW($A$2)+1)),\"\")","v":""},{"$f":"IFERROR(INDEX(Отделения[отделение],SMALL(IF(Отделения[Город]=$U$1,ROW(Отделения[Город])-1),ROW(I64)-ROW($A$2)+1)),\"\")","v":""},{"$f":"IFERROR(INDEX(Отделения[отделение],SMALL(IF(Отделения[Город]=$V$1,ROW(Отделения[Город])-1),ROW(J64)-ROW($A$2)+1)),\"\")","v":""},{"$f":"IFERROR(INDEX(Отделения[отделение],SMALL(IF(Отделения[Город]=$W$1,ROW(Отделения[Город])-1),ROW(K64)-ROW($A$2)+1)),\"\")","v":""},{"$f":"IFERROR(INDEX(Отделения[отделение],SMALL(IF(Отделения[Город]=$X$1,ROW(Отделения[Город])-1),ROW(L64)-ROW($A$2)+1)),\"\")","v":""},{"$f":"IFERROR(INDEX(Отделения[отделение],SMALL(IF(Отделения[Город]=$Y$1,ROW(Отделения[Город])-1),ROW(M64)-ROW($A$2)+1)),\"\")","v":""},{"$f":"IFERROR(INDEX(Отделения[отделение],SMALL(IF(Отделения[Город]=$Z$1,ROW(Отделения[Город])-1),ROW(N64)-ROW($A$2)+1)),\"\")","v":""},{"$f":"IFERROR(INDEX(Отделения[отделение],SMALL(IF(Отделения[Город]=$AA$1,ROW(Отделения[Город])-1),ROW(O64)-ROW($A$2)+1)),\"\")","v":""},{"$f":"IFERROR(INDEX(Отделения[отделение],SMALL(IF(Отделения[Город]=$AB$1,ROW(Отделения[Город])-1),ROW(P64)-ROW($A$2)+1)),\"\")","v":""},{"$f":"IFERROR(INDEX(Отделения[отделение],SMALL(IF(Отделения[Город]=$AC$1,ROW(Отделения[Город])-1),ROW(Q64)-ROW($A$2)+1)),\"\")","v":""},{"$f":"IFERROR(INDEX(Отделения[отделение],SMALL(IF(Отделения[Город]=$AD$1,ROW(Отделения[Город])-1),ROW(R64)-ROW($A$2)+1)),\"\")","v":""},{"$f":"IFERROR(INDEX(Отделения[отделение],SMALL(IF(Отделения[Город]=$AE$1,ROW(Отделения[Город])-1),ROW(S64)-ROW($A$2)+1)),\"\")","v":""},{"$f":"IFERROR(INDEX(Отделения[отделение],SMALL(IF(Отделения[Город]=$AF$1,ROW(Отделения[Город])-1),ROW(T64)-ROW($A$2)+1)),\"\")","v":""},{"$f":"IFERROR(INDEX(Отделения[отделение],SMALL(IF(Отделения[Город]=$AG$1,ROW(Отделения[Город])-1),ROW(U64)-ROW($A$2)+1)),\"\")","v":""},{"$f":"IFERROR(INDEX(Отделения[отделение],SMALL(IF(Отделения[Город]=$AH$1,ROW(Отделения[Город])-1),ROW(V64)-ROW($A$2)+1)),\"\")","v":""},{"$f":"IFERROR(INDEX(Отделения[отделение],SMALL(IF(Отделения[Город]=$AI$1,ROW(Отделения[Город])-1),ROW(AB64)-ROW($A$2)+1)),\"\")","v":""},{"$f":"IFERROR(INDEX(Отделения[отделение],SMALL(IF(Отделения[Город]=$AJ$1,ROW(Отделения[Город])-1),ROW(AB64)-ROW($A$2)+1)),\"\")","v":""},{"$f":"IFERROR(INDEX(Отделения[отделение],SMALL(IF(Отделения[Город]=$AK$1,ROW(Отделения[Город])-1),ROW(AB64)-ROW($A$2)+1)),\"\")","v":""},{"$f":"IFERROR(INDEX(Отделения[отделение],SMALL(IF(Отделения[Город]=$AL$1,ROW(Отделения[Город])-1),ROW(AB64)-ROW($A$2)+1)),\"\")","v":""},{"$f":"IFERROR(INDEX(Отделения[отделение],SMALL(IF(Отделения[Город]=$AM$1,ROW(Отделения[Город])-1),ROW(AB64)-ROW($A$2)+1)),\"\")","v":""},{"$f":"IFERROR(INDEX(Отделения[отделение],SMALL(IF(Отделения[Город]=$AN$1,ROW(Отделения[Город])-1),ROW(AB64)-ROW($A$2)+1)),\"\")","v":""},{"$f":"IFERROR(INDEX(Отделения[отделение],SMALL(IF(Отделения[Город]=$AO$1,ROW(Отделения[Город])-1),ROW(AB64)-ROW($A$2)+1)),\"\")","v":""},{"$f":"IFERROR(INDEX(Отделения[отделение],SMALL(IF(Отделения[Город]=$AP$1,ROW(Отделения[Город])-1),ROW(AB64)-ROW($A$2)+1)),\"\")","v":""},{"$f":"IFERROR(INDEX(Отделения[отделение],SMALL(IF(Отделения[Город]=$AQ$1,ROW(Отделения[Город])-1),ROW(AB64)-ROW($A$2)+1)),\"\")","v":""},{"$f":"IFERROR(INDEX(Отделения[отделение],SMALL(IF(Отделения[Город]=$AR$1,ROW(Отделения[Город])-1),ROW(AB64)-ROW($A$2)+1)),\"\")","v":""},{"$f":"IFERROR(INDEX(Отделения[отделение],SMALL(IF(Отделения[Город]=$AS$1,ROW(Отделения[Город])-1),ROW(AB64)-ROW($A$2)+1)),\"\")","v":""},{"$f":"IFERROR(INDEX(Отделения[отделение],SMALL(IF(Отделения[Город]=$AT$1,ROW(Отделения[Город])-1),ROW(AB64)-ROW($A$2)+1)),\"\")","v":""},{"$f":"IFERROR(INDEX(Отделения[отделение],SMALL(IF(Отделения[Город]=$AU$1,ROW(Отделения[Город])-1),ROW(AB64)-ROW($A$2)+1)),\"\")","v":""},{"$f":"IFERROR(INDEX(Отделения[отделение],SMALL(IF(Отделения[Город]=$AV$1,ROW(Отделения[Город])-1),ROW(AB64)-ROW($A$2)+1)),\"\")","v":""},{"$f":"IFERROR(INDEX(Отделения[отделение],SMALL(IF(Отделения[Город]=$AW$1,ROW(Отделения[Город])-1),ROW(AB64)-ROW($A$2)+1)),\"\")","v":""},{"$f":"IFERROR(INDEX(Отделения[отделение],SMALL(IF(Отделения[Город]=$AX$1,ROW(Отделения[Город])-1),ROW(AB64)-ROW($A$2)+1)),\"\")","v":""},{"$f":"IFERROR(INDEX(Отделения[отделение],SMALL(IF(Отделения[Город]=$AY$1,ROW(Отделения[Город])-1),ROW(AB64)-ROW($A$2)+1)),\"\")","v":""},{"$f":"IFERROR(INDEX(Отделения[отделение],SMALL(IF(Отделения[Город]=$AZ$1,ROW(Отделения[Город])-1),ROW(AB64)-ROW($A$2)+1)),\"\")","v":""},{"$f":"IFERROR(INDEX(Отделения[отделение],SMALL(IF(Отделения[Город]=$BA$1,ROW(Отделения[Город])-1),ROW(AB64)-ROW($A$2)+1)),\"\")","v":""},{"$f":"IFERROR(INDEX(Отделения[отделение],SMALL(IF(Отделения[Город]=$BB$1,ROW(Отделения[Город])-1),ROW(AB64)-ROW($A$2)+1)),\"\")","v":""},{"$f":"IFERROR(INDEX(Отделения[отделение],SMALL(IF(Отделения[Город]=$BC$1,ROW(Отделения[Город])-1),ROW(AC64)-ROW($A$2)+1)),\"\")","v":""},{"$f":"IFERROR(INDEX(Отделения[отделение],SMALL(IF(Отделения[Город]=$BD$1,ROW(Отделения[Город])-1),ROW(AD64)-ROW($A$2)+1)),\"\")","v":""},{"$f":"IFERROR(INDEX(Отделения[отделение],SMALL(IF(Отделения[Город]=$BE$1,ROW(Отделения[Город])-1),ROW(AE64)-ROW($A$2)+1)),\"\")","v":""},{"$f":"IFERROR(INDEX(Отделения[отделение],SMALL(IF(Отделения[Город]=$BF$1,ROW(Отделения[Город])-1),ROW(AF64)-ROW($A$2)+1)),\"\")","v":""},{"$f":"IFERROR(INDEX(Отделения[отделение],SMALL(IF(Отделения[Город]=$BG$1,ROW(Отделения[Город])-1),ROW(AG64)-ROW($A$2)+1)),\"\")","v":""},{"$f":"IFERROR(INDEX(Отделения[отделение],SMALL(IF(Отделения[Город]=$BH$1,ROW(Отделения[Город])-1),ROW(AH64)-ROW($A$2)+1)),\"\")","v":""},{"$f":"IFERROR(INDEX(Отделения[отделение],SMALL(IF(Отделения[Город]=$BI$1,ROW(Отделения[Город])-1),ROW(AI64)-ROW($A$2)+1)),\"\")","v":""},{"$f":"IFERROR(INDEX(Отделения[отделение],SMALL(IF(Отделения[Город]=$BJ$1,ROW(Отделения[Город])-1),ROW(AJ64)-ROW($A$2)+1)),\"\")","v":""},{"$f":"IFERROR(INDEX(Отделения[отделение],SMALL(IF(Отделения[Город]=$BK$1,ROW(Отделения[Город])-1),ROW(AK64)-ROW($A$2)+1)),\"\")","v":""},{"$f":"IFERROR(INDEX(Отделения[отделение],SMALL(IF(Отделения[Город]=$BL$1,ROW(Отделения[Город])-1),ROW(AL64)-ROW($A$2)+1)),\"\")","v":""},{"$f":"IFERROR(INDEX(Отделения[отделение],SMALL(IF(Отделения[Город]=$BM$1,ROW(Отделения[Город])-1),ROW(AM64)-ROW($A$2)+1)),\"\")","v":""},{"$f":"IFERROR(INDEX(Отделения[отделение],SMALL(IF(Отделения[Город]=$BN$1,ROW(Отделения[Город])-1),ROW(AN64)-ROW($A$2)+1)),\"\")","v":""},{"$f":"IFERROR(INDEX(Отделения[отделение],SMALL(IF(Отделения[Город]=$BO$1,ROW(Отделения[Город])-1),ROW(AO64)-ROW($A$2)+1)),\"\")","v":""},{"$f":"IFERROR(INDEX(Отделения[отделение],SMALL(IF(Отделения[Город]=$BP$1,ROW(Отделения[Город])-1),ROW(AP64)-ROW($A$2)+1)),\"\")","v":""},{"$f":"IFERROR(INDEX(Отделения[отделение],SMALL(IF(Отделения[Город]=$BQ$1,ROW(Отделения[Город])-1),ROW(AQ64)-ROW($A$2)+1)),\"\")","v":""},{"$f":"IFERROR(INDEX(Отделения[отделение],SMALL(IF(Отделения[Город]=$BR$1,ROW(Отделения[Город])-1),ROW(AR64)-ROW($A$2)+1)),\"\")","v":""},{"$f":"IFERROR(INDEX(Отделения[отделение],SMALL(IF(Отделения[Город]=$BS$1,ROW(Отделения[Город])-1),ROW(AS64)-ROW($A$2)+1)),\"\")","v":""},{"$f":"IFERROR(INDEX(Отделения[отделение],SMALL(IF(Отделения[Город]=$BT$1,ROW(Отделения[Город])-1),ROW(AT64)-ROW($A$2)+1)),\"\")","v":""},{"$f":"IFERROR(INDEX(Отделения[отделение],SMALL(IF(Отделения[Город]=$BU$1,ROW(Отделения[Город])-1),ROW(AU64)-ROW($A$2)+1)),\"\")","v":""},{"$f":"IFERROR(INDEX(Отделения[отделение],SMALL(IF(Отделения[Город]=$BV$1,ROW(Отделения[Город])-1),ROW(AV64)-ROW($A$2)+1)),\"\")","v":""},{"$f":"IFERROR(INDEX(Отделения[отделение],SMALL(IF(Отделения[Город]=$BW$1,ROW(Отделения[Город])-1),ROW(AV64)-ROW($A$2)+1)),\"\")","v":""},{"$f":"IFERROR(INDEX(Отделения[отделение],SMALL(IF(Отделения[Город]=$BX$1,ROW(Отделения[Город])-1),ROW(AV64)-ROW($A$2)+1)),\"\")","v":""},{"$f":"IFERROR(INDEX(Отделения[отделение],SMALL(IF(Отделения[Город]=$BY$1,ROW(Отделения[Город])-1),ROW(AV64)-ROW($A$2)+1)),\"\")","v":""},{"$f":"IFERROR(INDEX(Отделения[отделение],SMALL(IF(Отделения[Город]=$BZ$1,ROW(Отделения[Город])-1),ROW(AV64)-ROW($A$2)+1)),\"\")","v":""},{"$f":"IFERROR(INDEX(Отделения[отделение],SMALL(IF(Отделения[Город]=$CA$1,ROW(Отделения[Город])-1),ROW(AV64)-ROW($A$2)+1)),\"\")","v":""},{"$f":"IFERROR(INDEX(Отделения[отделение],SMALL(IF(Отделения[Город]=$CB$1,ROW(Отделения[Город])-1),ROW(AV64)-ROW($A$2)+1)),\"\")","v":""},{"$f":"IFERROR(INDEX(Отделения[отделение],SMALL(IF(Отделения[Город]=$CC$1,ROW(Отделения[Город])-1),ROW(AV64)-ROW($A$2)+1)),\"\")","v":""},{"$f":"IFERROR(INDEX(Отделения[отделение],SMALL(IF(Отделения[Город]=$CD$1,ROW(Отделения[Город])-1),ROW(AV64)-ROW($A$2)+1)),\"\")","v":""},{"$f":"IFERROR(INDEX(Отделения[отделение],SMALL(IF(Отделения[Город]=$CE$1,ROW(Отделения[Город])-1),ROW(AV64)-ROW($A$2)+1)),\"\")","v":""},{"$f":"IFERROR(INDEX(Отделения[отделение],SMALL(IF(Отделения[Город]=$CF$1,ROW(Отделения[Город])-1),ROW(AV64)-ROW($A$2)+1)),\"\")","v":""},{"$f":"IFERROR(INDEX(Отделения[отделение],SMALL(IF(Отделения[Город]=$CG$1,ROW(Отделения[Город])-1),ROW(AV64)-ROW($A$2)+1)),\"\")","v":""},{"$f":"IFERROR(INDEX(Отделения[отделение],SMALL(IF(Отделения[Город]=$CH$1,ROW(Отделения[Город])-1),ROW(AW64)-ROW($A$2)+1)),\"\")","v":""},{"$f":"IFERROR(INDEX(Отделения[отделение],SMALL(IF(Отделения[Город]=$CI$1,ROW(Отделения[Город])-1),ROW(AX64)-ROW($A$2)+1)),\"\")","v":""},{"$f":"IFERROR(INDEX(Отделения[отделение],SMALL(IF(Отделения[Город]=$CJ$1,ROW(Отделения[Город])-1),ROW(AY64)-ROW($A$2)+1)),\"\")","v":""},{"$f":"IFERROR(INDEX(Отделения[отделение],SMALL(IF(Отделения[Город]=$CK$1,ROW(Отделения[Город])-1),ROW(AZ64)-ROW($A$2)+1)),\"\")","v":""},{"$f":"IFERROR(INDEX(Отделения[отделение],SMALL(IF(Отделения[Город]=$CL$1,ROW(Отделения[Город])-1),ROW(BA64)-ROW($A$2)+1)),\"\")","v":""},{"$f":"IFERROR(INDEX(Отделения[отделение],SMALL(IF(Отделения[Город]=$CM$1,ROW(Отделения[Город])-1),ROW(BB64)-ROW($A$2)+1)),\"\")","v":""},{"$f":"IFERROR(INDEX(Отделения[отделение],SMALL(IF(Отделения[Город]=$CN$1,ROW(Отделения[Город])-1),ROW(BC64)-ROW($A$2)+1)),\"\")","v":""},{"$f":"IFERROR(INDEX(Отделения[отделение],SMALL(IF(Отделения[Город]=$CO$1,ROW(Отделения[Город])-1),ROW(BD64)-ROW($A$2)+1)),\"\")","v":""},{"$f":"IFERROR(INDEX(Отделения[отделение],SMALL(IF(Отделения[Город]=$CP$1,ROW(Отделения[Город])-1),ROW(BE64)-ROW($A$2)+1)),\"\")","v":""},{"$f":"IFERROR(INDEX(Отделения[отделение],SMALL(IF(Отделения[Город]=$CQ$1,ROW(Отделения[Город])-1),ROW(BF64)-ROW($A$2)+1)),\"\")","v":""},{"$f":"IFERROR(INDEX(Отделения[отделение],SMALL(IF(Отделения[Город]=$CR$1,ROW(Отделения[Город])-1),ROW(BG64)-ROW($A$2)+1)),\"\")","v":""},{"$f":"IFERROR(INDEX(Отделения[отделение],SMALL(IF(Отделения[Город]=$CS$1,ROW(Отделения[Город])-1),ROW(BH64)-ROW($A$2)+1)),\"\")","v":""},{"$f":"IFERROR(INDEX(Отделения[отделение],SMALL(IF(Отделения[Город]=$CT$1,ROW(Отделения[Город])-1),ROW(BI64)-ROW($A$2)+1)),\"\")","v":""},{"$f":"IFERROR(INDEX(Отделения[отделение],SMALL(IF(Отделения[Город]=$CU$1,ROW(Отделения[Город])-1),ROW(BJ64)-ROW($A$2)+1)),\"\")","v":""},{"$f":"IFERROR(INDEX(Отделения[отделение],SMALL(IF(Отделения[Город]=$CV$1,ROW(Отделения[Город])-1),ROW(BK64)-ROW($A$2)+1)),\"\")","v":""},{"$f":"IFERROR(INDEX(Отделения[отделение],SMALL(IF(Отделения[Город]=$CW$1,ROW(Отделения[Город])-1),ROW(BL64)-ROW($A$2)+1)),\"\")","v":""},{"$f":"IFERROR(INDEX(Отделения[отделение],SMALL(IF(Отделения[Город]=$CX$1,ROW(Отделения[Город])-1),ROW(BM64)-ROW($A$2)+1)),\"\")","v":""},{"$f":"IFERROR(INDEX(Отделения[отделение],SMALL(IF(Отделения[Город]=$CY$1,ROW(Отделения[Город])-1),ROW(BM64)-ROW($A$2)+1)),\"\")","v":""},{"$f":"IFERROR(INDEX(Отделения[отделение],SMALL(IF(Отделения[Город]=$CZ$1,ROW(Отделения[Город])-1),ROW(BM64)-ROW($A$2)+1)),\"\")","v":""},{"$f":"IFERROR(INDEX(Отделения[отделение],SMALL(IF(Отделения[Город]=$DA$1,ROW(Отделения[Город])-1),ROW(BM64)-ROW($A$2)+1)),\"\")","v":""},{"$f":"IFERROR(INDEX(Отделения[отделение],SMALL(IF(Отделения[Город]=$DB$1,ROW(Отделения[Город])-1),ROW(BM64)-ROW($A$2)+1)),\"\")","v":""}]
["Москва","ДО \"КОЛОМЕНСКИЙ\" , 115470, г. Москва, ул. Новинки д.1","0637","MOQH",null,null,{"$f":"IFERROR(INDEX(Отделения[отделение],SMALL(IF(Отделения[Город]=$G$1,ROW(Отделения[Город])-1),ROW(A65)-ROW($A$2)+1)),\"\")","v":""},{"$f":"IFERROR(INDEX(Отделения[отделение],SMALL(IF(Отделения[Город]=$H$1,ROW(Отделения[Город])-1),ROW(A65)-ROW($A$2)+1)),\"\")","v":""},{"$f":"IFERROR(INDEX(Отделения[отделение],SMALL(IF(Отделения[Город]=$I$1,ROW(Отделения[Город])-1),ROW(A65)-ROW($A$2)+1)),\"\")","v":""},{"$f":"IFERROR(INDEX(Отделения[отделение],SMALL(IF(Отделения[Город]=$J$1,ROW(Отделения[Город])-1),ROW(A65)-ROW($A$2)+1)),\"\")","v":""},{"$f":"IFERROR(INDEX(Отделения[отделение],SMALL(IF(Отделения[Город]=$K$1,ROW(Отделения[Город])-1),ROW(A65)-ROW($A$2)+1)),\"\")","v":""},{"$f":"IFERROR(INDEX(Отделения[отделение],SMALL(IF(Отделения[Город]=$L$1,ROW(Отделения[Город])-1),ROW(A65)-ROW($A$2)+1)),\"\")","v":""},{"$f":"IFERROR(INDEX(Отделения[отделение],SMALL(IF(Отделения[Город]=$M$1,ROW(Отделения[Город])-1),ROW(B65)-ROW($A$2)+1)),\"\")","v":""},{"$f":"IFERROR(INDEX(Отделения[отделение],SMALL(IF(Отделения[Город]=$N$1,ROW(Отделения[Город])-1),ROW(#REF!)-ROW($A$2)+1)),\"\")","v":""},{"$f":"IFERROR(INDEX(Отделения[отделение],SMALL(IF(Отделения[Город]=$O$1,ROW(Отделения[Город])-1),ROW(C65)-ROW($A$2)+1)),\"\")","v":""},{"$f":"IFERROR(INDEX(Отделения[отделение],SMALL(IF(Отделения[Город]=$P$1,ROW(Отделения[Город])-1),ROW(D65)-ROW($A$2)+1)),\"\")","v":""},{"$f":"IFERROR(INDEX(Отделения[отделение],SMALL(IF(Отделения[Город]=$Q$1,ROW(Отделения[Город])-1),ROW(F65)-ROW($A$2)+1)),\"\")","v":""},{"$f":"IFERROR(INDEX(Отделения[отделение],SMALL(IF(Отделения[Город]=$R$1,ROW(Отделения[Город])-1),ROW(#REF!)-ROW($A$2)+1)),\"\")","v":""},{"$f":"IFERROR(INDEX(Отделения[отделение],SMALL(IF(Отделения[Город]=$S$1,ROW(Отделения[Город])-1),ROW(G65)-ROW($A$2)+1)),\"\")","v":""},{"$f":"IFERROR(INDEX(Отделения[отделение],SMALL(IF(Отделения[Город]=$T$1,ROW(Отделения[Город])-1),ROW(H65)-ROW($A$2)+1)),\"\")","v":""},{"$f":"IFERROR(INDEX(Отделения[отделение],SMALL(IF(Отделения[Город]=$U$1,ROW(Отделения[Город])-1),ROW(I65)-ROW($A$2)+1)),\"\")","v":""},{"$f":"IFERROR(INDEX(Отделения[отделение],SMALL(IF(Отделения[Город]=$V$1,ROW(Отделения[Город])-1),ROW(J65)-ROW($A$2)+1)),\"\")","v":""},{"$f":"IFERROR(INDEX(Отделения[отделение],SMALL(IF(Отделения[Город]=$W$1,ROW(Отделения[Город])-1),ROW(K65)-ROW($A$2)+1)),\"\")","v":""},{"$f":"IFERROR(INDEX(Отделения[отделение],SMALL(IF(Отделения[Город]=$X$1,ROW(Отделения[Город])-1),ROW(L65)-ROW($A$2)+1)),\"\")","v":""},{"$f":"IFERROR(INDEX(Отделения[отделение],SMALL(IF(Отделения[Город]=$Y$1,ROW(Отделения[Город])-1),ROW(M65)-ROW($A$2)+1)),\"\")","v":""},{"$f":"IFERROR(INDEX(Отделения[отделение],SMALL(IF(Отделения[Город]=$Z$1,ROW(Отделения[Город])-1),ROW(N65)-ROW($A$2)+1)),\"\")","v":""},{"$f":"IFERROR(INDEX(Отделения[отделение],SMALL(IF(Отделения[Город]=$AA$1,ROW(Отделения[Город])-1),ROW(O65)-ROW($A$2)+1)),\"\")","v":""},{"$f":"IFERROR(INDEX(Отделения[отделение],SMALL(IF(Отделения[Город]=$AB$1,ROW(Отделения[Город])-1),ROW(P65)-ROW($A$2)+1)),\"\")","v":""},{"$f":"IFERROR(INDEX(Отделения[отделение],SMALL(IF(Отделения[Город]=$AC$1,ROW(Отделения[Город])-1),ROW(Q65)-ROW($A$2)+1)),\"\")","v":""},{"$f":"IFERROR(INDEX(Отделения[отделение],SMALL(IF(Отделения[Город]=$AD$1,ROW(Отделения[Город])-1),ROW(R65)-ROW($A$2)+1)),\"\")","v":""},{"$f":"IFERROR(INDEX(Отделения[отделение],SMALL(IF(Отделения[Город]=$AE$1,ROW(Отделения[Город])-1),ROW(S65)-ROW($A$2)+1)),\"\")","v":""},{"$f":"IFERROR(INDEX(Отделения[отделение],SMALL(IF(Отделения[Город]=$AF$1,ROW(Отделения[Город])-1),ROW(T65)-ROW($A$2)+1)),\"\")","v":""},{"$f":"IFERROR(INDEX(Отделения[отделение],SMALL(IF(Отделения[Город]=$AG$1,ROW(Отделения[Город])-1),ROW(U65)-ROW($A$2)+1)),\"\")","v":""},{"$f":"IFERROR(INDEX(Отделения[отделение],SMALL(IF(Отделения[Город]=$AH$1,ROW(Отделения[Город])-1),ROW(V65)-ROW($A$2)+1)),\"\")","v":""},{"$f":"IFERROR(INDEX(Отделения[отделение],SMALL(IF(Отделения[Город]=$AI$1,ROW(Отделения[Город])-1),ROW(AB65)-ROW($A$2)+1)),\"\")","v":""},{"$f":"IFERROR(INDEX(Отделения[отделение],SMALL(IF(Отделения[Город]=$AJ$1,ROW(Отделения[Город])-1),ROW(AB65)-ROW($A$2)+1)),\"\")","v":""},{"$f":"IFERROR(INDEX(Отделения[отделение],SMALL(IF(Отделения[Город]=$AK$1,ROW(Отделения[Город])-1),ROW(AB65)-ROW($A$2)+1)),\"\")","v":""},{"$f":"IFERROR(INDEX(Отделения[отделение],SMALL(IF(Отделения[Город]=$AL$1,ROW(Отделения[Город])-1),ROW(AB65)-ROW($A$2)+1)),\"\")","v":""},{"$f":"IFERROR(INDEX(Отделения[отделение],SMALL(IF(Отделения[Город]=$AM$1,ROW(Отделения[Город])-1),ROW(AB65)-ROW($A$2)+1)),\"\")","v":""},{"$f":"IFERROR(INDEX(Отделения[отделение],SMALL(IF(Отделения[Город]=$AN$1,ROW(Отделения[Город])-1),ROW(AB65)-ROW($A$2)+1)),\"\")","v":""},{"$f":"IFERROR(INDEX(Отделения[отделение],SMALL(IF(Отделения[Город]=$AO$1,ROW(Отделения[Город])-1),ROW(AB65)-ROW($A$2)+1)),\"\")","v":""},{"$f":"IFERROR(INDEX(Отделения[отделение],SMALL(IF(Отделения[Город]=$AP$1,ROW(Отделения[Город])-1),ROW(AB65)-ROW($A$2)+1)),\"\")","v":""},{"$f":"IFERROR(INDEX(Отделения[отделение],SMALL(IF(Отделения[Город]=$AQ$1,ROW(Отделения[Город])-1),ROW(AB65)-ROW($A$2)+1)),\"\")","v":""},{"$f":"IFERROR(INDEX(Отделения[отделение],SMALL(IF(Отделения[Город]=$AR$1,ROW(Отделения[Город])-1),ROW(AB65)-ROW($A$2)+1)),\"\")","v":""},{"$f":"IFERROR(INDEX(Отделения[отделение],SMALL(IF(Отделения[Город]=$AS$1,ROW(Отделения[Город])-1),ROW(AB65)-ROW($A$2)+1)),\"\")","v":""},{"$f":"IFERROR(INDEX(Отделения[отделение],SMALL(IF(Отделения[Город]=$AT$1,ROW(Отделения[Город])-1),ROW(AB65)-ROW($A$2)+1)),\"\")","v":""},{"$f":"IFERROR(INDEX(Отделения[отделение],SMALL(IF(Отделения[Город]=$AU$1,ROW(Отделения[Город])-1),ROW(AB65)-ROW($A$2)+1)),\"\")","v":""},{"$f":"IFERROR(INDEX(Отделения[отделение],SMALL(IF(Отделения[Город]=$AV$1,ROW(Отделения[Город])-1),ROW(AB65)-ROW($A$2)+1)),\"\")","v":""},{"$f":"IFERROR(INDEX(Отделения[отделение],SMALL(IF(Отделения[Город]=$AW$1,ROW(Отделения[Город])-1),ROW(AB65)-ROW($A$2)+1)),\"\")","v":""},{"$f":"IFERROR(INDEX(Отделения[отделение],SMALL(IF(Отделения[Город]=$AX$1,ROW(Отделения[Город])-1),ROW(AB65)-ROW($A$2)+1)),\"\")","v":""},{"$f":"IFERROR(INDEX(Отделения[отделение],SMALL(IF(Отделения[Город]=$AY$1,ROW(Отделения[Город])-1),ROW(AB65)-ROW($A$2)+1)),\"\")","v":""},{"$f":"IFERROR(INDEX(Отделения[отделение],SMALL(IF(Отделения[Город]=$AZ$1,ROW(Отделения[Город])-1),ROW(AB65)-ROW($A$2)+1)),\"\")","v":""},{"$f":"IFERROR(INDEX(Отделения[отделение],SMALL(IF(Отделения[Город]=$BA$1,ROW(Отделения[Город])-1),ROW(AB65)-ROW($A$2)+1)),\"\")","v":""},{"$f":"IFERROR(INDEX(Отделения[отделение],SMALL(IF(Отделения[Город]=$BB$1,ROW(Отделения[Город])-1),ROW(AB65)-ROW($A$2)+1)),\"\")","v":""},{"$f":"IFERROR(INDEX(Отделения[отделение],SMALL(IF(Отделения[Город]=$BC$1,ROW(Отделения[Город])-1),ROW(AC65)-ROW($A$2)+1)),\"\")","v":""},{"$f":"IFERROR(INDEX(Отделения[отделение],SMALL(IF(Отделения[Город]=$BD$1,ROW(Отделения[Город])-1),ROW(AD65)-ROW($A$2)+1)),\"\")","v":""},{"$f":"IFERROR(INDEX(Отделения[отделение],SMALL(IF(Отделения[Город]=$BE$1,ROW(Отделения[Город])-1),ROW(AE65)-ROW($A$2)+1)),\"\")","v":""},{"$f":"IFERROR(INDEX(Отделения[отделение],SMALL(IF(Отделения[Город]=$BF$1,ROW(Отделения[Город])-1),ROW(AF65)-ROW($A$2)+1)),\"\")","v":""},{"$f":"IFERROR(INDEX(Отделения[отделение],SMALL(IF(Отделения[Город]=$BG$1,ROW(Отделения[Город])-1),ROW(AG65)-ROW($A$2)+1)),\"\")","v":""},{"$f":"IFERROR(INDEX(Отделения[отделение],SMALL(IF(Отделения[Город]=$BH$1,ROW(Отделения[Город])-1),ROW(AH65)-ROW($A$2)+1)),\"\")","v":""},{"$f":"IFERROR(INDEX(Отделения[отделение],SMALL(IF(Отделения[Город]=$BI$1,ROW(Отделения[Город])-1),ROW(AI65)-ROW($A$2)+1)),\"\")","v":""},{"$f":"IFERROR(INDEX(Отделения[отделение],SMALL(IF(Отделения[Город]=$BJ$1,ROW(Отделения[Город])-1),ROW(AJ65)-ROW($A$2)+1)),\"\")","v":""},{"$f":"IFERROR(INDEX(Отделения[отделение],SMALL(IF(Отделения[Город]=$BK$1,ROW(Отделения[Город])-1),ROW(AK65)-ROW($A$2)+1)),\"\")","v":""},{"$f":"IFERROR(INDEX(Отделения[отделение],SMALL(IF(Отделения[Город]=$BL$1,ROW(Отделения[Город])-1),ROW(AL65)-ROW($A$2)+1)),\"\")","v":""},{"$f":"IFERROR(INDEX(Отделения[отделение],SMALL(IF(Отделения[Город]=$BM$1,ROW(Отделения[Город])-1),ROW(AM65)-ROW($A$2)+1)),\"\")","v":""},{"$f":"IFERROR(INDEX(Отделения[отделение],SMALL(IF(Отделения[Город]=$BN$1,ROW(Отделения[Город])-1),ROW(AN65)-ROW($A$2)+1)),\"\")","v":""},{"$f":"IFERROR(INDEX(Отделения[отделение],SMALL(IF(Отделения[Город]=$BO$1,ROW(Отделения[Город])-1),ROW(AO65)-ROW($A$2)+1)),\"\")","v":""},{"$f":"IFERROR(INDEX(Отделения[отделение],SMALL(IF(Отделения[Город]=$BP$1,ROW(Отделения[Город])-1),ROW(AP65)-ROW($A$2)+1)),\"\")","v":""},{"$f":"IFERROR(INDEX(Отделения[отделение],SMALL(IF(Отделения[Город]=$BQ$1,ROW(Отделения[Город])-1),ROW(AQ65)-ROW($A$2)+1)),\"\")","v":""},{"$f":"IFERROR(INDEX(Отделения[отделение],SMALL(IF(Отделения[Город]=$BR$1,ROW(Отделения[Город])-1),ROW(AR65)-ROW($A$2)+1)),\"\")","v":""},{"$f":"IFERROR(INDEX(Отделения[отделение],SMALL(IF(Отделения[Город]=$BS$1,ROW(Отделения[Город])-1),ROW(AS65)-ROW($A$2)+1)),\"\")","v":""},{"$f":"IFERROR(INDEX(Отделения[отделение],SMALL(IF(Отделения[Город]=$BT$1,ROW(Отделения[Город])-1),ROW(AT65)-ROW($A$2)+1)),\"\")","v":""},{"$f":"IFERROR(INDEX(Отделения[отделение],SMALL(IF(Отделения[Город]=$BU$1,ROW(Отделения[Город])-1),ROW(AU65)-ROW($A$2)+1)),\"\")","v":""},{"$f":"IFERROR(INDEX(Отделения[отделение],SMALL(IF(Отделения[Город]=$BV$1,ROW(Отделения[Город])-1),ROW(AV65)-ROW($A$2)+1)),\"\")","v":""},{"$f":"IFERROR(INDEX(Отделения[отделение],SMALL(IF(Отделения[Город]=$BW$1,ROW(Отделения[Город])-1),ROW(AV65)-ROW($A$2)+1)),\"\")","v":""},{"$f":"IFERROR(INDEX(Отделения[отделение],SMALL(IF(Отделения[Город]=$BX$1,ROW(Отделения[Город])-1),ROW(AV65)-ROW($A$2)+1)),\"\")","v":""},{"$f":"IFERROR(INDEX(Отделения[отделение],SMALL(IF(Отделения[Город]=$BY$1,ROW(Отделения[Город])-1),ROW(AV65)-ROW($A$2)+1)),\"\")","v":""},{"$f":"IFERROR(INDEX(Отделения[отделение],SMALL(IF(Отделения[Город]=$BZ$1,ROW(Отделения[Город])-1),ROW(AV65)-ROW($A$2)+1)),\"\")","v":""},{"$f":"IFERROR(INDEX(Отделения[отделение],SMALL(IF(Отделения[Город]=$CA$1,ROW(Отделения[Город])-1),ROW(AV65)-ROW($A$2)+1)),\"\")","v":""},{"$f":"IFERROR(INDEX(Отделения[отделение],SMALL(IF(Отделения[Город]=$CB$1,ROW(Отделения[Город])-1),ROW(AV65)-ROW($A$2)+1)),\"\")","v":""},{"$f":"IFERROR(INDEX(Отделения[отделение],SMALL(IF(Отделения[Город]=$CC$1,ROW(Отделения[Город])-1),ROW(AV65)-ROW($A$2)+1)),\"\")","v":""},{"$f":"IFERROR(INDEX(Отделения[отделение],SMALL(IF(Отделения[Город]=$CD$1,ROW(Отделения[Город])-1),ROW(AV65)-ROW($A$2)+1)),\"\")","v":""},{"$f":"IFERROR(INDEX(Отделения[отделение],SMALL(IF(Отделения[Город]=$CE$1,ROW(Отделения[Город])-1),ROW(AV65)-ROW($A$2)+1)),\"\")","v":""},{"$f":"IFERROR(INDEX(Отделения[отделение],SMALL(IF(Отделения[Город]=$CF$1,ROW(Отделения[Город])-1),ROW(AV65)-ROW($A$2)+1)),\"\")","v":""},{"$f":"IFERROR(INDEX(Отделения[отделение],SMALL(IF(Отделения[Город]=$CG$1,ROW(Отделения[Город])-1),ROW(AV65)-ROW($A$2)+1)),\"\")","v":""},{"$f":"IFERROR(INDEX(Отделения[отделение],SMALL(IF(Отделения[Город]=$CH$1,ROW(Отделения[Город])-1),ROW(AW65)-ROW($A$2)+1)),\"\")","v":""},{"$f":"IFERROR(INDEX(Отделения[отделение],SMALL(IF(Отделения[Город]=$CI$1,ROW(Отделения[Город])-1),ROW(AX65)-ROW($A$2)+1)),\"\")","v":""},{"$f":"IFERROR(INDEX(Отделения[отделение],SMALL(IF(Отделения[Город]=$CJ$1,ROW(Отделения[Город])-1),ROW(AY65)-ROW($A$2)+1)),\"\")","v":""},{"$f":"IFERROR(INDEX(Отделения[отделение],SMALL(IF(Отделения[Город]=$CK$1,ROW(Отделения[Город])-1),ROW(AZ65)-ROW($A$2)+1)),\"\")","v":""},{"$f":"IFERROR(INDEX(Отделения[отделение],SMALL(IF(Отделения[Город]=$CL$1,ROW(Отделения[Город])-1),ROW(BA65)-ROW($A$2)+1)),\"\")","v":""},{"$f":"IFERROR(INDEX(Отделения[отделение],SMALL(IF(Отделения[Город]=$CM$1,ROW(Отделения[Город])-1),ROW(BB65)-ROW($A$2)+1)),\"\")","v":""},{"$f":"IFERROR(INDEX(Отделения[отделение],SMALL(IF(Отделения[Город]=$CN$1,ROW(Отделения[Город])-1),ROW(BC65)-ROW($A$2)+1)),\"\")","v":""},{"$f":"IFERROR(INDEX(Отделения[отделение],SMALL(IF(Отделения[Город]=$CO$1,ROW(Отделения[Город])-1),ROW(BD65)-ROW($A$2)+1)),\"\")","v":""},{"$f":"IFERROR(INDEX(Отделения[отделение],SMALL(IF(Отделения[Город]=$CP$1,ROW(Отделения[Город])-1),ROW(BE65)-ROW($A$2)+1)),\"\")","v":""},{"$f":"IFERROR(INDEX(Отделения[отделение],SMALL(IF(Отделения[Город]=$CQ$1,ROW(Отделения[Город])-1),ROW(BF65)-ROW($A$2)+1)),\"\")","v":""},{"$f":"IFERROR(INDEX(Отделения[отделение],SMALL(IF(Отделения[Город]=$CR$1,ROW(Отделения[Город])-1),ROW(BG65)-ROW($A$2)+1)),\"\")","v":""},{"$f":"IFERROR(INDEX(Отделения[отделение],SMALL(IF(Отделения[Город]=$CS$1,ROW(Отделения[Город])-1),ROW(BH65)-ROW($A$2)+1)),\"\")","v":""},{"$f":"IFERROR(INDEX(Отделения[отделение],SMALL(IF(Отделения[Город]=$CT$1,ROW(Отделения[Город])-1),ROW(BI65)-ROW($A$2)+1)),\"\")","v":""},{"$f":"IFERROR(INDEX(Отделения[отделение],SMALL(IF(Отделения[Город]=$CU$1,ROW(Отделения[Город])-1),ROW(BJ65)-ROW($A$2)+1)),\"\")","v":""},{"$f":"IFERROR(INDEX(Отделения[отделение],SMALL(IF(Отделения[Город]=$CV$1,ROW(Отделения[Город])-1),ROW(BK65)-ROW($A$2)+1)),\"\")","v":""},{"$f":"IFERROR(INDEX(Отделения[отделение],SMALL(IF(Отделения[Город]=$CW$1,ROW(Отделения[Город])-1),ROW(BL65)-ROW($A$2)+1)),\"\")","v":""},{"$f":"IFERROR(INDEX(Отделения[отделение],SMALL(IF(Отделения[Город]=$CX$1,ROW(Отделения[Город])-1),ROW(BM65)-ROW($A$2)+1)),\"\")","v":""},{"$f":"IFERROR(INDEX(Отделения[отделение],SMALL(IF(Отделения[Город]=$CY$1,ROW(Отделения[Город])-1),ROW(BM65)-ROW($A$2)+1)),\"\")","v":""},{"$f":"IFERROR(INDEX(Отделения[отделение],SMALL(IF(Отделения[Город]=$CZ$1,ROW(Отделения[Город])-1),ROW(BM65)-ROW($A$2)+1)),\"\")","v":""},{"$f":"IFERROR(INDEX(Отделения[отделение],SMALL(IF(Отделения[Город]=$DA$1,ROW(Отделения[Город])-1),ROW(BM65)-ROW($A$2)+1)),\"\")","v":""},{"$f":"IFERROR(INDEX(Отделения[отделение],SMALL(IF(Отделения[Город]=$DB$1,ROW(Отделения[Город])-1),ROW(BM65)-ROW($A$2)+1)),\"\")","v":""}]
["Москва","ДО \"АВТОЗАВОДСКИЙ\" , 115280, г. Москва, ул. Автозаводская, д. 5","0638","MOQI",null,null,{"$f":"IFERROR(INDEX(Отделения[отделение],SMALL(IF(Отделения[Город]=$G$1,ROW(Отделения[Город])-1),ROW(A66)-ROW($A$2)+1)),\"\")","v":""},{"$f":"IFERROR(INDEX(Отделения[отделение],SMALL(IF(Отделения[Город]=$H$1,ROW(Отделения[Город])-1),ROW(A66)-ROW($A$2)+1)),\"\")","v":""},{"$f":"IFERROR(INDEX(Отделения[отделение],SMALL(IF(Отделения[Город]=$I$1,ROW(Отделения[Город])-1),ROW(A66)-ROW($A$2)+1)),\"\")","v":""},{"$f":"IFERROR(INDEX(Отделения[отделение],SMALL(IF(Отделения[Город]=$J$1,ROW(Отделения[Город])-1),ROW(A66)-ROW($A$2)+1)),\"\")","v":""},{"$f":"IFERROR(INDEX(Отделения[отделение],SMALL(IF(Отделения[Город]=$K$1,ROW(Отделения[Город])-1),ROW(A66)-ROW($A$2)+1)),\"\")","v":""},{"$f":"IFERROR(INDEX(Отделения[отделение],SMALL(IF(Отделения[Город]=$L$1,ROW(Отделения[Город])-1),ROW(A66)-ROW($A$2)+1)),\"\")","v":""},{"$f":"IFERROR(INDEX(Отделения[отделение],SMALL(IF(Отделения[Город]=$M$1,ROW(Отделения[Город])-1),ROW(B66)-ROW($A$2)+1)),\"\")","v":""},{"$f":"IFERROR(INDEX(Отделения[отделение],SMALL(IF(Отделения[Город]=$N$1,ROW(Отделения[Город])-1),ROW(#REF!)-ROW($A$2)+1)),\"\")","v":""},{"$f":"IFERROR(INDEX(Отделения[отделение],SMALL(IF(Отделения[Город]=$O$1,ROW(Отделения[Город])-1),ROW(C66)-ROW($A$2)+1)),\"\")","v":""},{"$f":"IFERROR(INDEX(Отделения[отделение],SMALL(IF(Отделения[Город]=$P$1,ROW(Отделения[Город])-1),ROW(D66)-ROW($A$2)+1)),\"\")","v":""},{"$f":"IFERROR(INDEX(Отделения[отделение],SMALL(IF(Отделения[Город]=$Q$1,ROW(Отделения[Город])-1),ROW(F66)-ROW($A$2)+1)),\"\")","v":""},{"$f":"IFERROR(INDEX(Отделения[отделение],SMALL(IF(Отделения[Город]=$R$1,ROW(Отделения[Город])-1),ROW(#REF!)-ROW($A$2)+1)),\"\")","v":""},{"$f":"IFERROR(INDEX(Отделения[отделение],SMALL(IF(Отделения[Город]=$S$1,ROW(Отделения[Город])-1),ROW(G66)-ROW($A$2)+1)),\"\")","v":""},{"$f":"IFERROR(INDEX(Отделения[отделение],SMALL(IF(Отделения[Город]=$T$1,ROW(Отделения[Город])-1),ROW(H66)-ROW($A$2)+1)),\"\")","v":""},{"$f":"IFERROR(INDEX(Отделения[отделение],SMALL(IF(Отделения[Город]=$U$1,ROW(Отделения[Город])-1),ROW(I66)-ROW($A$2)+1)),\"\")","v":""},{"$f":"IFERROR(INDEX(Отделения[отделение],SMALL(IF(Отделения[Город]=$V$1,ROW(Отделения[Город])-1),ROW(J66)-ROW($A$2)+1)),\"\")","v":""},{"$f":"IFERROR(INDEX(Отделения[отделение],SMALL(IF(Отделения[Город]=$W$1,ROW(Отделения[Город])-1),ROW(K66)-ROW($A$2)+1)),\"\")","v":""},{"$f":"IFERROR(INDEX(Отделения[отделение],SMALL(IF(Отделения[Город]=$X$1,ROW(Отделения[Город])-1),ROW(L66)-ROW($A$2)+1)),\"\")","v":""},{"$f":"IFERROR(INDEX(Отделения[отделение],SMALL(IF(Отделения[Город]=$Y$1,ROW(Отделения[Город])-1),ROW(M66)-ROW($A$2)+1)),\"\")","v":""},{"$f":"IFERROR(INDEX(Отделения[отделение],SMALL(IF(Отделения[Город]=$Z$1,ROW(Отделения[Город])-1),ROW(N66)-ROW($A$2)+1)),\"\")","v":""},{"$f":"IFERROR(INDEX(Отделения[отделение],SMALL(IF(Отделения[Город]=$AA$1,ROW(Отделения[Город])-1),ROW(O66)-ROW($A$2)+1)),\"\")","v":""},{"$f":"IFERROR(INDEX(Отделения[отделение],SMALL(IF(Отделения[Город]=$AB$1,ROW(Отделения[Город])-1),ROW(P66)-ROW($A$2)+1)),\"\")","v":""},{"$f":"IFERROR(INDEX(Отделения[отделение],SMALL(IF(Отделения[Город]=$AC$1,ROW(Отделения[Город])-1),ROW(Q66)-ROW($A$2)+1)),\"\")","v":""},{"$f":"IFERROR(INDEX(Отделения[отделение],SMALL(IF(Отделения[Город]=$AD$1,ROW(Отделения[Город])-1),ROW(R66)-ROW($A$2)+1)),\"\")","v":""},{"$f":"IFERROR(INDEX(Отделения[отделение],SMALL(IF(Отделения[Город]=$AE$1,ROW(Отделения[Город])-1),ROW(S66)-ROW($A$2)+1)),\"\")","v":""},{"$f":"IFERROR(INDEX(Отделения[отделение],SMALL(IF(Отделения[Город]=$AF$1,ROW(Отделения[Город])-1),ROW(T66)-ROW($A$2)+1)),\"\")","v":""},{"$f":"IFERROR(INDEX(Отделения[отделение],SMALL(IF(Отделения[Город]=$AG$1,ROW(Отделения[Город])-1),ROW(U66)-ROW($A$2)+1)),\"\")","v":""},{"$f":"IFERROR(INDEX(Отделения[отделение],SMALL(IF(Отделения[Город]=$AH$1,ROW(Отделения[Город])-1),ROW(V66)-ROW($A$2)+1)),\"\")","v":""},{"$f":"IFERROR(INDEX(Отделения[отделение],SMALL(IF(Отделения[Город]=$AI$1,ROW(Отделения[Город])-1),ROW(AB66)-ROW($A$2)+1)),\"\")","v":""},{"$f":"IFERROR(INDEX(Отделения[отделение],SMALL(IF(Отделения[Город]=$AJ$1,ROW(Отделения[Город])-1),ROW(AB66)-ROW($A$2)+1)),\"\")","v":""},{"$f":"IFERROR(INDEX(Отделения[отделение],SMALL(IF(Отделения[Город]=$AK$1,ROW(Отделения[Город])-1),ROW(AB66)-ROW($A$2)+1)),\"\")","v":""},{"$f":"IFERROR(INDEX(Отделения[отделение],SMALL(IF(Отделения[Город]=$AL$1,ROW(Отделения[Город])-1),ROW(AB66)-ROW($A$2)+1)),\"\")","v":""},{"$f":"IFERROR(INDEX(Отделения[отделение],SMALL(IF(Отделения[Город]=$AM$1,ROW(Отделения[Город])-1),ROW(AB66)-ROW($A$2)+1)),\"\")","v":""},{"$f":"IFERROR(INDEX(Отделения[отделение],SMALL(IF(Отделения[Город]=$AN$1,ROW(Отделения[Город])-1),ROW(AB66)-ROW($A$2)+1)),\"\")","v":""},{"$f":"IFERROR(INDEX(Отделения[отделение],SMALL(IF(Отделения[Город]=$AO$1,ROW(Отделения[Город])-1),ROW(AB66)-ROW($A$2)+1)),\"\")","v":""},{"$f":"IFERROR(INDEX(Отделения[отделение],SMALL(IF(Отделения[Город]=$AP$1,ROW(Отделения[Город])-1),ROW(AB66)-ROW($A$2)+1)),\"\")","v":""},{"$f":"IFERROR(INDEX(Отделения[отделение],SMALL(IF(Отделения[Город]=$AQ$1,ROW(Отделения[Город])-1),ROW(AB66)-ROW($A$2)+1)),\"\")","v":""},{"$f":"IFERROR(INDEX(Отделения[отделение],SMALL(IF(Отделения[Город]=$AR$1,ROW(Отделения[Город])-1),ROW(AB66)-ROW($A$2)+1)),\"\")","v":""},{"$f":"IFERROR(INDEX(Отделения[отделение],SMALL(IF(Отделения[Город]=$AS$1,ROW(Отделения[Город])-1),ROW(AB66)-ROW($A$2)+1)),\"\")","v":""},{"$f":"IFERROR(INDEX(Отделения[отделение],SMALL(IF(Отделения[Город]=$AT$1,ROW(Отделения[Город])-1),ROW(AB66)-ROW($A$2)+1)),\"\")","v":""},{"$f":"IFERROR(INDEX(Отделения[отделение],SMALL(IF(Отделения[Город]=$AU$1,ROW(Отделения[Город])-1),ROW(AB66)-ROW($A$2)+1)),\"\")","v":""},{"$f":"IFERROR(INDEX(Отделения[отделение],SMALL(IF(Отделения[Город]=$AV$1,ROW(Отделения[Город])-1),ROW(AB66)-ROW($A$2)+1)),\"\")","v":""},{"$f":"IFERROR(INDEX(Отделения[отделение],SMALL(IF(Отделения[Город]=$AW$1,ROW(Отделения[Город])-1),ROW(AB66)-ROW($A$2)+1)),\"\")","v":""},{"$f":"IFERROR(INDEX(Отделения[отделение],SMALL(IF(Отделения[Город]=$AX$1,ROW(Отделения[Город])-1),ROW(AB66)-ROW($A$2)+1)),\"\")","v":""},{"$f":"IFERROR(INDEX(Отделения[отделение],SMALL(IF(Отделения[Город]=$AY$1,ROW(Отделения[Город])-1),ROW(AB66)-ROW($A$2)+1)),\"\")","v":""},{"$f":"IFERROR(INDEX(Отделения[отделение],SMALL(IF(Отделения[Город]=$AZ$1,ROW(Отделения[Город])-1),ROW(AB66)-ROW($A$2)+1)),\"\")","v":""},{"$f":"IFERROR(INDEX(Отделения[отделение],SMALL(IF(Отделения[Город]=$BA$1,ROW(Отделения[Город])-1),ROW(AB66)-ROW($A$2)+1)),\"\")","v":""},{"$f":"IFERROR(INDEX(Отделения[отделение],SMALL(IF(Отделения[Город]=$BB$1,ROW(Отделения[Город])-1),ROW(AB66)-ROW($A$2)+1)),\"\")","v":""},{"$f":"IFERROR(INDEX(Отделения[отделение],SMALL(IF(Отделения[Город]=$BC$1,ROW(Отделения[Город])-1),ROW(AC66)-ROW($A$2)+1)),\"\")","v":""},{"$f":"IFERROR(INDEX(Отделения[отделение],SMALL(IF(Отделения[Город]=$BD$1,ROW(Отделения[Город])-1),ROW(AD66)-ROW($A$2)+1)),\"\")","v":""},{"$f":"IFERROR(INDEX(Отделения[отделение],SMALL(IF(Отделения[Город]=$BE$1,ROW(Отделения[Город])-1),ROW(AE66)-ROW($A$2)+1)),\"\")","v":""},{"$f":"IFERROR(INDEX(Отделения[отделение],SMALL(IF(Отделения[Город]=$BF$1,ROW(Отделения[Город])-1),ROW(AF66)-ROW($A$2)+1)),\"\")","v":""},{"$f":"IFERROR(INDEX(Отделения[отделение],SMALL(IF(Отделения[Город]=$BG$1,ROW(Отделения[Город])-1),ROW(AG66)-ROW($A$2)+1)),\"\")","v":""},{"$f":"IFERROR(INDEX(Отделения[отделение],SMALL(IF(Отделения[Город]=$BH$1,ROW(Отделения[Город])-1),ROW(AH66)-ROW($A$2)+1)),\"\")","v":""},{"$f":"IFERROR(INDEX(Отделения[отделение],SMALL(IF(Отделения[Город]=$BI$1,ROW(Отделения[Город])-1),ROW(AI66)-ROW($A$2)+1)),\"\")","v":""},{"$f":"IFERROR(INDEX(Отделения[отделение],SMALL(IF(Отделения[Город]=$BJ$1,ROW(Отделения[Город])-1),ROW(AJ66)-ROW($A$2)+1)),\"\")","v":""},{"$f":"IFERROR(INDEX(Отделения[отделение],SMALL(IF(Отделения[Город]=$BK$1,ROW(Отделения[Город])-1),ROW(AK66)-ROW($A$2)+1)),\"\")","v":""},{"$f":"IFERROR(INDEX(Отделения[отделение],SMALL(IF(Отделения[Город]=$BL$1,ROW(Отделения[Город])-1),ROW(AL66)-ROW($A$2)+1)),\"\")","v":""},{"$f":"IFERROR(INDEX(Отделения[отделение],SMALL(IF(Отделения[Город]=$BM$1,ROW(Отделения[Город])-1),ROW(AM66)-ROW($A$2)+1)),\"\")","v":""},{"$f":"IFERROR(INDEX(Отделения[отделение],SMALL(IF(Отделения[Город]=$BN$1,ROW(Отделения[Город])-1),ROW(AN66)-ROW($A$2)+1)),\"\")","v":""},{"$f":"IFERROR(INDEX(Отделения[отделение],SMALL(IF(Отделения[Город]=$BO$1,ROW(Отделения[Город])-1),ROW(AO66)-ROW($A$2)+1)),\"\")","v":""},{"$f":"IFERROR(INDEX(Отделения[отделение],SMALL(IF(Отделения[Город]=$BP$1,ROW(Отделения[Город])-1),ROW(AP66)-ROW($A$2)+1)),\"\")","v":""},{"$f":"IFERROR(INDEX(Отделения[отделение],SMALL(IF(Отделения[Город]=$BQ$1,ROW(Отделения[Город])-1),ROW(AQ66)-ROW($A$2)+1)),\"\")","v":""},{"$f":"IFERROR(INDEX(Отделения[отделение],SMALL(IF(Отделения[Город]=$BR$1,ROW(Отделения[Город])-1),ROW(AR66)-ROW($A$2)+1)),\"\")","v":""},{"$f":"IFERROR(INDEX(Отделения[отделение],SMALL(IF(Отделения[Город]=$BS$1,ROW(Отделения[Город])-1),ROW(AS66)-ROW($A$2)+1)),\"\")","v":""},{"$f":"IFERROR(INDEX(Отделения[отделение],SMALL(IF(Отделения[Город]=$BT$1,ROW(Отделения[Город])-1),ROW(AT66)-ROW($A$2)+1)),\"\")","v":""},{"$f":"IFERROR(INDEX(Отделения[отделение],SMALL(IF(Отделения[Город]=$BU$1,ROW(Отделения[Город])-1),ROW(AU66)-ROW($A$2)+1)),\"\")","v":""},{"$f":"IFERROR(INDEX(Отделения[отделение],SMALL(IF(Отделения[Город]=$BV$1,ROW(Отделения[Город])-1),ROW(AV66)-ROW($A$2)+1)),\"\")","v":""},{"$f":"IFERROR(INDEX(Отделения[отделение],SMALL(IF(Отделения[Город]=$BW$1,ROW(Отделения[Город])-1),ROW(AV66)-ROW($A$2)+1)),\"\")","v":""},{"$f":"IFERROR(INDEX(Отделения[отделение],SMALL(IF(Отделения[Город]=$BX$1,ROW(Отделения[Город])-1),ROW(AV66)-ROW($A$2)+1)),\"\")","v":""},{"$f":"IFERROR(INDEX(Отделения[отделение],SMALL(IF(Отделения[Город]=$BY$1,ROW(Отделения[Город])-1),ROW(AV66)-ROW($A$2)+1)),\"\")","v":""},{"$f":"IFERROR(INDEX(Отделения[отделение],SMALL(IF(Отделения[Город]=$BZ$1,ROW(Отделения[Город])-1),ROW(AV66)-ROW($A$2)+1)),\"\")","v":""},{"$f":"IFERROR(INDEX(Отделения[отделение],SMALL(IF(Отделения[Город]=$CA$1,ROW(Отделения[Город])-1),ROW(AV66)-ROW($A$2)+1)),\"\")","v":""},{"$f":"IFERROR(INDEX(Отделения[отделение],SMALL(IF(Отделения[Город]=$CB$1,ROW(Отделения[Город])-1),ROW(AV66)-ROW($A$2)+1)),\"\")","v":""},{"$f":"IFERROR(INDEX(Отделения[отделение],SMALL(IF(Отделения[Город]=$CC$1,ROW(Отделения[Город])-1),ROW(AV66)-ROW($A$2)+1)),\"\")","v":""},{"$f":"IFERROR(INDEX(Отделения[отделение],SMALL(IF(Отделения[Город]=$CD$1,ROW(Отделения[Город])-1),ROW(AV66)-ROW($A$2)+1)),\"\")","v":""},{"$f":"IFERROR(INDEX(Отделения[отделение],SMALL(IF(Отделения[Город]=$CE$1,ROW(Отделения[Город])-1),ROW(AV66)-ROW($A$2)+1)),\"\")","v":""},{"$f":"IFERROR(INDEX(Отделения[отделение],SMALL(IF(Отделения[Город]=$CF$1,ROW(Отделения[Город])-1),ROW(AV66)-ROW($A$2)+1)),\"\")","v":""},{"$f":"IFERROR(INDEX(Отделения[отделение],SMALL(IF(Отделения[Город]=$CG$1,ROW(Отделения[Город])-1),ROW(AV66)-ROW($A$2)+1)),\"\")","v":""},{"$f":"IFERROR(INDEX(Отделения[отделение],SMALL(IF(Отделения[Город]=$CH$1,ROW(Отделения[Город])-1),ROW(AW66)-ROW($A$2)+1)),\"\")","v":""},{"$f":"IFERROR(INDEX(Отделения[отделение],SMALL(IF(Отделения[Город]=$CI$1,ROW(Отделения[Город])-1),ROW(AX66)-ROW($A$2)+1)),\"\")","v":""},{"$f":"IFERROR(INDEX(Отделения[отделение],SMALL(IF(Отделения[Город]=$CJ$1,ROW(Отделения[Город])-1),ROW(AY66)-ROW($A$2)+1)),\"\")","v":""},{"$f":"IFERROR(INDEX(Отделения[отделение],SMALL(IF(Отделения[Город]=$CK$1,ROW(Отделения[Город])-1),ROW(AZ66)-ROW($A$2)+1)),\"\")","v":""},{"$f":"IFERROR(INDEX(Отделения[отделение],SMALL(IF(Отделения[Город]=$CL$1,ROW(Отделения[Город])-1),ROW(BA66)-ROW($A$2)+1)),\"\")","v":""},{"$f":"IFERROR(INDEX(Отделения[отделение],SMALL(IF(Отделения[Город]=$CM$1,ROW(Отделения[Город])-1),ROW(BB66)-ROW($A$2)+1)),\"\")","v":""},{"$f":"IFERROR(INDEX(Отделения[отделение],SMALL(IF(Отделения[Город]=$CN$1,ROW(Отделения[Город])-1),ROW(BC66)-ROW($A$2)+1)),\"\")","v":""},{"$f":"IFERROR(INDEX(Отделения[отделение],SMALL(IF(Отделения[Город]=$CO$1,ROW(Отделения[Город])-1),ROW(BD66)-ROW($A$2)+1)),\"\")","v":""},{"$f":"IFERROR(INDEX(Отделения[отделение],SMALL(IF(Отделения[Город]=$CP$1,ROW(Отделения[Город])-1),ROW(BE66)-ROW($A$2)+1)),\"\")","v":""},{"$f":"IFERROR(INDEX(Отделения[отделение],SMALL(IF(Отделения[Город]=$CQ$1,ROW(Отделения[Город])-1),ROW(BF66)-ROW($A$2)+1)),\"\")","v":""},{"$f":"IFERROR(INDEX(Отделения[отделение],SMALL(IF(Отделения[Город]=$CR$1,ROW(Отделения[Город])-1),ROW(BG66)-ROW($A$2)+1)),\"\")","v":""},{"$f":"IFERROR(INDEX(Отделения[отделение],SMALL(IF(Отделения[Город]=$CS$1,ROW(Отделения[Город])-1),ROW(BH66)-ROW($A$2)+1)),\"\")","v":""},{"$f":"IFERROR(INDEX(Отделения[отделение],SMALL(IF(Отделения[Город]=$CT$1,ROW(Отделения[Город])-1),ROW(BI66)-ROW($A$2)+1)),\"\")","v":""},{"$f":"IFERROR(INDEX(Отделения[отделение],SMALL(IF(Отделения[Город]=$CU$1,ROW(Отделения[Город])-1),ROW(BJ66)-ROW($A$2)+1)),\"\")","v":""},{"$f":"IFERROR(INDEX(Отделения[отделение],SMALL(IF(Отделения[Город]=$CV$1,ROW(Отделения[Город])-1),ROW(BK66)-ROW($A$2)+1)),\"\")","v":""},{"$f":"IFERROR(INDEX(Отделения[отделение],SMALL(IF(Отделения[Город]=$CW$1,ROW(Отделения[Город])-1),ROW(BL66)-ROW($A$2)+1)),\"\")","v":""},{"$f":"IFERROR(INDEX(Отделения[отделение],SMALL(IF(Отделения[Город]=$CX$1,ROW(Отделения[Город])-1),ROW(BM66)-ROW($A$2)+1)),\"\")","v":""},{"$f":"IFERROR(INDEX(Отделения[отделение],SMALL(IF(Отделения[Город]=$CY$1,ROW(Отделения[Город])-1),ROW(BM66)-ROW($A$2)+1)),\"\")","v":""},{"$f":"IFERROR(INDEX(Отделения[отделение],SMALL(IF(Отделения[Город]=$CZ$1,ROW(Отделения[Город])-1),ROW(BM66)-ROW($A$2)+1)),\"\")","v":""},{"$f":"IFERROR(INDEX(Отделения[отделение],SMALL(IF(Отделения[Город]=$DA$1,ROW(Отделения[Город])-1),ROW(BM66)-ROW($A$2)+1)),\"\")","v":""},{"$f":"IFERROR(INDEX(Отделения[отделение],SMALL(IF(Отделения[Город]=$DB$1,ROW(Отделения[Город])-1),ROW(BM66)-ROW($A$2)+1)),\"\")","v":""}]
["Люберцы","ДО \"ЛЮБЕРЦЫ\" , 140000, Московская обл., г. Люберцы, Октябрьский проспект, д.151/9","0639","MOQL",null,null,{"$f":"IFERROR(INDEX(Отделения[отделение],SMALL(IF(Отделения[Город]=$G$1,ROW(Отделения[Город])-1),ROW(A67)-ROW($A$2)+1)),\"\")","v":""},{"$f":"IFERROR(INDEX(Отделения[отделение],SMALL(IF(Отделения[Город]=$H$1,ROW(Отделения[Город])-1),ROW(A67)-ROW($A$2)+1)),\"\")","v":""},{"$f":"IFERROR(INDEX(Отделения[отделение],SMALL(IF(Отделения[Город]=$I$1,ROW(Отделения[Город])-1),ROW(A67)-ROW($A$2)+1)),\"\")","v":""},{"$f":"IFERROR(INDEX(Отделения[отделение],SMALL(IF(Отделения[Город]=$J$1,ROW(Отделения[Город])-1),ROW(A67)-ROW($A$2)+1)),\"\")","v":""},{"$f":"IFERROR(INDEX(Отделения[отделение],SMALL(IF(Отделения[Город]=$K$1,ROW(Отделения[Город])-1),ROW(A67)-ROW($A$2)+1)),\"\")","v":""},{"$f":"IFERROR(INDEX(Отделения[отделение],SMALL(IF(Отделения[Город]=$L$1,ROW(Отделения[Город])-1),ROW(A67)-ROW($A$2)+1)),\"\")","v":""},{"$f":"IFERROR(INDEX(Отделения[отделение],SMALL(IF(Отделения[Город]=$M$1,ROW(Отделения[Город])-1),ROW(B67)-ROW($A$2)+1)),\"\")","v":""},{"$f":"IFERROR(INDEX(Отделения[отделение],SMALL(IF(Отделения[Город]=$N$1,ROW(Отделения[Город])-1),ROW(#REF!)-ROW($A$2)+1)),\"\")","v":""},{"$f":"IFERROR(INDEX(Отделения[отделение],SMALL(IF(Отделения[Город]=$O$1,ROW(Отделения[Город])-1),ROW(C67)-ROW($A$2)+1)),\"\")","v":""},{"$f":"IFERROR(INDEX(Отделения[отделение],SMALL(IF(Отделения[Город]=$P$1,ROW(Отделения[Город])-1),ROW(D67)-ROW($A$2)+1)),\"\")","v":""},{"$f":"IFERROR(INDEX(Отделения[отделение],SMALL(IF(Отделения[Город]=$Q$1,ROW(Отделения[Город])-1),ROW(F67)-ROW($A$2)+1)),\"\")","v":""},{"$f":"IFERROR(INDEX(Отделения[отделение],SMALL(IF(Отделения[Город]=$R$1,ROW(Отделения[Город])-1),ROW(#REF!)-ROW($A$2)+1)),\"\")","v":""},{"$f":"IFERROR(INDEX(Отделения[отделение],SMALL(IF(Отделения[Город]=$S$1,ROW(Отделения[Город])-1),ROW(G67)-ROW($A$2)+1)),\"\")","v":""},{"$f":"IFERROR(INDEX(Отделения[отделение],SMALL(IF(Отделения[Город]=$T$1,ROW(Отделения[Город])-1),ROW(H67)-ROW($A$2)+1)),\"\")","v":""},{"$f":"IFERROR(INDEX(Отделения[отделение],SMALL(IF(Отделения[Город]=$U$1,ROW(Отделения[Город])-1),ROW(I67)-ROW($A$2)+1)),\"\")","v":""},{"$f":"IFERROR(INDEX(Отделения[отделение],SMALL(IF(Отделения[Город]=$V$1,ROW(Отделения[Город])-1),ROW(J67)-ROW($A$2)+1)),\"\")","v":""},{"$f":"IFERROR(INDEX(Отделения[отделение],SMALL(IF(Отделения[Город]=$W$1,ROW(Отделения[Город])-1),ROW(K67)-ROW($A$2)+1)),\"\")","v":""},{"$f":"IFERROR(INDEX(Отделения[отделение],SMALL(IF(Отделения[Город]=$X$1,ROW(Отделения[Город])-1),ROW(L67)-ROW($A$2)+1)),\"\")","v":""},{"$f":"IFERROR(INDEX(Отделения[отделение],SMALL(IF(Отделения[Город]=$Y$1,ROW(Отделения[Город])-1),ROW(M67)-ROW($A$2)+1)),\"\")","v":""},{"$f":"IFERROR(INDEX(Отделения[отделение],SMALL(IF(Отделения[Город]=$Z$1,ROW(Отделения[Город])-1),ROW(N67)-ROW($A$2)+1)),\"\")","v":""},{"$f":"IFERROR(INDEX(Отделения[отделение],SMALL(IF(Отделения[Город]=$AA$1,ROW(Отделения[Город])-1),ROW(O67)-ROW($A$2)+1)),\"\")","v":""},{"$f":"IFERROR(INDEX(Отделения[отделение],SMALL(IF(Отделения[Город]=$AB$1,ROW(Отделения[Город])-1),ROW(P67)-ROW($A$2)+1)),\"\")","v":""},{"$f":"IFERROR(INDEX(Отделения[отделение],SMALL(IF(Отделения[Город]=$AC$1,ROW(Отделения[Город])-1),ROW(Q67)-ROW($A$2)+1)),\"\")","v":""},{"$f":"IFERROR(INDEX(Отделения[отделение],SMALL(IF(Отделения[Город]=$AD$1,ROW(Отделения[Город])-1),ROW(R67)-ROW($A$2)+1)),\"\")","v":""},{"$f":"IFERROR(INDEX(Отделения[отделение],SMALL(IF(Отделения[Город]=$AE$1,ROW(Отделения[Город])-1),ROW(S67)-ROW($A$2)+1)),\"\")","v":""},{"$f":"IFERROR(INDEX(Отделения[отделение],SMALL(IF(Отделения[Город]=$AF$1,ROW(Отделения[Город])-1),ROW(T67)-ROW($A$2)+1)),\"\")","v":""},{"$f":"IFERROR(INDEX(Отделения[отделение],SMALL(IF(Отделения[Город]=$AG$1,ROW(Отделения[Город])-1),ROW(U67)-ROW($A$2)+1)),\"\")","v":""},{"$f":"IFERROR(INDEX(Отделения[отделение],SMALL(IF(Отделения[Город]=$AH$1,ROW(Отделения[Город])-1),ROW(V67)-ROW($A$2)+1)),\"\")","v":""},{"$f":"IFERROR(INDEX(Отделения[отделение],SMALL(IF(Отделения[Город]=$AI$1,ROW(Отделения[Город])-1),ROW(AB67)-ROW($A$2)+1)),\"\")","v":""},{"$f":"IFERROR(INDEX(Отделения[отделение],SMALL(IF(Отделения[Город]=$AJ$1,ROW(Отделения[Город])-1),ROW(AB67)-ROW($A$2)+1)),\"\")","v":""},{"$f":"IFERROR(INDEX(Отделения[отделение],SMALL(IF(Отделения[Город]=$AK$1,ROW(Отделения[Город])-1),ROW(AB67)-ROW($A$2)+1)),\"\")","v":""},{"$f":"IFERROR(INDEX(Отделения[отделение],SMALL(IF(Отделения[Город]=$AL$1,ROW(Отделения[Город])-1),ROW(AB67)-ROW($A$2)+1)),\"\")","v":""},{"$f":"IFERROR(INDEX(Отделения[отделение],SMALL(IF(Отделения[Город]=$AM$1,ROW(Отделения[Город])-1),ROW(AB67)-ROW($A$2)+1)),\"\")","v":""},{"$f":"IFERROR(INDEX(Отделения[отделение],SMALL(IF(Отделения[Город]=$AN$1,ROW(Отделения[Город])-1),ROW(AB67)-ROW($A$2)+1)),\"\")","v":""},{"$f":"IFERROR(INDEX(Отделения[отделение],SMALL(IF(Отделения[Город]=$AO$1,ROW(Отделения[Город])-1),ROW(AB67)-ROW($A$2)+1)),\"\")","v":""},{"$f":"IFERROR(INDEX(Отделения[отделение],SMALL(IF(Отделения[Город]=$AP$1,ROW(Отделения[Город])-1),ROW(AB67)-ROW($A$2)+1)),\"\")","v":""},{"$f":"IFERROR(INDEX(Отделения[отделение],SMALL(IF(Отделения[Город]=$AQ$1,ROW(Отделения[Город])-1),ROW(AB67)-ROW($A$2)+1)),\"\")","v":""},{"$f":"IFERROR(INDEX(Отделения[отделение],SMALL(IF(Отделения[Город]=$AR$1,ROW(Отделения[Город])-1),ROW(AB67)-ROW($A$2)+1)),\"\")","v":""},{"$f":"IFERROR(INDEX(Отделения[отделение],SMALL(IF(Отделения[Город]=$AS$1,ROW(Отделения[Город])-1),ROW(AB67)-ROW($A$2)+1)),\"\")","v":""},{"$f":"IFERROR(INDEX(Отделения[отделение],SMALL(IF(Отделения[Город]=$AT$1,ROW(Отделения[Город])-1),ROW(AB67)-ROW($A$2)+1)),\"\")","v":""},{"$f":"IFERROR(INDEX(Отделения[отделение],SMALL(IF(Отделения[Город]=$AU$1,ROW(Отделения[Город])-1),ROW(AB67)-ROW($A$2)+1)),\"\")","v":""},{"$f":"IFERROR(INDEX(Отделения[отделение],SMALL(IF(Отделения[Город]=$AV$1,ROW(Отделения[Город])-1),ROW(AB67)-ROW($A$2)+1)),\"\")","v":""},{"$f":"IFERROR(INDEX(Отделения[отделение],SMALL(IF(Отделения[Город]=$AW$1,ROW(Отделения[Город])-1),ROW(AB67)-ROW($A$2)+1)),\"\")","v":""},{"$f":"IFERROR(INDEX(Отделения[отделение],SMALL(IF(Отделения[Город]=$AX$1,ROW(Отделения[Город])-1),ROW(AB67)-ROW($A$2)+1)),\"\")","v":""},{"$f":"IFERROR(INDEX(Отделения[отделение],SMALL(IF(Отделения[Город]=$AY$1,ROW(Отделения[Город])-1),ROW(AB67)-ROW($A$2)+1)),\"\")","v":""},{"$f":"IFERROR(INDEX(Отделения[отделение],SMALL(IF(Отделения[Город]=$AZ$1,ROW(Отделения[Город])-1),ROW(AB67)-ROW($A$2)+1)),\"\")","v":""},{"$f":"IFERROR(INDEX(Отделения[отделение],SMALL(IF(Отделения[Город]=$BA$1,ROW(Отделения[Город])-1),ROW(AB67)-ROW($A$2)+1)),\"\")","v":""},{"$f":"IFERROR(INDEX(Отделения[отделение],SMALL(IF(Отделения[Город]=$BB$1,ROW(Отделения[Город])-1),ROW(AB67)-ROW($A$2)+1)),\"\")","v":""},{"$f":"IFERROR(INDEX(Отделения[отделение],SMALL(IF(Отделения[Город]=$BC$1,ROW(Отделения[Город])-1),ROW(AC67)-ROW($A$2)+1)),\"\")","v":""},{"$f":"IFERROR(INDEX(Отделения[отделение],SMALL(IF(Отделения[Город]=$BD$1,ROW(Отделения[Город])-1),ROW(AD67)-ROW($A$2)+1)),\"\")","v":""},{"$f":"IFERROR(INDEX(Отделения[отделение],SMALL(IF(Отделения[Город]=$BE$1,ROW(Отделения[Город])-1),ROW(AE67)-ROW($A$2)+1)),\"\")","v":""},{"$f":"IFERROR(INDEX(Отделения[отделение],SMALL(IF(Отделения[Город]=$BF$1,ROW(Отделения[Город])-1),ROW(AF67)-ROW($A$2)+1)),\"\")","v":""},{"$f":"IFERROR(INDEX(Отделения[отделение],SMALL(IF(Отделения[Город]=$BG$1,ROW(Отделения[Город])-1),ROW(AG67)-ROW($A$2)+1)),\"\")","v":""},{"$f":"IFERROR(INDEX(Отделения[отделение],SMALL(IF(Отделения[Город]=$BH$1,ROW(Отделения[Город])-1),ROW(AH67)-ROW($A$2)+1)),\"\")","v":""},{"$f":"IFERROR(INDEX(Отделения[отделение],SMALL(IF(Отделения[Город]=$BI$1,ROW(Отделения[Город])-1),ROW(AI67)-ROW($A$2)+1)),\"\")","v":""},{"$f":"IFERROR(INDEX(Отделения[отделение],SMALL(IF(Отделения[Город]=$BJ$1,ROW(Отделения[Город])-1),ROW(AJ67)-ROW($A$2)+1)),\"\")","v":""},{"$f":"IFERROR(INDEX(Отделения[отделение],SMALL(IF(Отделения[Город]=$BK$1,ROW(Отделения[Город])-1),ROW(AK67)-ROW($A$2)+1)),\"\")","v":""},{"$f":"IFERROR(INDEX(Отделения[отделение],SMALL(IF(Отделения[Город]=$BL$1,ROW(Отделения[Город])-1),ROW(AL67)-ROW($A$2)+1)),\"\")","v":""},{"$f":"IFERROR(INDEX(Отделения[отделение],SMALL(IF(Отделения[Город]=$BM$1,ROW(Отделения[Город])-1),ROW(AM67)-ROW($A$2)+1)),\"\")","v":""},{"$f":"IFERROR(INDEX(Отделения[отделение],SMALL(IF(Отделения[Город]=$BN$1,ROW(Отделения[Город])-1),ROW(AN67)-ROW($A$2)+1)),\"\")","v":""},{"$f":"IFERROR(INDEX(Отделения[отделение],SMALL(IF(Отделения[Город]=$BO$1,ROW(Отделения[Город])-1),ROW(AO67)-ROW($A$2)+1)),\"\")","v":""},{"$f":"IFERROR(INDEX(Отделения[отделение],SMALL(IF(Отделения[Город]=$BP$1,ROW(Отделения[Город])-1),ROW(AP67)-ROW($A$2)+1)),\"\")","v":""},{"$f":"IFERROR(INDEX(Отделения[отделение],SMALL(IF(Отделения[Город]=$BQ$1,ROW(Отделения[Город])-1),ROW(AQ67)-ROW($A$2)+1)),\"\")","v":""},{"$f":"IFERROR(INDEX(Отделения[отделение],SMALL(IF(Отделения[Город]=$BR$1,ROW(Отделения[Город])-1),ROW(AR67)-ROW($A$2)+1)),\"\")","v":""},{"$f":"IFERROR(INDEX(Отделения[отделение],SMALL(IF(Отделения[Город]=$BS$1,ROW(Отделения[Город])-1),ROW(AS67)-ROW($A$2)+1)),\"\")","v":""},{"$f":"IFERROR(INDEX(Отделения[отделение],SMALL(IF(Отделения[Город]=$BT$1,ROW(Отделения[Город])-1),ROW(AT67)-ROW($A$2)+1)),\"\")","v":""},{"$f":"IFERROR(INDEX(Отделения[отделение],SMALL(IF(Отделения[Город]=$BU$1,ROW(Отделения[Город])-1),ROW(AU67)-ROW($A$2)+1)),\"\")","v":""},{"$f":"IFERROR(INDEX(Отделения[отделение],SMALL(IF(Отделения[Город]=$BV$1,ROW(Отделения[Город])-1),ROW(AV67)-ROW($A$2)+1)),\"\")","v":""},{"$f":"IFERROR(INDEX(Отделения[отделение],SMALL(IF(Отделения[Город]=$BW$1,ROW(Отделения[Город])-1),ROW(AV67)-ROW($A$2)+1)),\"\")","v":""},{"$f":"IFERROR(INDEX(Отделения[отделение],SMALL(IF(Отделения[Город]=$BX$1,ROW(Отделения[Город])-1),ROW(AV67)-ROW($A$2)+1)),\"\")","v":""},{"$f":"IFERROR(INDEX(Отделения[отделение],SMALL(IF(Отделения[Город]=$BY$1,ROW(Отделения[Город])-1),ROW(AV67)-ROW($A$2)+1)),\"\")","v":""},{"$f":"IFERROR(INDEX(Отделения[отделение],SMALL(IF(Отделения[Город]=$BZ$1,ROW(Отделения[Город])-1),ROW(AV67)-ROW($A$2)+1)),\"\")","v":""},{"$f":"IFERROR(INDEX(Отделения[отделение],SMALL(IF(Отделения[Город]=$CA$1,ROW(Отделения[Город])-1),ROW(AV67)-ROW($A$2)+1)),\"\")","v":""},{"$f":"IFERROR(INDEX(Отделения[отделение],SMALL(IF(Отделения[Город]=$CB$1,ROW(Отделения[Город])-1),ROW(AV67)-ROW($A$2)+1)),\"\")","v":""},{"$f":"IFERROR(INDEX(Отделения[отделение],SMALL(IF(Отделения[Город]=$CC$1,ROW(Отделения[Город])-1),ROW(AV67)-ROW($A$2)+1)),\"\")","v":""},{"$f":"IFERROR(INDEX(Отделения[отделение],SMALL(IF(Отделения[Город]=$CD$1,ROW(Отделения[Город])-1),ROW(AV67)-ROW($A$2)+1)),\"\")","v":""},{"$f":"IFERROR(INDEX(Отделения[отделение],SMALL(IF(Отделения[Город]=$CE$1,ROW(Отделения[Город])-1),ROW(AV67)-ROW($A$2)+1)),\"\")","v":""},{"$f":"IFERROR(INDEX(Отделения[отделение],SMALL(IF(Отделения[Город]=$CF$1,ROW(Отделения[Город])-1),ROW(AV67)-ROW($A$2)+1)),\"\")","v":""},{"$f":"IFERROR(INDEX(Отделения[отделение],SMALL(IF(Отделения[Город]=$CG$1,ROW(Отделения[Город])-1),ROW(AV67)-ROW($A$2)+1)),\"\")","v":""},{"$f":"IFERROR(INDEX(Отделения[отделение],SMALL(IF(Отделения[Город]=$CH$1,ROW(Отделения[Город])-1),ROW(AW67)-ROW($A$2)+1)),\"\")","v":""},{"$f":"IFERROR(INDEX(Отделения[отделение],SMALL(IF(Отделения[Город]=$CI$1,ROW(Отделения[Город])-1),ROW(AX67)-ROW($A$2)+1)),\"\")","v":""},{"$f":"IFERROR(INDEX(Отделения[отделение],SMALL(IF(Отделения[Город]=$CJ$1,ROW(Отделения[Город])-1),ROW(AY67)-ROW($A$2)+1)),\"\")","v":""},{"$f":"IFERROR(INDEX(Отделения[отделение],SMALL(IF(Отделения[Город]=$CK$1,ROW(Отделения[Город])-1),ROW(AZ67)-ROW($A$2)+1)),\"\")","v":""},{"$f":"IFERROR(INDEX(Отделения[отделение],SMALL(IF(Отделения[Город]=$CL$1,ROW(Отделения[Город])-1),ROW(BA67)-ROW($A$2)+1)),\"\")","v":""},{"$f":"IFERROR(INDEX(Отделения[отделение],SMALL(IF(Отделения[Город]=$CM$1,ROW(Отделения[Город])-1),ROW(BB67)-ROW($A$2)+1)),\"\")","v":""},{"$f":"IFERROR(INDEX(Отделения[отделение],SMALL(IF(Отделения[Город]=$CN$1,ROW(Отделения[Город])-1),ROW(BC67)-ROW($A$2)+1)),\"\")","v":""},{"$f":"IFERROR(INDEX(Отделения[отделение],SMALL(IF(Отделения[Город]=$CO$1,ROW(Отделения[Город])-1),ROW(BD67)-ROW($A$2)+1)),\"\")","v":""},{"$f":"IFERROR(INDEX(Отделения[отделение],SMALL(IF(Отделения[Город]=$CP$1,ROW(Отделения[Город])-1),ROW(BE67)-ROW($A$2)+1)),\"\")","v":""},{"$f":"IFERROR(INDEX(Отделения[отделение],SMALL(IF(Отделения[Город]=$CQ$1,ROW(Отделения[Город])-1),ROW(BF67)-ROW($A$2)+1)),\"\")","v":""},{"$f":"IFERROR(INDEX(Отделения[отделение],SMALL(IF(Отделения[Город]=$CR$1,ROW(Отделения[Город])-1),ROW(BG67)-ROW($A$2)+1)),\"\")","v":""},{"$f":"IFERROR(INDEX(Отделения[отделение],SMALL(IF(Отделения[Город]=$CS$1,ROW(Отделения[Город])-1),ROW(BH67)-ROW($A$2)+1)),\"\")","v":""},{"$f":"IFERROR(INDEX(Отделения[отделение],SMALL(IF(Отделения[Город]=$CT$1,ROW(Отделения[Город])-1),ROW(BI67)-ROW($A$2)+1)),\"\")","v":""},{"$f":"IFERROR(INDEX(Отделения[отделение],SMALL(IF(Отделения[Город]=$CU$1,ROW(Отделения[Город])-1),ROW(BJ67)-ROW($A$2)+1)),\"\")","v":""},{"$f":"IFERROR(INDEX(Отделения[отделение],SMALL(IF(Отделения[Город]=$CV$1,ROW(Отделения[Город])-1),ROW(BK67)-ROW($A$2)+1)),\"\")","v":""},{"$f":"IFERROR(INDEX(Отделения[отделение],SMALL(IF(Отделения[Город]=$CW$1,ROW(Отделения[Город])-1),ROW(BL67)-ROW($A$2)+1)),\"\")","v":""},{"$f":"IFERROR(INDEX(Отделения[отделение],SMALL(IF(Отделения[Город]=$CX$1,ROW(Отделения[Город])-1),ROW(BM67)-ROW($A$2)+1)),\"\")","v":""},{"$f":"IFERROR(INDEX(Отделения[отделение],SMALL(IF(Отделения[Город]=$CY$1,ROW(Отделения[Город])-1),ROW(BM67)-ROW($A$2)+1)),\"\")","v":""},{"$f":"IFERROR(INDEX(Отделения[отделение],SMALL(IF(Отделения[Город]=$CZ$1,ROW(Отделения[Город])-1),ROW(BM67)-ROW($A$2)+1)),\"\")","v":""},{"$f":"IFERROR(INDEX(Отделения[отделение],SMALL(IF(Отделения[Город]=$DA$1,ROW(Отделения[Город])-1),ROW(BM67)-ROW($A$2)+1)),\"\")","v":""},{"$f":"IFERROR(INDEX(Отделения[отделение],SMALL(IF(Отделения[Город]=$DB$1,ROW(Отделения[Город])-1),ROW(BM67)-ROW($A$2)+1)),\"\")","v":""}]
["Москва","ДО \"ЦАРИЦЫНО\" , 115516, г.Москва, ул.Луганская,д.10","0642","MOXE",null,null,{"$f":"IFERROR(INDEX(Отделения[отделение],SMALL(IF(Отделения[Город]=$G$1,ROW(Отделения[Город])-1),ROW(A68)-ROW($A$2)+1)),\"\")","v":""},{"$f":"IFERROR(INDEX(Отделения[отделение],SMALL(IF(Отделения[Город]=$H$1,ROW(Отделения[Город])-1),ROW(A68)-ROW($A$2)+1)),\"\")","v":""},{"$f":"IFERROR(INDEX(Отделения[отделение],SMALL(IF(Отделения[Город]=$I$1,ROW(Отделения[Город])-1),ROW(A68)-ROW($A$2)+1)),\"\")","v":""},{"$f":"IFERROR(INDEX(Отделения[отделение],SMALL(IF(Отделения[Город]=$J$1,ROW(Отделения[Город])-1),ROW(A68)-ROW($A$2)+1)),\"\")","v":""},{"$f":"IFERROR(INDEX(Отделения[отделение],SMALL(IF(Отделения[Город]=$K$1,ROW(Отделения[Город])-1),ROW(A68)-ROW($A$2)+1)),\"\")","v":""},{"$f":"IFERROR(INDEX(Отделения[отделение],SMALL(IF(Отделения[Город]=$L$1,ROW(Отделения[Город])-1),ROW(A68)-ROW($A$2)+1)),\"\")","v":""},{"$f":"IFERROR(INDEX(Отделения[отделение],SMALL(IF(Отделения[Город]=$M$1,ROW(Отделения[Город])-1),ROW(B68)-ROW($A$2)+1)),\"\")","v":""},{"$f":"IFERROR(INDEX(Отделения[отделение],SMALL(IF(Отделения[Город]=$N$1,ROW(Отделения[Город])-1),ROW(#REF!)-ROW($A$2)+1)),\"\")","v":""},{"$f":"IFERROR(INDEX(Отделения[отделение],SMALL(IF(Отделения[Город]=$O$1,ROW(Отделения[Город])-1),ROW(C68)-ROW($A$2)+1)),\"\")","v":""},{"$f":"IFERROR(INDEX(Отделения[отделение],SMALL(IF(Отделения[Город]=$P$1,ROW(Отделения[Город])-1),ROW(D68)-ROW($A$2)+1)),\"\")","v":""},{"$f":"IFERROR(INDEX(Отделения[отделение],SMALL(IF(Отделения[Город]=$Q$1,ROW(Отделения[Город])-1),ROW(F68)-ROW($A$2)+1)),\"\")","v":""},{"$f":"IFERROR(INDEX(Отделения[отделение],SMALL(IF(Отделения[Город]=$R$1,ROW(Отделения[Город])-1),ROW(#REF!)-ROW($A$2)+1)),\"\")","v":""},{"$f":"IFERROR(INDEX(Отделения[отделение],SMALL(IF(Отделения[Город]=$S$1,ROW(Отделения[Город])-1),ROW(G68)-ROW($A$2)+1)),\"\")","v":""},{"$f":"IFERROR(INDEX(Отделения[отделение],SMALL(IF(Отделения[Город]=$T$1,ROW(Отделения[Город])-1),ROW(H68)-ROW($A$2)+1)),\"\")","v":""},{"$f":"IFERROR(INDEX(Отделения[отделение],SMALL(IF(Отделения[Город]=$U$1,ROW(Отделения[Город])-1),ROW(I68)-ROW($A$2)+1)),\"\")","v":""},{"$f":"IFERROR(INDEX(Отделения[отделение],SMALL(IF(Отделения[Город]=$V$1,ROW(Отделения[Город])-1),ROW(J68)-ROW($A$2)+1)),\"\")","v":""},{"$f":"IFERROR(INDEX(Отделения[отделение],SMALL(IF(Отделения[Город]=$W$1,ROW(Отделения[Город])-1),ROW(K68)-ROW($A$2)+1)),\"\")","v":""},{"$f":"IFERROR(INDEX(Отделения[отделение],SMALL(IF(Отделения[Город]=$X$1,ROW(Отделения[Город])-1),ROW(L68)-ROW($A$2)+1)),\"\")","v":""},{"$f":"IFERROR(INDEX(Отделения[отделение],SMALL(IF(Отделения[Город]=$Y$1,ROW(Отделения[Город])-1),ROW(M68)-ROW($A$2)+1)),\"\")","v":""},{"$f":"IFERROR(INDEX(Отделения[отделение],SMALL(IF(Отделения[Город]=$Z$1,ROW(Отделения[Город])-1),ROW(N68)-ROW($A$2)+1)),\"\")","v":""},{"$f":"IFERROR(INDEX(Отделения[отделение],SMALL(IF(Отделения[Город]=$AA$1,ROW(Отделения[Город])-1),ROW(O68)-ROW($A$2)+1)),\"\")","v":""},{"$f":"IFERROR(INDEX(Отделения[отделение],SMALL(IF(Отделения[Город]=$AB$1,ROW(Отделения[Город])-1),ROW(P68)-ROW($A$2)+1)),\"\")","v":""},{"$f":"IFERROR(INDEX(Отделения[отделение],SMALL(IF(Отделения[Город]=$AC$1,ROW(Отделения[Город])-1),ROW(Q68)-ROW($A$2)+1)),\"\")","v":""},{"$f":"IFERROR(INDEX(Отделения[отделение],SMALL(IF(Отделения[Город]=$AD$1,ROW(Отделения[Город])-1),ROW(R68)-ROW($A$2)+1)),\"\")","v":""},{"$f":"IFERROR(INDEX(Отделения[отделение],SMALL(IF(Отделения[Город]=$AE$1,ROW(Отделения[Город])-1),ROW(S68)-ROW($A$2)+1)),\"\")","v":""},{"$f":"IFERROR(INDEX(Отделения[отделение],SMALL(IF(Отделения[Город]=$AF$1,ROW(Отделения[Город])-1),ROW(T68)-ROW($A$2)+1)),\"\")","v":""},{"$f":"IFERROR(INDEX(Отделения[отделение],SMALL(IF(Отделения[Город]=$AG$1,ROW(Отделения[Город])-1),ROW(U68)-ROW($A$2)+1)),\"\")","v":""},{"$f":"IFERROR(INDEX(Отделения[отделение],SMALL(IF(Отделения[Город]=$AH$1,ROW(Отделения[Город])-1),ROW(V68)-ROW($A$2)+1)),\"\")","v":""},{"$f":"IFERROR(INDEX(Отделения[отделение],SMALL(IF(Отделения[Город]=$AI$1,ROW(Отделения[Город])-1),ROW(AB68)-ROW($A$2)+1)),\"\")","v":""},{"$f":"IFERROR(INDEX(Отделения[отделение],SMALL(IF(Отделения[Город]=$AJ$1,ROW(Отделения[Город])-1),ROW(AB68)-ROW($A$2)+1)),\"\")","v":""},{"$f":"IFERROR(INDEX(Отделения[отделение],SMALL(IF(Отделения[Город]=$AK$1,ROW(Отделения[Город])-1),ROW(AB68)-ROW($A$2)+1)),\"\")","v":""},{"$f":"IFERROR(INDEX(Отделения[отделение],SMALL(IF(Отделения[Город]=$AL$1,ROW(Отделения[Город])-1),ROW(AB68)-ROW($A$2)+1)),\"\")","v":""},{"$f":"IFERROR(INDEX(Отделения[отделение],SMALL(IF(Отделения[Город]=$AM$1,ROW(Отделения[Город])-1),ROW(AB68)-ROW($A$2)+1)),\"\")","v":""},{"$f":"IFERROR(INDEX(Отделения[отделение],SMALL(IF(Отделения[Город]=$AN$1,ROW(Отделения[Город])-1),ROW(AB68)-ROW($A$2)+1)),\"\")","v":""},{"$f":"IFERROR(INDEX(Отделения[отделение],SMALL(IF(Отделения[Город]=$AO$1,ROW(Отделения[Город])-1),ROW(AB68)-ROW($A$2)+1)),\"\")","v":""},{"$f":"IFERROR(INDEX(Отделения[отделение],SMALL(IF(Отделения[Город]=$AP$1,ROW(Отделения[Город])-1),ROW(AB68)-ROW($A$2)+1)),\"\")","v":""},{"$f":"IFERROR(INDEX(Отделения[отделение],SMALL(IF(Отделения[Город]=$AQ$1,ROW(Отделения[Город])-1),ROW(AB68)-ROW($A$2)+1)),\"\")","v":""},{"$f":"IFERROR(INDEX(Отделения[отделение],SMALL(IF(Отделения[Город]=$AR$1,ROW(Отделения[Город])-1),ROW(AB68)-ROW($A$2)+1)),\"\")","v":""},{"$f":"IFERROR(INDEX(Отделения[отделение],SMALL(IF(Отделения[Город]=$AS$1,ROW(Отделения[Город])-1),ROW(AB68)-ROW($A$2)+1)),\"\")","v":""},{"$f":"IFERROR(INDEX(Отделения[отделение],SMALL(IF(Отделения[Город]=$AT$1,ROW(Отделения[Город])-1),ROW(AB68)-ROW($A$2)+1)),\"\")","v":""},{"$f":"IFERROR(INDEX(Отделения[отделение],SMALL(IF(Отделения[Город]=$AU$1,ROW(Отделения[Город])-1),ROW(AB68)-ROW($A$2)+1)),\"\")","v":""},{"$f":"IFERROR(INDEX(Отделения[отделение],SMALL(IF(Отделения[Город]=$AV$1,ROW(Отделения[Город])-1),ROW(AB68)-ROW($A$2)+1)),\"\")","v":""},{"$f":"IFERROR(INDEX(Отделения[отделение],SMALL(IF(Отделения[Город]=$AW$1,ROW(Отделения[Город])-1),ROW(AB68)-ROW($A$2)+1)),\"\")","v":""},{"$f":"IFERROR(INDEX(Отделения[отделение],SMALL(IF(Отделения[Город]=$AX$1,ROW(Отделения[Город])-1),ROW(AB68)-ROW($A$2)+1)),\"\")","v":""},{"$f":"IFERROR(INDEX(Отделения[отделение],SMALL(IF(Отделения[Город]=$AY$1,ROW(Отделения[Город])-1),ROW(AB68)-ROW($A$2)+1)),\"\")","v":""},{"$f":"IFERROR(INDEX(Отделения[отделение],SMALL(IF(Отделения[Город]=$AZ$1,ROW(Отделения[Город])-1),ROW(AB68)-ROW($A$2)+1)),\"\")","v":""},{"$f":"IFERROR(INDEX(Отделения[отделение],SMALL(IF(Отделения[Город]=$BA$1,ROW(Отделения[Город])-1),ROW(AB68)-ROW($A$2)+1)),\"\")","v":""},{"$f":"IFERROR(INDEX(Отделения[отделение],SMALL(IF(Отделения[Город]=$BB$1,ROW(Отделения[Город])-1),ROW(AB68)-ROW($A$2)+1)),\"\")","v":""},{"$f":"IFERROR(INDEX(Отделения[отделение],SMALL(IF(Отделения[Город]=$BC$1,ROW(Отделения[Город])-1),ROW(AC68)-ROW($A$2)+1)),\"\")","v":""},{"$f":"IFERROR(INDEX(Отделения[отделение],SMALL(IF(Отделения[Город]=$BD$1,ROW(Отделения[Город])-1),ROW(AD68)-ROW($A$2)+1)),\"\")","v":""},{"$f":"IFERROR(INDEX(Отделения[отделение],SMALL(IF(Отделения[Город]=$BE$1,ROW(Отделения[Город])-1),ROW(AE68)-ROW($A$2)+1)),\"\")","v":""},{"$f":"IFERROR(INDEX(Отделения[отделение],SMALL(IF(Отделения[Город]=$BF$1,ROW(Отделения[Город])-1),ROW(AF68)-ROW($A$2)+1)),\"\")","v":""},{"$f":"IFERROR(INDEX(Отделения[отделение],SMALL(IF(Отделения[Город]=$BG$1,ROW(Отделения[Город])-1),ROW(AG68)-ROW($A$2)+1)),\"\")","v":""},{"$f":"IFERROR(INDEX(Отделения[отделение],SMALL(IF(Отделения[Город]=$BH$1,ROW(Отделения[Город])-1),ROW(AH68)-ROW($A$2)+1)),\"\")","v":""},{"$f":"IFERROR(INDEX(Отделения[отделение],SMALL(IF(Отделения[Город]=$BI$1,ROW(Отделения[Город])-1),ROW(AI68)-ROW($A$2)+1)),\"\")","v":""},{"$f":"IFERROR(INDEX(Отделения[отделение],SMALL(IF(Отделения[Город]=$BJ$1,ROW(Отделения[Город])-1),ROW(AJ68)-ROW($A$2)+1)),\"\")","v":""},{"$f":"IFERROR(INDEX(Отделения[отделение],SMALL(IF(Отделения[Город]=$BK$1,ROW(Отделения[Город])-1),ROW(AK68)-ROW($A$2)+1)),\"\")","v":""},{"$f":"IFERROR(INDEX(Отделения[отделение],SMALL(IF(Отделения[Город]=$BL$1,ROW(Отделения[Город])-1),ROW(AL68)-ROW($A$2)+1)),\"\")","v":""},{"$f":"IFERROR(INDEX(Отделения[отделение],SMALL(IF(Отделения[Город]=$BM$1,ROW(Отделения[Город])-1),ROW(AM68)-ROW($A$2)+1)),\"\")","v":""},{"$f":"IFERROR(INDEX(Отделения[отделение],SMALL(IF(Отделения[Город]=$BN$1,ROW(Отделения[Город])-1),ROW(AN68)-ROW($A$2)+1)),\"\")","v":""},{"$f":"IFERROR(INDEX(Отделения[отделение],SMALL(IF(Отделения[Город]=$BO$1,ROW(Отделения[Город])-1),ROW(AO68)-ROW($A$2)+1)),\"\")","v":""},{"$f":"IFERROR(INDEX(Отделения[отделение],SMALL(IF(Отделения[Город]=$BP$1,ROW(Отделения[Город])-1),ROW(AP68)-ROW($A$2)+1)),\"\")","v":""},{"$f":"IFERROR(INDEX(Отделения[отделение],SMALL(IF(Отделения[Город]=$BQ$1,ROW(Отделения[Город])-1),ROW(AQ68)-ROW($A$2)+1)),\"\")","v":""},{"$f":"IFERROR(INDEX(Отделения[отделение],SMALL(IF(Отделения[Город]=$BR$1,ROW(Отделения[Город])-1),ROW(AR68)-ROW($A$2)+1)),\"\")","v":""},{"$f":"IFERROR(INDEX(Отделения[отделение],SMALL(IF(Отделения[Город]=$BS$1,ROW(Отделения[Город])-1),ROW(AS68)-ROW($A$2)+1)),\"\")","v":""},{"$f":"IFERROR(INDEX(Отделения[отделение],SMALL(IF(Отделения[Город]=$BT$1,ROW(Отделения[Город])-1),ROW(AT68)-ROW($A$2)+1)),\"\")","v":""},{"$f":"IFERROR(INDEX(Отделения[отделение],SMALL(IF(Отделения[Город]=$BU$1,ROW(Отделения[Город])-1),ROW(AU68)-ROW($A$2)+1)),\"\")","v":""},{"$f":"IFERROR(INDEX(Отделения[отделение],SMALL(IF(Отделения[Город]=$BV$1,ROW(Отделения[Город])-1),ROW(AV68)-ROW($A$2)+1)),\"\")","v":""},{"$f":"IFERROR(INDEX(Отделения[отделение],SMALL(IF(Отделения[Город]=$BW$1,ROW(Отделения[Город])-1),ROW(AV68)-ROW($A$2)+1)),\"\")","v":""},{"$f":"IFERROR(INDEX(Отделения[отделение],SMALL(IF(Отделения[Город]=$BX$1,ROW(Отделения[Город])-1),ROW(AV68)-ROW($A$2)+1)),\"\")","v":""},{"$f":"IFERROR(INDEX(Отделения[отделение],SMALL(IF(Отделения[Город]=$BY$1,ROW(Отделения[Город])-1),ROW(AV68)-ROW($A$2)+1)),\"\")","v":""},{"$f":"IFERROR(INDEX(Отделения[отделение],SMALL(IF(Отделения[Город]=$BZ$1,ROW(Отделения[Город])-1),ROW(AV68)-ROW($A$2)+1)),\"\")","v":""},{"$f":"IFERROR(INDEX(Отделения[отделение],SMALL(IF(Отделения[Город]=$CA$1,ROW(Отделения[Город])-1),ROW(AV68)-ROW($A$2)+1)),\"\")","v":""},{"$f":"IFERROR(INDEX(Отделения[отделение],SMALL(IF(Отделения[Город]=$CB$1,ROW(Отделения[Город])-1),ROW(AV68)-ROW($A$2)+1)),\"\")","v":""},{"$f":"IFERROR(INDEX(Отделения[отделение],SMALL(IF(Отделения[Город]=$CC$1,ROW(Отделения[Город])-1),ROW(AV68)-ROW($A$2)+1)),\"\")","v":""},{"$f":"IFERROR(INDEX(Отделения[отделение],SMALL(IF(Отделения[Город]=$CD$1,ROW(Отделения[Город])-1),ROW(AV68)-ROW($A$2)+1)),\"\")","v":""},{"$f":"IFERROR(INDEX(Отделения[отделение],SMALL(IF(Отделения[Город]=$CE$1,ROW(Отделения[Город])-1),ROW(AV68)-ROW($A$2)+1)),\"\")","v":""},{"$f":"IFERROR(INDEX(Отделения[отделение],SMALL(IF(Отделения[Город]=$CF$1,ROW(Отделения[Город])-1),ROW(AV68)-ROW($A$2)+1)),\"\")","v":""},{"$f":"IFERROR(INDEX(Отделения[отделение],SMALL(IF(Отделения[Город]=$CG$1,ROW(Отделения[Город])-1),ROW(AV68)-ROW($A$2)+1)),\"\")","v":""},{"$f":"IFERROR(INDEX(Отделения[отделение],SMALL(IF(Отделения[Город]=$CH$1,ROW(Отделения[Город])-1),ROW(AW68)-ROW($A$2)+1)),\"\")","v":""},{"$f":"IFERROR(INDEX(Отделения[отделение],SMALL(IF(Отделения[Город]=$CI$1,ROW(Отделения[Город])-1),ROW(AX68)-ROW($A$2)+1)),\"\")","v":""},{"$f":"IFERROR(INDEX(Отделения[отделение],SMALL(IF(Отделения[Город]=$CJ$1,ROW(Отделения[Город])-1),ROW(AY68)-ROW($A$2)+1)),\"\")","v":""},{"$f":"IFERROR(INDEX(Отделения[отделение],SMALL(IF(Отделения[Город]=$CK$1,ROW(Отделения[Город])-1),ROW(AZ68)-ROW($A$2)+1)),\"\")","v":""},{"$f":"IFERROR(INDEX(Отделения[отделение],SMALL(IF(Отделения[Город]=$CL$1,ROW(Отделения[Город])-1),ROW(BA68)-ROW($A$2)+1)),\"\")","v":""},{"$f":"IFERROR(INDEX(Отделения[отделение],SMALL(IF(Отделения[Город]=$CM$1,ROW(Отделения[Город])-1),ROW(BB68)-ROW($A$2)+1)),\"\")","v":""},{"$f":"IFERROR(INDEX(Отделения[отделение],SMALL(IF(Отделения[Город]=$CN$1,ROW(Отделения[Город])-1),ROW(BC68)-ROW($A$2)+1)),\"\")","v":""},{"$f":"IFERROR(INDEX(Отделения[отделение],SMALL(IF(Отделения[Город]=$CO$1,ROW(Отделения[Город])-1),ROW(BD68)-ROW($A$2)+1)),\"\")","v":""},{"$f":"IFERROR(INDEX(Отделения[отделение],SMALL(IF(Отделения[Город]=$CP$1,ROW(Отделения[Город])-1),ROW(BE68)-ROW($A$2)+1)),\"\")","v":""},{"$f":"IFERROR(INDEX(Отделения[отделение],SMALL(IF(Отделения[Город]=$CQ$1,ROW(Отделения[Город])-1),ROW(BF68)-ROW($A$2)+1)),\"\")","v":""},{"$f":"IFERROR(INDEX(Отделения[отделение],SMALL(IF(Отделения[Город]=$CR$1,ROW(Отделения[Город])-1),ROW(BG68)-ROW($A$2)+1)),\"\")","v":""},{"$f":"IFERROR(INDEX(Отделения[отделение],SMALL(IF(Отделения[Город]=$CS$1,ROW(Отделения[Город])-1),ROW(BH68)-ROW($A$2)+1)),\"\")","v":""},{"$f":"IFERROR(INDEX(Отделения[отделение],SMALL(IF(Отделения[Город]=$CT$1,ROW(Отделения[Город])-1),ROW(BI68)-ROW($A$2)+1)),\"\")","v":""},{"$f":"IFERROR(INDEX(Отделения[отделение],SMALL(IF(Отделения[Город]=$CU$1,ROW(Отделения[Город])-1),ROW(BJ68)-ROW($A$2)+1)),\"\")","v":""},{"$f":"IFERROR(INDEX(Отделения[отделение],SMALL(IF(Отделения[Город]=$CV$1,ROW(Отделения[Город])-1),ROW(BK68)-ROW($A$2)+1)),\"\")","v":""},{"$f":"IFERROR(INDEX(Отделения[отделение],SMALL(IF(Отделения[Город]=$CW$1,ROW(Отделения[Город])-1),ROW(BL68)-ROW($A$2)+1)),\"\")","v":""},{"$f":"IFERROR(INDEX(Отделения[отделение],SMALL(IF(Отделения[Город]=$CX$1,ROW(Отделения[Город])-1),ROW(BM68)-ROW($A$2)+1)),\"\")","v":""},{"$f":"IFERROR(INDEX(Отделения[отделение],SMALL(IF(Отделения[Город]=$CY$1,ROW(Отделения[Город])-1),ROW(BM68)-ROW($A$2)+1)),\"\")","v":""},{"$f":"IFERROR(INDEX(Отделения[отделение],SMALL(IF(Отделения[Город]=$CZ$1,ROW(Отделения[Город])-1),ROW(BM68)-ROW($A$2)+1)),\"\")","v":""},{"$f":"IFERROR(INDEX(Отделения[отделение],SMALL(IF(Отделения[Город]=$DA$1,ROW(Отделения[Город])-1),ROW(BM68)-ROW($A$2)+1)),\"\")","v":""},{"$f":"IFERROR(INDEX(Отделения[отделение],SMALL(IF(Отделения[Город]=$DB$1,ROW(Отделения[Город])-1),ROW(BM68)-ROW($A$2)+1)),\"\")","v":""}]
["Москва","ДО \"ОТРАДНОЕ\" , 127566, г. Москва, ул. Декабристов,д. 17","0643","MOWD",null,null,{"$f":"IFERROR(INDEX(Отделения[отделение],SMALL(IF(Отделения[Город]=$G$1,ROW(Отделения[Город])-1),ROW(A69)-ROW($A$2)+1)),\"\")","v":""},{"$f":"IFERROR(INDEX(Отделения[отделение],SMALL(IF(Отделения[Город]=$H$1,ROW(Отделения[Город])-1),ROW(A69)-ROW($A$2)+1)),\"\")","v":""},{"$f":"IFERROR(INDEX(Отделения[отделение],SMALL(IF(Отделения[Город]=$I$1,ROW(Отделения[Город])-1),ROW(A69)-ROW($A$2)+1)),\"\")","v":""},{"$f":"IFERROR(INDEX(Отделения[отделение],SMALL(IF(Отделения[Город]=$J$1,ROW(Отделения[Город])-1),ROW(A69)-ROW($A$2)+1)),\"\")","v":""},{"$f":"IFERROR(INDEX(Отделения[отделение],SMALL(IF(Отделения[Город]=$K$1,ROW(Отделения[Город])-1),ROW(A69)-ROW($A$2)+1)),\"\")","v":""},{"$f":"IFERROR(INDEX(Отделения[отделение],SMALL(IF(Отделения[Город]=$L$1,ROW(Отделения[Город])-1),ROW(A69)-ROW($A$2)+1)),\"\")","v":""},{"$f":"IFERROR(INDEX(Отделения[отделение],SMALL(IF(Отделения[Город]=$M$1,ROW(Отделения[Город])-1),ROW(B69)-ROW($A$2)+1)),\"\")","v":""},{"$f":"IFERROR(INDEX(Отделения[отделение],SMALL(IF(Отделения[Город]=$N$1,ROW(Отделения[Город])-1),ROW(#REF!)-ROW($A$2)+1)),\"\")","v":""},{"$f":"IFERROR(INDEX(Отделения[отделение],SMALL(IF(Отделения[Город]=$O$1,ROW(Отделения[Город])-1),ROW(C69)-ROW($A$2)+1)),\"\")","v":""},{"$f":"IFERROR(INDEX(Отделения[отделение],SMALL(IF(Отделения[Город]=$P$1,ROW(Отделения[Город])-1),ROW(D69)-ROW($A$2)+1)),\"\")","v":""},{"$f":"IFERROR(INDEX(Отделения[отделение],SMALL(IF(Отделения[Город]=$Q$1,ROW(Отделения[Город])-1),ROW(F69)-ROW($A$2)+1)),\"\")","v":""},{"$f":"IFERROR(INDEX(Отделения[отделение],SMALL(IF(Отделения[Город]=$R$1,ROW(Отделения[Город])-1),ROW(#REF!)-ROW($A$2)+1)),\"\")","v":""},{"$f":"IFERROR(INDEX(Отделения[отделение],SMALL(IF(Отделения[Город]=$S$1,ROW(Отделения[Город])-1),ROW(G69)-ROW($A$2)+1)),\"\")","v":""},{"$f":"IFERROR(INDEX(Отделения[отделение],SMALL(IF(Отделения[Город]=$T$1,ROW(Отделения[Город])-1),ROW(H69)-ROW($A$2)+1)),\"\")","v":""},{"$f":"IFERROR(INDEX(Отделения[отделение],SMALL(IF(Отделения[Город]=$U$1,ROW(Отделения[Город])-1),ROW(I69)-ROW($A$2)+1)),\"\")","v":""},{"$f":"IFERROR(INDEX(Отделения[отделение],SMALL(IF(Отделения[Город]=$V$1,ROW(Отделения[Город])-1),ROW(J69)-ROW($A$2)+1)),\"\")","v":""},{"$f":"IFERROR(INDEX(Отделения[отделение],SMALL(IF(Отделения[Город]=$W$1,ROW(Отделения[Город])-1),ROW(K69)-ROW($A$2)+1)),\"\")","v":""},{"$f":"IFERROR(INDEX(Отделения[отделение],SMALL(IF(Отделения[Город]=$X$1,ROW(Отделения[Город])-1),ROW(L69)-ROW($A$2)+1)),\"\")","v":""},{"$f":"IFERROR(INDEX(Отделения[отделение],SMALL(IF(Отделения[Город]=$Y$1,ROW(Отделения[Город])-1),ROW(M69)-ROW($A$2)+1)),\"\")","v":""},{"$f":"IFERROR(INDEX(Отделения[отделение],SMALL(IF(Отделения[Город]=$Z$1,ROW(Отделения[Город])-1),ROW(N69)-ROW($A$2)+1)),\"\")","v":""},{"$f":"IFERROR(INDEX(Отделения[отделение],SMALL(IF(Отделения[Город]=$AA$1,ROW(Отделения[Город])-1),ROW(O69)-ROW($A$2)+1)),\"\")","v":""},{"$f":"IFERROR(INDEX(Отделения[отделение],SMALL(IF(Отделения[Город]=$AB$1,ROW(Отделения[Город])-1),ROW(P69)-ROW($A$2)+1)),\"\")","v":""},{"$f":"IFERROR(INDEX(Отделения[отделение],SMALL(IF(Отделения[Город]=$AC$1,ROW(Отделения[Город])-1),ROW(Q69)-ROW($A$2)+1)),\"\")","v":""},{"$f":"IFERROR(INDEX(Отделения[отделение],SMALL(IF(Отделения[Город]=$AD$1,ROW(Отделения[Город])-1),ROW(R69)-ROW($A$2)+1)),\"\")","v":""},{"$f":"IFERROR(INDEX(Отделения[отделение],SMALL(IF(Отделения[Город]=$AE$1,ROW(Отделения[Город])-1),ROW(S69)-ROW($A$2)+1)),\"\")","v":""},{"$f":"IFERROR(INDEX(Отделения[отделение],SMALL(IF(Отделения[Город]=$AF$1,ROW(Отделения[Город])-1),ROW(T69)-ROW($A$2)+1)),\"\")","v":""},{"$f":"IFERROR(INDEX(Отделения[отделение],SMALL(IF(Отделения[Город]=$AG$1,ROW(Отделения[Город])-1),ROW(U69)-ROW($A$2)+1)),\"\")","v":""},{"$f":"IFERROR(INDEX(Отделения[отделение],SMALL(IF(Отделения[Город]=$AH$1,ROW(Отделения[Город])-1),ROW(V69)-ROW($A$2)+1)),\"\")","v":""},{"$f":"IFERROR(INDEX(Отделения[отделение],SMALL(IF(Отделения[Город]=$AI$1,ROW(Отделения[Город])-1),ROW(AB69)-ROW($A$2)+1)),\"\")","v":""},{"$f":"IFERROR(INDEX(Отделения[отделение],SMALL(IF(Отделения[Город]=$AJ$1,ROW(Отделения[Город])-1),ROW(AB69)-ROW($A$2)+1)),\"\")","v":""},{"$f":"IFERROR(INDEX(Отделения[отделение],SMALL(IF(Отделения[Город]=$AK$1,ROW(Отделения[Город])-1),ROW(AB69)-ROW($A$2)+1)),\"\")","v":""},{"$f":"IFERROR(INDEX(Отделения[отделение],SMALL(IF(Отделения[Город]=$AL$1,ROW(Отделения[Город])-1),ROW(AB69)-ROW($A$2)+1)),\"\")","v":""},{"$f":"IFERROR(INDEX(Отделения[отделение],SMALL(IF(Отделения[Город]=$AM$1,ROW(Отделения[Город])-1),ROW(AB69)-ROW($A$2)+1)),\"\")","v":""},{"$f":"IFERROR(INDEX(Отделения[отделение],SMALL(IF(Отделения[Город]=$AN$1,ROW(Отделения[Город])-1),ROW(AB69)-ROW($A$2)+1)),\"\")","v":""},{"$f":"IFERROR(INDEX(Отделения[отделение],SMALL(IF(Отделения[Город]=$AO$1,ROW(Отделения[Город])-1),ROW(AB69)-ROW($A$2)+1)),\"\")","v":""},{"$f":"IFERROR(INDEX(Отделения[отделение],SMALL(IF(Отделения[Город]=$AP$1,ROW(Отделения[Город])-1),ROW(AB69)-ROW($A$2)+1)),\"\")","v":""},{"$f":"IFERROR(INDEX(Отделения[отделение],SMALL(IF(Отделения[Город]=$AQ$1,ROW(Отделения[Город])-1),ROW(AB69)-ROW($A$2)+1)),\"\")","v":""},{"$f":"IFERROR(INDEX(Отделения[отделение],SMALL(IF(Отделения[Город]=$AR$1,ROW(Отделения[Город])-1),ROW(AB69)-ROW($A$2)+1)),\"\")","v":""},{"$f":"IFERROR(INDEX(Отделения[отделение],SMALL(IF(Отделения[Город]=$AS$1,ROW(Отделения[Город])-1),ROW(AB69)-ROW($A$2)+1)),\"\")","v":""},{"$f":"IFERROR(INDEX(Отделения[отделение],SMALL(IF(Отделения[Город]=$AT$1,ROW(Отделения[Город])-1),ROW(AB69)-ROW($A$2)+1)),\"\")","v":""},{"$f":"IFERROR(INDEX(Отделения[отделение],SMALL(IF(Отделения[Город]=$AU$1,ROW(Отделения[Город])-1),ROW(AB69)-ROW($A$2)+1)),\"\")","v":""},{"$f":"IFERROR(INDEX(Отделения[отделение],SMALL(IF(Отделения[Город]=$AV$1,ROW(Отделения[Город])-1),ROW(AB69)-ROW($A$2)+1)),\"\")","v":""},{"$f":"IFERROR(INDEX(Отделения[отделение],SMALL(IF(Отделения[Город]=$AW$1,ROW(Отделения[Город])-1),ROW(AB69)-ROW($A$2)+1)),\"\")","v":""},{"$f":"IFERROR(INDEX(Отделения[отделение],SMALL(IF(Отделения[Город]=$AX$1,ROW(Отделения[Город])-1),ROW(AB69)-ROW($A$2)+1)),\"\")","v":""},{"$f":"IFERROR(INDEX(Отделения[отделение],SMALL(IF(Отделения[Город]=$AY$1,ROW(Отделения[Город])-1),ROW(AB69)-ROW($A$2)+1)),\"\")","v":""},{"$f":"IFERROR(INDEX(Отделения[отделение],SMALL(IF(Отделения[Город]=$AZ$1,ROW(Отделения[Город])-1),ROW(AB69)-ROW($A$2)+1)),\"\")","v":""},{"$f":"IFERROR(INDEX(Отделения[отделение],SMALL(IF(Отделения[Город]=$BA$1,ROW(Отделения[Город])-1),ROW(AB69)-ROW($A$2)+1)),\"\")","v":""},{"$f":"IFERROR(INDEX(Отделения[отделение],SMALL(IF(Отделения[Город]=$BB$1,ROW(Отделения[Город])-1),ROW(AB69)-ROW($A$2)+1)),\"\")","v":""},{"$f":"IFERROR(INDEX(Отделения[отделение],SMALL(IF(Отделения[Город]=$BC$1,ROW(Отделения[Город])-1),ROW(AC69)-ROW($A$2)+1)),\"\")","v":""},{"$f":"IFERROR(INDEX(Отделения[отделение],SMALL(IF(Отделения[Город]=$BD$1,ROW(Отделения[Город])-1),ROW(AD69)-ROW($A$2)+1)),\"\")","v":""},{"$f":"IFERROR(INDEX(Отделения[отделение],SMALL(IF(Отделения[Город]=$BE$1,ROW(Отделения[Город])-1),ROW(AE69)-ROW($A$2)+1)),\"\")","v":""},{"$f":"IFERROR(INDEX(Отделения[отделение],SMALL(IF(Отделения[Город]=$BF$1,ROW(Отделения[Город])-1),ROW(AF69)-ROW($A$2)+1)),\"\")","v":""},{"$f":"IFERROR(INDEX(Отделения[отделение],SMALL(IF(Отделения[Город]=$BG$1,ROW(Отделения[Город])-1),ROW(AG69)-ROW($A$2)+1)),\"\")","v":""},{"$f":"IFERROR(INDEX(Отделения[отделение],SMALL(IF(Отделения[Город]=$BH$1,ROW(Отделения[Город])-1),ROW(AH69)-ROW($A$2)+1)),\"\")","v":""},{"$f":"IFERROR(INDEX(Отделения[отделение],SMALL(IF(Отделения[Город]=$BI$1,ROW(Отделения[Город])-1),ROW(AI69)-ROW($A$2)+1)),\"\")","v":""},{"$f":"IFERROR(INDEX(Отделения[отделение],SMALL(IF(Отделения[Город]=$BJ$1,ROW(Отделения[Город])-1),ROW(AJ69)-ROW($A$2)+1)),\"\")","v":""},{"$f":"IFERROR(INDEX(Отделения[отделение],SMALL(IF(Отделения[Город]=$BK$1,ROW(Отделения[Город])-1),ROW(AK69)-ROW($A$2)+1)),\"\")","v":""},{"$f":"IFERROR(INDEX(Отделения[отделение],SMALL(IF(Отделения[Город]=$BL$1,ROW(Отделения[Город])-1),ROW(AL69)-ROW($A$2)+1)),\"\")","v":""},{"$f":"IFERROR(INDEX(Отделения[отделение],SMALL(IF(Отделения[Город]=$BM$1,ROW(Отделения[Город])-1),ROW(AM69)-ROW($A$2)+1)),\"\")","v":""},{"$f":"IFERROR(INDEX(Отделения[отделение],SMALL(IF(Отделения[Город]=$BN$1,ROW(Отделения[Город])-1),ROW(AN69)-ROW($A$2)+1)),\"\")","v":""},{"$f":"IFERROR(INDEX(Отделения[отделение],SMALL(IF(Отделения[Город]=$BO$1,ROW(Отделения[Город])-1),ROW(AO69)-ROW($A$2)+1)),\"\")","v":""},{"$f":"IFERROR(INDEX(Отделения[отделение],SMALL(IF(Отделения[Город]=$BP$1,ROW(Отделения[Город])-1),ROW(AP69)-ROW($A$2)+1)),\"\")","v":""},{"$f":"IFERROR(INDEX(Отделения[отделение],SMALL(IF(Отделения[Город]=$BQ$1,ROW(Отделения[Город])-1),ROW(AQ69)-ROW($A$2)+1)),\"\")","v":""},{"$f":"IFERROR(INDEX(Отделения[отделение],SMALL(IF(Отделения[Город]=$BR$1,ROW(Отделения[Город])-1),ROW(AR69)-ROW($A$2)+1)),\"\")","v":""},{"$f":"IFERROR(INDEX(Отделения[отделение],SMALL(IF(Отделения[Город]=$BS$1,ROW(Отделения[Город])-1),ROW(AS69)-ROW($A$2)+1)),\"\")","v":""},{"$f":"IFERROR(INDEX(Отделения[отделение],SMALL(IF(Отделения[Город]=$BT$1,ROW(Отделения[Город])-1),ROW(AT69)-ROW($A$2)+1)),\"\")","v":""},{"$f":"IFERROR(INDEX(Отделения[отделение],SMALL(IF(Отделения[Город]=$BU$1,ROW(Отделения[Город])-1),ROW(AU69)-ROW($A$2)+1)),\"\")","v":""},{"$f":"IFERROR(INDEX(Отделения[отделение],SMALL(IF(Отделения[Город]=$BV$1,ROW(Отделения[Город])-1),ROW(AV69)-ROW($A$2)+1)),\"\")","v":""},{"$f":"IFERROR(INDEX(Отделения[отделение],SMALL(IF(Отделения[Город]=$BW$1,ROW(Отделения[Город])-1),ROW(AV69)-ROW($A$2)+1)),\"\")","v":""},{"$f":"IFERROR(INDEX(Отделения[отделение],SMALL(IF(Отделения[Город]=$BX$1,ROW(Отделения[Город])-1),ROW(AV69)-ROW($A$2)+1)),\"\")","v":""},{"$f":"IFERROR(INDEX(Отделения[отделение],SMALL(IF(Отделения[Город]=$BY$1,ROW(Отделения[Город])-1),ROW(AV69)-ROW($A$2)+1)),\"\")","v":""},{"$f":"IFERROR(INDEX(Отделения[отделение],SMALL(IF(Отделения[Город]=$BZ$1,ROW(Отделения[Город])-1),ROW(AV69)-ROW($A$2)+1)),\"\")","v":""},{"$f":"IFERROR(INDEX(Отделения[отделение],SMALL(IF(Отделения[Город]=$CA$1,ROW(Отделения[Город])-1),ROW(AV69)-ROW($A$2)+1)),\"\")","v":""},{"$f":"IFERROR(INDEX(Отделения[отделение],SMALL(IF(Отделения[Город]=$CB$1,ROW(Отделения[Город])-1),ROW(AV69)-ROW($A$2)+1)),\"\")","v":""},{"$f":"IFERROR(INDEX(Отделения[отделение],SMALL(IF(Отделения[Город]=$CC$1,ROW(Отделения[Город])-1),ROW(AV69)-ROW($A$2)+1)),\"\")","v":""},{"$f":"IFERROR(INDEX(Отделения[отделение],SMALL(IF(Отделения[Город]=$CD$1,ROW(Отделения[Город])-1),ROW(AV69)-ROW($A$2)+1)),\"\")","v":""},{"$f":"IFERROR(INDEX(Отделения[отделение],SMALL(IF(Отделения[Город]=$CE$1,ROW(Отделения[Город])-1),ROW(AV69)-ROW($A$2)+1)),\"\")","v":""},{"$f":"IFERROR(INDEX(Отделения[отделение],SMALL(IF(Отделения[Город]=$CF$1,ROW(Отделения[Город])-1),ROW(AV69)-ROW($A$2)+1)),\"\")","v":""},{"$f":"IFERROR(INDEX(Отделения[отделение],SMALL(IF(Отделения[Город]=$CG$1,ROW(Отделения[Город])-1),ROW(AV69)-ROW($A$2)+1)),\"\")","v":""},{"$f":"IFERROR(INDEX(Отделения[отделение],SMALL(IF(Отделения[Город]=$CH$1,ROW(Отделения[Город])-1),ROW(AW69)-ROW($A$2)+1)),\"\")","v":""},{"$f":"IFERROR(INDEX(Отделения[отделение],SMALL(IF(Отделения[Город]=$CI$1,ROW(Отделения[Город])-1),ROW(AX69)-ROW($A$2)+1)),\"\")","v":""},{"$f":"IFERROR(INDEX(Отделения[отделение],SMALL(IF(Отделения[Город]=$CJ$1,ROW(Отделения[Город])-1),ROW(AY69)-ROW($A$2)+1)),\"\")","v":""},{"$f":"IFERROR(INDEX(Отделения[отделение],SMALL(IF(Отделения[Город]=$CK$1,ROW(Отделения[Город])-1),ROW(AZ69)-ROW($A$2)+1)),\"\")","v":""},{"$f":"IFERROR(INDEX(Отделения[отделение],SMALL(IF(Отделения[Город]=$CL$1,ROW(Отделения[Город])-1),ROW(BA69)-ROW($A$2)+1)),\"\")","v":""},{"$f":"IFERROR(INDEX(Отделения[отделение],SMALL(IF(Отделения[Город]=$CM$1,ROW(Отделения[Город])-1),ROW(BB69)-ROW($A$2)+1)),\"\")","v":""},{"$f":"IFERROR(INDEX(Отделения[отделение],SMALL(IF(Отделения[Город]=$CN$1,ROW(Отделения[Город])-1),ROW(BC69)-ROW($A$2)+1)),\"\")","v":""},{"$f":"IFERROR(INDEX(Отделения[отделение],SMALL(IF(Отделения[Город]=$CO$1,ROW(Отделения[Город])-1),ROW(BD69)-ROW($A$2)+1)),\"\")","v":""},{"$f":"IFERROR(INDEX(Отделения[отделение],SMALL(IF(Отделения[Город]=$CP$1,ROW(Отделения[Город])-1),ROW(BE69)-ROW($A$2)+1)),\"\")","v":""},{"$f":"IFERROR(INDEX(Отделения[отделение],SMALL(IF(Отделения[Город]=$CQ$1,ROW(Отделения[Город])-1),ROW(BF69)-ROW($A$2)+1)),\"\")","v":""},{"$f":"IFERROR(INDEX(Отделения[отделение],SMALL(IF(Отделения[Город]=$CR$1,ROW(Отделения[Город])-1),ROW(BG69)-ROW($A$2)+1)),\"\")","v":""},{"$f":"IFERROR(INDEX(Отделения[отделение],SMALL(IF(Отделения[Город]=$CS$1,ROW(Отделения[Город])-1),ROW(BH69)-ROW($A$2)+1)),\"\")","v":""},{"$f":"IFERROR(INDEX(Отделения[отделение],SMALL(IF(Отделения[Город]=$CT$1,ROW(Отделения[Город])-1),ROW(BI69)-ROW($A$2)+1)),\"\")","v":""},{"$f":"IFERROR(INDEX(Отделения[отделение],SMALL(IF(Отделения[Город]=$CU$1,ROW(Отделения[Город])-1),ROW(BJ69)-ROW($A$2)+1)),\"\")","v":""},{"$f":"IFERROR(INDEX(Отделения[отделение],SMALL(IF(Отделения[Город]=$CV$1,ROW(Отделения[Город])-1),ROW(BK69)-ROW($A$2)+1)),\"\")","v":""},{"$f":"IFERROR(INDEX(Отделения[отделение],SMALL(IF(Отделения[Город]=$CW$1,ROW(Отделения[Город])-1),ROW(BL69)-ROW($A$2)+1)),\"\")","v":""},{"$f":"IFERROR(INDEX(Отделения[отделение],SMALL(IF(Отделения[Город]=$CX$1,ROW(Отделения[Город])-1),ROW(BM69)-ROW($A$2)+1)),\"\")","v":""},{"$f":"IFERROR(INDEX(Отделения[отделение],SMALL(IF(Отделения[Город]=$CY$1,ROW(Отделения[Город])-1),ROW(BM69)-ROW($A$2)+1)),\"\")","v":""},{"$f":"IFERROR(INDEX(Отделения[отделение],SMALL(IF(Отделения[Город]=$CZ$1,ROW(Отделения[Город])-1),ROW(BM69)-ROW($A$2)+1)),\"\")","v":""},{"$f":"IFERROR(INDEX(Отделения[отделение],SMALL(IF(Отделения[Город]=$DA$1,ROW(Отделения[Город])-1),ROW(BM69)-ROW($A$2)+1)),\"\")","v":""},{"$f":"IFERROR(INDEX(Отделения[отделение],SMALL(IF(Отделения[Город]=$DB$1,ROW(Отделения[Город])-1),ROW(BM69)-ROW($A$2)+1)),\"\")","v":""}]
["Москва","ДО \"БУЛЬВАР ДМИТРИЯ ДОНСКОГО\" , 117216, г. Москва, б-р Дмитрия Донского,д. 11","0644","MOWF",null,null,{"$f":"IFERROR(INDEX(Отделения[отделение],SMALL(IF(Отделения[Город]=$G$1,ROW(Отделения[Город])-1),ROW(A70)-ROW($A$2)+1)),\"\")","v":""},{"$f":"IFERROR(INDEX(Отделения[отделение],SMALL(IF(Отделения[Город]=$H$1,ROW(Отделения[Город])-1),ROW(A70)-ROW($A$2)+1)),\"\")","v":""},{"$f":"IFERROR(INDEX(Отделения[отделение],SMALL(IF(Отделения[Город]=$I$1,ROW(Отделения[Город])-1),ROW(A70)-ROW($A$2)+1)),\"\")","v":""},{"$f":"IFERROR(INDEX(Отделения[отделение],SMALL(IF(Отделения[Город]=$J$1,ROW(Отделения[Город])-1),ROW(A70)-ROW($A$2)+1)),\"\")","v":""},{"$f":"IFERROR(INDEX(Отделения[отделение],SMALL(IF(Отделения[Город]=$K$1,ROW(Отделения[Город])-1),ROW(A70)-ROW($A$2)+1)),\"\")","v":""},{"$f":"IFERROR(INDEX(Отделения[отделение],SMALL(IF(Отделения[Город]=$L$1,ROW(Отделения[Город])-1),ROW(A70)-ROW($A$2)+1)),\"\")","v":""},{"$f":"IFERROR(INDEX(Отделения[отделение],SMALL(IF(Отделения[Город]=$M$1,ROW(Отделения[Город])-1),ROW(B70)-ROW($A$2)+1)),\"\")","v":""},{"$f":"IFERROR(INDEX(Отделения[отделение],SMALL(IF(Отделения[Город]=$N$1,ROW(Отделения[Город])-1),ROW(#REF!)-ROW($A$2)+1)),\"\")","v":""},{"$f":"IFERROR(INDEX(Отделения[отделение],SMALL(IF(Отделения[Город]=$O$1,ROW(Отделения[Город])-1),ROW(C70)-ROW($A$2)+1)),\"\")","v":""},{"$f":"IFERROR(INDEX(Отделения[отделение],SMALL(IF(Отделения[Город]=$P$1,ROW(Отделения[Город])-1),ROW(D70)-ROW($A$2)+1)),\"\")","v":""},{"$f":"IFERROR(INDEX(Отделения[отделение],SMALL(IF(Отделения[Город]=$Q$1,ROW(Отделения[Город])-1),ROW(F70)-ROW($A$2)+1)),\"\")","v":""},{"$f":"IFERROR(INDEX(Отделения[отделение],SMALL(IF(Отделения[Город]=$R$1,ROW(Отделения[Город])-1),ROW(#REF!)-ROW($A$2)+1)),\"\")","v":""},{"$f":"IFERROR(INDEX(Отделения[отделение],SMALL(IF(Отделения[Город]=$S$1,ROW(Отделения[Город])-1),ROW(G70)-ROW($A$2)+1)),\"\")","v":""},{"$f":"IFERROR(INDEX(Отделения[отделение],SMALL(IF(Отделения[Город]=$T$1,ROW(Отделения[Город])-1),ROW(H70)-ROW($A$2)+1)),\"\")","v":""},{"$f":"IFERROR(INDEX(Отделения[отделение],SMALL(IF(Отделения[Город]=$U$1,ROW(Отделения[Город])-1),ROW(I70)-ROW($A$2)+1)),\"\")","v":""},{"$f":"IFERROR(INDEX(Отделения[отделение],SMALL(IF(Отделения[Город]=$V$1,ROW(Отделения[Город])-1),ROW(J70)-ROW($A$2)+1)),\"\")","v":""},{"$f":"IFERROR(INDEX(Отделения[отделение],SMALL(IF(Отделения[Город]=$W$1,ROW(Отделения[Город])-1),ROW(K70)-ROW($A$2)+1)),\"\")","v":""},{"$f":"IFERROR(INDEX(Отделения[отделение],SMALL(IF(Отделения[Город]=$X$1,ROW(Отделения[Город])-1),ROW(L70)-ROW($A$2)+1)),\"\")","v":""},{"$f":"IFERROR(INDEX(Отделения[отделение],SMALL(IF(Отделения[Город]=$Y$1,ROW(Отделения[Город])-1),ROW(M70)-ROW($A$2)+1)),\"\")","v":""},{"$f":"IFERROR(INDEX(Отделения[отделение],SMALL(IF(Отделения[Город]=$Z$1,ROW(Отделения[Город])-1),ROW(N70)-ROW($A$2)+1)),\"\")","v":""},{"$f":"IFERROR(INDEX(Отделения[отделение],SMALL(IF(Отделения[Город]=$AA$1,ROW(Отделения[Город])-1),ROW(O70)-ROW($A$2)+1)),\"\")","v":""},{"$f":"IFERROR(INDEX(Отделения[отделение],SMALL(IF(Отделения[Город]=$AB$1,ROW(Отделения[Город])-1),ROW(P70)-ROW($A$2)+1)),\"\")","v":""},{"$f":"IFERROR(INDEX(Отделения[отделение],SMALL(IF(Отделения[Город]=$AC$1,ROW(Отделения[Город])-1),ROW(Q70)-ROW($A$2)+1)),\"\")","v":""},{"$f":"IFERROR(INDEX(Отделения[отделение],SMALL(IF(Отделения[Город]=$AD$1,ROW(Отделения[Город])-1),ROW(R70)-ROW($A$2)+1)),\"\")","v":""},{"$f":"IFERROR(INDEX(Отделения[отделение],SMALL(IF(Отделения[Город]=$AE$1,ROW(Отделения[Город])-1),ROW(S70)-ROW($A$2)+1)),\"\")","v":""},{"$f":"IFERROR(INDEX(Отделения[отделение],SMALL(IF(Отделения[Город]=$AF$1,ROW(Отделения[Город])-1),ROW(T70)-ROW($A$2)+1)),\"\")","v":""},{"$f":"IFERROR(INDEX(Отделения[отделение],SMALL(IF(Отделения[Город]=$AG$1,ROW(Отделения[Город])-1),ROW(U70)-ROW($A$2)+1)),\"\")","v":""},{"$f":"IFERROR(INDEX(Отделения[отделение],SMALL(IF(Отделения[Город]=$AH$1,ROW(Отделения[Город])-1),ROW(V70)-ROW($A$2)+1)),\"\")","v":""},{"$f":"IFERROR(INDEX(Отделения[отделение],SMALL(IF(Отделения[Город]=$AI$1,ROW(Отделения[Город])-1),ROW(AB70)-ROW($A$2)+1)),\"\")","v":""},{"$f":"IFERROR(INDEX(Отделения[отделение],SMALL(IF(Отделения[Город]=$AJ$1,ROW(Отделения[Город])-1),ROW(AB70)-ROW($A$2)+1)),\"\")","v":""},{"$f":"IFERROR(INDEX(Отделения[отделение],SMALL(IF(Отделения[Город]=$AK$1,ROW(Отделения[Город])-1),ROW(AB70)-ROW($A$2)+1)),\"\")","v":""},{"$f":"IFERROR(INDEX(Отделения[отделение],SMALL(IF(Отделения[Город]=$AL$1,ROW(Отделения[Город])-1),ROW(AB70)-ROW($A$2)+1)),\"\")","v":""},{"$f":"IFERROR(INDEX(Отделения[отделение],SMALL(IF(Отделения[Город]=$AM$1,ROW(Отделения[Город])-1),ROW(AB70)-ROW($A$2)+1)),\"\")","v":""},{"$f":"IFERROR(INDEX(Отделения[отделение],SMALL(IF(Отделения[Город]=$AN$1,ROW(Отделения[Город])-1),ROW(AB70)-ROW($A$2)+1)),\"\")","v":""},{"$f":"IFERROR(INDEX(Отделения[отделение],SMALL(IF(Отделения[Город]=$AO$1,ROW(Отделения[Город])-1),ROW(AB70)-ROW($A$2)+1)),\"\")","v":""},{"$f":"IFERROR(INDEX(Отделения[отделение],SMALL(IF(Отделения[Город]=$AP$1,ROW(Отделения[Город])-1),ROW(AB70)-ROW($A$2)+1)),\"\")","v":""},{"$f":"IFERROR(INDEX(Отделения[отделение],SMALL(IF(Отделения[Город]=$AQ$1,ROW(Отделения[Город])-1),ROW(AB70)-ROW($A$2)+1)),\"\")","v":""},{"$f":"IFERROR(INDEX(Отделения[отделение],SMALL(IF(Отделения[Город]=$AR$1,ROW(Отделения[Город])-1),ROW(AB70)-ROW($A$2)+1)),\"\")","v":""},{"$f":"IFERROR(INDEX(Отделения[отделение],SMALL(IF(Отделения[Город]=$AS$1,ROW(Отделения[Город])-1),ROW(AB70)-ROW($A$2)+1)),\"\")","v":""},{"$f":"IFERROR(INDEX(Отделения[отделение],SMALL(IF(Отделения[Город]=$AT$1,ROW(Отделения[Город])-1),ROW(AB70)-ROW($A$2)+1)),\"\")","v":""},{"$f":"IFERROR(INDEX(Отделения[отделение],SMALL(IF(Отделения[Город]=$AU$1,ROW(Отделения[Город])-1),ROW(AB70)-ROW($A$2)+1)),\"\")","v":""},{"$f":"IFERROR(INDEX(Отделения[отделение],SMALL(IF(Отделения[Город]=$AV$1,ROW(Отделения[Город])-1),ROW(AB70)-ROW($A$2)+1)),\"\")","v":""},{"$f":"IFERROR(INDEX(Отделения[отделение],SMALL(IF(Отделения[Город]=$AW$1,ROW(Отделения[Город])-1),ROW(AB70)-ROW($A$2)+1)),\"\")","v":""},{"$f":"IFERROR(INDEX(Отделения[отделение],SMALL(IF(Отделения[Город]=$AX$1,ROW(Отделения[Город])-1),ROW(AB70)-ROW($A$2)+1)),\"\")","v":""},{"$f":"IFERROR(INDEX(Отделения[отделение],SMALL(IF(Отделения[Город]=$AY$1,ROW(Отделения[Город])-1),ROW(AB70)-ROW($A$2)+1)),\"\")","v":""},{"$f":"IFERROR(INDEX(Отделения[отделение],SMALL(IF(Отделения[Город]=$AZ$1,ROW(Отделения[Город])-1),ROW(AB70)-ROW($A$2)+1)),\"\")","v":""},{"$f":"IFERROR(INDEX(Отделения[отделение],SMALL(IF(Отделения[Город]=$BA$1,ROW(Отделения[Город])-1),ROW(AB70)-ROW($A$2)+1)),\"\")","v":""},{"$f":"IFERROR(INDEX(Отделения[отделение],SMALL(IF(Отделения[Город]=$BB$1,ROW(Отделения[Город])-1),ROW(AB70)-ROW($A$2)+1)),\"\")","v":""},{"$f":"IFERROR(INDEX(Отделения[отделение],SMALL(IF(Отделения[Город]=$BC$1,ROW(Отделения[Город])-1),ROW(AC70)-ROW($A$2)+1)),\"\")","v":""},{"$f":"IFERROR(INDEX(Отделения[отделение],SMALL(IF(Отделения[Город]=$BD$1,ROW(Отделения[Город])-1),ROW(AD70)-ROW($A$2)+1)),\"\")","v":""},{"$f":"IFERROR(INDEX(Отделения[отделение],SMALL(IF(Отделения[Город]=$BE$1,ROW(Отделения[Город])-1),ROW(AE70)-ROW($A$2)+1)),\"\")","v":""},{"$f":"IFERROR(INDEX(Отделения[отделение],SMALL(IF(Отделения[Город]=$BF$1,ROW(Отделения[Город])-1),ROW(AF70)-ROW($A$2)+1)),\"\")","v":""},{"$f":"IFERROR(INDEX(Отделения[отделение],SMALL(IF(Отделения[Город]=$BG$1,ROW(Отделения[Город])-1),ROW(AG70)-ROW($A$2)+1)),\"\")","v":""},{"$f":"IFERROR(INDEX(Отделения[отделение],SMALL(IF(Отделения[Город]=$BH$1,ROW(Отделения[Город])-1),ROW(AH70)-ROW($A$2)+1)),\"\")","v":""},{"$f":"IFERROR(INDEX(Отделения[отделение],SMALL(IF(Отделения[Город]=$BI$1,ROW(Отделения[Город])-1),ROW(AI70)-ROW($A$2)+1)),\"\")","v":""},{"$f":"IFERROR(INDEX(Отделения[отделение],SMALL(IF(Отделения[Город]=$BJ$1,ROW(Отделения[Город])-1),ROW(AJ70)-ROW($A$2)+1)),\"\")","v":""},{"$f":"IFERROR(INDEX(Отделения[отделение],SMALL(IF(Отделения[Город]=$BK$1,ROW(Отделения[Город])-1),ROW(AK70)-ROW($A$2)+1)),\"\")","v":""},{"$f":"IFERROR(INDEX(Отделения[отделение],SMALL(IF(Отделения[Город]=$BL$1,ROW(Отделения[Город])-1),ROW(AL70)-ROW($A$2)+1)),\"\")","v":""},{"$f":"IFERROR(INDEX(Отделения[отделение],SMALL(IF(Отделения[Город]=$BM$1,ROW(Отделения[Город])-1),ROW(AM70)-ROW($A$2)+1)),\"\")","v":""},{"$f":"IFERROR(INDEX(Отделения[отделение],SMALL(IF(Отделения[Город]=$BN$1,ROW(Отделения[Город])-1),ROW(AN70)-ROW($A$2)+1)),\"\")","v":""},{"$f":"IFERROR(INDEX(Отделения[отделение],SMALL(IF(Отделения[Город]=$BO$1,ROW(Отделения[Город])-1),ROW(AO70)-ROW($A$2)+1)),\"\")","v":""},{"$f":"IFERROR(INDEX(Отделения[отделение],SMALL(IF(Отделения[Город]=$BP$1,ROW(Отделения[Город])-1),ROW(AP70)-ROW($A$2)+1)),\"\")","v":""},{"$f":"IFERROR(INDEX(Отделения[отделение],SMALL(IF(Отделения[Город]=$BQ$1,ROW(Отделения[Город])-1),ROW(AQ70)-ROW($A$2)+1)),\"\")","v":""},{"$f":"IFERROR(INDEX(Отделения[отделение],SMALL(IF(Отделения[Город]=$BR$1,ROW(Отделения[Город])-1),ROW(AR70)-ROW($A$2)+1)),\"\")","v":""},{"$f":"IFERROR(INDEX(Отделения[отделение],SMALL(IF(Отделения[Город]=$BS$1,ROW(Отделения[Город])-1),ROW(AS70)-ROW($A$2)+1)),\"\")","v":""},{"$f":"IFERROR(INDEX(Отделения[отделение],SMALL(IF(Отделения[Город]=$BT$1,ROW(Отделения[Город])-1),ROW(AT70)-ROW($A$2)+1)),\"\")","v":""},{"$f":"IFERROR(INDEX(Отделения[отделение],SMALL(IF(Отделения[Город]=$BU$1,ROW(Отделения[Город])-1),ROW(AU70)-ROW($A$2)+1)),\"\")","v":""},{"$f":"IFERROR(INDEX(Отделения[отделение],SMALL(IF(Отделения[Город]=$BV$1,ROW(Отделения[Город])-1),ROW(AV70)-ROW($A$2)+1)),\"\")","v":""},{"$f":"IFERROR(INDEX(Отделения[отделение],SMALL(IF(Отделения[Город]=$BW$1,ROW(Отделения[Город])-1),ROW(AV70)-ROW($A$2)+1)),\"\")","v":""},{"$f":"IFERROR(INDEX(Отделения[отделение],SMALL(IF(Отделения[Город]=$BX$1,ROW(Отделения[Город])-1),ROW(AV70)-ROW($A$2)+1)),\"\")","v":""},{"$f":"IFERROR(INDEX(Отделения[отделение],SMALL(IF(Отделения[Город]=$BY$1,ROW(Отделения[Город])-1),ROW(AV70)-ROW($A$2)+1)),\"\")","v":""},{"$f":"IFERROR(INDEX(Отделения[отделение],SMALL(IF(Отделения[Город]=$BZ$1,ROW(Отделения[Город])-1),ROW(AV70)-ROW($A$2)+1)),\"\")","v":""},{"$f":"IFERROR(INDEX(Отделения[отделение],SMALL(IF(Отделения[Город]=$CA$1,ROW(Отделения[Город])-1),ROW(AV70)-ROW($A$2)+1)),\"\")","v":""},{"$f":"IFERROR(INDEX(Отделения[отделение],SMALL(IF(Отделения[Город]=$CB$1,ROW(Отделения[Город])-1),ROW(AV70)-ROW($A$2)+1)),\"\")","v":""},{"$f":"IFERROR(INDEX(Отделения[отделение],SMALL(IF(Отделения[Город]=$CC$1,ROW(Отделения[Город])-1),ROW(AV70)-ROW($A$2)+1)),\"\")","v":""},{"$f":"IFERROR(INDEX(Отделения[отделение],SMALL(IF(Отделения[Город]=$CD$1,ROW(Отделения[Город])-1),ROW(AV70)-ROW($A$2)+1)),\"\")","v":""},{"$f":"IFERROR(INDEX(Отделения[отделение],SMALL(IF(Отделения[Город]=$CE$1,ROW(Отделения[Город])-1),ROW(AV70)-ROW($A$2)+1)),\"\")","v":""},{"$f":"IFERROR(INDEX(Отделения[отделение],SMALL(IF(Отделения[Город]=$CF$1,ROW(Отделения[Город])-1),ROW(AV70)-ROW($A$2)+1)),\"\")","v":""},{"$f":"IFERROR(INDEX(Отделения[отделение],SMALL(IF(Отделения[Город]=$CG$1,ROW(Отделения[Город])-1),ROW(AV70)-ROW($A$2)+1)),\"\")","v":""},{"$f":"IFERROR(INDEX(Отделения[отделение],SMALL(IF(Отделения[Город]=$CH$1,ROW(Отделения[Город])-1),ROW(AW70)-ROW($A$2)+1)),\"\")","v":""},{"$f":"IFERROR(INDEX(Отделения[отделение],SMALL(IF(Отделения[Город]=$CI$1,ROW(Отделения[Город])-1),ROW(AX70)-ROW($A$2)+1)),\"\")","v":""},{"$f":"IFERROR(INDEX(Отделения[отделение],SMALL(IF(Отделения[Город]=$CJ$1,ROW(Отделения[Город])-1),ROW(AY70)-ROW($A$2)+1)),\"\")","v":""},{"$f":"IFERROR(INDEX(Отделения[отделение],SMALL(IF(Отделения[Город]=$CK$1,ROW(Отделения[Город])-1),ROW(AZ70)-ROW($A$2)+1)),\"\")","v":""},{"$f":"IFERROR(INDEX(Отделения[отделение],SMALL(IF(Отделения[Город]=$CL$1,ROW(Отделения[Город])-1),ROW(BA70)-ROW($A$2)+1)),\"\")","v":""},{"$f":"IFERROR(INDEX(Отделения[отделение],SMALL(IF(Отделения[Город]=$CM$1,ROW(Отделения[Город])-1),ROW(BB70)-ROW($A$2)+1)),\"\")","v":""},{"$f":"IFERROR(INDEX(Отделения[отделение],SMALL(IF(Отделения[Город]=$CN$1,ROW(Отделения[Город])-1),ROW(BC70)-ROW($A$2)+1)),\"\")","v":""},{"$f":"IFERROR(INDEX(Отделения[отделение],SMALL(IF(Отделения[Город]=$CO$1,ROW(Отделения[Город])-1),ROW(BD70)-ROW($A$2)+1)),\"\")","v":""},{"$f":"IFERROR(INDEX(Отделения[отделение],SMALL(IF(Отделения[Город]=$CP$1,ROW(Отделения[Город])-1),ROW(BE70)-ROW($A$2)+1)),\"\")","v":""},{"$f":"IFERROR(INDEX(Отделения[отделение],SMALL(IF(Отделения[Город]=$CQ$1,ROW(Отделения[Город])-1),ROW(BF70)-ROW($A$2)+1)),\"\")","v":""},{"$f":"IFERROR(INDEX(Отделения[отделение],SMALL(IF(Отделения[Город]=$CR$1,ROW(Отделения[Город])-1),ROW(BG70)-ROW($A$2)+1)),\"\")","v":""},{"$f":"IFERROR(INDEX(Отделения[отделение],SMALL(IF(Отделения[Город]=$CS$1,ROW(Отделения[Город])-1),ROW(BH70)-ROW($A$2)+1)),\"\")","v":""},{"$f":"IFERROR(INDEX(Отделения[отделение],SMALL(IF(Отделения[Город]=$CT$1,ROW(Отделения[Город])-1),ROW(BI70)-ROW($A$2)+1)),\"\")","v":""},{"$f":"IFERROR(INDEX(Отделения[отделение],SMALL(IF(Отделения[Город]=$CU$1,ROW(Отделения[Город])-1),ROW(BJ70)-ROW($A$2)+1)),\"\")","v":""},{"$f":"IFERROR(INDEX(Отделения[отделение],SMALL(IF(Отделения[Город]=$CV$1,ROW(Отделения[Город])-1),ROW(BK70)-ROW($A$2)+1)),\"\")","v":""},{"$f":"IFERROR(INDEX(Отделения[отделение],SMALL(IF(Отделения[Город]=$CW$1,ROW(Отделения[Город])-1),ROW(BL70)-ROW($A$2)+1)),\"\")","v":""},{"$f":"IFERROR(INDEX(Отделения[отделение],SMALL(IF(Отделения[Город]=$CX$1,ROW(Отделения[Город])-1),ROW(BM70)-ROW($A$2)+1)),\"\")","v":""},{"$f":"IFERROR(INDEX(Отделения[отделение],SMALL(IF(Отделения[Город]=$CY$1,ROW(Отделения[Город])-1),ROW(BM70)-ROW($A$2)+1)),\"\")","v":""},{"$f":"IFERROR(INDEX(Отделения[отделение],SMALL(IF(Отделения[Город]=$CZ$1,ROW(Отделения[Город])-1),ROW(BM70)-ROW($A$2)+1)),\"\")","v":""},{"$f":"IFERROR(INDEX(Отделения[отделение],SMALL(IF(Отделения[Город]=$DA$1,ROW(Отделения[Город])-1),ROW(BM70)-ROW($A$2)+1)),\"\")","v":""},{"$f":"IFERROR(INDEX(Отделения[отделение],SMALL(IF(Отделения[Город]=$DB$1,ROW(Отделения[Город])-1),ROW(BM70)-ROW($A$2)+1)),\"\")","v":""}]
["Москва","ДО \"АННИНО\" , 117405, г. Москва, ш. Варшавское, д. 160","0645","MOXJ",null,null,{"$f":"IFERROR(INDEX(Отделения[отделение],SMALL(IF(Отделения[Город]=$G$1,ROW(Отделения[Город])-1),ROW(A71)-ROW($A$2)+1)),\"\")","v":""},{"$f":"IFERROR(INDEX(Отделения[отделение],SMALL(IF(Отделения[Город]=$H$1,ROW(Отделения[Город])-1),ROW(A71)-ROW($A$2)+1)),\"\")","v":""},{"$f":"IFERROR(INDEX(Отделения[отделение],SMALL(IF(Отделения[Город]=$I$1,ROW(Отделения[Город])-1),ROW(A71)-ROW($A$2)+1)),\"\")","v":""},{"$f":"IFERROR(INDEX(Отделения[отделение],SMALL(IF(Отделения[Город]=$J$1,ROW(Отделения[Город])-1),ROW(A71)-ROW($A$2)+1)),\"\")","v":""},{"$f":"IFERROR(INDEX(Отделения[отделение],SMALL(IF(Отделения[Город]=$K$1,ROW(Отделения[Город])-1),ROW(A71)-ROW($A$2)+1)),\"\")","v":""},{"$f":"IFERROR(INDEX(Отделения[отделение],SMALL(IF(Отделения[Город]=$L$1,ROW(Отделения[Город])-1),ROW(A71)-ROW($A$2)+1)),\"\")","v":""},{"$f":"IFERROR(INDEX(Отделения[отделение],SMALL(IF(Отделения[Город]=$M$1,ROW(Отделения[Город])-1),ROW(B71)-ROW($A$2)+1)),\"\")","v":""},{"$f":"IFERROR(INDEX(Отделения[отделение],SMALL(IF(Отделения[Город]=$N$1,ROW(Отделения[Город])-1),ROW(#REF!)-ROW($A$2)+1)),\"\")","v":""},{"$f":"IFERROR(INDEX(Отделения[отделение],SMALL(IF(Отделения[Город]=$O$1,ROW(Отделения[Город])-1),ROW(C71)-ROW($A$2)+1)),\"\")","v":""},{"$f":"IFERROR(INDEX(Отделения[отделение],SMALL(IF(Отделения[Город]=$P$1,ROW(Отделения[Город])-1),ROW(D71)-ROW($A$2)+1)),\"\")","v":""},{"$f":"IFERROR(INDEX(Отделения[отделение],SMALL(IF(Отделения[Город]=$Q$1,ROW(Отделения[Город])-1),ROW(F71)-ROW($A$2)+1)),\"\")","v":""},{"$f":"IFERROR(INDEX(Отделения[отделение],SMALL(IF(Отделения[Город]=$R$1,ROW(Отделения[Город])-1),ROW(#REF!)-ROW($A$2)+1)),\"\")","v":""},{"$f":"IFERROR(INDEX(Отделения[отделение],SMALL(IF(Отделения[Город]=$S$1,ROW(Отделения[Город])-1),ROW(G71)-ROW($A$2)+1)),\"\")","v":""},{"$f":"IFERROR(INDEX(Отделения[отделение],SMALL(IF(Отделения[Город]=$T$1,ROW(Отделения[Город])-1),ROW(H71)-ROW($A$2)+1)),\"\")","v":""},{"$f":"IFERROR(INDEX(Отделения[отделение],SMALL(IF(Отделения[Город]=$U$1,ROW(Отделения[Город])-1),ROW(I71)-ROW($A$2)+1)),\"\")","v":""},{"$f":"IFERROR(INDEX(Отделения[отделение],SMALL(IF(Отделения[Город]=$V$1,ROW(Отделения[Город])-1),ROW(J71)-ROW($A$2)+1)),\"\")","v":""},{"$f":"IFERROR(INDEX(Отделения[отделение],SMALL(IF(Отделения[Город]=$W$1,ROW(Отделения[Город])-1),ROW(K71)-ROW($A$2)+1)),\"\")","v":""},{"$f":"IFERROR(INDEX(Отделения[отделение],SMALL(IF(Отделения[Город]=$X$1,ROW(Отделения[Город])-1),ROW(L71)-ROW($A$2)+1)),\"\")","v":""},{"$f":"IFERROR(INDEX(Отделения[отделение],SMALL(IF(Отделения[Город]=$Y$1,ROW(Отделения[Город])-1),ROW(M71)-ROW($A$2)+1)),\"\")","v":""},{"$f":"IFERROR(INDEX(Отделения[отделение],SMALL(IF(Отделения[Город]=$Z$1,ROW(Отделения[Город])-1),ROW(N71)-ROW($A$2)+1)),\"\")","v":""},{"$f":"IFERROR(INDEX(Отделения[отделение],SMALL(IF(Отделения[Город]=$AA$1,ROW(Отделения[Город])-1),ROW(O71)-ROW($A$2)+1)),\"\")","v":""},{"$f":"IFERROR(INDEX(Отделения[отделение],SMALL(IF(Отделения[Город]=$AB$1,ROW(Отделения[Город])-1),ROW(P71)-ROW($A$2)+1)),\"\")","v":""},{"$f":"IFERROR(INDEX(Отделения[отделение],SMALL(IF(Отделения[Город]=$AC$1,ROW(Отделения[Город])-1),ROW(Q71)-ROW($A$2)+1)),\"\")","v":""},{"$f":"IFERROR(INDEX(Отделения[отделение],SMALL(IF(Отделения[Город]=$AD$1,ROW(Отделения[Город])-1),ROW(R71)-ROW($A$2)+1)),\"\")","v":""},{"$f":"IFERROR(INDEX(Отделения[отделение],SMALL(IF(Отделения[Город]=$AE$1,ROW(Отделения[Город])-1),ROW(S71)-ROW($A$2)+1)),\"\")","v":""},{"$f":"IFERROR(INDEX(Отделения[отделение],SMALL(IF(Отделения[Город]=$AF$1,ROW(Отделения[Город])-1),ROW(T71)-ROW($A$2)+1)),\"\")","v":""},{"$f":"IFERROR(INDEX(Отделения[отделение],SMALL(IF(Отделения[Город]=$AG$1,ROW(Отделения[Город])-1),ROW(U71)-ROW($A$2)+1)),\"\")","v":""},{"$f":"IFERROR(INDEX(Отделения[отделение],SMALL(IF(Отделения[Город]=$AH$1,ROW(Отделения[Город])-1),ROW(V71)-ROW($A$2)+1)),\"\")","v":""},{"$f":"IFERROR(INDEX(Отделения[отделение],SMALL(IF(Отделения[Город]=$AI$1,ROW(Отделения[Город])-1),ROW(AB71)-ROW($A$2)+1)),\"\")","v":""},{"$f":"IFERROR(INDEX(Отделения[отделение],SMALL(IF(Отделения[Город]=$AJ$1,ROW(Отделения[Город])-1),ROW(AB71)-ROW($A$2)+1)),\"\")","v":""},{"$f":"IFERROR(INDEX(Отделения[отделение],SMALL(IF(Отделения[Город]=$AK$1,ROW(Отделения[Город])-1),ROW(AB71)-ROW($A$2)+1)),\"\")","v":""},{"$f":"IFERROR(INDEX(Отделения[отделение],SMALL(IF(Отделения[Город]=$AL$1,ROW(Отделения[Город])-1),ROW(AB71)-ROW($A$2)+1)),\"\")","v":""},{"$f":"IFERROR(INDEX(Отделения[отделение],SMALL(IF(Отделения[Город]=$AM$1,ROW(Отделения[Город])-1),ROW(AB71)-ROW($A$2)+1)),\"\")","v":""},{"$f":"IFERROR(INDEX(Отделения[отделение],SMALL(IF(Отделения[Город]=$AN$1,ROW(Отделения[Город])-1),ROW(AB71)-ROW($A$2)+1)),\"\")","v":""},{"$f":"IFERROR(INDEX(Отделения[отделение],SMALL(IF(Отделения[Город]=$AO$1,ROW(Отделения[Город])-1),ROW(AB71)-ROW($A$2)+1)),\"\")","v":""},{"$f":"IFERROR(INDEX(Отделения[отделение],SMALL(IF(Отделения[Город]=$AP$1,ROW(Отделения[Город])-1),ROW(AB71)-ROW($A$2)+1)),\"\")","v":""},{"$f":"IFERROR(INDEX(Отделения[отделение],SMALL(IF(Отделения[Город]=$AQ$1,ROW(Отделения[Город])-1),ROW(AB71)-ROW($A$2)+1)),\"\")","v":""},{"$f":"IFERROR(INDEX(Отделения[отделение],SMALL(IF(Отделения[Город]=$AR$1,ROW(Отделения[Город])-1),ROW(AB71)-ROW($A$2)+1)),\"\")","v":""},{"$f":"IFERROR(INDEX(Отделения[отделение],SMALL(IF(Отделения[Город]=$AS$1,ROW(Отделения[Город])-1),ROW(AB71)-ROW($A$2)+1)),\"\")","v":""},{"$f":"IFERROR(INDEX(Отделения[отделение],SMALL(IF(Отделения[Город]=$AT$1,ROW(Отделения[Город])-1),ROW(AB71)-ROW($A$2)+1)),\"\")","v":""},{"$f":"IFERROR(INDEX(Отделения[отделение],SMALL(IF(Отделения[Город]=$AU$1,ROW(Отделения[Город])-1),ROW(AB71)-ROW($A$2)+1)),\"\")","v":""},{"$f":"IFERROR(INDEX(Отделения[отделение],SMALL(IF(Отделения[Город]=$AV$1,ROW(Отделения[Город])-1),ROW(AB71)-ROW($A$2)+1)),\"\")","v":""},{"$f":"IFERROR(INDEX(Отделения[отделение],SMALL(IF(Отделения[Город]=$AW$1,ROW(Отделения[Город])-1),ROW(AB71)-ROW($A$2)+1)),\"\")","v":""},{"$f":"IFERROR(INDEX(Отделения[отделение],SMALL(IF(Отделения[Город]=$AX$1,ROW(Отделения[Город])-1),ROW(AB71)-ROW($A$2)+1)),\"\")","v":""},{"$f":"IFERROR(INDEX(Отделения[отделение],SMALL(IF(Отделения[Город]=$AY$1,ROW(Отделения[Город])-1),ROW(AB71)-ROW($A$2)+1)),\"\")","v":""},{"$f":"IFERROR(INDEX(Отделения[отделение],SMALL(IF(Отделения[Город]=$AZ$1,ROW(Отделения[Город])-1),ROW(AB71)-ROW($A$2)+1)),\"\")","v":""},{"$f":"IFERROR(INDEX(Отделения[отделение],SMALL(IF(Отделения[Город]=$BA$1,ROW(Отделения[Город])-1),ROW(AB71)-ROW($A$2)+1)),\"\")","v":""},{"$f":"IFERROR(INDEX(Отделения[отделение],SMALL(IF(Отделения[Город]=$BB$1,ROW(Отделения[Город])-1),ROW(AB71)-ROW($A$2)+1)),\"\")","v":""},{"$f":"IFERROR(INDEX(Отделения[отделение],SMALL(IF(Отделения[Город]=$BC$1,ROW(Отделения[Город])-1),ROW(AC71)-ROW($A$2)+1)),\"\")","v":""},{"$f":"IFERROR(INDEX(Отделения[отделение],SMALL(IF(Отделения[Город]=$BD$1,ROW(Отделения[Город])-1),ROW(AD71)-ROW($A$2)+1)),\"\")","v":""},{"$f":"IFERROR(INDEX(Отделения[отделение],SMALL(IF(Отделения[Город]=$BE$1,ROW(Отделения[Город])-1),ROW(AE71)-ROW($A$2)+1)),\"\")","v":""},{"$f":"IFERROR(INDEX(Отделения[отделение],SMALL(IF(Отделения[Город]=$BF$1,ROW(Отделения[Город])-1),ROW(AF71)-ROW($A$2)+1)),\"\")","v":""},{"$f":"IFERROR(INDEX(Отделения[отделение],SMALL(IF(Отделения[Город]=$BG$1,ROW(Отделения[Город])-1),ROW(AG71)-ROW($A$2)+1)),\"\")","v":""},{"$f":"IFERROR(INDEX(Отделения[отделение],SMALL(IF(Отделения[Город]=$BH$1,ROW(Отделения[Город])-1),ROW(AH71)-ROW($A$2)+1)),\"\")","v":""},{"$f":"IFERROR(INDEX(Отделения[отделение],SMALL(IF(Отделения[Город]=$BI$1,ROW(Отделения[Город])-1),ROW(AI71)-ROW($A$2)+1)),\"\")","v":""},{"$f":"IFERROR(INDEX(Отделения[отделение],SMALL(IF(Отделения[Город]=$BJ$1,ROW(Отделения[Город])-1),ROW(AJ71)-ROW($A$2)+1)),\"\")","v":""},{"$f":"IFERROR(INDEX(Отделения[отделение],SMALL(IF(Отделения[Город]=$BK$1,ROW(Отделения[Город])-1),ROW(AK71)-ROW($A$2)+1)),\"\")","v":""},{"$f":"IFERROR(INDEX(Отделения[отделение],SMALL(IF(Отделения[Город]=$BL$1,ROW(Отделения[Город])-1),ROW(AL71)-ROW($A$2)+1)),\"\")","v":""},{"$f":"IFERROR(INDEX(Отделения[отделение],SMALL(IF(Отделения[Город]=$BM$1,ROW(Отделения[Город])-1),ROW(AM71)-ROW($A$2)+1)),\"\")","v":""},{"$f":"IFERROR(INDEX(Отделения[отделение],SMALL(IF(Отделения[Город]=$BN$1,ROW(Отделения[Город])-1),ROW(AN71)-ROW($A$2)+1)),\"\")","v":""},{"$f":"IFERROR(INDEX(Отделения[отделение],SMALL(IF(Отделения[Город]=$BO$1,ROW(Отделения[Город])-1),ROW(AO71)-ROW($A$2)+1)),\"\")","v":""},{"$f":"IFERROR(INDEX(Отделения[отделение],SMALL(IF(Отделения[Город]=$BP$1,ROW(Отделения[Город])-1),ROW(AP71)-ROW($A$2)+1)),\"\")","v":""},{"$f":"IFERROR(INDEX(Отделения[отделение],SMALL(IF(Отделения[Город]=$BQ$1,ROW(Отделения[Город])-1),ROW(AQ71)-ROW($A$2)+1)),\"\")","v":""},{"$f":"IFERROR(INDEX(Отделения[отделение],SMALL(IF(Отделения[Город]=$BR$1,ROW(Отделения[Город])-1),ROW(AR71)-ROW($A$2)+1)),\"\")","v":""},{"$f":"IFERROR(INDEX(Отделения[отделение],SMALL(IF(Отделения[Город]=$BS$1,ROW(Отделения[Город])-1),ROW(AS71)-ROW($A$2)+1)),\"\")","v":""},{"$f":"IFERROR(INDEX(Отделения[отделение],SMALL(IF(Отделения[Город]=$BT$1,ROW(Отделения[Город])-1),ROW(AT71)-ROW($A$2)+1)),\"\")","v":""},{"$f":"IFERROR(INDEX(Отделения[отделение],SMALL(IF(Отделения[Город]=$BU$1,ROW(Отделения[Город])-1),ROW(AU71)-ROW($A$2)+1)),\"\")","v":""},{"$f":"IFERROR(INDEX(Отделения[отделение],SMALL(IF(Отделения[Город]=$BV$1,ROW(Отделения[Город])-1),ROW(AV71)-ROW($A$2)+1)),\"\")","v":""},{"$f":"IFERROR(INDEX(Отделения[отделение],SMALL(IF(Отделения[Город]=$BW$1,ROW(Отделения[Город])-1),ROW(AV71)-ROW($A$2)+1)),\"\")","v":""},{"$f":"IFERROR(INDEX(Отделения[отделение],SMALL(IF(Отделения[Город]=$BX$1,ROW(Отделения[Город])-1),ROW(AV71)-ROW($A$2)+1)),\"\")","v":""},{"$f":"IFERROR(INDEX(Отделения[отделение],SMALL(IF(Отделения[Город]=$BY$1,ROW(Отделения[Город])-1),ROW(AV71)-ROW($A$2)+1)),\"\")","v":""},{"$f":"IFERROR(INDEX(Отделения[отделение],SMALL(IF(Отделения[Город]=$BZ$1,ROW(Отделения[Город])-1),ROW(AV71)-ROW($A$2)+1)),\"\")","v":""},{"$f":"IFERROR(INDEX(Отделения[отделение],SMALL(IF(Отделения[Город]=$CA$1,ROW(Отделения[Город])-1),ROW(AV71)-ROW($A$2)+1)),\"\")","v":""},{"$f":"IFERROR(INDEX(Отделения[отделение],SMALL(IF(Отделения[Город]=$CB$1,ROW(Отделения[Город])-1),ROW(AV71)-ROW($A$2)+1)),\"\")","v":""},{"$f":"IFERROR(INDEX(Отделения[отделение],SMALL(IF(Отделения[Город]=$CC$1,ROW(Отделения[Город])-1),ROW(AV71)-ROW($A$2)+1)),\"\")","v":""},{"$f":"IFERROR(INDEX(Отделения[отделение],SMALL(IF(Отделения[Город]=$CD$1,ROW(Отделения[Город])-1),ROW(AV71)-ROW($A$2)+1)),\"\")","v":""},{"$f":"IFERROR(INDEX(Отделения[отделение],SMALL(IF(Отделения[Город]=$CE$1,ROW(Отделения[Город])-1),ROW(AV71)-ROW($A$2)+1)),\"\")","v":""},{"$f":"IFERROR(INDEX(Отделения[отделение],SMALL(IF(Отделения[Город]=$CF$1,ROW(Отделения[Город])-1),ROW(AV71)-ROW($A$2)+1)),\"\")","v":""},{"$f":"IFERROR(INDEX(Отделения[отделение],SMALL(IF(Отделения[Город]=$CG$1,ROW(Отделения[Город])-1),ROW(AV71)-ROW($A$2)+1)),\"\")","v":""},{"$f":"IFERROR(INDEX(Отделения[отделение],SMALL(IF(Отделения[Город]=$CH$1,ROW(Отделения[Город])-1),ROW(AW71)-ROW($A$2)+1)),\"\")","v":""},{"$f":"IFERROR(INDEX(Отделения[отделение],SMALL(IF(Отделения[Город]=$CI$1,ROW(Отделения[Город])-1),ROW(AX71)-ROW($A$2)+1)),\"\")","v":""},{"$f":"IFERROR(INDEX(Отделения[отделение],SMALL(IF(Отделения[Город]=$CJ$1,ROW(Отделения[Город])-1),ROW(AY71)-ROW($A$2)+1)),\"\")","v":""},{"$f":"IFERROR(INDEX(Отделения[отделение],SMALL(IF(Отделения[Город]=$CK$1,ROW(Отделения[Город])-1),ROW(AZ71)-ROW($A$2)+1)),\"\")","v":""},{"$f":"IFERROR(INDEX(Отделения[отделение],SMALL(IF(Отделения[Город]=$CL$1,ROW(Отделения[Город])-1),ROW(BA71)-ROW($A$2)+1)),\"\")","v":""},{"$f":"IFERROR(INDEX(Отделения[отделение],SMALL(IF(Отделения[Город]=$CM$1,ROW(Отделения[Город])-1),ROW(BB71)-ROW($A$2)+1)),\"\")","v":""},{"$f":"IFERROR(INDEX(Отделения[отделение],SMALL(IF(Отделения[Город]=$CN$1,ROW(Отделения[Город])-1),ROW(BC71)-ROW($A$2)+1)),\"\")","v":""},{"$f":"IFERROR(INDEX(Отделения[отделение],SMALL(IF(Отделения[Город]=$CO$1,ROW(Отделения[Город])-1),ROW(BD71)-ROW($A$2)+1)),\"\")","v":""},{"$f":"IFERROR(INDEX(Отделения[отделение],SMALL(IF(Отделения[Город]=$CP$1,ROW(Отделения[Город])-1),ROW(BE71)-ROW($A$2)+1)),\"\")","v":""},{"$f":"IFERROR(INDEX(Отделения[отделение],SMALL(IF(Отделения[Город]=$CQ$1,ROW(Отделения[Город])-1),ROW(BF71)-ROW($A$2)+1)),\"\")","v":""},{"$f":"IFERROR(INDEX(Отделения[отделение],SMALL(IF(Отделения[Город]=$CR$1,ROW(Отделения[Город])-1),ROW(BG71)-ROW($A$2)+1)),\"\")","v":""},{"$f":"IFERROR(INDEX(Отделения[отделение],SMALL(IF(Отделения[Город]=$CS$1,ROW(Отделения[Город])-1),ROW(BH71)-ROW($A$2)+1)),\"\")","v":""},{"$f":"IFERROR(INDEX(Отделения[отделение],SMALL(IF(Отделения[Город]=$CT$1,ROW(Отделения[Город])-1),ROW(BI71)-ROW($A$2)+1)),\"\")","v":""},{"$f":"IFERROR(INDEX(Отделения[отделение],SMALL(IF(Отделения[Город]=$CU$1,ROW(Отделения[Город])-1),ROW(BJ71)-ROW($A$2)+1)),\"\")","v":""},{"$f":"IFERROR(INDEX(Отделения[отделение],SMALL(IF(Отделения[Город]=$CV$1,ROW(Отделения[Город])-1),ROW(BK71)-ROW($A$2)+1)),\"\")","v":""},{"$f":"IFERROR(INDEX(Отделения[отделение],SMALL(IF(Отделения[Город]=$CW$1,ROW(Отделения[Город])-1),ROW(BL71)-ROW($A$2)+1)),\"\")","v":""},{"$f":"IFERROR(INDEX(Отделения[отделение],SMALL(IF(Отделения[Город]=$CX$1,ROW(Отделения[Город])-1),ROW(BM71)-ROW($A$2)+1)),\"\")","v":""},{"$f":"IFERROR(INDEX(Отделения[отделение],SMALL(IF(Отделения[Город]=$CY$1,ROW(Отделения[Город])-1),ROW(BM71)-ROW($A$2)+1)),\"\")","v":""},{"$f":"IFERROR(INDEX(Отделения[отделение],SMALL(IF(Отделения[Город]=$CZ$1,ROW(Отделения[Город])-1),ROW(BM71)-ROW($A$2)+1)),\"\")","v":""},{"$f":"IFERROR(INDEX(Отделения[отделение],SMALL(IF(Отделения[Город]=$DA$1,ROW(Отделения[Город])-1),ROW(BM71)-ROW($A$2)+1)),\"\")","v":""},{"$f":"IFERROR(INDEX(Отделения[отделение],SMALL(IF(Отделения[Город]=$DB$1,ROW(Отделения[Город])-1),ROW(BM71)-ROW($A$2)+1)),\"\")","v":""}]
["Москва","ДО \"ТИМИРЯЗЕВСКИЙ\" , 127434, г. Москва, ш. Дмитровское,д. 15, корпус 1","0646","MOWK",null,null,{"$f":"IFERROR(INDEX(Отделения[отделение],SMALL(IF(Отделения[Город]=$G$1,ROW(Отделения[Город])-1),ROW(A72)-ROW($A$2)+1)),\"\")","v":""},{"$f":"IFERROR(INDEX(Отделения[отделение],SMALL(IF(Отделения[Город]=$H$1,ROW(Отделения[Город])-1),ROW(A72)-ROW($A$2)+1)),\"\")","v":""},{"$f":"IFERROR(INDEX(Отделения[отделение],SMALL(IF(Отделения[Город]=$I$1,ROW(Отделения[Город])-1),ROW(A72)-ROW($A$2)+1)),\"\")","v":""},{"$f":"IFERROR(INDEX(Отделения[отделение],SMALL(IF(Отделения[Город]=$J$1,ROW(Отделения[Город])-1),ROW(A72)-ROW($A$2)+1)),\"\")","v":""},{"$f":"IFERROR(INDEX(Отделения[отделение],SMALL(IF(Отделения[Город]=$K$1,ROW(Отделения[Город])-1),ROW(A72)-ROW($A$2)+1)),\"\")","v":""},{"$f":"IFERROR(INDEX(Отделения[отделение],SMALL(IF(Отделения[Город]=$L$1,ROW(Отделения[Город])-1),ROW(A72)-ROW($A$2)+1)),\"\")","v":""},{"$f":"IFERROR(INDEX(Отделения[отделение],SMALL(IF(Отделения[Город]=$M$1,ROW(Отделения[Город])-1),ROW(B72)-ROW($A$2)+1)),\"\")","v":""},{"$f":"IFERROR(INDEX(Отделения[отделение],SMALL(IF(Отделения[Город]=$N$1,ROW(Отделения[Город])-1),ROW(#REF!)-ROW($A$2)+1)),\"\")","v":""},{"$f":"IFERROR(INDEX(Отделения[отделение],SMALL(IF(Отделения[Город]=$O$1,ROW(Отделения[Город])-1),ROW(C72)-ROW($A$2)+1)),\"\")","v":""},{"$f":"IFERROR(INDEX(Отделения[отделение],SMALL(IF(Отделения[Город]=$P$1,ROW(Отделения[Город])-1),ROW(D72)-ROW($A$2)+1)),\"\")","v":""},{"$f":"IFERROR(INDEX(Отделения[отделение],SMALL(IF(Отделения[Город]=$Q$1,ROW(Отделения[Город])-1),ROW(F72)-ROW($A$2)+1)),\"\")","v":""},{"$f":"IFERROR(INDEX(Отделения[отделение],SMALL(IF(Отделения[Город]=$R$1,ROW(Отделения[Город])-1),ROW(#REF!)-ROW($A$2)+1)),\"\")","v":""},{"$f":"IFERROR(INDEX(Отделения[отделение],SMALL(IF(Отделения[Город]=$S$1,ROW(Отделения[Город])-1),ROW(G72)-ROW($A$2)+1)),\"\")","v":""},{"$f":"IFERROR(INDEX(Отделения[отделение],SMALL(IF(Отделения[Город]=$T$1,ROW(Отделения[Город])-1),ROW(H72)-ROW($A$2)+1)),\"\")","v":""},{"$f":"IFERROR(INDEX(Отделения[отделение],SMALL(IF(Отделения[Город]=$U$1,ROW(Отделения[Город])-1),ROW(I72)-ROW($A$2)+1)),\"\")","v":""},{"$f":"IFERROR(INDEX(Отделения[отделение],SMALL(IF(Отделения[Город]=$V$1,ROW(Отделения[Город])-1),ROW(J72)-ROW($A$2)+1)),\"\")","v":""},{"$f":"IFERROR(INDEX(Отделения[отделение],SMALL(IF(Отделения[Город]=$W$1,ROW(Отделения[Город])-1),ROW(K72)-ROW($A$2)+1)),\"\")","v":""},{"$f":"IFERROR(INDEX(Отделения[отделение],SMALL(IF(Отделения[Город]=$X$1,ROW(Отделения[Город])-1),ROW(L72)-ROW($A$2)+1)),\"\")","v":""},{"$f":"IFERROR(INDEX(Отделения[отделение],SMALL(IF(Отделения[Город]=$Y$1,ROW(Отделения[Город])-1),ROW(M72)-ROW($A$2)+1)),\"\")","v":""},{"$f":"IFERROR(INDEX(Отделения[отделение],SMALL(IF(Отделения[Город]=$Z$1,ROW(Отделения[Город])-1),ROW(N72)-ROW($A$2)+1)),\"\")","v":""},{"$f":"IFERROR(INDEX(Отделения[отделение],SMALL(IF(Отделения[Город]=$AA$1,ROW(Отделения[Город])-1),ROW(O72)-ROW($A$2)+1)),\"\")","v":""},{"$f":"IFERROR(INDEX(Отделения[отделение],SMALL(IF(Отделения[Город]=$AB$1,ROW(Отделения[Город])-1),ROW(P72)-ROW($A$2)+1)),\"\")","v":""},{"$f":"IFERROR(INDEX(Отделения[отделение],SMALL(IF(Отделения[Город]=$AC$1,ROW(Отделения[Город])-1),ROW(Q72)-ROW($A$2)+1)),\"\")","v":""},{"$f":"IFERROR(INDEX(Отделения[отделение],SMALL(IF(Отделения[Город]=$AD$1,ROW(Отделения[Город])-1),ROW(R72)-ROW($A$2)+1)),\"\")","v":""},{"$f":"IFERROR(INDEX(Отделения[отделение],SMALL(IF(Отделения[Город]=$AE$1,ROW(Отделения[Город])-1),ROW(S72)-ROW($A$2)+1)),\"\")","v":""},{"$f":"IFERROR(INDEX(Отделения[отделение],SMALL(IF(Отделения[Город]=$AF$1,ROW(Отделения[Город])-1),ROW(T72)-ROW($A$2)+1)),\"\")","v":""},{"$f":"IFERROR(INDEX(Отделения[отделение],SMALL(IF(Отделения[Город]=$AG$1,ROW(Отделения[Город])-1),ROW(U72)-ROW($A$2)+1)),\"\")","v":""},{"$f":"IFERROR(INDEX(Отделения[отделение],SMALL(IF(Отделения[Город]=$AH$1,ROW(Отделения[Город])-1),ROW(V72)-ROW($A$2)+1)),\"\")","v":""},{"$f":"IFERROR(INDEX(Отделения[отделение],SMALL(IF(Отделения[Город]=$AI$1,ROW(Отделения[Город])-1),ROW(AB72)-ROW($A$2)+1)),\"\")","v":""},{"$f":"IFERROR(INDEX(Отделения[отделение],SMALL(IF(Отделения[Город]=$AJ$1,ROW(Отделения[Город])-1),ROW(AB72)-ROW($A$2)+1)),\"\")","v":""},{"$f":"IFERROR(INDEX(Отделения[отделение],SMALL(IF(Отделения[Город]=$AK$1,ROW(Отделения[Город])-1),ROW(AB72)-ROW($A$2)+1)),\"\")","v":""},{"$f":"IFERROR(INDEX(Отделения[отделение],SMALL(IF(Отделения[Город]=$AL$1,ROW(Отделения[Город])-1),ROW(AB72)-ROW($A$2)+1)),\"\")","v":""},{"$f":"IFERROR(INDEX(Отделения[отделение],SMALL(IF(Отделения[Город]=$AM$1,ROW(Отделения[Город])-1),ROW(AB72)-ROW($A$2)+1)),\"\")","v":""},{"$f":"IFERROR(INDEX(Отделения[отделение],SMALL(IF(Отделения[Город]=$AN$1,ROW(Отделения[Город])-1),ROW(AB72)-ROW($A$2)+1)),\"\")","v":""},{"$f":"IFERROR(INDEX(Отделения[отделение],SMALL(IF(Отделения[Город]=$AO$1,ROW(Отделения[Город])-1),ROW(AB72)-ROW($A$2)+1)),\"\")","v":""},{"$f":"IFERROR(INDEX(Отделения[отделение],SMALL(IF(Отделения[Город]=$AP$1,ROW(Отделения[Город])-1),ROW(AB72)-ROW($A$2)+1)),\"\")","v":""},{"$f":"IFERROR(INDEX(Отделения[отделение],SMALL(IF(Отделения[Город]=$AQ$1,ROW(Отделения[Город])-1),ROW(AB72)-ROW($A$2)+1)),\"\")","v":""},{"$f":"IFERROR(INDEX(Отделения[отделение],SMALL(IF(Отделения[Город]=$AR$1,ROW(Отделения[Город])-1),ROW(AB72)-ROW($A$2)+1)),\"\")","v":""},{"$f":"IFERROR(INDEX(Отделения[отделение],SMALL(IF(Отделения[Город]=$AS$1,ROW(Отделения[Город])-1),ROW(AB72)-ROW($A$2)+1)),\"\")","v":""},{"$f":"IFERROR(INDEX(Отделения[отделение],SMALL(IF(Отделения[Город]=$AT$1,ROW(Отделения[Город])-1),ROW(AB72)-ROW($A$2)+1)),\"\")","v":""},{"$f":"IFERROR(INDEX(Отделения[отделение],SMALL(IF(Отделения[Город]=$AU$1,ROW(Отделения[Город])-1),ROW(AB72)-ROW($A$2)+1)),\"\")","v":""},{"$f":"IFERROR(INDEX(Отделения[отделение],SMALL(IF(Отделения[Город]=$AV$1,ROW(Отделения[Город])-1),ROW(AB72)-ROW($A$2)+1)),\"\")","v":""},{"$f":"IFERROR(INDEX(Отделения[отделение],SMALL(IF(Отделения[Город]=$AW$1,ROW(Отделения[Город])-1),ROW(AB72)-ROW($A$2)+1)),\"\")","v":""},{"$f":"IFERROR(INDEX(Отделения[отделение],SMALL(IF(Отделения[Город]=$AX$1,ROW(Отделения[Город])-1),ROW(AB72)-ROW($A$2)+1)),\"\")","v":""},{"$f":"IFERROR(INDEX(Отделения[отделение],SMALL(IF(Отделения[Город]=$AY$1,ROW(Отделения[Город])-1),ROW(AB72)-ROW($A$2)+1)),\"\")","v":""},{"$f":"IFERROR(INDEX(Отделения[отделение],SMALL(IF(Отделения[Город]=$AZ$1,ROW(Отделения[Город])-1),ROW(AB72)-ROW($A$2)+1)),\"\")","v":""},{"$f":"IFERROR(INDEX(Отделения[отделение],SMALL(IF(Отделения[Город]=$BA$1,ROW(Отделения[Город])-1),ROW(AB72)-ROW($A$2)+1)),\"\")","v":""},{"$f":"IFERROR(INDEX(Отделения[отделение],SMALL(IF(Отделения[Город]=$BB$1,ROW(Отделения[Город])-1),ROW(AB72)-ROW($A$2)+1)),\"\")","v":""},{"$f":"IFERROR(INDEX(Отделения[отделение],SMALL(IF(Отделения[Город]=$BC$1,ROW(Отделения[Город])-1),ROW(AC72)-ROW($A$2)+1)),\"\")","v":""},{"$f":"IFERROR(INDEX(Отделения[отделение],SMALL(IF(Отделения[Город]=$BD$1,ROW(Отделения[Город])-1),ROW(AD72)-ROW($A$2)+1)),\"\")","v":""},{"$f":"IFERROR(INDEX(Отделения[отделение],SMALL(IF(Отделения[Город]=$BE$1,ROW(Отделения[Город])-1),ROW(AE72)-ROW($A$2)+1)),\"\")","v":""},{"$f":"IFERROR(INDEX(Отделения[отделение],SMALL(IF(Отделения[Город]=$BF$1,ROW(Отделения[Город])-1),ROW(AF72)-ROW($A$2)+1)),\"\")","v":""},{"$f":"IFERROR(INDEX(Отделения[отделение],SMALL(IF(Отделения[Город]=$BG$1,ROW(Отделения[Город])-1),ROW(AG72)-ROW($A$2)+1)),\"\")","v":""},{"$f":"IFERROR(INDEX(Отделения[отделение],SMALL(IF(Отделения[Город]=$BH$1,ROW(Отделения[Город])-1),ROW(AH72)-ROW($A$2)+1)),\"\")","v":""},{"$f":"IFERROR(INDEX(Отделения[отделение],SMALL(IF(Отделения[Город]=$BI$1,ROW(Отделения[Город])-1),ROW(AI72)-ROW($A$2)+1)),\"\")","v":""},{"$f":"IFERROR(INDEX(Отделения[отделение],SMALL(IF(Отделения[Город]=$BJ$1,ROW(Отделения[Город])-1),ROW(AJ72)-ROW($A$2)+1)),\"\")","v":""},{"$f":"IFERROR(INDEX(Отделения[отделение],SMALL(IF(Отделения[Город]=$BK$1,ROW(Отделения[Город])-1),ROW(AK72)-ROW($A$2)+1)),\"\")","v":""},{"$f":"IFERROR(INDEX(Отделения[отделение],SMALL(IF(Отделения[Город]=$BL$1,ROW(Отделения[Город])-1),ROW(AL72)-ROW($A$2)+1)),\"\")","v":""},{"$f":"IFERROR(INDEX(Отделения[отделение],SMALL(IF(Отделения[Город]=$BM$1,ROW(Отделения[Город])-1),ROW(AM72)-ROW($A$2)+1)),\"\")","v":""},{"$f":"IFERROR(INDEX(Отделения[отделение],SMALL(IF(Отделения[Город]=$BN$1,ROW(Отделения[Город])-1),ROW(AN72)-ROW($A$2)+1)),\"\")","v":""},{"$f":"IFERROR(INDEX(Отделения[отделение],SMALL(IF(Отделения[Город]=$BO$1,ROW(Отделения[Город])-1),ROW(AO72)-ROW($A$2)+1)),\"\")","v":""},{"$f":"IFERROR(INDEX(Отделения[отделение],SMALL(IF(Отделения[Город]=$BP$1,ROW(Отделения[Город])-1),ROW(AP72)-ROW($A$2)+1)),\"\")","v":""},{"$f":"IFERROR(INDEX(Отделения[отделение],SMALL(IF(Отделения[Город]=$BQ$1,ROW(Отделения[Город])-1),ROW(AQ72)-ROW($A$2)+1)),\"\")","v":""},{"$f":"IFERROR(INDEX(Отделения[отделение],SMALL(IF(Отделения[Город]=$BR$1,ROW(Отделения[Город])-1),ROW(AR72)-ROW($A$2)+1)),\"\")","v":""},{"$f":"IFERROR(INDEX(Отделения[отделение],SMALL(IF(Отделения[Город]=$BS$1,ROW(Отделения[Город])-1),ROW(AS72)-ROW($A$2)+1)),\"\")","v":""},{"$f":"IFERROR(INDEX(Отделения[отделение],SMALL(IF(Отделения[Город]=$BT$1,ROW(Отделения[Город])-1),ROW(AT72)-ROW($A$2)+1)),\"\")","v":""},{"$f":"IFERROR(INDEX(Отделения[отделение],SMALL(IF(Отделения[Город]=$BU$1,ROW(Отделения[Город])-1),ROW(AU72)-ROW($A$2)+1)),\"\")","v":""},{"$f":"IFERROR(INDEX(Отделения[отделение],SMALL(IF(Отделения[Город]=$BV$1,ROW(Отделения[Город])-1),ROW(AV72)-ROW($A$2)+1)),\"\")","v":""},{"$f":"IFERROR(INDEX(Отделения[отделение],SMALL(IF(Отделения[Город]=$BW$1,ROW(Отделения[Город])-1),ROW(AV72)-ROW($A$2)+1)),\"\")","v":""},{"$f":"IFERROR(INDEX(Отделения[отделение],SMALL(IF(Отделения[Город]=$BX$1,ROW(Отделения[Город])-1),ROW(AV72)-ROW($A$2)+1)),\"\")","v":""},{"$f":"IFERROR(INDEX(Отделения[отделение],SMALL(IF(Отделения[Город]=$BY$1,ROW(Отделения[Город])-1),ROW(AV72)-ROW($A$2)+1)),\"\")","v":""},{"$f":"IFERROR(INDEX(Отделения[отделение],SMALL(IF(Отделения[Город]=$BZ$1,ROW(Отделения[Город])-1),ROW(AV72)-ROW($A$2)+1)),\"\")","v":""},{"$f":"IFERROR(INDEX(Отделения[отделение],SMALL(IF(Отделения[Город]=$CA$1,ROW(Отделения[Город])-1),ROW(AV72)-ROW($A$2)+1)),\"\")","v":""},{"$f":"IFERROR(INDEX(Отделения[отделение],SMALL(IF(Отделения[Город]=$CB$1,ROW(Отделения[Город])-1),ROW(AV72)-ROW($A$2)+1)),\"\")","v":""},{"$f":"IFERROR(INDEX(Отделения[отделение],SMALL(IF(Отделения[Город]=$CC$1,ROW(Отделения[Город])-1),ROW(AV72)-ROW($A$2)+1)),\"\")","v":""},{"$f":"IFERROR(INDEX(Отделения[отделение],SMALL(IF(Отделения[Город]=$CD$1,ROW(Отделения[Город])-1),ROW(AV72)-ROW($A$2)+1)),\"\")","v":""},{"$f":"IFERROR(INDEX(Отделения[отделение],SMALL(IF(Отделения[Город]=$CE$1,ROW(Отделения[Город])-1),ROW(AV72)-ROW($A$2)+1)),\"\")","v":""},{"$f":"IFERROR(INDEX(Отделения[отделение],SMALL(IF(Отделения[Город]=$CF$1,ROW(Отделения[Город])-1),ROW(AV72)-ROW($A$2)+1)),\"\")","v":""},{"$f":"IFERROR(INDEX(Отделения[отделение],SMALL(IF(Отделения[Город]=$CG$1,ROW(Отделения[Город])-1),ROW(AV72)-ROW($A$2)+1)),\"\")","v":""},{"$f":"IFERROR(INDEX(Отделения[отделение],SMALL(IF(Отделения[Город]=$CH$1,ROW(Отделения[Город])-1),ROW(AW72)-ROW($A$2)+1)),\"\")","v":""},{"$f":"IFERROR(INDEX(Отделения[отделение],SMALL(IF(Отделения[Город]=$CI$1,ROW(Отделения[Город])-1),ROW(AX72)-ROW($A$2)+1)),\"\")","v":""},{"$f":"IFERROR(INDEX(Отделения[отделение],SMALL(IF(Отделения[Город]=$CJ$1,ROW(Отделения[Город])-1),ROW(AY72)-ROW($A$2)+1)),\"\")","v":""},{"$f":"IFERROR(INDEX(Отделения[отделение],SMALL(IF(Отделения[Город]=$CK$1,ROW(Отделения[Город])-1),ROW(AZ72)-ROW($A$2)+1)),\"\")","v":""},{"$f":"IFERROR(INDEX(Отделения[отделение],SMALL(IF(Отделения[Город]=$CL$1,ROW(Отделения[Город])-1),ROW(BA72)-ROW($A$2)+1)),\"\")","v":""},{"$f":"IFERROR(INDEX(Отделения[отделение],SMALL(IF(Отделения[Город]=$CM$1,ROW(Отделения[Город])-1),ROW(BB72)-ROW($A$2)+1)),\"\")","v":""},{"$f":"IFERROR(INDEX(Отделения[отделение],SMALL(IF(Отделения[Город]=$CN$1,ROW(Отделения[Город])-1),ROW(BC72)-ROW($A$2)+1)),\"\")","v":""},{"$f":"IFERROR(INDEX(Отделения[отделение],SMALL(IF(Отделения[Город]=$CO$1,ROW(Отделения[Город])-1),ROW(BD72)-ROW($A$2)+1)),\"\")","v":""},{"$f":"IFERROR(INDEX(Отделения[отделение],SMALL(IF(Отделения[Город]=$CP$1,ROW(Отделения[Город])-1),ROW(BE72)-ROW($A$2)+1)),\"\")","v":""},{"$f":"IFERROR(INDEX(Отделения[отделение],SMALL(IF(Отделения[Город]=$CQ$1,ROW(Отделения[Город])-1),ROW(BF72)-ROW($A$2)+1)),\"\")","v":""},{"$f":"IFERROR(INDEX(Отделения[отделение],SMALL(IF(Отделения[Город]=$CR$1,ROW(Отделения[Город])-1),ROW(BG72)-ROW($A$2)+1)),\"\")","v":""},{"$f":"IFERROR(INDEX(Отделения[отделение],SMALL(IF(Отделения[Город]=$CS$1,ROW(Отделения[Город])-1),ROW(BH72)-ROW($A$2)+1)),\"\")","v":""},{"$f":"IFERROR(INDEX(Отделения[отделение],SMALL(IF(Отделения[Город]=$CT$1,ROW(Отделения[Город])-1),ROW(BI72)-ROW($A$2)+1)),\"\")","v":""},{"$f":"IFERROR(INDEX(Отделения[отделение],SMALL(IF(Отделения[Город]=$CU$1,ROW(Отделения[Город])-1),ROW(BJ72)-ROW($A$2)+1)),\"\")","v":""},{"$f":"IFERROR(INDEX(Отделения[отделение],SMALL(IF(Отделения[Город]=$CV$1,ROW(Отделения[Город])-1),ROW(BK72)-ROW($A$2)+1)),\"\")","v":""},{"$f":"IFERROR(INDEX(Отделения[отделение],SMALL(IF(Отделения[Город]=$CW$1,ROW(Отделения[Город])-1),ROW(BL72)-ROW($A$2)+1)),\"\")","v":""},{"$f":"IFERROR(INDEX(Отделения[отделение],SMALL(IF(Отделения[Город]=$CX$1,ROW(Отделения[Город])-1),ROW(BM72)-ROW($A$2)+1)),\"\")","v":""},{"$f":"IFERROR(INDEX(Отделения[отделение],SMALL(IF(Отделения[Город]=$CY$1,ROW(Отделения[Город])-1),ROW(BM72)-ROW($A$2)+1)),\"\")","v":""},{"$f":"IFERROR(INDEX(Отделения[отделение],SMALL(IF(Отделения[Город]=$CZ$1,ROW(Отделения[Город])-1),ROW(BM72)-ROW($A$2)+1)),\"\")","v":""},{"$f":"IFERROR(INDEX(Отделения[отделение],SMALL(IF(Отделения[Город]=$DA$1,ROW(Отделения[Город])-1),ROW(BM72)-ROW($A$2)+1)),\"\")","v":""},{"$f":"IFERROR(INDEX(Отделения[отделение],SMALL(IF(Отделения[Город]=$DB$1,ROW(Отделения[Город])-1),ROW(BM72)-ROW($A$2)+1)),\"\")","v":""}]
["Москва","ДО \"ВОЙКОВСКИЙ\" , 125171, г. Москва, ш. Ленинградское, д. 15","0651","MOA7",null,null,{"$f":"IFERROR(INDEX(Отделения[отделение],SMALL(IF(Отделения[Город]=$G$1,ROW(Отделения[Город])-1),ROW(A73)-ROW($A$2)+1)),\"\")","v":""},{"$f":"IFERROR(INDEX(Отделения[отделение],SMALL(IF(Отделения[Город]=$H$1,ROW(Отделения[Город])-1),ROW(A73)-ROW($A$2)+1)),\"\")","v":""},{"$f":"IFERROR(INDEX(Отделения[отделение],SMALL(IF(Отделения[Город]=$I$1,ROW(Отделения[Город])-1),ROW(A73)-ROW($A$2)+1)),\"\")","v":""},{"$f":"IFERROR(INDEX(Отделения[отделение],SMALL(IF(Отделения[Город]=$J$1,ROW(Отделения[Город])-1),ROW(A73)-ROW($A$2)+1)),\"\")","v":""},{"$f":"IFERROR(INDEX(Отделения[отделение],SMALL(IF(Отделения[Город]=$K$1,ROW(Отделения[Город])-1),ROW(A73)-ROW($A$2)+1)),\"\")","v":""},{"$f":"IFERROR(INDEX(Отделения[отделение],SMALL(IF(Отделения[Город]=$L$1,ROW(Отделения[Город])-1),ROW(A73)-ROW($A$2)+1)),\"\")","v":""},{"$f":"IFERROR(INDEX(Отделения[отделение],SMALL(IF(Отделения[Город]=$M$1,ROW(Отделения[Город])-1),ROW(B73)-ROW($A$2)+1)),\"\")","v":""},{"$f":"IFERROR(INDEX(Отделения[отделение],SMALL(IF(Отделения[Город]=$N$1,ROW(Отделения[Город])-1),ROW(#REF!)-ROW($A$2)+1)),\"\")","v":""},{"$f":"IFERROR(INDEX(Отделения[отделение],SMALL(IF(Отделения[Город]=$O$1,ROW(Отделения[Город])-1),ROW(C73)-ROW($A$2)+1)),\"\")","v":""},{"$f":"IFERROR(INDEX(Отделения[отделение],SMALL(IF(Отделения[Город]=$P$1,ROW(Отделения[Город])-1),ROW(D73)-ROW($A$2)+1)),\"\")","v":""},{"$f":"IFERROR(INDEX(Отделения[отделение],SMALL(IF(Отделения[Город]=$Q$1,ROW(Отделения[Город])-1),ROW(F73)-ROW($A$2)+1)),\"\")","v":""},{"$f":"IFERROR(INDEX(Отделения[отделение],SMALL(IF(Отделения[Город]=$R$1,ROW(Отделения[Город])-1),ROW(#REF!)-ROW($A$2)+1)),\"\")","v":""},{"$f":"IFERROR(INDEX(Отделения[отделение],SMALL(IF(Отделения[Город]=$S$1,ROW(Отделения[Город])-1),ROW(G73)-ROW($A$2)+1)),\"\")","v":""},{"$f":"IFERROR(INDEX(Отделения[отделение],SMALL(IF(Отделения[Город]=$T$1,ROW(Отделения[Город])-1),ROW(H73)-ROW($A$2)+1)),\"\")","v":""},{"$f":"IFERROR(INDEX(Отделения[отделение],SMALL(IF(Отделения[Город]=$U$1,ROW(Отделения[Город])-1),ROW(I73)-ROW($A$2)+1)),\"\")","v":""},{"$f":"IFERROR(INDEX(Отделения[отделение],SMALL(IF(Отделения[Город]=$V$1,ROW(Отделения[Город])-1),ROW(J73)-ROW($A$2)+1)),\"\")","v":""},{"$f":"IFERROR(INDEX(Отделения[отделение],SMALL(IF(Отделения[Город]=$W$1,ROW(Отделения[Город])-1),ROW(K73)-ROW($A$2)+1)),\"\")","v":""},{"$f":"IFERROR(INDEX(Отделения[отделение],SMALL(IF(Отделения[Город]=$X$1,ROW(Отделения[Город])-1),ROW(L73)-ROW($A$2)+1)),\"\")","v":""},{"$f":"IFERROR(INDEX(Отделения[отделение],SMALL(IF(Отделения[Город]=$Y$1,ROW(Отделения[Город])-1),ROW(M73)-ROW($A$2)+1)),\"\")","v":""},{"$f":"IFERROR(INDEX(Отделения[отделение],SMALL(IF(Отделения[Город]=$Z$1,ROW(Отделения[Город])-1),ROW(N73)-ROW($A$2)+1)),\"\")","v":""},{"$f":"IFERROR(INDEX(Отделения[отделение],SMALL(IF(Отделения[Город]=$AA$1,ROW(Отделения[Город])-1),ROW(O73)-ROW($A$2)+1)),\"\")","v":""},{"$f":"IFERROR(INDEX(Отделения[отделение],SMALL(IF(Отделения[Город]=$AB$1,ROW(Отделения[Город])-1),ROW(P73)-ROW($A$2)+1)),\"\")","v":""},{"$f":"IFERROR(INDEX(Отделения[отделение],SMALL(IF(Отделения[Город]=$AC$1,ROW(Отделения[Город])-1),ROW(Q73)-ROW($A$2)+1)),\"\")","v":""},{"$f":"IFERROR(INDEX(Отделения[отделение],SMALL(IF(Отделения[Город]=$AD$1,ROW(Отделения[Город])-1),ROW(R73)-ROW($A$2)+1)),\"\")","v":""},{"$f":"IFERROR(INDEX(Отделения[отделение],SMALL(IF(Отделения[Город]=$AE$1,ROW(Отделения[Город])-1),ROW(S73)-ROW($A$2)+1)),\"\")","v":""},{"$f":"IFERROR(INDEX(Отделения[отделение],SMALL(IF(Отделения[Город]=$AF$1,ROW(Отделения[Город])-1),ROW(T73)-ROW($A$2)+1)),\"\")","v":""},{"$f":"IFERROR(INDEX(Отделения[отделение],SMALL(IF(Отделения[Город]=$AG$1,ROW(Отделения[Город])-1),ROW(U73)-ROW($A$2)+1)),\"\")","v":""},{"$f":"IFERROR(INDEX(Отделения[отделение],SMALL(IF(Отделения[Город]=$AH$1,ROW(Отделения[Город])-1),ROW(V73)-ROW($A$2)+1)),\"\")","v":""},{"$f":"IFERROR(INDEX(Отделения[отделение],SMALL(IF(Отделения[Город]=$AI$1,ROW(Отделения[Город])-1),ROW(AB73)-ROW($A$2)+1)),\"\")","v":""},{"$f":"IFERROR(INDEX(Отделения[отделение],SMALL(IF(Отделения[Город]=$AJ$1,ROW(Отделения[Город])-1),ROW(AB73)-ROW($A$2)+1)),\"\")","v":""},{"$f":"IFERROR(INDEX(Отделения[отделение],SMALL(IF(Отделения[Город]=$AK$1,ROW(Отделения[Город])-1),ROW(AB73)-ROW($A$2)+1)),\"\")","v":""},{"$f":"IFERROR(INDEX(Отделения[отделение],SMALL(IF(Отделения[Город]=$AL$1,ROW(Отделения[Город])-1),ROW(AB73)-ROW($A$2)+1)),\"\")","v":""},{"$f":"IFERROR(INDEX(Отделения[отделение],SMALL(IF(Отделения[Город]=$AM$1,ROW(Отделения[Город])-1),ROW(AB73)-ROW($A$2)+1)),\"\")","v":""},{"$f":"IFERROR(INDEX(Отделения[отделение],SMALL(IF(Отделения[Город]=$AN$1,ROW(Отделения[Город])-1),ROW(AB73)-ROW($A$2)+1)),\"\")","v":""},{"$f":"IFERROR(INDEX(Отделения[отделение],SMALL(IF(Отделения[Город]=$AO$1,ROW(Отделения[Город])-1),ROW(AB73)-ROW($A$2)+1)),\"\")","v":""},{"$f":"IFERROR(INDEX(Отделения[отделение],SMALL(IF(Отделения[Город]=$AP$1,ROW(Отделения[Город])-1),ROW(AB73)-ROW($A$2)+1)),\"\")","v":""},{"$f":"IFERROR(INDEX(Отделения[отделение],SMALL(IF(Отделения[Город]=$AQ$1,ROW(Отделения[Город])-1),ROW(AB73)-ROW($A$2)+1)),\"\")","v":""},{"$f":"IFERROR(INDEX(Отделения[отделение],SMALL(IF(Отделения[Город]=$AR$1,ROW(Отделения[Город])-1),ROW(AB73)-ROW($A$2)+1)),\"\")","v":""},{"$f":"IFERROR(INDEX(Отделения[отделение],SMALL(IF(Отделения[Город]=$AS$1,ROW(Отделения[Город])-1),ROW(AB73)-ROW($A$2)+1)),\"\")","v":""},{"$f":"IFERROR(INDEX(Отделения[отделение],SMALL(IF(Отделения[Город]=$AT$1,ROW(Отделения[Город])-1),ROW(AB73)-ROW($A$2)+1)),\"\")","v":""},{"$f":"IFERROR(INDEX(Отделения[отделение],SMALL(IF(Отделения[Город]=$AU$1,ROW(Отделения[Город])-1),ROW(AB73)-ROW($A$2)+1)),\"\")","v":""},{"$f":"IFERROR(INDEX(Отделения[отделение],SMALL(IF(Отделения[Город]=$AV$1,ROW(Отделения[Город])-1),ROW(AB73)-ROW($A$2)+1)),\"\")","v":""},{"$f":"IFERROR(INDEX(Отделения[отделение],SMALL(IF(Отделения[Город]=$AW$1,ROW(Отделения[Город])-1),ROW(AB73)-ROW($A$2)+1)),\"\")","v":""},{"$f":"IFERROR(INDEX(Отделения[отделение],SMALL(IF(Отделения[Город]=$AX$1,ROW(Отделения[Город])-1),ROW(AB73)-ROW($A$2)+1)),\"\")","v":""},{"$f":"IFERROR(INDEX(Отделения[отделение],SMALL(IF(Отделения[Город]=$AY$1,ROW(Отделения[Город])-1),ROW(AB73)-ROW($A$2)+1)),\"\")","v":""},{"$f":"IFERROR(INDEX(Отделения[отделение],SMALL(IF(Отделения[Город]=$AZ$1,ROW(Отделения[Город])-1),ROW(AB73)-ROW($A$2)+1)),\"\")","v":""},{"$f":"IFERROR(INDEX(Отделения[отделение],SMALL(IF(Отделения[Город]=$BA$1,ROW(Отделения[Город])-1),ROW(AB73)-ROW($A$2)+1)),\"\")","v":""},{"$f":"IFERROR(INDEX(Отделения[отделение],SMALL(IF(Отделения[Город]=$BB$1,ROW(Отделения[Город])-1),ROW(AB73)-ROW($A$2)+1)),\"\")","v":""},{"$f":"IFERROR(INDEX(Отделения[отделение],SMALL(IF(Отделения[Город]=$BC$1,ROW(Отделения[Город])-1),ROW(AC73)-ROW($A$2)+1)),\"\")","v":""},{"$f":"IFERROR(INDEX(Отделения[отделение],SMALL(IF(Отделения[Город]=$BD$1,ROW(Отделения[Город])-1),ROW(AD73)-ROW($A$2)+1)),\"\")","v":""},{"$f":"IFERROR(INDEX(Отделения[отделение],SMALL(IF(Отделения[Город]=$BE$1,ROW(Отделения[Город])-1),ROW(AE73)-ROW($A$2)+1)),\"\")","v":""},{"$f":"IFERROR(INDEX(Отделения[отделение],SMALL(IF(Отделения[Город]=$BF$1,ROW(Отделения[Город])-1),ROW(AF73)-ROW($A$2)+1)),\"\")","v":""},{"$f":"IFERROR(INDEX(Отделения[отделение],SMALL(IF(Отделения[Город]=$BG$1,ROW(Отделения[Город])-1),ROW(AG73)-ROW($A$2)+1)),\"\")","v":""},{"$f":"IFERROR(INDEX(Отделения[отделение],SMALL(IF(Отделения[Город]=$BH$1,ROW(Отделения[Город])-1),ROW(AH73)-ROW($A$2)+1)),\"\")","v":""},{"$f":"IFERROR(INDEX(Отделения[отделение],SMALL(IF(Отделения[Город]=$BI$1,ROW(Отделения[Город])-1),ROW(AI73)-ROW($A$2)+1)),\"\")","v":""},{"$f":"IFERROR(INDEX(Отделения[отделение],SMALL(IF(Отделения[Город]=$BJ$1,ROW(Отделения[Город])-1),ROW(AJ73)-ROW($A$2)+1)),\"\")","v":""},{"$f":"IFERROR(INDEX(Отделения[отделение],SMALL(IF(Отделения[Город]=$BK$1,ROW(Отделения[Город])-1),ROW(AK73)-ROW($A$2)+1)),\"\")","v":""},{"$f":"IFERROR(INDEX(Отделения[отделение],SMALL(IF(Отделения[Город]=$BL$1,ROW(Отделения[Город])-1),ROW(AL73)-ROW($A$2)+1)),\"\")","v":""},{"$f":"IFERROR(INDEX(Отделения[отделение],SMALL(IF(Отделения[Город]=$BM$1,ROW(Отделения[Город])-1),ROW(AM73)-ROW($A$2)+1)),\"\")","v":""},{"$f":"IFERROR(INDEX(Отделения[отделение],SMALL(IF(Отделения[Город]=$BN$1,ROW(Отделения[Город])-1),ROW(AN73)-ROW($A$2)+1)),\"\")","v":""},{"$f":"IFERROR(INDEX(Отделения[отделение],SMALL(IF(Отделения[Город]=$BO$1,ROW(Отделения[Город])-1),ROW(AO73)-ROW($A$2)+1)),\"\")","v":""},{"$f":"IFERROR(INDEX(Отделения[отделение],SMALL(IF(Отделения[Город]=$BP$1,ROW(Отделения[Город])-1),ROW(AP73)-ROW($A$2)+1)),\"\")","v":""},{"$f":"IFERROR(INDEX(Отделения[отделение],SMALL(IF(Отделения[Город]=$BQ$1,ROW(Отделения[Город])-1),ROW(AQ73)-ROW($A$2)+1)),\"\")","v":""},{"$f":"IFERROR(INDEX(Отделения[отделение],SMALL(IF(Отделения[Город]=$BR$1,ROW(Отделения[Город])-1),ROW(AR73)-ROW($A$2)+1)),\"\")","v":""},{"$f":"IFERROR(INDEX(Отделения[отделение],SMALL(IF(Отделения[Город]=$BS$1,ROW(Отделения[Город])-1),ROW(AS73)-ROW($A$2)+1)),\"\")","v":""},{"$f":"IFERROR(INDEX(Отделения[отделение],SMALL(IF(Отделения[Город]=$BT$1,ROW(Отделения[Город])-1),ROW(AT73)-ROW($A$2)+1)),\"\")","v":""},{"$f":"IFERROR(INDEX(Отделения[отделение],SMALL(IF(Отделения[Город]=$BU$1,ROW(Отделения[Город])-1),ROW(AU73)-ROW($A$2)+1)),\"\")","v":""},{"$f":"IFERROR(INDEX(Отделения[отделение],SMALL(IF(Отделения[Город]=$BV$1,ROW(Отделения[Город])-1),ROW(AV73)-ROW($A$2)+1)),\"\")","v":""},{"$f":"IFERROR(INDEX(Отделения[отделение],SMALL(IF(Отделения[Город]=$BW$1,ROW(Отделения[Город])-1),ROW(AV73)-ROW($A$2)+1)),\"\")","v":""},{"$f":"IFERROR(INDEX(Отделения[отделение],SMALL(IF(Отделения[Город]=$BX$1,ROW(Отделения[Город])-1),ROW(AV73)-ROW($A$2)+1)),\"\")","v":""},{"$f":"IFERROR(INDEX(Отделения[отделение],SMALL(IF(Отделения[Город]=$BY$1,ROW(Отделения[Город])-1),ROW(AV73)-ROW($A$2)+1)),\"\")","v":""},{"$f":"IFERROR(INDEX(Отделения[отделение],SMALL(IF(Отделения[Город]=$BZ$1,ROW(Отделения[Город])-1),ROW(AV73)-ROW($A$2)+1)),\"\")","v":""},{"$f":"IFERROR(INDEX(Отделения[отделение],SMALL(IF(Отделения[Город]=$CA$1,ROW(Отделения[Город])-1),ROW(AV73)-ROW($A$2)+1)),\"\")","v":""},{"$f":"IFERROR(INDEX(Отделения[отделение],SMALL(IF(Отделения[Город]=$CB$1,ROW(Отделения[Город])-1),ROW(AV73)-ROW($A$2)+1)),\"\")","v":""},{"$f":"IFERROR(INDEX(Отделения[отделение],SMALL(IF(Отделения[Город]=$CC$1,ROW(Отделения[Город])-1),ROW(AV73)-ROW($A$2)+1)),\"\")","v":""},{"$f":"IFERROR(INDEX(Отделения[отделение],SMALL(IF(Отделения[Город]=$CD$1,ROW(Отделения[Город])-1),ROW(AV73)-ROW($A$2)+1)),\"\")","v":""},{"$f":"IFERROR(INDEX(Отделения[отделение],SMALL(IF(Отделения[Город]=$CE$1,ROW(Отделения[Город])-1),ROW(AV73)-ROW($A$2)+1)),\"\")","v":""},{"$f":"IFERROR(INDEX(Отделения[отделение],SMALL(IF(Отделения[Город]=$CF$1,ROW(Отделения[Город])-1),ROW(AV73)-ROW($A$2)+1)),\"\")","v":""},{"$f":"IFERROR(INDEX(Отделения[отделение],SMALL(IF(Отделения[Город]=$CG$1,ROW(Отделения[Город])-1),ROW(AV73)-ROW($A$2)+1)),\"\")","v":""},{"$f":"IFERROR(INDEX(Отделения[отделение],SMALL(IF(Отделения[Город]=$CH$1,ROW(Отделения[Город])-1),ROW(AW73)-ROW($A$2)+1)),\"\")","v":""},{"$f":"IFERROR(INDEX(Отделения[отделение],SMALL(IF(Отделения[Город]=$CI$1,ROW(Отделения[Город])-1),ROW(AX73)-ROW($A$2)+1)),\"\")","v":""},{"$f":"IFERROR(INDEX(Отделения[отделение],SMALL(IF(Отделения[Город]=$CJ$1,ROW(Отделения[Город])-1),ROW(AY73)-ROW($A$2)+1)),\"\")","v":""},{"$f":"IFERROR(INDEX(Отделения[отделение],SMALL(IF(Отделения[Город]=$CK$1,ROW(Отделения[Город])-1),ROW(AZ73)-ROW($A$2)+1)),\"\")","v":""},{"$f":"IFERROR(INDEX(Отделения[отделение],SMALL(IF(Отделения[Город]=$CL$1,ROW(Отделения[Город])-1),ROW(BA73)-ROW($A$2)+1)),\"\")","v":""},{"$f":"IFERROR(INDEX(Отделения[отделение],SMALL(IF(Отделения[Город]=$CM$1,ROW(Отделения[Город])-1),ROW(BB73)-ROW($A$2)+1)),\"\")","v":""},{"$f":"IFERROR(INDEX(Отделения[отделение],SMALL(IF(Отделения[Город]=$CN$1,ROW(Отделения[Город])-1),ROW(BC73)-ROW($A$2)+1)),\"\")","v":""},{"$f":"IFERROR(INDEX(Отделения[отделение],SMALL(IF(Отделения[Город]=$CO$1,ROW(Отделения[Город])-1),ROW(BD73)-ROW($A$2)+1)),\"\")","v":""},{"$f":"IFERROR(INDEX(Отделения[отделение],SMALL(IF(Отделения[Город]=$CP$1,ROW(Отделения[Город])-1),ROW(BE73)-ROW($A$2)+1)),\"\")","v":""},{"$f":"IFERROR(INDEX(Отделения[отделение],SMALL(IF(Отделения[Город]=$CQ$1,ROW(Отделения[Город])-1),ROW(BF73)-ROW($A$2)+1)),\"\")","v":""},{"$f":"IFERROR(INDEX(Отделения[отделение],SMALL(IF(Отделения[Город]=$CR$1,ROW(Отделения[Город])-1),ROW(BG73)-ROW($A$2)+1)),\"\")","v":""},{"$f":"IFERROR(INDEX(Отделения[отделение],SMALL(IF(Отделения[Город]=$CS$1,ROW(Отделения[Город])-1),ROW(BH73)-ROW($A$2)+1)),\"\")","v":""},{"$f":"IFERROR(INDEX(Отделения[отделение],SMALL(IF(Отделения[Город]=$CT$1,ROW(Отделения[Город])-1),ROW(BI73)-ROW($A$2)+1)),\"\")","v":""},{"$f":"IFERROR(INDEX(Отделения[отделение],SMALL(IF(Отделения[Город]=$CU$1,ROW(Отделения[Город])-1),ROW(BJ73)-ROW($A$2)+1)),\"\")","v":""},{"$f":"IFERROR(INDEX(Отделения[отделение],SMALL(IF(Отделения[Город]=$CV$1,ROW(Отделения[Город])-1),ROW(BK73)-ROW($A$2)+1)),\"\")","v":""},{"$f":"IFERROR(INDEX(Отделения[отделение],SMALL(IF(Отделения[Город]=$CW$1,ROW(Отделения[Город])-1),ROW(BL73)-ROW($A$2)+1)),\"\")","v":""},{"$f":"IFERROR(INDEX(Отделения[отделение],SMALL(IF(Отделения[Город]=$CX$1,ROW(Отделения[Город])-1),ROW(BM73)-ROW($A$2)+1)),\"\")","v":""},{"$f":"IFERROR(INDEX(Отделения[отделение],SMALL(IF(Отделения[Город]=$CY$1,ROW(Отделения[Город])-1),ROW(BM73)-ROW($A$2)+1)),\"\")","v":""},{"$f":"IFERROR(INDEX(Отделения[отделение],SMALL(IF(Отделения[Город]=$CZ$1,ROW(Отделения[Город])-1),ROW(BM73)-ROW($A$2)+1)),\"\")","v":""},{"$f":"IFERROR(INDEX(Отделения[отделение],SMALL(IF(Отделения[Город]=$DA$1,ROW(Отделения[Город])-1),ROW(BM73)-ROW($A$2)+1)),\"\")","v":""},{"$f":"IFERROR(INDEX(Отделения[отделение],SMALL(IF(Отделения[Город]=$DB$1,ROW(Отделения[Город])-1),ROW(BM73)-ROW($A$2)+1)),\"\")","v":""}]
["Москва","ДО \"ПРОЛЕТАРСКИЙ\" , 109044, г. Москва, 3-й Крутицкий переулок, д. 13","0654","MOJ8",null,null,{"$f":"IFERROR(INDEX(Отделения[отделение],SMALL(IF(Отделения[Город]=$G$1,ROW(Отделения[Город])-1),ROW(A74)-ROW($A$2)+1)),\"\")","v":""},{"$f":"IFERROR(INDEX(Отделения[отделение],SMALL(IF(Отделения[Город]=$H$1,ROW(Отделения[Город])-1),ROW(A74)-ROW($A$2)+1)),\"\")","v":""},{"$f":"IFERROR(INDEX(Отделения[отделение],SMALL(IF(Отделения[Город]=$I$1,ROW(Отделения[Город])-1),ROW(A74)-ROW($A$2)+1)),\"\")","v":""},{"$f":"IFERROR(INDEX(Отделения[отделение],SMALL(IF(Отделения[Город]=$J$1,ROW(Отделения[Город])-1),ROW(A74)-ROW($A$2)+1)),\"\")","v":""},{"$f":"IFERROR(INDEX(Отделения[отделение],SMALL(IF(Отделения[Город]=$K$1,ROW(Отделения[Город])-1),ROW(A74)-ROW($A$2)+1)),\"\")","v":""},{"$f":"IFERROR(INDEX(Отделения[отделение],SMALL(IF(Отделения[Город]=$L$1,ROW(Отделения[Город])-1),ROW(A74)-ROW($A$2)+1)),\"\")","v":""},{"$f":"IFERROR(INDEX(Отделения[отделение],SMALL(IF(Отделения[Город]=$M$1,ROW(Отделения[Город])-1),ROW(B74)-ROW($A$2)+1)),\"\")","v":""},{"$f":"IFERROR(INDEX(Отделения[отделение],SMALL(IF(Отделения[Город]=$N$1,ROW(Отделения[Город])-1),ROW(#REF!)-ROW($A$2)+1)),\"\")","v":""},{"$f":"IFERROR(INDEX(Отделения[отделение],SMALL(IF(Отделения[Город]=$O$1,ROW(Отделения[Город])-1),ROW(C74)-ROW($A$2)+1)),\"\")","v":""},{"$f":"IFERROR(INDEX(Отделения[отделение],SMALL(IF(Отделения[Город]=$P$1,ROW(Отделения[Город])-1),ROW(D74)-ROW($A$2)+1)),\"\")","v":""},{"$f":"IFERROR(INDEX(Отделения[отделение],SMALL(IF(Отделения[Город]=$Q$1,ROW(Отделения[Город])-1),ROW(F74)-ROW($A$2)+1)),\"\")","v":""},{"$f":"IFERROR(INDEX(Отделения[отделение],SMALL(IF(Отделения[Город]=$R$1,ROW(Отделения[Город])-1),ROW(#REF!)-ROW($A$2)+1)),\"\")","v":""},{"$f":"IFERROR(INDEX(Отделения[отделение],SMALL(IF(Отделения[Город]=$S$1,ROW(Отделения[Город])-1),ROW(G74)-ROW($A$2)+1)),\"\")","v":""},{"$f":"IFERROR(INDEX(Отделения[отделение],SMALL(IF(Отделения[Город]=$T$1,ROW(Отделения[Город])-1),ROW(H74)-ROW($A$2)+1)),\"\")","v":""},{"$f":"IFERROR(INDEX(Отделения[отделение],SMALL(IF(Отделения[Город]=$U$1,ROW(Отделения[Город])-1),ROW(I74)-ROW($A$2)+1)),\"\")","v":""},{"$f":"IFERROR(INDEX(Отделения[отделение],SMALL(IF(Отделения[Город]=$V$1,ROW(Отделения[Город])-1),ROW(J74)-ROW($A$2)+1)),\"\")","v":""},{"$f":"IFERROR(INDEX(Отделения[отделение],SMALL(IF(Отделения[Город]=$W$1,ROW(Отделения[Город])-1),ROW(K74)-ROW($A$2)+1)),\"\")","v":""},{"$f":"IFERROR(INDEX(Отделения[отделение],SMALL(IF(Отделения[Город]=$X$1,ROW(Отделения[Город])-1),ROW(L74)-ROW($A$2)+1)),\"\")","v":""},{"$f":"IFERROR(INDEX(Отделения[отделение],SMALL(IF(Отделения[Город]=$Y$1,ROW(Отделения[Город])-1),ROW(M74)-ROW($A$2)+1)),\"\")","v":""},{"$f":"IFERROR(INDEX(Отделения[отделение],SMALL(IF(Отделения[Город]=$Z$1,ROW(Отделения[Город])-1),ROW(N74)-ROW($A$2)+1)),\"\")","v":""},{"$f":"IFERROR(INDEX(Отделения[отделение],SMALL(IF(Отделения[Город]=$AA$1,ROW(Отделения[Город])-1),ROW(O74)-ROW($A$2)+1)),\"\")","v":""},{"$f":"IFERROR(INDEX(Отделения[отделение],SMALL(IF(Отделения[Город]=$AB$1,ROW(Отделения[Город])-1),ROW(P74)-ROW($A$2)+1)),\"\")","v":""},{"$f":"IFERROR(INDEX(Отделения[отделение],SMALL(IF(Отделения[Город]=$AC$1,ROW(Отделения[Город])-1),ROW(Q74)-ROW($A$2)+1)),\"\")","v":""},{"$f":"IFERROR(INDEX(Отделения[отделение],SMALL(IF(Отделения[Город]=$AD$1,ROW(Отделения[Город])-1),ROW(R74)-ROW($A$2)+1)),\"\")","v":""},{"$f":"IFERROR(INDEX(Отделения[отделение],SMALL(IF(Отделения[Город]=$AE$1,ROW(Отделения[Город])-1),ROW(S74)-ROW($A$2)+1)),\"\")","v":""},{"$f":"IFERROR(INDEX(Отделения[отделение],SMALL(IF(Отделения[Город]=$AF$1,ROW(Отделения[Город])-1),ROW(T74)-ROW($A$2)+1)),\"\")","v":""},{"$f":"IFERROR(INDEX(Отделения[отделение],SMALL(IF(Отделения[Город]=$AG$1,ROW(Отделения[Город])-1),ROW(U74)-ROW($A$2)+1)),\"\")","v":""},{"$f":"IFERROR(INDEX(Отделения[отделение],SMALL(IF(Отделения[Город]=$AH$1,ROW(Отделения[Город])-1),ROW(V74)-ROW($A$2)+1)),\"\")","v":""},{"$f":"IFERROR(INDEX(Отделения[отделение],SMALL(IF(Отделения[Город]=$AI$1,ROW(Отделения[Город])-1),ROW(AB74)-ROW($A$2)+1)),\"\")","v":""},{"$f":"IFERROR(INDEX(Отделения[отделение],SMALL(IF(Отделения[Город]=$AJ$1,ROW(Отделения[Город])-1),ROW(AB74)-ROW($A$2)+1)),\"\")","v":""},{"$f":"IFERROR(INDEX(Отделения[отделение],SMALL(IF(Отделения[Город]=$AK$1,ROW(Отделения[Город])-1),ROW(AB74)-ROW($A$2)+1)),\"\")","v":""},{"$f":"IFERROR(INDEX(Отделения[отделение],SMALL(IF(Отделения[Город]=$AL$1,ROW(Отделения[Город])-1),ROW(AB74)-ROW($A$2)+1)),\"\")","v":""},{"$f":"IFERROR(INDEX(Отделения[отделение],SMALL(IF(Отделения[Город]=$AM$1,ROW(Отделения[Город])-1),ROW(AB74)-ROW($A$2)+1)),\"\")","v":""},{"$f":"IFERROR(INDEX(Отделения[отделение],SMALL(IF(Отделения[Город]=$AN$1,ROW(Отделения[Город])-1),ROW(AB74)-ROW($A$2)+1)),\"\")","v":""},{"$f":"IFERROR(INDEX(Отделения[отделение],SMALL(IF(Отделения[Город]=$AO$1,ROW(Отделения[Город])-1),ROW(AB74)-ROW($A$2)+1)),\"\")","v":""},{"$f":"IFERROR(INDEX(Отделения[отделение],SMALL(IF(Отделения[Город]=$AP$1,ROW(Отделения[Город])-1),ROW(AB74)-ROW($A$2)+1)),\"\")","v":""},{"$f":"IFERROR(INDEX(Отделения[отделение],SMALL(IF(Отделения[Город]=$AQ$1,ROW(Отделения[Город])-1),ROW(AB74)-ROW($A$2)+1)),\"\")","v":""},{"$f":"IFERROR(INDEX(Отделения[отделение],SMALL(IF(Отделения[Город]=$AR$1,ROW(Отделения[Город])-1),ROW(AB74)-ROW($A$2)+1)),\"\")","v":""},{"$f":"IFERROR(INDEX(Отделения[отделение],SMALL(IF(Отделения[Город]=$AS$1,ROW(Отделения[Город])-1),ROW(AB74)-ROW($A$2)+1)),\"\")","v":""},{"$f":"IFERROR(INDEX(Отделения[отделение],SMALL(IF(Отделения[Город]=$AT$1,ROW(Отделения[Город])-1),ROW(AB74)-ROW($A$2)+1)),\"\")","v":""},{"$f":"IFERROR(INDEX(Отделения[отделение],SMALL(IF(Отделения[Город]=$AU$1,ROW(Отделения[Город])-1),ROW(AB74)-ROW($A$2)+1)),\"\")","v":""},{"$f":"IFERROR(INDEX(Отделения[отделение],SMALL(IF(Отделения[Город]=$AV$1,ROW(Отделения[Город])-1),ROW(AB74)-ROW($A$2)+1)),\"\")","v":""},{"$f":"IFERROR(INDEX(Отделения[отделение],SMALL(IF(Отделения[Город]=$AW$1,ROW(Отделения[Город])-1),ROW(AB74)-ROW($A$2)+1)),\"\")","v":""},{"$f":"IFERROR(INDEX(Отделения[отделение],SMALL(IF(Отделения[Город]=$AX$1,ROW(Отделения[Город])-1),ROW(AB74)-ROW($A$2)+1)),\"\")","v":""},{"$f":"IFERROR(INDEX(Отделения[отделение],SMALL(IF(Отделения[Город]=$AY$1,ROW(Отделения[Город])-1),ROW(AB74)-ROW($A$2)+1)),\"\")","v":""},{"$f":"IFERROR(INDEX(Отделения[отделение],SMALL(IF(Отделения[Город]=$AZ$1,ROW(Отделения[Город])-1),ROW(AB74)-ROW($A$2)+1)),\"\")","v":""},{"$f":"IFERROR(INDEX(Отделения[отделение],SMALL(IF(Отделения[Город]=$BA$1,ROW(Отделения[Город])-1),ROW(AB74)-ROW($A$2)+1)),\"\")","v":""},{"$f":"IFERROR(INDEX(Отделения[отделение],SMALL(IF(Отделения[Город]=$BB$1,ROW(Отделения[Город])-1),ROW(AB74)-ROW($A$2)+1)),\"\")","v":""},{"$f":"IFERROR(INDEX(Отделения[отделение],SMALL(IF(Отделения[Город]=$BC$1,ROW(Отделения[Город])-1),ROW(AC74)-ROW($A$2)+1)),\"\")","v":""},{"$f":"IFERROR(INDEX(Отделения[отделение],SMALL(IF(Отделения[Город]=$BD$1,ROW(Отделения[Город])-1),ROW(AD74)-ROW($A$2)+1)),\"\")","v":""},{"$f":"IFERROR(INDEX(Отделения[отделение],SMALL(IF(Отделения[Город]=$BE$1,ROW(Отделения[Город])-1),ROW(AE74)-ROW($A$2)+1)),\"\")","v":""},{"$f":"IFERROR(INDEX(Отделения[отделение],SMALL(IF(Отделения[Город]=$BF$1,ROW(Отделения[Город])-1),ROW(AF74)-ROW($A$2)+1)),\"\")","v":""},{"$f":"IFERROR(INDEX(Отделения[отделение],SMALL(IF(Отделения[Город]=$BG$1,ROW(Отделения[Город])-1),ROW(AG74)-ROW($A$2)+1)),\"\")","v":""},{"$f":"IFERROR(INDEX(Отделения[отделение],SMALL(IF(Отделения[Город]=$BH$1,ROW(Отделения[Город])-1),ROW(AH74)-ROW($A$2)+1)),\"\")","v":""},{"$f":"IFERROR(INDEX(Отделения[отделение],SMALL(IF(Отделения[Город]=$BI$1,ROW(Отделения[Город])-1),ROW(AI74)-ROW($A$2)+1)),\"\")","v":""},{"$f":"IFERROR(INDEX(Отделения[отделение],SMALL(IF(Отделения[Город]=$BJ$1,ROW(Отделения[Город])-1),ROW(AJ74)-ROW($A$2)+1)),\"\")","v":""},{"$f":"IFERROR(INDEX(Отделения[отделение],SMALL(IF(Отделения[Город]=$BK$1,ROW(Отделения[Город])-1),ROW(AK74)-ROW($A$2)+1)),\"\")","v":""},{"$f":"IFERROR(INDEX(Отделения[отделение],SMALL(IF(Отделения[Город]=$BL$1,ROW(Отделения[Город])-1),ROW(AL74)-ROW($A$2)+1)),\"\")","v":""},{"$f":"IFERROR(INDEX(Отделения[отделение],SMALL(IF(Отделения[Город]=$BM$1,ROW(Отделения[Город])-1),ROW(AM74)-ROW($A$2)+1)),\"\")","v":""},{"$f":"IFERROR(INDEX(Отделения[отделение],SMALL(IF(Отделения[Город]=$BN$1,ROW(Отделения[Город])-1),ROW(AN74)-ROW($A$2)+1)),\"\")","v":""},{"$f":"IFERROR(INDEX(Отделения[отделение],SMALL(IF(Отделения[Город]=$BO$1,ROW(Отделения[Город])-1),ROW(AO74)-ROW($A$2)+1)),\"\")","v":""},{"$f":"IFERROR(INDEX(Отделения[отделение],SMALL(IF(Отделения[Город]=$BP$1,ROW(Отделения[Город])-1),ROW(AP74)-ROW($A$2)+1)),\"\")","v":""},{"$f":"IFERROR(INDEX(Отделения[отделение],SMALL(IF(Отделения[Город]=$BQ$1,ROW(Отделения[Город])-1),ROW(AQ74)-ROW($A$2)+1)),\"\")","v":""},{"$f":"IFERROR(INDEX(Отделения[отделение],SMALL(IF(Отделения[Город]=$BR$1,ROW(Отделения[Город])-1),ROW(AR74)-ROW($A$2)+1)),\"\")","v":""},{"$f":"IFERROR(INDEX(Отделения[отделение],SMALL(IF(Отделения[Город]=$BS$1,ROW(Отделения[Город])-1),ROW(AS74)-ROW($A$2)+1)),\"\")","v":""},{"$f":"IFERROR(INDEX(Отделения[отделение],SMALL(IF(Отделения[Город]=$BT$1,ROW(Отделения[Город])-1),ROW(AT74)-ROW($A$2)+1)),\"\")","v":""},{"$f":"IFERROR(INDEX(Отделения[отделение],SMALL(IF(Отделения[Город]=$BU$1,ROW(Отделения[Город])-1),ROW(AU74)-ROW($A$2)+1)),\"\")","v":""},{"$f":"IFERROR(INDEX(Отделения[отделение],SMALL(IF(Отделения[Город]=$BV$1,ROW(Отделения[Город])-1),ROW(AV74)-ROW($A$2)+1)),\"\")","v":""},{"$f":"IFERROR(INDEX(Отделения[отделение],SMALL(IF(Отделения[Город]=$BW$1,ROW(Отделения[Город])-1),ROW(AV74)-ROW($A$2)+1)),\"\")","v":""},{"$f":"IFERROR(INDEX(Отделения[отделение],SMALL(IF(Отделения[Город]=$BX$1,ROW(Отделения[Город])-1),ROW(AV74)-ROW($A$2)+1)),\"\")","v":""},{"$f":"IFERROR(INDEX(Отделения[отделение],SMALL(IF(Отделения[Город]=$BY$1,ROW(Отделения[Город])-1),ROW(AV74)-ROW($A$2)+1)),\"\")","v":""},{"$f":"IFERROR(INDEX(Отделения[отделение],SMALL(IF(Отделения[Город]=$BZ$1,ROW(Отделения[Город])-1),ROW(AV74)-ROW($A$2)+1)),\"\")","v":""},{"$f":"IFERROR(INDEX(Отделения[отделение],SMALL(IF(Отделения[Город]=$CA$1,ROW(Отделения[Город])-1),ROW(AV74)-ROW($A$2)+1)),\"\")","v":""},{"$f":"IFERROR(INDEX(Отделения[отделение],SMALL(IF(Отделения[Город]=$CB$1,ROW(Отделения[Город])-1),ROW(AV74)-ROW($A$2)+1)),\"\")","v":""},{"$f":"IFERROR(INDEX(Отделения[отделение],SMALL(IF(Отделения[Город]=$CC$1,ROW(Отделения[Город])-1),ROW(AV74)-ROW($A$2)+1)),\"\")","v":""},{"$f":"IFERROR(INDEX(Отделения[отделение],SMALL(IF(Отделения[Город]=$CD$1,ROW(Отделения[Город])-1),ROW(AV74)-ROW($A$2)+1)),\"\")","v":""},{"$f":"IFERROR(INDEX(Отделения[отделение],SMALL(IF(Отделения[Город]=$CE$1,ROW(Отделения[Город])-1),ROW(AV74)-ROW($A$2)+1)),\"\")","v":""},{"$f":"IFERROR(INDEX(Отделения[отделение],SMALL(IF(Отделения[Город]=$CF$1,ROW(Отделения[Город])-1),ROW(AV74)-ROW($A$2)+1)),\"\")","v":""},{"$f":"IFERROR(INDEX(Отделения[отделение],SMALL(IF(Отделения[Город]=$CG$1,ROW(Отделения[Город])-1),ROW(AV74)-ROW($A$2)+1)),\"\")","v":""},{"$f":"IFERROR(INDEX(Отделения[отделение],SMALL(IF(Отделения[Город]=$CH$1,ROW(Отделения[Город])-1),ROW(AW74)-ROW($A$2)+1)),\"\")","v":""},{"$f":"IFERROR(INDEX(Отделения[отделение],SMALL(IF(Отделения[Город]=$CI$1,ROW(Отделения[Город])-1),ROW(AX74)-ROW($A$2)+1)),\"\")","v":""},{"$f":"IFERROR(INDEX(Отделения[отделение],SMALL(IF(Отделения[Город]=$CJ$1,ROW(Отделения[Город])-1),ROW(AY74)-ROW($A$2)+1)),\"\")","v":""},{"$f":"IFERROR(INDEX(Отделения[отделение],SMALL(IF(Отделения[Город]=$CK$1,ROW(Отделения[Город])-1),ROW(AZ74)-ROW($A$2)+1)),\"\")","v":""},{"$f":"IFERROR(INDEX(Отделения[отделение],SMALL(IF(Отделения[Город]=$CL$1,ROW(Отделения[Город])-1),ROW(BA74)-ROW($A$2)+1)),\"\")","v":""},{"$f":"IFERROR(INDEX(Отделения[отделение],SMALL(IF(Отделения[Город]=$CM$1,ROW(Отделения[Город])-1),ROW(BB74)-ROW($A$2)+1)),\"\")","v":""},{"$f":"IFERROR(INDEX(Отделения[отделение],SMALL(IF(Отделения[Город]=$CN$1,ROW(Отделения[Город])-1),ROW(BC74)-ROW($A$2)+1)),\"\")","v":""},{"$f":"IFERROR(INDEX(Отделения[отделение],SMALL(IF(Отделения[Город]=$CO$1,ROW(Отделения[Город])-1),ROW(BD74)-ROW($A$2)+1)),\"\")","v":""},{"$f":"IFERROR(INDEX(Отделения[отделение],SMALL(IF(Отделения[Город]=$CP$1,ROW(Отделения[Город])-1),ROW(BE74)-ROW($A$2)+1)),\"\")","v":""},{"$f":"IFERROR(INDEX(Отделения[отделение],SMALL(IF(Отделения[Город]=$CQ$1,ROW(Отделения[Город])-1),ROW(BF74)-ROW($A$2)+1)),\"\")","v":""},{"$f":"IFERROR(INDEX(Отделения[отделение],SMALL(IF(Отделения[Город]=$CR$1,ROW(Отделения[Город])-1),ROW(BG74)-ROW($A$2)+1)),\"\")","v":""},{"$f":"IFERROR(INDEX(Отделения[отделение],SMALL(IF(Отделения[Город]=$CS$1,ROW(Отделения[Город])-1),ROW(BH74)-ROW($A$2)+1)),\"\")","v":""},{"$f":"IFERROR(INDEX(Отделения[отделение],SMALL(IF(Отделения[Город]=$CT$1,ROW(Отделения[Город])-1),ROW(BI74)-ROW($A$2)+1)),\"\")","v":""},{"$f":"IFERROR(INDEX(Отделения[отделение],SMALL(IF(Отделения[Город]=$CU$1,ROW(Отделения[Город])-1),ROW(BJ74)-ROW($A$2)+1)),\"\")","v":""},{"$f":"IFERROR(INDEX(Отделения[отделение],SMALL(IF(Отделения[Город]=$CV$1,ROW(Отделения[Город])-1),ROW(BK74)-ROW($A$2)+1)),\"\")","v":""},{"$f":"IFERROR(INDEX(Отделения[отделение],SMALL(IF(Отделения[Город]=$CW$1,ROW(Отделения[Город])-1),ROW(BL74)-ROW($A$2)+1)),\"\")","v":""},{"$f":"IFERROR(INDEX(Отделения[отделение],SMALL(IF(Отделения[Город]=$CX$1,ROW(Отделения[Город])-1),ROW(BM74)-ROW($A$2)+1)),\"\")","v":""},{"$f":"IFERROR(INDEX(Отделения[отделение],SMALL(IF(Отделения[Город]=$CY$1,ROW(Отделения[Город])-1),ROW(BM74)-ROW($A$2)+1)),\"\")","v":""},{"$f":"IFERROR(INDEX(Отделения[отделение],SMALL(IF(Отделения[Город]=$CZ$1,ROW(Отделения[Город])-1),ROW(BM74)-ROW($A$2)+1)),\"\")","v":""},{"$f":"IFERROR(INDEX(Отделения[отделение],SMALL(IF(Отделения[Город]=$DA$1,ROW(Отделения[Город])-1),ROW(BM74)-ROW($A$2)+1)),\"\")","v":""},{"$f":"IFERROR(INDEX(Отделения[отделение],SMALL(IF(Отделения[Город]=$DB$1,ROW(Отделения[Город])-1),ROW(BM74)-ROW($A$2)+1)),\"\")","v":""}]
["Москва","ДО \"КИЕВСКОЕ ШОССЕ\" , 108811, г. Москва, п Московский, ш.Киевское 22-й км, вл.4, стр.1","0655","MON4",null,null,{"$f":"IFERROR(INDEX(Отделения[отделение],SMALL(IF(Отделения[Город]=$G$1,ROW(Отделения[Город])-1),ROW(A75)-ROW($A$2)+1)),\"\")","v":""},{"$f":"IFERROR(INDEX(Отделения[отделение],SMALL(IF(Отделения[Город]=$H$1,ROW(Отделения[Город])-1),ROW(A75)-ROW($A$2)+1)),\"\")","v":""},{"$f":"IFERROR(INDEX(Отделения[отделение],SMALL(IF(Отделения[Город]=$I$1,ROW(Отделения[Город])-1),ROW(A75)-ROW($A$2)+1)),\"\")","v":""},{"$f":"IFERROR(INDEX(Отделения[отделение],SMALL(IF(Отделения[Город]=$J$1,ROW(Отделения[Город])-1),ROW(A75)-ROW($A$2)+1)),\"\")","v":""},{"$f":"IFERROR(INDEX(Отделения[отделение],SMALL(IF(Отделения[Город]=$K$1,ROW(Отделения[Город])-1),ROW(A75)-ROW($A$2)+1)),\"\")","v":""},{"$f":"IFERROR(INDEX(Отделения[отделение],SMALL(IF(Отделения[Город]=$L$1,ROW(Отделения[Город])-1),ROW(A75)-ROW($A$2)+1)),\"\")","v":""},{"$f":"IFERROR(INDEX(Отделения[отделение],SMALL(IF(Отделения[Город]=$M$1,ROW(Отделения[Город])-1),ROW(B75)-ROW($A$2)+1)),\"\")","v":""},{"$f":"IFERROR(INDEX(Отделения[отделение],SMALL(IF(Отделения[Город]=$N$1,ROW(Отделения[Город])-1),ROW(#REF!)-ROW($A$2)+1)),\"\")","v":""},{"$f":"IFERROR(INDEX(Отделения[отделение],SMALL(IF(Отделения[Город]=$O$1,ROW(Отделения[Город])-1),ROW(C75)-ROW($A$2)+1)),\"\")","v":""},{"$f":"IFERROR(INDEX(Отделения[отделение],SMALL(IF(Отделения[Город]=$P$1,ROW(Отделения[Город])-1),ROW(D75)-ROW($A$2)+1)),\"\")","v":""},{"$f":"IFERROR(INDEX(Отделения[отделение],SMALL(IF(Отделения[Город]=$Q$1,ROW(Отделения[Город])-1),ROW(F75)-ROW($A$2)+1)),\"\")","v":""},{"$f":"IFERROR(INDEX(Отделения[отделение],SMALL(IF(Отделения[Город]=$R$1,ROW(Отделения[Город])-1),ROW(#REF!)-ROW($A$2)+1)),\"\")","v":""},{"$f":"IFERROR(INDEX(Отделения[отделение],SMALL(IF(Отделения[Город]=$S$1,ROW(Отделения[Город])-1),ROW(G75)-ROW($A$2)+1)),\"\")","v":""},{"$f":"IFERROR(INDEX(Отделения[отделение],SMALL(IF(Отделения[Город]=$T$1,ROW(Отделения[Город])-1),ROW(H75)-ROW($A$2)+1)),\"\")","v":""},{"$f":"IFERROR(INDEX(Отделения[отделение],SMALL(IF(Отделения[Город]=$U$1,ROW(Отделения[Город])-1),ROW(I75)-ROW($A$2)+1)),\"\")","v":""},{"$f":"IFERROR(INDEX(Отделения[отделение],SMALL(IF(Отделения[Город]=$V$1,ROW(Отделения[Город])-1),ROW(J75)-ROW($A$2)+1)),\"\")","v":""},{"$f":"IFERROR(INDEX(Отделения[отделение],SMALL(IF(Отделения[Город]=$W$1,ROW(Отделения[Город])-1),ROW(K75)-ROW($A$2)+1)),\"\")","v":""},{"$f":"IFERROR(INDEX(Отделения[отделение],SMALL(IF(Отделения[Город]=$X$1,ROW(Отделения[Город])-1),ROW(L75)-ROW($A$2)+1)),\"\")","v":""},{"$f":"IFERROR(INDEX(Отделения[отделение],SMALL(IF(Отделения[Город]=$Y$1,ROW(Отделения[Город])-1),ROW(M75)-ROW($A$2)+1)),\"\")","v":""},{"$f":"IFERROR(INDEX(Отделения[отделение],SMALL(IF(Отделения[Город]=$Z$1,ROW(Отделения[Город])-1),ROW(N75)-ROW($A$2)+1)),\"\")","v":""},{"$f":"IFERROR(INDEX(Отделения[отделение],SMALL(IF(Отделения[Город]=$AA$1,ROW(Отделения[Город])-1),ROW(O75)-ROW($A$2)+1)),\"\")","v":""},{"$f":"IFERROR(INDEX(Отделения[отделение],SMALL(IF(Отделения[Город]=$AB$1,ROW(Отделения[Город])-1),ROW(P75)-ROW($A$2)+1)),\"\")","v":""},{"$f":"IFERROR(INDEX(Отделения[отделение],SMALL(IF(Отделения[Город]=$AC$1,ROW(Отделения[Город])-1),ROW(Q75)-ROW($A$2)+1)),\"\")","v":""},{"$f":"IFERROR(INDEX(Отделения[отделение],SMALL(IF(Отделения[Город]=$AD$1,ROW(Отделения[Город])-1),ROW(R75)-ROW($A$2)+1)),\"\")","v":""},{"$f":"IFERROR(INDEX(Отделения[отделение],SMALL(IF(Отделения[Город]=$AE$1,ROW(Отделения[Город])-1),ROW(S75)-ROW($A$2)+1)),\"\")","v":""},{"$f":"IFERROR(INDEX(Отделения[отделение],SMALL(IF(Отделения[Город]=$AF$1,ROW(Отделения[Город])-1),ROW(T75)-ROW($A$2)+1)),\"\")","v":""},{"$f":"IFERROR(INDEX(Отделения[отделение],SMALL(IF(Отделения[Город]=$AG$1,ROW(Отделения[Город])-1),ROW(U75)-ROW($A$2)+1)),\"\")","v":""},{"$f":"IFERROR(INDEX(Отделения[отделение],SMALL(IF(Отделения[Город]=$AH$1,ROW(Отделения[Город])-1),ROW(V75)-ROW($A$2)+1)),\"\")","v":""},{"$f":"IFERROR(INDEX(Отделения[отделение],SMALL(IF(Отделения[Город]=$AI$1,ROW(Отделения[Город])-1),ROW(AB75)-ROW($A$2)+1)),\"\")","v":""},{"$f":"IFERROR(INDEX(Отделения[отделение],SMALL(IF(Отделения[Город]=$AJ$1,ROW(Отделения[Город])-1),ROW(AB75)-ROW($A$2)+1)),\"\")","v":""},{"$f":"IFERROR(INDEX(Отделения[отделение],SMALL(IF(Отделения[Город]=$AK$1,ROW(Отделения[Город])-1),ROW(AB75)-ROW($A$2)+1)),\"\")","v":""},{"$f":"IFERROR(INDEX(Отделения[отделение],SMALL(IF(Отделения[Город]=$AL$1,ROW(Отделения[Город])-1),ROW(AB75)-ROW($A$2)+1)),\"\")","v":""},{"$f":"IFERROR(INDEX(Отделения[отделение],SMALL(IF(Отделения[Город]=$AM$1,ROW(Отделения[Город])-1),ROW(AB75)-ROW($A$2)+1)),\"\")","v":""},{"$f":"IFERROR(INDEX(Отделения[отделение],SMALL(IF(Отделения[Город]=$AN$1,ROW(Отделения[Город])-1),ROW(AB75)-ROW($A$2)+1)),\"\")","v":""},{"$f":"IFERROR(INDEX(Отделения[отделение],SMALL(IF(Отделения[Город]=$AO$1,ROW(Отделения[Город])-1),ROW(AB75)-ROW($A$2)+1)),\"\")","v":""},{"$f":"IFERROR(INDEX(Отделения[отделение],SMALL(IF(Отделения[Город]=$AP$1,ROW(Отделения[Город])-1),ROW(AB75)-ROW($A$2)+1)),\"\")","v":""},{"$f":"IFERROR(INDEX(Отделения[отделение],SMALL(IF(Отделения[Город]=$AQ$1,ROW(Отделения[Город])-1),ROW(AB75)-ROW($A$2)+1)),\"\")","v":""},{"$f":"IFERROR(INDEX(Отделения[отделение],SMALL(IF(Отделения[Город]=$AR$1,ROW(Отделения[Город])-1),ROW(AB75)-ROW($A$2)+1)),\"\")","v":""},{"$f":"IFERROR(INDEX(Отделения[отделение],SMALL(IF(Отделения[Город]=$AS$1,ROW(Отделения[Город])-1),ROW(AB75)-ROW($A$2)+1)),\"\")","v":""},{"$f":"IFERROR(INDEX(Отделения[отделение],SMALL(IF(Отделения[Город]=$AT$1,ROW(Отделения[Город])-1),ROW(AB75)-ROW($A$2)+1)),\"\")","v":""},{"$f":"IFERROR(INDEX(Отделения[отделение],SMALL(IF(Отделения[Город]=$AU$1,ROW(Отделения[Город])-1),ROW(AB75)-ROW($A$2)+1)),\"\")","v":""},{"$f":"IFERROR(INDEX(Отделения[отделение],SMALL(IF(Отделения[Город]=$AV$1,ROW(Отделения[Город])-1),ROW(AB75)-ROW($A$2)+1)),\"\")","v":""},{"$f":"IFERROR(INDEX(Отделения[отделение],SMALL(IF(Отделения[Город]=$AW$1,ROW(Отделения[Город])-1),ROW(AB75)-ROW($A$2)+1)),\"\")","v":""},{"$f":"IFERROR(INDEX(Отделения[отделение],SMALL(IF(Отделения[Город]=$AX$1,ROW(Отделения[Город])-1),ROW(AB75)-ROW($A$2)+1)),\"\")","v":""},{"$f":"IFERROR(INDEX(Отделения[отделение],SMALL(IF(Отделения[Город]=$AY$1,ROW(Отделения[Город])-1),ROW(AB75)-ROW($A$2)+1)),\"\")","v":""},{"$f":"IFERROR(INDEX(Отделения[отделение],SMALL(IF(Отделения[Город]=$AZ$1,ROW(Отделения[Город])-1),ROW(AB75)-ROW($A$2)+1)),\"\")","v":""},{"$f":"IFERROR(INDEX(Отделения[отделение],SMALL(IF(Отделения[Город]=$BA$1,ROW(Отделения[Город])-1),ROW(AB75)-ROW($A$2)+1)),\"\")","v":""},{"$f":"IFERROR(INDEX(Отделения[отделение],SMALL(IF(Отделения[Город]=$BB$1,ROW(Отделения[Город])-1),ROW(AB75)-ROW($A$2)+1)),\"\")","v":""},{"$f":"IFERROR(INDEX(Отделения[отделение],SMALL(IF(Отделения[Город]=$BC$1,ROW(Отделения[Город])-1),ROW(AC75)-ROW($A$2)+1)),\"\")","v":""},{"$f":"IFERROR(INDEX(Отделения[отделение],SMALL(IF(Отделения[Город]=$BD$1,ROW(Отделения[Город])-1),ROW(AD75)-ROW($A$2)+1)),\"\")","v":""},{"$f":"IFERROR(INDEX(Отделения[отделение],SMALL(IF(Отделения[Город]=$BE$1,ROW(Отделения[Город])-1),ROW(AE75)-ROW($A$2)+1)),\"\")","v":""},{"$f":"IFERROR(INDEX(Отделения[отделение],SMALL(IF(Отделения[Город]=$BF$1,ROW(Отделения[Город])-1),ROW(AF75)-ROW($A$2)+1)),\"\")","v":""},{"$f":"IFERROR(INDEX(Отделения[отделение],SMALL(IF(Отделения[Город]=$BG$1,ROW(Отделения[Город])-1),ROW(AG75)-ROW($A$2)+1)),\"\")","v":""},{"$f":"IFERROR(INDEX(Отделения[отделение],SMALL(IF(Отделения[Город]=$BH$1,ROW(Отделения[Город])-1),ROW(AH75)-ROW($A$2)+1)),\"\")","v":""},{"$f":"IFERROR(INDEX(Отделения[отделение],SMALL(IF(Отделения[Город]=$BI$1,ROW(Отделения[Город])-1),ROW(AI75)-ROW($A$2)+1)),\"\")","v":""},{"$f":"IFERROR(INDEX(Отделения[отделение],SMALL(IF(Отделения[Город]=$BJ$1,ROW(Отделения[Город])-1),ROW(AJ75)-ROW($A$2)+1)),\"\")","v":""},{"$f":"IFERROR(INDEX(Отделения[отделение],SMALL(IF(Отделения[Город]=$BK$1,ROW(Отделения[Город])-1),ROW(AK75)-ROW($A$2)+1)),\"\")","v":""},{"$f":"IFERROR(INDEX(Отделения[отделение],SMALL(IF(Отделения[Город]=$BL$1,ROW(Отделения[Город])-1),ROW(AL75)-ROW($A$2)+1)),\"\")","v":""},{"$f":"IFERROR(INDEX(Отделения[отделение],SMALL(IF(Отделения[Город]=$BM$1,ROW(Отделения[Город])-1),ROW(AM75)-ROW($A$2)+1)),\"\")","v":""},{"$f":"IFERROR(INDEX(Отделения[отделение],SMALL(IF(Отделения[Город]=$BN$1,ROW(Отделения[Город])-1),ROW(AN75)-ROW($A$2)+1)),\"\")","v":""},{"$f":"IFERROR(INDEX(Отделения[отделение],SMALL(IF(Отделения[Город]=$BO$1,ROW(Отделения[Город])-1),ROW(AO75)-ROW($A$2)+1)),\"\")","v":""},{"$f":"IFERROR(INDEX(Отделения[отделение],SMALL(IF(Отделения[Город]=$BP$1,ROW(Отделения[Город])-1),ROW(AP75)-ROW($A$2)+1)),\"\")","v":""},{"$f":"IFERROR(INDEX(Отделения[отделение],SMALL(IF(Отделения[Город]=$BQ$1,ROW(Отделения[Город])-1),ROW(AQ75)-ROW($A$2)+1)),\"\")","v":""},{"$f":"IFERROR(INDEX(Отделения[отделение],SMALL(IF(Отделения[Город]=$BR$1,ROW(Отделения[Город])-1),ROW(AR75)-ROW($A$2)+1)),\"\")","v":""},{"$f":"IFERROR(INDEX(Отделения[отделение],SMALL(IF(Отделения[Город]=$BS$1,ROW(Отделения[Город])-1),ROW(AS75)-ROW($A$2)+1)),\"\")","v":""},{"$f":"IFERROR(INDEX(Отделения[отделение],SMALL(IF(Отделения[Город]=$BT$1,ROW(Отделения[Город])-1),ROW(AT75)-ROW($A$2)+1)),\"\")","v":""},{"$f":"IFERROR(INDEX(Отделения[отделение],SMALL(IF(Отделения[Город]=$BU$1,ROW(Отделения[Город])-1),ROW(AU75)-ROW($A$2)+1)),\"\")","v":""},{"$f":"IFERROR(INDEX(Отделения[отделение],SMALL(IF(Отделения[Город]=$BV$1,ROW(Отделения[Город])-1),ROW(AV75)-ROW($A$2)+1)),\"\")","v":""},{"$f":"IFERROR(INDEX(Отделения[отделение],SMALL(IF(Отделения[Город]=$BW$1,ROW(Отделения[Город])-1),ROW(AV75)-ROW($A$2)+1)),\"\")","v":""},{"$f":"IFERROR(INDEX(Отделения[отделение],SMALL(IF(Отделения[Город]=$BX$1,ROW(Отделения[Город])-1),ROW(AV75)-ROW($A$2)+1)),\"\")","v":""},{"$f":"IFERROR(INDEX(Отделения[отделение],SMALL(IF(Отделения[Город]=$BY$1,ROW(Отделения[Город])-1),ROW(AV75)-ROW($A$2)+1)),\"\")","v":""},{"$f":"IFERROR(INDEX(Отделения[отделение],SMALL(IF(Отделения[Город]=$BZ$1,ROW(Отделения[Город])-1),ROW(AV75)-ROW($A$2)+1)),\"\")","v":""},{"$f":"IFERROR(INDEX(Отделения[отделение],SMALL(IF(Отделения[Город]=$CA$1,ROW(Отделения[Город])-1),ROW(AV75)-ROW($A$2)+1)),\"\")","v":""},{"$f":"IFERROR(INDEX(Отделения[отделение],SMALL(IF(Отделения[Город]=$CB$1,ROW(Отделения[Город])-1),ROW(AV75)-ROW($A$2)+1)),\"\")","v":""},{"$f":"IFERROR(INDEX(Отделения[отделение],SMALL(IF(Отделения[Город]=$CC$1,ROW(Отделения[Город])-1),ROW(AV75)-ROW($A$2)+1)),\"\")","v":""},{"$f":"IFERROR(INDEX(Отделения[отделение],SMALL(IF(Отделения[Город]=$CD$1,ROW(Отделения[Город])-1),ROW(AV75)-ROW($A$2)+1)),\"\")","v":""},{"$f":"IFERROR(INDEX(Отделения[отделение],SMALL(IF(Отделения[Город]=$CE$1,ROW(Отделения[Город])-1),ROW(AV75)-ROW($A$2)+1)),\"\")","v":""},{"$f":"IFERROR(INDEX(Отделения[отделение],SMALL(IF(Отделения[Город]=$CF$1,ROW(Отделения[Город])-1),ROW(AV75)-ROW($A$2)+1)),\"\")","v":""},{"$f":"IFERROR(INDEX(Отделения[отделение],SMALL(IF(Отделения[Город]=$CG$1,ROW(Отделения[Город])-1),ROW(AV75)-ROW($A$2)+1)),\"\")","v":""},{"$f":"IFERROR(INDEX(Отделения[отделение],SMALL(IF(Отделения[Город]=$CH$1,ROW(Отделения[Город])-1),ROW(AW75)-ROW($A$2)+1)),\"\")","v":""},{"$f":"IFERROR(INDEX(Отделения[отделение],SMALL(IF(Отделения[Город]=$CI$1,ROW(Отделения[Город])-1),ROW(AX75)-ROW($A$2)+1)),\"\")","v":""},{"$f":"IFERROR(INDEX(Отделения[отделение],SMALL(IF(Отделения[Город]=$CJ$1,ROW(Отделения[Город])-1),ROW(AY75)-ROW($A$2)+1)),\"\")","v":""},{"$f":"IFERROR(INDEX(Отделения[отделение],SMALL(IF(Отделения[Город]=$CK$1,ROW(Отделения[Город])-1),ROW(AZ75)-ROW($A$2)+1)),\"\")","v":""},{"$f":"IFERROR(INDEX(Отделения[отделение],SMALL(IF(Отделения[Город]=$CL$1,ROW(Отделения[Город])-1),ROW(BA75)-ROW($A$2)+1)),\"\")","v":""},{"$f":"IFERROR(INDEX(Отделения[отделение],SMALL(IF(Отделения[Город]=$CM$1,ROW(Отделения[Город])-1),ROW(BB75)-ROW($A$2)+1)),\"\")","v":""},{"$f":"IFERROR(INDEX(Отделения[отделение],SMALL(IF(Отделения[Город]=$CN$1,ROW(Отделения[Город])-1),ROW(BC75)-ROW($A$2)+1)),\"\")","v":""},{"$f":"IFERROR(INDEX(Отделения[отделение],SMALL(IF(Отделения[Город]=$CO$1,ROW(Отделения[Город])-1),ROW(BD75)-ROW($A$2)+1)),\"\")","v":""},{"$f":"IFERROR(INDEX(Отделения[отделение],SMALL(IF(Отделения[Город]=$CP$1,ROW(Отделения[Город])-1),ROW(BE75)-ROW($A$2)+1)),\"\")","v":""},{"$f":"IFERROR(INDEX(Отделения[отделение],SMALL(IF(Отделения[Город]=$CQ$1,ROW(Отделения[Город])-1),ROW(BF75)-ROW($A$2)+1)),\"\")","v":""},{"$f":"IFERROR(INDEX(Отделения[отделение],SMALL(IF(Отделения[Город]=$CR$1,ROW(Отделения[Город])-1),ROW(BG75)-ROW($A$2)+1)),\"\")","v":""},{"$f":"IFERROR(INDEX(Отделения[отделение],SMALL(IF(Отделения[Город]=$CS$1,ROW(Отделения[Город])-1),ROW(BH75)-ROW($A$2)+1)),\"\")","v":""},{"$f":"IFERROR(INDEX(Отделения[отделение],SMALL(IF(Отделения[Город]=$CT$1,ROW(Отделения[Город])-1),ROW(BI75)-ROW($A$2)+1)),\"\")","v":""},{"$f":"IFERROR(INDEX(Отделения[отделение],SMALL(IF(Отделения[Город]=$CU$1,ROW(Отделения[Город])-1),ROW(BJ75)-ROW($A$2)+1)),\"\")","v":""},{"$f":"IFERROR(INDEX(Отделения[отделение],SMALL(IF(Отделения[Город]=$CV$1,ROW(Отделения[Город])-1),ROW(BK75)-ROW($A$2)+1)),\"\")","v":""},{"$f":"IFERROR(INDEX(Отделения[отделение],SMALL(IF(Отделения[Город]=$CW$1,ROW(Отделения[Город])-1),ROW(BL75)-ROW($A$2)+1)),\"\")","v":""},{"$f":"IFERROR(INDEX(Отделения[отделение],SMALL(IF(Отделения[Город]=$CX$1,ROW(Отделения[Город])-1),ROW(BM75)-ROW($A$2)+1)),\"\")","v":""},{"$f":"IFERROR(INDEX(Отделения[отделение],SMALL(IF(Отделения[Город]=$CY$1,ROW(Отделения[Город])-1),ROW(BM75)-ROW($A$2)+1)),\"\")","v":""},{"$f":"IFERROR(INDEX(Отделения[отделение],SMALL(IF(Отделения[Город]=$CZ$1,ROW(Отделения[Город])-1),ROW(BM75)-ROW($A$2)+1)),\"\")","v":""},{"$f":"IFERROR(INDEX(Отделения[отделение],SMALL(IF(Отделения[Город]=$DA$1,ROW(Отделения[Город])-1),ROW(BM75)-ROW($A$2)+1)),\"\")","v":""},{"$f":"IFERROR(INDEX(Отделения[отделение],SMALL(IF(Отделения[Город]=$DB$1,ROW(Отделения[Город])-1),ROW(BM75)-ROW($A$2)+1)),\"\")","v":""}]
["Москва","ДО \"КОМСОМОЛЬСКАЯ\" , 107078, г. Москва, ул. Каланчевская, д.27","0660","MOT3",null,null,{"$f":"IFERROR(INDEX(Отделения[отделение],SMALL(IF(Отделения[Город]=$G$1,ROW(Отделения[Город])-1),ROW(A76)-ROW($A$2)+1)),\"\")","v":""},{"$f":"IFERROR(INDEX(Отделения[отделение],SMALL(IF(Отделения[Город]=$H$1,ROW(Отделения[Город])-1),ROW(A76)-ROW($A$2)+1)),\"\")","v":""},{"$f":"IFERROR(INDEX(Отделения[отделение],SMALL(IF(Отделения[Город]=$I$1,ROW(Отделения[Город])-1),ROW(A76)-ROW($A$2)+1)),\"\")","v":""},{"$f":"IFERROR(INDEX(Отделения[отделение],SMALL(IF(Отделения[Город]=$J$1,ROW(Отделения[Город])-1),ROW(A76)-ROW($A$2)+1)),\"\")","v":""},{"$f":"IFERROR(INDEX(Отделения[отделение],SMALL(IF(Отделения[Город]=$K$1,ROW(Отделения[Город])-1),ROW(A76)-ROW($A$2)+1)),\"\")","v":""},{"$f":"IFERROR(INDEX(Отделения[отделение],SMALL(IF(Отделения[Город]=$L$1,ROW(Отделения[Город])-1),ROW(A76)-ROW($A$2)+1)),\"\")","v":""},{"$f":"IFERROR(INDEX(Отделения[отделение],SMALL(IF(Отделения[Город]=$M$1,ROW(Отделения[Город])-1),ROW(B76)-ROW($A$2)+1)),\"\")","v":""},{"$f":"IFERROR(INDEX(Отделения[отделение],SMALL(IF(Отделения[Город]=$N$1,ROW(Отделения[Город])-1),ROW(#REF!)-ROW($A$2)+1)),\"\")","v":""},{"$f":"IFERROR(INDEX(Отделения[отделение],SMALL(IF(Отделения[Город]=$O$1,ROW(Отделения[Город])-1),ROW(C76)-ROW($A$2)+1)),\"\")","v":""},{"$f":"IFERROR(INDEX(Отделения[отделение],SMALL(IF(Отделения[Город]=$P$1,ROW(Отделения[Город])-1),ROW(D76)-ROW($A$2)+1)),\"\")","v":""},{"$f":"IFERROR(INDEX(Отделения[отделение],SMALL(IF(Отделения[Город]=$Q$1,ROW(Отделения[Город])-1),ROW(F76)-ROW($A$2)+1)),\"\")","v":""},{"$f":"IFERROR(INDEX(Отделения[отделение],SMALL(IF(Отделения[Город]=$R$1,ROW(Отделения[Город])-1),ROW(#REF!)-ROW($A$2)+1)),\"\")","v":""},{"$f":"IFERROR(INDEX(Отделения[отделение],SMALL(IF(Отделения[Город]=$S$1,ROW(Отделения[Город])-1),ROW(G76)-ROW($A$2)+1)),\"\")","v":""},{"$f":"IFERROR(INDEX(Отделения[отделение],SMALL(IF(Отделения[Город]=$T$1,ROW(Отделения[Город])-1),ROW(H76)-ROW($A$2)+1)),\"\")","v":""},{"$f":"IFERROR(INDEX(Отделения[отделение],SMALL(IF(Отделения[Город]=$U$1,ROW(Отделения[Город])-1),ROW(I76)-ROW($A$2)+1)),\"\")","v":""},{"$f":"IFERROR(INDEX(Отделения[отделение],SMALL(IF(Отделения[Город]=$V$1,ROW(Отделения[Город])-1),ROW(J76)-ROW($A$2)+1)),\"\")","v":""},{"$f":"IFERROR(INDEX(Отделения[отделение],SMALL(IF(Отделения[Город]=$W$1,ROW(Отделения[Город])-1),ROW(K76)-ROW($A$2)+1)),\"\")","v":""},{"$f":"IFERROR(INDEX(Отделения[отделение],SMALL(IF(Отделения[Город]=$X$1,ROW(Отделения[Город])-1),ROW(L76)-ROW($A$2)+1)),\"\")","v":""},{"$f":"IFERROR(INDEX(Отделения[отделение],SMALL(IF(Отделения[Город]=$Y$1,ROW(Отделения[Город])-1),ROW(M76)-ROW($A$2)+1)),\"\")","v":""},{"$f":"IFERROR(INDEX(Отделения[отделение],SMALL(IF(Отделения[Город]=$Z$1,ROW(Отделения[Город])-1),ROW(N76)-ROW($A$2)+1)),\"\")","v":""},{"$f":"IFERROR(INDEX(Отделения[отделение],SMALL(IF(Отделения[Город]=$AA$1,ROW(Отделения[Город])-1),ROW(O76)-ROW($A$2)+1)),\"\")","v":""},{"$f":"IFERROR(INDEX(Отделения[отделение],SMALL(IF(Отделения[Город]=$AB$1,ROW(Отделения[Город])-1),ROW(P76)-ROW($A$2)+1)),\"\")","v":""},{"$f":"IFERROR(INDEX(Отделения[отделение],SMALL(IF(Отделения[Город]=$AC$1,ROW(Отделения[Город])-1),ROW(Q76)-ROW($A$2)+1)),\"\")","v":""},{"$f":"IFERROR(INDEX(Отделения[отделение],SMALL(IF(Отделения[Город]=$AD$1,ROW(Отделения[Город])-1),ROW(R76)-ROW($A$2)+1)),\"\")","v":""},{"$f":"IFERROR(INDEX(Отделения[отделение],SMALL(IF(Отделения[Город]=$AE$1,ROW(Отделения[Город])-1),ROW(S76)-ROW($A$2)+1)),\"\")","v":""},{"$f":"IFERROR(INDEX(Отделения[отделение],SMALL(IF(Отделения[Город]=$AF$1,ROW(Отделения[Город])-1),ROW(T76)-ROW($A$2)+1)),\"\")","v":""},{"$f":"IFERROR(INDEX(Отделения[отделение],SMALL(IF(Отделения[Город]=$AG$1,ROW(Отделения[Город])-1),ROW(U76)-ROW($A$2)+1)),\"\")","v":""},{"$f":"IFERROR(INDEX(Отделения[отделение],SMALL(IF(Отделения[Город]=$AH$1,ROW(Отделения[Город])-1),ROW(V76)-ROW($A$2)+1)),\"\")","v":""},{"$f":"IFERROR(INDEX(Отделения[отделение],SMALL(IF(Отделения[Город]=$AI$1,ROW(Отделения[Город])-1),ROW(AB76)-ROW($A$2)+1)),\"\")","v":""},{"$f":"IFERROR(INDEX(Отделения[отделение],SMALL(IF(Отделения[Город]=$AJ$1,ROW(Отделения[Город])-1),ROW(AB76)-ROW($A$2)+1)),\"\")","v":""},{"$f":"IFERROR(INDEX(Отделения[отделение],SMALL(IF(Отделения[Город]=$AK$1,ROW(Отделения[Город])-1),ROW(AB76)-ROW($A$2)+1)),\"\")","v":""},{"$f":"IFERROR(INDEX(Отделения[отделение],SMALL(IF(Отделения[Город]=$AL$1,ROW(Отделения[Город])-1),ROW(AB76)-ROW($A$2)+1)),\"\")","v":""},{"$f":"IFERROR(INDEX(Отделения[отделение],SMALL(IF(Отделения[Город]=$AM$1,ROW(Отделения[Город])-1),ROW(AB76)-ROW($A$2)+1)),\"\")","v":""},{"$f":"IFERROR(INDEX(Отделения[отделение],SMALL(IF(Отделения[Город]=$AN$1,ROW(Отделения[Город])-1),ROW(AB76)-ROW($A$2)+1)),\"\")","v":""},{"$f":"IFERROR(INDEX(Отделения[отделение],SMALL(IF(Отделения[Город]=$AO$1,ROW(Отделения[Город])-1),ROW(AB76)-ROW($A$2)+1)),\"\")","v":""},{"$f":"IFERROR(INDEX(Отделения[отделение],SMALL(IF(Отделения[Город]=$AP$1,ROW(Отделения[Город])-1),ROW(AB76)-ROW($A$2)+1)),\"\")","v":""},{"$f":"IFERROR(INDEX(Отделения[отделение],SMALL(IF(Отделения[Город]=$AQ$1,ROW(Отделения[Город])-1),ROW(AB76)-ROW($A$2)+1)),\"\")","v":""},{"$f":"IFERROR(INDEX(Отделения[отделение],SMALL(IF(Отделения[Город]=$AR$1,ROW(Отделения[Город])-1),ROW(AB76)-ROW($A$2)+1)),\"\")","v":""},{"$f":"IFERROR(INDEX(Отделения[отделение],SMALL(IF(Отделения[Город]=$AS$1,ROW(Отделения[Город])-1),ROW(AB76)-ROW($A$2)+1)),\"\")","v":""},{"$f":"IFERROR(INDEX(Отделения[отделение],SMALL(IF(Отделения[Город]=$AT$1,ROW(Отделения[Город])-1),ROW(AB76)-ROW($A$2)+1)),\"\")","v":""},{"$f":"IFERROR(INDEX(Отделения[отделение],SMALL(IF(Отделения[Город]=$AU$1,ROW(Отделения[Город])-1),ROW(AB76)-ROW($A$2)+1)),\"\")","v":""},{"$f":"IFERROR(INDEX(Отделения[отделение],SMALL(IF(Отделения[Город]=$AV$1,ROW(Отделения[Город])-1),ROW(AB76)-ROW($A$2)+1)),\"\")","v":""},{"$f":"IFERROR(INDEX(Отделения[отделение],SMALL(IF(Отделения[Город]=$AW$1,ROW(Отделения[Город])-1),ROW(AB76)-ROW($A$2)+1)),\"\")","v":""},{"$f":"IFERROR(INDEX(Отделения[отделение],SMALL(IF(Отделения[Город]=$AX$1,ROW(Отделения[Город])-1),ROW(AB76)-ROW($A$2)+1)),\"\")","v":""},{"$f":"IFERROR(INDEX(Отделения[отделение],SMALL(IF(Отделения[Город]=$AY$1,ROW(Отделения[Город])-1),ROW(AB76)-ROW($A$2)+1)),\"\")","v":""},{"$f":"IFERROR(INDEX(Отделения[отделение],SMALL(IF(Отделения[Город]=$AZ$1,ROW(Отделения[Город])-1),ROW(AB76)-ROW($A$2)+1)),\"\")","v":""},{"$f":"IFERROR(INDEX(Отделения[отделение],SMALL(IF(Отделения[Город]=$BA$1,ROW(Отделения[Город])-1),ROW(AB76)-ROW($A$2)+1)),\"\")","v":""},{"$f":"IFERROR(INDEX(Отделения[отделение],SMALL(IF(Отделения[Город]=$BB$1,ROW(Отделения[Город])-1),ROW(AB76)-ROW($A$2)+1)),\"\")","v":""},{"$f":"IFERROR(INDEX(Отделения[отделение],SMALL(IF(Отделения[Город]=$BC$1,ROW(Отделения[Город])-1),ROW(AC76)-ROW($A$2)+1)),\"\")","v":""},{"$f":"IFERROR(INDEX(Отделения[отделение],SMALL(IF(Отделения[Город]=$BD$1,ROW(Отделения[Город])-1),ROW(AD76)-ROW($A$2)+1)),\"\")","v":""},{"$f":"IFERROR(INDEX(Отделения[отделение],SMALL(IF(Отделения[Город]=$BE$1,ROW(Отделения[Город])-1),ROW(AE76)-ROW($A$2)+1)),\"\")","v":""},{"$f":"IFERROR(INDEX(Отделения[отделение],SMALL(IF(Отделения[Город]=$BF$1,ROW(Отделения[Город])-1),ROW(AF76)-ROW($A$2)+1)),\"\")","v":""},{"$f":"IFERROR(INDEX(Отделения[отделение],SMALL(IF(Отделения[Город]=$BG$1,ROW(Отделения[Город])-1),ROW(AG76)-ROW($A$2)+1)),\"\")","v":""},{"$f":"IFERROR(INDEX(Отделения[отделение],SMALL(IF(Отделения[Город]=$BH$1,ROW(Отделения[Город])-1),ROW(AH76)-ROW($A$2)+1)),\"\")","v":""},{"$f":"IFERROR(INDEX(Отделения[отделение],SMALL(IF(Отделения[Город]=$BI$1,ROW(Отделения[Город])-1),ROW(AI76)-ROW($A$2)+1)),\"\")","v":""},{"$f":"IFERROR(INDEX(Отделения[отделение],SMALL(IF(Отделения[Город]=$BJ$1,ROW(Отделения[Город])-1),ROW(AJ76)-ROW($A$2)+1)),\"\")","v":""},{"$f":"IFERROR(INDEX(Отделения[отделение],SMALL(IF(Отделения[Город]=$BK$1,ROW(Отделения[Город])-1),ROW(AK76)-ROW($A$2)+1)),\"\")","v":""},{"$f":"IFERROR(INDEX(Отделения[отделение],SMALL(IF(Отделения[Город]=$BL$1,ROW(Отделения[Город])-1),ROW(AL76)-ROW($A$2)+1)),\"\")","v":""},{"$f":"IFERROR(INDEX(Отделения[отделение],SMALL(IF(Отделения[Город]=$BM$1,ROW(Отделения[Город])-1),ROW(AM76)-ROW($A$2)+1)),\"\")","v":""},{"$f":"IFERROR(INDEX(Отделения[отделение],SMALL(IF(Отделения[Город]=$BN$1,ROW(Отделения[Город])-1),ROW(AN76)-ROW($A$2)+1)),\"\")","v":""},{"$f":"IFERROR(INDEX(Отделения[отделение],SMALL(IF(Отделения[Город]=$BO$1,ROW(Отделения[Город])-1),ROW(AO76)-ROW($A$2)+1)),\"\")","v":""},{"$f":"IFERROR(INDEX(Отделения[отделение],SMALL(IF(Отделения[Город]=$BP$1,ROW(Отделения[Город])-1),ROW(AP76)-ROW($A$2)+1)),\"\")","v":""},{"$f":"IFERROR(INDEX(Отделения[отделение],SMALL(IF(Отделения[Город]=$BQ$1,ROW(Отделения[Город])-1),ROW(AQ76)-ROW($A$2)+1)),\"\")","v":""},{"$f":"IFERROR(INDEX(Отделения[отделение],SMALL(IF(Отделения[Город]=$BR$1,ROW(Отделения[Город])-1),ROW(AR76)-ROW($A$2)+1)),\"\")","v":""},{"$f":"IFERROR(INDEX(Отделения[отделение],SMALL(IF(Отделения[Город]=$BS$1,ROW(Отделения[Город])-1),ROW(AS76)-ROW($A$2)+1)),\"\")","v":""},{"$f":"IFERROR(INDEX(Отделения[отделение],SMALL(IF(Отделения[Город]=$BT$1,ROW(Отделения[Город])-1),ROW(AT76)-ROW($A$2)+1)),\"\")","v":""},{"$f":"IFERROR(INDEX(Отделения[отделение],SMALL(IF(Отделения[Город]=$BU$1,ROW(Отделения[Город])-1),ROW(AU76)-ROW($A$2)+1)),\"\")","v":""},{"$f":"IFERROR(INDEX(Отделения[отделение],SMALL(IF(Отделения[Город]=$BV$1,ROW(Отделения[Город])-1),ROW(AV76)-ROW($A$2)+1)),\"\")","v":""},{"$f":"IFERROR(INDEX(Отделения[отделение],SMALL(IF(Отделения[Город]=$BW$1,ROW(Отделения[Город])-1),ROW(AV76)-ROW($A$2)+1)),\"\")","v":""},{"$f":"IFERROR(INDEX(Отделения[отделение],SMALL(IF(Отделения[Город]=$BX$1,ROW(Отделения[Город])-1),ROW(AV76)-ROW($A$2)+1)),\"\")","v":""},{"$f":"IFERROR(INDEX(Отделения[отделение],SMALL(IF(Отделения[Город]=$BY$1,ROW(Отделения[Город])-1),ROW(AV76)-ROW($A$2)+1)),\"\")","v":""},{"$f":"IFERROR(INDEX(Отделения[отделение],SMALL(IF(Отделения[Город]=$BZ$1,ROW(Отделения[Город])-1),ROW(AV76)-ROW($A$2)+1)),\"\")","v":""},{"$f":"IFERROR(INDEX(Отделения[отделение],SMALL(IF(Отделения[Город]=$CA$1,ROW(Отделения[Город])-1),ROW(AV76)-ROW($A$2)+1)),\"\")","v":""},{"$f":"IFERROR(INDEX(Отделения[отделение],SMALL(IF(Отделения[Город]=$CB$1,ROW(Отделения[Город])-1),ROW(AV76)-ROW($A$2)+1)),\"\")","v":""},{"$f":"IFERROR(INDEX(Отделения[отделение],SMALL(IF(Отделения[Город]=$CC$1,ROW(Отделения[Город])-1),ROW(AV76)-ROW($A$2)+1)),\"\")","v":""},{"$f":"IFERROR(INDEX(Отделения[отделение],SMALL(IF(Отделения[Город]=$CD$1,ROW(Отделения[Город])-1),ROW(AV76)-ROW($A$2)+1)),\"\")","v":""},{"$f":"IFERROR(INDEX(Отделения[отделение],SMALL(IF(Отделения[Город]=$CE$1,ROW(Отделения[Город])-1),ROW(AV76)-ROW($A$2)+1)),\"\")","v":""},{"$f":"IFERROR(INDEX(Отделения[отделение],SMALL(IF(Отделения[Город]=$CF$1,ROW(Отделения[Город])-1),ROW(AV76)-ROW($A$2)+1)),\"\")","v":""},{"$f":"IFERROR(INDEX(Отделения[отделение],SMALL(IF(Отделения[Город]=$CG$1,ROW(Отделения[Город])-1),ROW(AV76)-ROW($A$2)+1)),\"\")","v":""},{"$f":"IFERROR(INDEX(Отделения[отделение],SMALL(IF(Отделения[Город]=$CH$1,ROW(Отделения[Город])-1),ROW(AW76)-ROW($A$2)+1)),\"\")","v":""},{"$f":"IFERROR(INDEX(Отделения[отделение],SMALL(IF(Отделения[Город]=$CI$1,ROW(Отделения[Город])-1),ROW(AX76)-ROW($A$2)+1)),\"\")","v":""},{"$f":"IFERROR(INDEX(Отделения[отделение],SMALL(IF(Отделения[Город]=$CJ$1,ROW(Отделения[Город])-1),ROW(AY76)-ROW($A$2)+1)),\"\")","v":""},{"$f":"IFERROR(INDEX(Отделения[отделение],SMALL(IF(Отделения[Город]=$CK$1,ROW(Отделения[Город])-1),ROW(AZ76)-ROW($A$2)+1)),\"\")","v":""},{"$f":"IFERROR(INDEX(Отделения[отделение],SMALL(IF(Отделения[Город]=$CL$1,ROW(Отделения[Город])-1),ROW(BA76)-ROW($A$2)+1)),\"\")","v":""},{"$f":"IFERROR(INDEX(Отделения[отделение],SMALL(IF(Отделения[Город]=$CM$1,ROW(Отделения[Город])-1),ROW(BB76)-ROW($A$2)+1)),\"\")","v":""},{"$f":"IFERROR(INDEX(Отделения[отделение],SMALL(IF(Отделения[Город]=$CN$1,ROW(Отделения[Город])-1),ROW(BC76)-ROW($A$2)+1)),\"\")","v":""},{"$f":"IFERROR(INDEX(Отделения[отделение],SMALL(IF(Отделения[Город]=$CO$1,ROW(Отделения[Город])-1),ROW(BD76)-ROW($A$2)+1)),\"\")","v":""},{"$f":"IFERROR(INDEX(Отделения[отделение],SMALL(IF(Отделения[Город]=$CP$1,ROW(Отделения[Город])-1),ROW(BE76)-ROW($A$2)+1)),\"\")","v":""},{"$f":"IFERROR(INDEX(Отделения[отделение],SMALL(IF(Отделения[Город]=$CQ$1,ROW(Отделения[Город])-1),ROW(BF76)-ROW($A$2)+1)),\"\")","v":""},{"$f":"IFERROR(INDEX(Отделения[отделение],SMALL(IF(Отделения[Город]=$CR$1,ROW(Отделения[Город])-1),ROW(BG76)-ROW($A$2)+1)),\"\")","v":""},{"$f":"IFERROR(INDEX(Отделения[отделение],SMALL(IF(Отделения[Город]=$CS$1,ROW(Отделения[Город])-1),ROW(BH76)-ROW($A$2)+1)),\"\")","v":""},{"$f":"IFERROR(INDEX(Отделения[отделение],SMALL(IF(Отделения[Город]=$CT$1,ROW(Отделения[Город])-1),ROW(BI76)-ROW($A$2)+1)),\"\")","v":""},{"$f":"IFERROR(INDEX(Отделения[отделение],SMALL(IF(Отделения[Город]=$CU$1,ROW(Отделения[Город])-1),ROW(BJ76)-ROW($A$2)+1)),\"\")","v":""},{"$f":"IFERROR(INDEX(Отделения[отделение],SMALL(IF(Отделения[Город]=$CV$1,ROW(Отделения[Город])-1),ROW(BK76)-ROW($A$2)+1)),\"\")","v":""},{"$f":"IFERROR(INDEX(Отделения[отделение],SMALL(IF(Отделения[Город]=$CW$1,ROW(Отделения[Город])-1),ROW(BL76)-ROW($A$2)+1)),\"\")","v":""},{"$f":"IFERROR(INDEX(Отделения[отделение],SMALL(IF(Отделения[Город]=$CX$1,ROW(Отделения[Город])-1),ROW(BM76)-ROW($A$2)+1)),\"\")","v":""},{"$f":"IFERROR(INDEX(Отделения[отделение],SMALL(IF(Отделения[Город]=$CY$1,ROW(Отделения[Город])-1),ROW(BM76)-ROW($A$2)+1)),\"\")","v":""},{"$f":"IFERROR(INDEX(Отделения[отделение],SMALL(IF(Отделения[Город]=$CZ$1,ROW(Отделения[Город])-1),ROW(BM76)-ROW($A$2)+1)),\"\")","v":""},{"$f":"IFERROR(INDEX(Отделения[отделение],SMALL(IF(Отделения[Город]=$DA$1,ROW(Отделения[Город])-1),ROW(BM76)-ROW($A$2)+1)),\"\")","v":""},{"$f":"IFERROR(INDEX(Отделения[отделение],SMALL(IF(Отделения[Город]=$DB$1,ROW(Отделения[Город])-1),ROW(BM76)-ROW($A$2)+1)),\"\")","v":""}]
["Москва","ДО \"БРАТИСЛАВСКАЯ\" , 109341, г. Москва, ул. Перерва, д.56/2","0661","MOT7",null,null,{"$f":"IFERROR(INDEX(Отделения[отделение],SMALL(IF(Отделения[Город]=$G$1,ROW(Отделения[Город])-1),ROW(A77)-ROW($A$2)+1)),\"\")","v":""},{"$f":"IFERROR(INDEX(Отделения[отделение],SMALL(IF(Отделения[Город]=$H$1,ROW(Отделения[Город])-1),ROW(A77)-ROW($A$2)+1)),\"\")","v":""},{"$f":"IFERROR(INDEX(Отделения[отделение],SMALL(IF(Отделения[Город]=$I$1,ROW(Отделения[Город])-1),ROW(A77)-ROW($A$2)+1)),\"\")","v":""},{"$f":"IFERROR(INDEX(Отделения[отделение],SMALL(IF(Отделения[Город]=$J$1,ROW(Отделения[Город])-1),ROW(A77)-ROW($A$2)+1)),\"\")","v":""},{"$f":"IFERROR(INDEX(Отделения[отделение],SMALL(IF(Отделения[Город]=$K$1,ROW(Отделения[Город])-1),ROW(A77)-ROW($A$2)+1)),\"\")","v":""},{"$f":"IFERROR(INDEX(Отделения[отделение],SMALL(IF(Отделения[Город]=$L$1,ROW(Отделения[Город])-1),ROW(A77)-ROW($A$2)+1)),\"\")","v":""},{"$f":"IFERROR(INDEX(Отделения[отделение],SMALL(IF(Отделения[Город]=$M$1,ROW(Отделения[Город])-1),ROW(B77)-ROW($A$2)+1)),\"\")","v":""},{"$f":"IFERROR(INDEX(Отделения[отделение],SMALL(IF(Отделения[Город]=$N$1,ROW(Отделения[Город])-1),ROW(#REF!)-ROW($A$2)+1)),\"\")","v":""},{"$f":"IFERROR(INDEX(Отделения[отделение],SMALL(IF(Отделения[Город]=$O$1,ROW(Отделения[Город])-1),ROW(C77)-ROW($A$2)+1)),\"\")","v":""},{"$f":"IFERROR(INDEX(Отделения[отделение],SMALL(IF(Отделения[Город]=$P$1,ROW(Отделения[Город])-1),ROW(D77)-ROW($A$2)+1)),\"\")","v":""},{"$f":"IFERROR(INDEX(Отделения[отделение],SMALL(IF(Отделения[Город]=$Q$1,ROW(Отделения[Город])-1),ROW(F77)-ROW($A$2)+1)),\"\")","v":""},{"$f":"IFERROR(INDEX(Отделения[отделение],SMALL(IF(Отделения[Город]=$R$1,ROW(Отделения[Город])-1),ROW(#REF!)-ROW($A$2)+1)),\"\")","v":""},{"$f":"IFERROR(INDEX(Отделения[отделение],SMALL(IF(Отделения[Город]=$S$1,ROW(Отделения[Город])-1),ROW(G77)-ROW($A$2)+1)),\"\")","v":""},{"$f":"IFERROR(INDEX(Отделения[отделение],SMALL(IF(Отделения[Город]=$T$1,ROW(Отделения[Город])-1),ROW(H77)-ROW($A$2)+1)),\"\")","v":""},{"$f":"IFERROR(INDEX(Отделения[отделение],SMALL(IF(Отделения[Город]=$U$1,ROW(Отделения[Город])-1),ROW(I77)-ROW($A$2)+1)),\"\")","v":""},{"$f":"IFERROR(INDEX(Отделения[отделение],SMALL(IF(Отделения[Город]=$V$1,ROW(Отделения[Город])-1),ROW(J77)-ROW($A$2)+1)),\"\")","v":""},{"$f":"IFERROR(INDEX(Отделения[отделение],SMALL(IF(Отделения[Город]=$W$1,ROW(Отделения[Город])-1),ROW(K77)-ROW($A$2)+1)),\"\")","v":""},{"$f":"IFERROR(INDEX(Отделения[отделение],SMALL(IF(Отделения[Город]=$X$1,ROW(Отделения[Город])-1),ROW(L77)-ROW($A$2)+1)),\"\")","v":""},{"$f":"IFERROR(INDEX(Отделения[отделение],SMALL(IF(Отделения[Город]=$Y$1,ROW(Отделения[Город])-1),ROW(M77)-ROW($A$2)+1)),\"\")","v":""},{"$f":"IFERROR(INDEX(Отделения[отделение],SMALL(IF(Отделения[Город]=$Z$1,ROW(Отделения[Город])-1),ROW(N77)-ROW($A$2)+1)),\"\")","v":""},{"$f":"IFERROR(INDEX(Отделения[отделение],SMALL(IF(Отделения[Город]=$AA$1,ROW(Отделения[Город])-1),ROW(O77)-ROW($A$2)+1)),\"\")","v":""},{"$f":"IFERROR(INDEX(Отделения[отделение],SMALL(IF(Отделения[Город]=$AB$1,ROW(Отделения[Город])-1),ROW(P77)-ROW($A$2)+1)),\"\")","v":""},{"$f":"IFERROR(INDEX(Отделения[отделение],SMALL(IF(Отделения[Город]=$AC$1,ROW(Отделения[Город])-1),ROW(Q77)-ROW($A$2)+1)),\"\")","v":""},{"$f":"IFERROR(INDEX(Отделения[отделение],SMALL(IF(Отделения[Город]=$AD$1,ROW(Отделения[Город])-1),ROW(R77)-ROW($A$2)+1)),\"\")","v":""},{"$f":"IFERROR(INDEX(Отделения[отделение],SMALL(IF(Отделения[Город]=$AE$1,ROW(Отделения[Город])-1),ROW(S77)-ROW($A$2)+1)),\"\")","v":""},{"$f":"IFERROR(INDEX(Отделения[отделение],SMALL(IF(Отделения[Город]=$AF$1,ROW(Отделения[Город])-1),ROW(T77)-ROW($A$2)+1)),\"\")","v":""},{"$f":"IFERROR(INDEX(Отделения[отделение],SMALL(IF(Отделения[Город]=$AG$1,ROW(Отделения[Город])-1),ROW(U77)-ROW($A$2)+1)),\"\")","v":""},{"$f":"IFERROR(INDEX(Отделения[отделение],SMALL(IF(Отделения[Город]=$AH$1,ROW(Отделения[Город])-1),ROW(V77)-ROW($A$2)+1)),\"\")","v":""},{"$f":"IFERROR(INDEX(Отделения[отделение],SMALL(IF(Отделения[Город]=$AI$1,ROW(Отделения[Город])-1),ROW(AB77)-ROW($A$2)+1)),\"\")","v":""},{"$f":"IFERROR(INDEX(Отделения[отделение],SMALL(IF(Отделения[Город]=$AJ$1,ROW(Отделения[Город])-1),ROW(AB77)-ROW($A$2)+1)),\"\")","v":""},{"$f":"IFERROR(INDEX(Отделения[отделение],SMALL(IF(Отделения[Город]=$AK$1,ROW(Отделения[Город])-1),ROW(AB77)-ROW($A$2)+1)),\"\")","v":""},{"$f":"IFERROR(INDEX(Отделения[отделение],SMALL(IF(Отделения[Город]=$AL$1,ROW(Отделения[Город])-1),ROW(AB77)-ROW($A$2)+1)),\"\")","v":""},{"$f":"IFERROR(INDEX(Отделения[отделение],SMALL(IF(Отделения[Город]=$AM$1,ROW(Отделения[Город])-1),ROW(AB77)-ROW($A$2)+1)),\"\")","v":""},{"$f":"IFERROR(INDEX(Отделения[отделение],SMALL(IF(Отделения[Город]=$AN$1,ROW(Отделения[Город])-1),ROW(AB77)-ROW($A$2)+1)),\"\")","v":""},{"$f":"IFERROR(INDEX(Отделения[отделение],SMALL(IF(Отделения[Город]=$AO$1,ROW(Отделения[Город])-1),ROW(AB77)-ROW($A$2)+1)),\"\")","v":""},{"$f":"IFERROR(INDEX(Отделения[отделение],SMALL(IF(Отделения[Город]=$AP$1,ROW(Отделения[Город])-1),ROW(AB77)-ROW($A$2)+1)),\"\")","v":""},{"$f":"IFERROR(INDEX(Отделения[отделение],SMALL(IF(Отделения[Город]=$AQ$1,ROW(Отделения[Город])-1),ROW(AB77)-ROW($A$2)+1)),\"\")","v":""},{"$f":"IFERROR(INDEX(Отделения[отделение],SMALL(IF(Отделения[Город]=$AR$1,ROW(Отделения[Город])-1),ROW(AB77)-ROW($A$2)+1)),\"\")","v":""},{"$f":"IFERROR(INDEX(Отделения[отделение],SMALL(IF(Отделения[Город]=$AS$1,ROW(Отделения[Город])-1),ROW(AB77)-ROW($A$2)+1)),\"\")","v":""},{"$f":"IFERROR(INDEX(Отделения[отделение],SMALL(IF(Отделения[Город]=$AT$1,ROW(Отделения[Город])-1),ROW(AB77)-ROW($A$2)+1)),\"\")","v":""},{"$f":"IFERROR(INDEX(Отделения[отделение],SMALL(IF(Отделения[Город]=$AU$1,ROW(Отделения[Город])-1),ROW(AB77)-ROW($A$2)+1)),\"\")","v":""},{"$f":"IFERROR(INDEX(Отделения[отделение],SMALL(IF(Отделения[Город]=$AV$1,ROW(Отделения[Город])-1),ROW(AB77)-ROW($A$2)+1)),\"\")","v":""},{"$f":"IFERROR(INDEX(Отделения[отделение],SMALL(IF(Отделения[Город]=$AW$1,ROW(Отделения[Город])-1),ROW(AB77)-ROW($A$2)+1)),\"\")","v":""},{"$f":"IFERROR(INDEX(Отделения[отделение],SMALL(IF(Отделения[Город]=$AX$1,ROW(Отделения[Город])-1),ROW(AB77)-ROW($A$2)+1)),\"\")","v":""},{"$f":"IFERROR(INDEX(Отделения[отделение],SMALL(IF(Отделения[Город]=$AY$1,ROW(Отделения[Город])-1),ROW(AB77)-ROW($A$2)+1)),\"\")","v":""},{"$f":"IFERROR(INDEX(Отделения[отделение],SMALL(IF(Отделения[Город]=$AZ$1,ROW(Отделения[Город])-1),ROW(AB77)-ROW($A$2)+1)),\"\")","v":""},{"$f":"IFERROR(INDEX(Отделения[отделение],SMALL(IF(Отделения[Город]=$BA$1,ROW(Отделения[Город])-1),ROW(AB77)-ROW($A$2)+1)),\"\")","v":""},{"$f":"IFERROR(INDEX(Отделения[отделение],SMALL(IF(Отделения[Город]=$BB$1,ROW(Отделения[Город])-1),ROW(AB77)-ROW($A$2)+1)),\"\")","v":""},{"$f":"IFERROR(INDEX(Отделения[отделение],SMALL(IF(Отделения[Город]=$BC$1,ROW(Отделения[Город])-1),ROW(AC77)-ROW($A$2)+1)),\"\")","v":""},{"$f":"IFERROR(INDEX(Отделения[отделение],SMALL(IF(Отделения[Город]=$BD$1,ROW(Отделения[Город])-1),ROW(AD77)-ROW($A$2)+1)),\"\")","v":""},{"$f":"IFERROR(INDEX(Отделения[отделение],SMALL(IF(Отделения[Город]=$BE$1,ROW(Отделения[Город])-1),ROW(AE77)-ROW($A$2)+1)),\"\")","v":""},{"$f":"IFERROR(INDEX(Отделения[отделение],SMALL(IF(Отделения[Город]=$BF$1,ROW(Отделения[Город])-1),ROW(AF77)-ROW($A$2)+1)),\"\")","v":""},{"$f":"IFERROR(INDEX(Отделения[отделение],SMALL(IF(Отделения[Город]=$BG$1,ROW(Отделения[Город])-1),ROW(AG77)-ROW($A$2)+1)),\"\")","v":""},{"$f":"IFERROR(INDEX(Отделения[отделение],SMALL(IF(Отделения[Город]=$BH$1,ROW(Отделения[Город])-1),ROW(AH77)-ROW($A$2)+1)),\"\")","v":""},{"$f":"IFERROR(INDEX(Отделения[отделение],SMALL(IF(Отделения[Город]=$BI$1,ROW(Отделения[Город])-1),ROW(AI77)-ROW($A$2)+1)),\"\")","v":""},{"$f":"IFERROR(INDEX(Отделения[отделение],SMALL(IF(Отделения[Город]=$BJ$1,ROW(Отделения[Город])-1),ROW(AJ77)-ROW($A$2)+1)),\"\")","v":""},{"$f":"IFERROR(INDEX(Отделения[отделение],SMALL(IF(Отделения[Город]=$BK$1,ROW(Отделения[Город])-1),ROW(AK77)-ROW($A$2)+1)),\"\")","v":""},{"$f":"IFERROR(INDEX(Отделения[отделение],SMALL(IF(Отделения[Город]=$BL$1,ROW(Отделения[Город])-1),ROW(AL77)-ROW($A$2)+1)),\"\")","v":""},{"$f":"IFERROR(INDEX(Отделения[отделение],SMALL(IF(Отделения[Город]=$BM$1,ROW(Отделения[Город])-1),ROW(AM77)-ROW($A$2)+1)),\"\")","v":""},{"$f":"IFERROR(INDEX(Отделения[отделение],SMALL(IF(Отделения[Город]=$BN$1,ROW(Отделения[Город])-1),ROW(AN77)-ROW($A$2)+1)),\"\")","v":""},{"$f":"IFERROR(INDEX(Отделения[отделение],SMALL(IF(Отделения[Город]=$BO$1,ROW(Отделения[Город])-1),ROW(AO77)-ROW($A$2)+1)),\"\")","v":""},{"$f":"IFERROR(INDEX(Отделения[отделение],SMALL(IF(Отделения[Город]=$BP$1,ROW(Отделения[Город])-1),ROW(AP77)-ROW($A$2)+1)),\"\")","v":""},{"$f":"IFERROR(INDEX(Отделения[отделение],SMALL(IF(Отделения[Город]=$BQ$1,ROW(Отделения[Город])-1),ROW(AQ77)-ROW($A$2)+1)),\"\")","v":""},{"$f":"IFERROR(INDEX(Отделения[отделение],SMALL(IF(Отделения[Город]=$BR$1,ROW(Отделения[Город])-1),ROW(AR77)-ROW($A$2)+1)),\"\")","v":""},{"$f":"IFERROR(INDEX(Отделения[отделение],SMALL(IF(Отделения[Город]=$BS$1,ROW(Отделения[Город])-1),ROW(AS77)-ROW($A$2)+1)),\"\")","v":""},{"$f":"IFERROR(INDEX(Отделения[отделение],SMALL(IF(Отделения[Город]=$BT$1,ROW(Отделения[Город])-1),ROW(AT77)-ROW($A$2)+1)),\"\")","v":""},{"$f":"IFERROR(INDEX(Отделения[отделение],SMALL(IF(Отделения[Город]=$BU$1,ROW(Отделения[Город])-1),ROW(AU77)-ROW($A$2)+1)),\"\")","v":""},{"$f":"IFERROR(INDEX(Отделения[отделение],SMALL(IF(Отделения[Город]=$BV$1,ROW(Отделения[Город])-1),ROW(AV77)-ROW($A$2)+1)),\"\")","v":""},{"$f":"IFERROR(INDEX(Отделения[отделение],SMALL(IF(Отделения[Город]=$BW$1,ROW(Отделения[Город])-1),ROW(AV77)-ROW($A$2)+1)),\"\")","v":""},{"$f":"IFERROR(INDEX(Отделения[отделение],SMALL(IF(Отделения[Город]=$BX$1,ROW(Отделения[Город])-1),ROW(AV77)-ROW($A$2)+1)),\"\")","v":""},{"$f":"IFERROR(INDEX(Отделения[отделение],SMALL(IF(Отделения[Город]=$BY$1,ROW(Отделения[Город])-1),ROW(AV77)-ROW($A$2)+1)),\"\")","v":""},{"$f":"IFERROR(INDEX(Отделения[отделение],SMALL(IF(Отделения[Город]=$BZ$1,ROW(Отделения[Город])-1),ROW(AV77)-ROW($A$2)+1)),\"\")","v":""},{"$f":"IFERROR(INDEX(Отделения[отделение],SMALL(IF(Отделения[Город]=$CA$1,ROW(Отделения[Город])-1),ROW(AV77)-ROW($A$2)+1)),\"\")","v":""},{"$f":"IFERROR(INDEX(Отделения[отделение],SMALL(IF(Отделения[Город]=$CB$1,ROW(Отделения[Город])-1),ROW(AV77)-ROW($A$2)+1)),\"\")","v":""},{"$f":"IFERROR(INDEX(Отделения[отделение],SMALL(IF(Отделения[Город]=$CC$1,ROW(Отделения[Город])-1),ROW(AV77)-ROW($A$2)+1)),\"\")","v":""},{"$f":"IFERROR(INDEX(Отделения[отделение],SMALL(IF(Отделения[Город]=$CD$1,ROW(Отделения[Город])-1),ROW(AV77)-ROW($A$2)+1)),\"\")","v":""},{"$f":"IFERROR(INDEX(Отделения[отделение],SMALL(IF(Отделения[Город]=$CE$1,ROW(Отделения[Город])-1),ROW(AV77)-ROW($A$2)+1)),\"\")","v":""},{"$f":"IFERROR(INDEX(Отделения[отделение],SMALL(IF(Отделения[Город]=$CF$1,ROW(Отделения[Город])-1),ROW(AV77)-ROW($A$2)+1)),\"\")","v":""},{"$f":"IFERROR(INDEX(Отделения[отделение],SMALL(IF(Отделения[Город]=$CG$1,ROW(Отделения[Город])-1),ROW(AV77)-ROW($A$2)+1)),\"\")","v":""},{"$f":"IFERROR(INDEX(Отделения[отделение],SMALL(IF(Отделения[Город]=$CH$1,ROW(Отделения[Город])-1),ROW(AW77)-ROW($A$2)+1)),\"\")","v":""},{"$f":"IFERROR(INDEX(Отделения[отделение],SMALL(IF(Отделения[Город]=$CI$1,ROW(Отделения[Город])-1),ROW(AX77)-ROW($A$2)+1)),\"\")","v":""},{"$f":"IFERROR(INDEX(Отделения[отделение],SMALL(IF(Отделения[Город]=$CJ$1,ROW(Отделения[Город])-1),ROW(AY77)-ROW($A$2)+1)),\"\")","v":""},{"$f":"IFERROR(INDEX(Отделения[отделение],SMALL(IF(Отделения[Город]=$CK$1,ROW(Отделения[Город])-1),ROW(AZ77)-ROW($A$2)+1)),\"\")","v":""},{"$f":"IFERROR(INDEX(Отделения[отделение],SMALL(IF(Отделения[Город]=$CL$1,ROW(Отделения[Город])-1),ROW(BA77)-ROW($A$2)+1)),\"\")","v":""},{"$f":"IFERROR(INDEX(Отделения[отделение],SMALL(IF(Отделения[Город]=$CM$1,ROW(Отделения[Город])-1),ROW(BB77)-ROW($A$2)+1)),\"\")","v":""},{"$f":"IFERROR(INDEX(Отделения[отделение],SMALL(IF(Отделения[Город]=$CN$1,ROW(Отделения[Город])-1),ROW(BC77)-ROW($A$2)+1)),\"\")","v":""},{"$f":"IFERROR(INDEX(Отделения[отделение],SMALL(IF(Отделения[Город]=$CO$1,ROW(Отделения[Город])-1),ROW(BD77)-ROW($A$2)+1)),\"\")","v":""},{"$f":"IFERROR(INDEX(Отделения[отделение],SMALL(IF(Отделения[Город]=$CP$1,ROW(Отделения[Город])-1),ROW(BE77)-ROW($A$2)+1)),\"\")","v":""},{"$f":"IFERROR(INDEX(Отделения[отделение],SMALL(IF(Отделения[Город]=$CQ$1,ROW(Отделения[Город])-1),ROW(BF77)-ROW($A$2)+1)),\"\")","v":""},{"$f":"IFERROR(INDEX(Отделения[отделение],SMALL(IF(Отделения[Город]=$CR$1,ROW(Отделения[Город])-1),ROW(BG77)-ROW($A$2)+1)),\"\")","v":""},{"$f":"IFERROR(INDEX(Отделения[отделение],SMALL(IF(Отделения[Город]=$CS$1,ROW(Отделения[Город])-1),ROW(BH77)-ROW($A$2)+1)),\"\")","v":""},{"$f":"IFERROR(INDEX(Отделения[отделение],SMALL(IF(Отделения[Город]=$CT$1,ROW(Отделения[Город])-1),ROW(BI77)-ROW($A$2)+1)),\"\")","v":""},{"$f":"IFERROR(INDEX(Отделения[отделение],SMALL(IF(Отделения[Город]=$CU$1,ROW(Отделения[Город])-1),ROW(BJ77)-ROW($A$2)+1)),\"\")","v":""},{"$f":"IFERROR(INDEX(Отделения[отделение],SMALL(IF(Отделения[Город]=$CV$1,ROW(Отделения[Город])-1),ROW(BK77)-ROW($A$2)+1)),\"\")","v":""},{"$f":"IFERROR(INDEX(Отделения[отделение],SMALL(IF(Отделения[Город]=$CW$1,ROW(Отделения[Город])-1),ROW(BL77)-ROW($A$2)+1)),\"\")","v":""},{"$f":"IFERROR(INDEX(Отделения[отделение],SMALL(IF(Отделения[Город]=$CX$1,ROW(Отделения[Город])-1),ROW(BM77)-ROW($A$2)+1)),\"\")","v":""},{"$f":"IFERROR(INDEX(Отделения[отделение],SMALL(IF(Отделения[Город]=$CY$1,ROW(Отделения[Город])-1),ROW(BM77)-ROW($A$2)+1)),\"\")","v":""},{"$f":"IFERROR(INDEX(Отделения[отделение],SMALL(IF(Отделения[Город]=$CZ$1,ROW(Отделения[Город])-1),ROW(BM77)-ROW($A$2)+1)),\"\")","v":""},{"$f":"IFERROR(INDEX(Отделения[отделение],SMALL(IF(Отделения[Город]=$DA$1,ROW(Отделения[Город])-1),ROW(BM77)-ROW($A$2)+1)),\"\")","v":""},{"$f":"IFERROR(INDEX(Отделения[отделение],SMALL(IF(Отделения[Город]=$DB$1,ROW(Отделения[Город])-1),ROW(BM77)-ROW($A$2)+1)),\"\")","v":""}]
["Москва","ДО \"ПАВЕЛЕЦКИЙ\" , 115054, г. Москва, ул. Валовая, д.6","0663","MOW2",null,null,{"$f":"IFERROR(INDEX(Отделения[отделение],SMALL(IF(Отделения[Город]=$G$1,ROW(Отделения[Город])-1),ROW(A78)-ROW($A$2)+1)),\"\")","v":""},{"$f":"IFERROR(INDEX(Отделения[отделение],SMALL(IF(Отделения[Город]=$H$1,ROW(Отделения[Город])-1),ROW(A78)-ROW($A$2)+1)),\"\")","v":""},{"$f":"IFERROR(INDEX(Отделения[отделение],SMALL(IF(Отделения[Город]=$I$1,ROW(Отделения[Город])-1),ROW(A78)-ROW($A$2)+1)),\"\")","v":""},{"$f":"IFERROR(INDEX(Отделения[отделение],SMALL(IF(Отделения[Город]=$J$1,ROW(Отделения[Город])-1),ROW(A78)-ROW($A$2)+1)),\"\")","v":""},{"$f":"IFERROR(INDEX(Отделения[отделение],SMALL(IF(Отделения[Город]=$K$1,ROW(Отделения[Город])-1),ROW(A78)-ROW($A$2)+1)),\"\")","v":""},{"$f":"IFERROR(INDEX(Отделения[отделение],SMALL(IF(Отделения[Город]=$L$1,ROW(Отделения[Город])-1),ROW(A78)-ROW($A$2)+1)),\"\")","v":""},{"$f":"IFERROR(INDEX(Отделения[отделение],SMALL(IF(Отделения[Город]=$M$1,ROW(Отделения[Город])-1),ROW(B78)-ROW($A$2)+1)),\"\")","v":""},{"$f":"IFERROR(INDEX(Отделения[отделение],SMALL(IF(Отделения[Город]=$N$1,ROW(Отделения[Город])-1),ROW(#REF!)-ROW($A$2)+1)),\"\")","v":""},{"$f":"IFERROR(INDEX(Отделения[отделение],SMALL(IF(Отделения[Город]=$O$1,ROW(Отделения[Город])-1),ROW(C78)-ROW($A$2)+1)),\"\")","v":""},{"$f":"IFERROR(INDEX(Отделения[отделение],SMALL(IF(Отделения[Город]=$P$1,ROW(Отделения[Город])-1),ROW(D78)-ROW($A$2)+1)),\"\")","v":""},{"$f":"IFERROR(INDEX(Отделения[отделение],SMALL(IF(Отделения[Город]=$Q$1,ROW(Отделения[Город])-1),ROW(F78)-ROW($A$2)+1)),\"\")","v":""},{"$f":"IFERROR(INDEX(Отделения[отделение],SMALL(IF(Отделения[Город]=$R$1,ROW(Отделения[Город])-1),ROW(#REF!)-ROW($A$2)+1)),\"\")","v":""},{"$f":"IFERROR(INDEX(Отделения[отделение],SMALL(IF(Отделения[Город]=$S$1,ROW(Отделения[Город])-1),ROW(G78)-ROW($A$2)+1)),\"\")","v":""},{"$f":"IFERROR(INDEX(Отделения[отделение],SMALL(IF(Отделения[Город]=$T$1,ROW(Отделения[Город])-1),ROW(H78)-ROW($A$2)+1)),\"\")","v":""},{"$f":"IFERROR(INDEX(Отделения[отделение],SMALL(IF(Отделения[Город]=$U$1,ROW(Отделения[Город])-1),ROW(I78)-ROW($A$2)+1)),\"\")","v":""},{"$f":"IFERROR(INDEX(Отделения[отделение],SMALL(IF(Отделения[Город]=$V$1,ROW(Отделения[Город])-1),ROW(J78)-ROW($A$2)+1)),\"\")","v":""},{"$f":"IFERROR(INDEX(Отделения[отделение],SMALL(IF(Отделения[Город]=$W$1,ROW(Отделения[Город])-1),ROW(K78)-ROW($A$2)+1)),\"\")","v":""},{"$f":"IFERROR(INDEX(Отделения[отделение],SMALL(IF(Отделения[Город]=$X$1,ROW(Отделения[Город])-1),ROW(L78)-ROW($A$2)+1)),\"\")","v":""},{"$f":"IFERROR(INDEX(Отделения[отделение],SMALL(IF(Отделения[Город]=$Y$1,ROW(Отделения[Город])-1),ROW(M78)-ROW($A$2)+1)),\"\")","v":""},{"$f":"IFERROR(INDEX(Отделения[отделение],SMALL(IF(Отделения[Город]=$Z$1,ROW(Отделения[Город])-1),ROW(N78)-ROW($A$2)+1)),\"\")","v":""},{"$f":"IFERROR(INDEX(Отделения[отделение],SMALL(IF(Отделения[Город]=$AA$1,ROW(Отделения[Город])-1),ROW(O78)-ROW($A$2)+1)),\"\")","v":""},{"$f":"IFERROR(INDEX(Отделения[отделение],SMALL(IF(Отделения[Город]=$AB$1,ROW(Отделения[Город])-1),ROW(P78)-ROW($A$2)+1)),\"\")","v":""},{"$f":"IFERROR(INDEX(Отделения[отделение],SMALL(IF(Отделения[Город]=$AC$1,ROW(Отделения[Город])-1),ROW(Q78)-ROW($A$2)+1)),\"\")","v":""},{"$f":"IFERROR(INDEX(Отделения[отделение],SMALL(IF(Отделения[Город]=$AD$1,ROW(Отделения[Город])-1),ROW(R78)-ROW($A$2)+1)),\"\")","v":""},{"$f":"IFERROR(INDEX(Отделения[отделение],SMALL(IF(Отделения[Город]=$AE$1,ROW(Отделения[Город])-1),ROW(S78)-ROW($A$2)+1)),\"\")","v":""},{"$f":"IFERROR(INDEX(Отделения[отделение],SMALL(IF(Отделения[Город]=$AF$1,ROW(Отделения[Город])-1),ROW(T78)-ROW($A$2)+1)),\"\")","v":""},{"$f":"IFERROR(INDEX(Отделения[отделение],SMALL(IF(Отделения[Город]=$AG$1,ROW(Отделения[Город])-1),ROW(U78)-ROW($A$2)+1)),\"\")","v":""},{"$f":"IFERROR(INDEX(Отделения[отделение],SMALL(IF(Отделения[Город]=$AH$1,ROW(Отделения[Город])-1),ROW(V78)-ROW($A$2)+1)),\"\")","v":""},{"$f":"IFERROR(INDEX(Отделения[отделение],SMALL(IF(Отделения[Город]=$AI$1,ROW(Отделения[Город])-1),ROW(AB78)-ROW($A$2)+1)),\"\")","v":""},{"$f":"IFERROR(INDEX(Отделения[отделение],SMALL(IF(Отделения[Город]=$AJ$1,ROW(Отделения[Город])-1),ROW(AB78)-ROW($A$2)+1)),\"\")","v":""},{"$f":"IFERROR(INDEX(Отделения[отделение],SMALL(IF(Отделения[Город]=$AK$1,ROW(Отделения[Город])-1),ROW(AB78)-ROW($A$2)+1)),\"\")","v":""},{"$f":"IFERROR(INDEX(Отделения[отделение],SMALL(IF(Отделения[Город]=$AL$1,ROW(Отделения[Город])-1),ROW(AB78)-ROW($A$2)+1)),\"\")","v":""},{"$f":"IFERROR(INDEX(Отделения[отделение],SMALL(IF(Отделения[Город]=$AM$1,ROW(Отделения[Город])-1),ROW(AB78)-ROW($A$2)+1)),\"\")","v":""},{"$f":"IFERROR(INDEX(Отделения[отделение],SMALL(IF(Отделения[Город]=$AN$1,ROW(Отделения[Город])-1),ROW(AB78)-ROW($A$2)+1)),\"\")","v":""},{"$f":"IFERROR(INDEX(Отделения[отделение],SMALL(IF(Отделения[Город]=$AO$1,ROW(Отделения[Город])-1),ROW(AB78)-ROW($A$2)+1)),\"\")","v":""},{"$f":"IFERROR(INDEX(Отделения[отделение],SMALL(IF(Отделения[Город]=$AP$1,ROW(Отделения[Город])-1),ROW(AB78)-ROW($A$2)+1)),\"\")","v":""},{"$f":"IFERROR(INDEX(Отделения[отделение],SMALL(IF(Отделения[Город]=$AQ$1,ROW(Отделения[Город])-1),ROW(AB78)-ROW($A$2)+1)),\"\")","v":""},{"$f":"IFERROR(INDEX(Отделения[отделение],SMALL(IF(Отделения[Город]=$AR$1,ROW(Отделения[Город])-1),ROW(AB78)-ROW($A$2)+1)),\"\")","v":""},{"$f":"IFERROR(INDEX(Отделения[отделение],SMALL(IF(Отделения[Город]=$AS$1,ROW(Отделения[Город])-1),ROW(AB78)-ROW($A$2)+1)),\"\")","v":""},{"$f":"IFERROR(INDEX(Отделения[отделение],SMALL(IF(Отделения[Город]=$AT$1,ROW(Отделения[Город])-1),ROW(AB78)-ROW($A$2)+1)),\"\")","v":""},{"$f":"IFERROR(INDEX(Отделения[отделение],SMALL(IF(Отделения[Город]=$AU$1,ROW(Отделения[Город])-1),ROW(AB78)-ROW($A$2)+1)),\"\")","v":""},{"$f":"IFERROR(INDEX(Отделения[отделение],SMALL(IF(Отделения[Город]=$AV$1,ROW(Отделения[Город])-1),ROW(AB78)-ROW($A$2)+1)),\"\")","v":""},{"$f":"IFERROR(INDEX(Отделения[отделение],SMALL(IF(Отделения[Город]=$AW$1,ROW(Отделения[Город])-1),ROW(AB78)-ROW($A$2)+1)),\"\")","v":""},{"$f":"IFERROR(INDEX(Отделения[отделение],SMALL(IF(Отделения[Город]=$AX$1,ROW(Отделения[Город])-1),ROW(AB78)-ROW($A$2)+1)),\"\")","v":""},{"$f":"IFERROR(INDEX(Отделения[отделение],SMALL(IF(Отделения[Город]=$AY$1,ROW(Отделения[Город])-1),ROW(AB78)-ROW($A$2)+1)),\"\")","v":""},{"$f":"IFERROR(INDEX(Отделения[отделение],SMALL(IF(Отделения[Город]=$AZ$1,ROW(Отделения[Город])-1),ROW(AB78)-ROW($A$2)+1)),\"\")","v":""},{"$f":"IFERROR(INDEX(Отделения[отделение],SMALL(IF(Отделения[Город]=$BA$1,ROW(Отделения[Город])-1),ROW(AB78)-ROW($A$2)+1)),\"\")","v":""},{"$f":"IFERROR(INDEX(Отделения[отделение],SMALL(IF(Отделения[Город]=$BB$1,ROW(Отделения[Город])-1),ROW(AB78)-ROW($A$2)+1)),\"\")","v":""},{"$f":"IFERROR(INDEX(Отделения[отделение],SMALL(IF(Отделения[Город]=$BC$1,ROW(Отделения[Город])-1),ROW(AC78)-ROW($A$2)+1)),\"\")","v":""},{"$f":"IFERROR(INDEX(Отделения[отделение],SMALL(IF(Отделения[Город]=$BD$1,ROW(Отделения[Город])-1),ROW(AD78)-ROW($A$2)+1)),\"\")","v":""},{"$f":"IFERROR(INDEX(Отделения[отделение],SMALL(IF(Отделения[Город]=$BE$1,ROW(Отделения[Город])-1),ROW(AE78)-ROW($A$2)+1)),\"\")","v":""},{"$f":"IFERROR(INDEX(Отделения[отделение],SMALL(IF(Отделения[Город]=$BF$1,ROW(Отделения[Город])-1),ROW(AF78)-ROW($A$2)+1)),\"\")","v":""},{"$f":"IFERROR(INDEX(Отделения[отделение],SMALL(IF(Отделения[Город]=$BG$1,ROW(Отделения[Город])-1),ROW(AG78)-ROW($A$2)+1)),\"\")","v":""},{"$f":"IFERROR(INDEX(Отделения[отделение],SMALL(IF(Отделения[Город]=$BH$1,ROW(Отделения[Город])-1),ROW(AH78)-ROW($A$2)+1)),\"\")","v":""},{"$f":"IFERROR(INDEX(Отделения[отделение],SMALL(IF(Отделения[Город]=$BI$1,ROW(Отделения[Город])-1),ROW(AI78)-ROW($A$2)+1)),\"\")","v":""},{"$f":"IFERROR(INDEX(Отделения[отделение],SMALL(IF(Отделения[Город]=$BJ$1,ROW(Отделения[Город])-1),ROW(AJ78)-ROW($A$2)+1)),\"\")","v":""},{"$f":"IFERROR(INDEX(Отделения[отделение],SMALL(IF(Отделения[Город]=$BK$1,ROW(Отделения[Город])-1),ROW(AK78)-ROW($A$2)+1)),\"\")","v":""},{"$f":"IFERROR(INDEX(Отделения[отделение],SMALL(IF(Отделения[Город]=$BL$1,ROW(Отделения[Город])-1),ROW(AL78)-ROW($A$2)+1)),\"\")","v":""},{"$f":"IFERROR(INDEX(Отделения[отделение],SMALL(IF(Отделения[Город]=$BM$1,ROW(Отделения[Город])-1),ROW(AM78)-ROW($A$2)+1)),\"\")","v":""},{"$f":"IFERROR(INDEX(Отделения[отделение],SMALL(IF(Отделения[Город]=$BN$1,ROW(Отделения[Город])-1),ROW(AN78)-ROW($A$2)+1)),\"\")","v":""},{"$f":"IFERROR(INDEX(Отделения[отделение],SMALL(IF(Отделения[Город]=$BO$1,ROW(Отделения[Город])-1),ROW(AO78)-ROW($A$2)+1)),\"\")","v":""},{"$f":"IFERROR(INDEX(Отделения[отделение],SMALL(IF(Отделения[Город]=$BP$1,ROW(Отделения[Город])-1),ROW(AP78)-ROW($A$2)+1)),\"\")","v":""},{"$f":"IFERROR(INDEX(Отделения[отделение],SMALL(IF(Отделения[Город]=$BQ$1,ROW(Отделения[Город])-1),ROW(AQ78)-ROW($A$2)+1)),\"\")","v":""},{"$f":"IFERROR(INDEX(Отделения[отделение],SMALL(IF(Отделения[Город]=$BR$1,ROW(Отделения[Город])-1),ROW(AR78)-ROW($A$2)+1)),\"\")","v":""},{"$f":"IFERROR(INDEX(Отделения[отделение],SMALL(IF(Отделения[Город]=$BS$1,ROW(Отделения[Город])-1),ROW(AS78)-ROW($A$2)+1)),\"\")","v":""},{"$f":"IFERROR(INDEX(Отделения[отделение],SMALL(IF(Отделения[Город]=$BT$1,ROW(Отделения[Город])-1),ROW(AT78)-ROW($A$2)+1)),\"\")","v":""},{"$f":"IFERROR(INDEX(Отделения[отделение],SMALL(IF(Отделения[Город]=$BU$1,ROW(Отделения[Город])-1),ROW(AU78)-ROW($A$2)+1)),\"\")","v":""},{"$f":"IFERROR(INDEX(Отделения[отделение],SMALL(IF(Отделения[Город]=$BV$1,ROW(Отделения[Город])-1),ROW(AV78)-ROW($A$2)+1)),\"\")","v":""},{"$f":"IFERROR(INDEX(Отделения[отделение],SMALL(IF(Отделения[Город]=$BW$1,ROW(Отделения[Город])-1),ROW(AV78)-ROW($A$2)+1)),\"\")","v":""},{"$f":"IFERROR(INDEX(Отделения[отделение],SMALL(IF(Отделения[Город]=$BX$1,ROW(Отделения[Город])-1),ROW(AV78)-ROW($A$2)+1)),\"\")","v":""},{"$f":"IFERROR(INDEX(Отделения[отделение],SMALL(IF(Отделения[Город]=$BY$1,ROW(Отделения[Город])-1),ROW(AV78)-ROW($A$2)+1)),\"\")","v":""},{"$f":"IFERROR(INDEX(Отделения[отделение],SMALL(IF(Отделения[Город]=$BZ$1,ROW(Отделения[Город])-1),ROW(AV78)-ROW($A$2)+1)),\"\")","v":""},{"$f":"IFERROR(INDEX(Отделения[отделение],SMALL(IF(Отделения[Город]=$CA$1,ROW(Отделения[Город])-1),ROW(AV78)-ROW($A$2)+1)),\"\")","v":""},{"$f":"IFERROR(INDEX(Отделения[отделение],SMALL(IF(Отделения[Город]=$CB$1,ROW(Отделения[Город])-1),ROW(AV78)-ROW($A$2)+1)),\"\")","v":""},{"$f":"IFERROR(INDEX(Отделения[отделение],SMALL(IF(Отделения[Город]=$CC$1,ROW(Отделения[Город])-1),ROW(AV78)-ROW($A$2)+1)),\"\")","v":""},{"$f":"IFERROR(INDEX(Отделения[отделение],SMALL(IF(Отделения[Город]=$CD$1,ROW(Отделения[Город])-1),ROW(AV78)-ROW($A$2)+1)),\"\")","v":""},{"$f":"IFERROR(INDEX(Отделения[отделение],SMALL(IF(Отделения[Город]=$CE$1,ROW(Отделения[Город])-1),ROW(AV78)-ROW($A$2)+1)),\"\")","v":""},{"$f":"IFERROR(INDEX(Отделения[отделение],SMALL(IF(Отделения[Город]=$CF$1,ROW(Отделения[Город])-1),ROW(AV78)-ROW($A$2)+1)),\"\")","v":""},{"$f":"IFERROR(INDEX(Отделения[отделение],SMALL(IF(Отделения[Город]=$CG$1,ROW(Отделения[Город])-1),ROW(AV78)-ROW($A$2)+1)),\"\")","v":""},{"$f":"IFERROR(INDEX(Отделения[отделение],SMALL(IF(Отделения[Город]=$CH$1,ROW(Отделения[Город])-1),ROW(AW78)-ROW($A$2)+1)),\"\")","v":""},{"$f":"IFERROR(INDEX(Отделения[отделение],SMALL(IF(Отделения[Город]=$CI$1,ROW(Отделения[Город])-1),ROW(AX78)-ROW($A$2)+1)),\"\")","v":""},{"$f":"IFERROR(INDEX(Отделения[отделение],SMALL(IF(Отделения[Город]=$CJ$1,ROW(Отделения[Город])-1),ROW(AY78)-ROW($A$2)+1)),\"\")","v":""},{"$f":"IFERROR(INDEX(Отделения[отделение],SMALL(IF(Отделения[Город]=$CK$1,ROW(Отделения[Город])-1),ROW(AZ78)-ROW($A$2)+1)),\"\")","v":""},{"$f":"IFERROR(INDEX(Отделения[отделение],SMALL(IF(Отделения[Город]=$CL$1,ROW(Отделения[Город])-1),ROW(BA78)-ROW($A$2)+1)),\"\")","v":""},{"$f":"IFERROR(INDEX(Отделения[отделение],SMALL(IF(Отделения[Город]=$CM$1,ROW(Отделения[Город])-1),ROW(BB78)-ROW($A$2)+1)),\"\")","v":""},{"$f":"IFERROR(INDEX(Отделения[отделение],SMALL(IF(Отделения[Город]=$CN$1,ROW(Отделения[Город])-1),ROW(BC78)-ROW($A$2)+1)),\"\")","v":""},{"$f":"IFERROR(INDEX(Отделения[отделение],SMALL(IF(Отделения[Город]=$CO$1,ROW(Отделения[Город])-1),ROW(BD78)-ROW($A$2)+1)),\"\")","v":""},{"$f":"IFERROR(INDEX(Отделения[отделение],SMALL(IF(Отделения[Город]=$CP$1,ROW(Отделения[Город])-1),ROW(BE78)-ROW($A$2)+1)),\"\")","v":""},{"$f":"IFERROR(INDEX(Отделения[отделение],SMALL(IF(Отделения[Город]=$CQ$1,ROW(Отделения[Город])-1),ROW(BF78)-ROW($A$2)+1)),\"\")","v":""},{"$f":"IFERROR(INDEX(Отделения[отделение],SMALL(IF(Отделения[Город]=$CR$1,ROW(Отделения[Город])-1),ROW(BG78)-ROW($A$2)+1)),\"\")","v":""},{"$f":"IFERROR(INDEX(Отделения[отделение],SMALL(IF(Отделения[Город]=$CS$1,ROW(Отделения[Город])-1),ROW(BH78)-ROW($A$2)+1)),\"\")","v":""},{"$f":"IFERROR(INDEX(Отделения[отделение],SMALL(IF(Отделения[Город]=$CT$1,ROW(Отделения[Город])-1),ROW(BI78)-ROW($A$2)+1)),\"\")","v":""},{"$f":"IFERROR(INDEX(Отделения[отделение],SMALL(IF(Отделения[Город]=$CU$1,ROW(Отделения[Город])-1),ROW(BJ78)-ROW($A$2)+1)),\"\")","v":""},{"$f":"IFERROR(INDEX(Отделения[отделение],SMALL(IF(Отделения[Город]=$CV$1,ROW(Отделения[Город])-1),ROW(BK78)-ROW($A$2)+1)),\"\")","v":""},{"$f":"IFERROR(INDEX(Отделения[отделение],SMALL(IF(Отделения[Город]=$CW$1,ROW(Отделения[Город])-1),ROW(BL78)-ROW($A$2)+1)),\"\")","v":""},{"$f":"IFERROR(INDEX(Отделения[отделение],SMALL(IF(Отделения[Город]=$CX$1,ROW(Отделения[Город])-1),ROW(BM78)-ROW($A$2)+1)),\"\")","v":""},{"$f":"IFERROR(INDEX(Отделения[отделение],SMALL(IF(Отделения[Город]=$CY$1,ROW(Отделения[Город])-1),ROW(BM78)-ROW($A$2)+1)),\"\")","v":""},{"$f":"IFERROR(INDEX(Отделения[отделение],SMALL(IF(Отделения[Город]=$CZ$1,ROW(Отделения[Город])-1),ROW(BM78)-ROW($A$2)+1)),\"\")","v":""},{"$f":"IFERROR(INDEX(Отделения[отделение],SMALL(IF(Отделения[Город]=$DA$1,ROW(Отделения[Город])-1),ROW(BM78)-ROW($A$2)+1)),\"\")","v":""},{"$f":"IFERROR(INDEX(Отделения[отделение],SMALL(IF(Отделения[Город]=$DB$1,ROW(Отделения[Город])-1),ROW(BM78)-ROW($A$2)+1)),\"\")","v":""}]
["Москва","ДО \"СКОБЕЛЕВСКИЙ\" , 117042, г.Москва, б-р Адмирала Ушакова, д.2","0664","MOE1",null,null,{"$f":"IFERROR(INDEX(Отделения[отделение],SMALL(IF(Отделения[Город]=$G$1,ROW(Отделения[Город])-1),ROW(A79)-ROW($A$2)+1)),\"\")","v":""},{"$f":"IFERROR(INDEX(Отделения[отделение],SMALL(IF(Отделения[Город]=$H$1,ROW(Отделения[Город])-1),ROW(A79)-ROW($A$2)+1)),\"\")","v":""},{"$f":"IFERROR(INDEX(Отделения[отделение],SMALL(IF(Отделения[Город]=$I$1,ROW(Отделения[Город])-1),ROW(A79)-ROW($A$2)+1)),\"\")","v":""},{"$f":"IFERROR(INDEX(Отделения[отделение],SMALL(IF(Отделения[Город]=$J$1,ROW(Отделения[Город])-1),ROW(A79)-ROW($A$2)+1)),\"\")","v":""},{"$f":"IFERROR(INDEX(Отделения[отделение],SMALL(IF(Отделения[Город]=$K$1,ROW(Отделения[Город])-1),ROW(A79)-ROW($A$2)+1)),\"\")","v":""},{"$f":"IFERROR(INDEX(Отделения[отделение],SMALL(IF(Отделения[Город]=$L$1,ROW(Отделения[Город])-1),ROW(A79)-ROW($A$2)+1)),\"\")","v":""},{"$f":"IFERROR(INDEX(Отделения[отделение],SMALL(IF(Отделения[Город]=$M$1,ROW(Отделения[Город])-1),ROW(B79)-ROW($A$2)+1)),\"\")","v":""},{"$f":"IFERROR(INDEX(Отделения[отделение],SMALL(IF(Отделения[Город]=$N$1,ROW(Отделения[Город])-1),ROW(#REF!)-ROW($A$2)+1)),\"\")","v":""},{"$f":"IFERROR(INDEX(Отделения[отделение],SMALL(IF(Отделения[Город]=$O$1,ROW(Отделения[Город])-1),ROW(C79)-ROW($A$2)+1)),\"\")","v":""},{"$f":"IFERROR(INDEX(Отделения[отделение],SMALL(IF(Отделения[Город]=$P$1,ROW(Отделения[Город])-1),ROW(D79)-ROW($A$2)+1)),\"\")","v":""},{"$f":"IFERROR(INDEX(Отделения[отделение],SMALL(IF(Отделения[Город]=$Q$1,ROW(Отделения[Город])-1),ROW(F79)-ROW($A$2)+1)),\"\")","v":""},{"$f":"IFERROR(INDEX(Отделения[отделение],SMALL(IF(Отделения[Город]=$R$1,ROW(Отделения[Город])-1),ROW(#REF!)-ROW($A$2)+1)),\"\")","v":""},{"$f":"IFERROR(INDEX(Отделения[отделение],SMALL(IF(Отделения[Город]=$S$1,ROW(Отделения[Город])-1),ROW(G79)-ROW($A$2)+1)),\"\")","v":""},{"$f":"IFERROR(INDEX(Отделения[отделение],SMALL(IF(Отделения[Город]=$T$1,ROW(Отделения[Город])-1),ROW(H79)-ROW($A$2)+1)),\"\")","v":""},{"$f":"IFERROR(INDEX(Отделения[отделение],SMALL(IF(Отделения[Город]=$U$1,ROW(Отделения[Город])-1),ROW(I79)-ROW($A$2)+1)),\"\")","v":""},{"$f":"IFERROR(INDEX(Отделения[отделение],SMALL(IF(Отделения[Город]=$V$1,ROW(Отделения[Город])-1),ROW(J79)-ROW($A$2)+1)),\"\")","v":""},{"$f":"IFERROR(INDEX(Отделения[отделение],SMALL(IF(Отделения[Город]=$W$1,ROW(Отделения[Город])-1),ROW(K79)-ROW($A$2)+1)),\"\")","v":""},{"$f":"IFERROR(INDEX(Отделения[отделение],SMALL(IF(Отделения[Город]=$X$1,ROW(Отделения[Город])-1),ROW(L79)-ROW($A$2)+1)),\"\")","v":""},{"$f":"IFERROR(INDEX(Отделения[отделение],SMALL(IF(Отделения[Город]=$Y$1,ROW(Отделения[Город])-1),ROW(M79)-ROW($A$2)+1)),\"\")","v":""},{"$f":"IFERROR(INDEX(Отделения[отделение],SMALL(IF(Отделения[Город]=$Z$1,ROW(Отделения[Город])-1),ROW(N79)-ROW($A$2)+1)),\"\")","v":""},{"$f":"IFERROR(INDEX(Отделения[отделение],SMALL(IF(Отделения[Город]=$AA$1,ROW(Отделения[Город])-1),ROW(O79)-ROW($A$2)+1)),\"\")","v":""},{"$f":"IFERROR(INDEX(Отделения[отделение],SMALL(IF(Отделения[Город]=$AB$1,ROW(Отделения[Город])-1),ROW(P79)-ROW($A$2)+1)),\"\")","v":""},{"$f":"IFERROR(INDEX(Отделения[отделение],SMALL(IF(Отделения[Город]=$AC$1,ROW(Отделения[Город])-1),ROW(Q79)-ROW($A$2)+1)),\"\")","v":""},{"$f":"IFERROR(INDEX(Отделения[отделение],SMALL(IF(Отделения[Город]=$AD$1,ROW(Отделения[Город])-1),ROW(R79)-ROW($A$2)+1)),\"\")","v":""},{"$f":"IFERROR(INDEX(Отделения[отделение],SMALL(IF(Отделения[Город]=$AE$1,ROW(Отделения[Город])-1),ROW(S79)-ROW($A$2)+1)),\"\")","v":""},{"$f":"IFERROR(INDEX(Отделения[отделение],SMALL(IF(Отделения[Город]=$AF$1,ROW(Отделения[Город])-1),ROW(T79)-ROW($A$2)+1)),\"\")","v":""},{"$f":"IFERROR(INDEX(Отделения[отделение],SMALL(IF(Отделения[Город]=$AG$1,ROW(Отделения[Город])-1),ROW(U79)-ROW($A$2)+1)),\"\")","v":""},{"$f":"IFERROR(INDEX(Отделения[отделение],SMALL(IF(Отделения[Город]=$AH$1,ROW(Отделения[Город])-1),ROW(V79)-ROW($A$2)+1)),\"\")","v":""},{"$f":"IFERROR(INDEX(Отделения[отделение],SMALL(IF(Отделения[Город]=$AI$1,ROW(Отделения[Город])-1),ROW(AB79)-ROW($A$2)+1)),\"\")","v":""},{"$f":"IFERROR(INDEX(Отделения[отделение],SMALL(IF(Отделения[Город]=$AJ$1,ROW(Отделения[Город])-1),ROW(AB79)-ROW($A$2)+1)),\"\")","v":""},{"$f":"IFERROR(INDEX(Отделения[отделение],SMALL(IF(Отделения[Город]=$AK$1,ROW(Отделения[Город])-1),ROW(AB79)-ROW($A$2)+1)),\"\")","v":""},{"$f":"IFERROR(INDEX(Отделения[отделение],SMALL(IF(Отделения[Город]=$AL$1,ROW(Отделения[Город])-1),ROW(AB79)-ROW($A$2)+1)),\"\")","v":""},{"$f":"IFERROR(INDEX(Отделения[отделение],SMALL(IF(Отделения[Город]=$AM$1,ROW(Отделения[Город])-1),ROW(AB79)-ROW($A$2)+1)),\"\")","v":""},{"$f":"IFERROR(INDEX(Отделения[отделение],SMALL(IF(Отделения[Город]=$AN$1,ROW(Отделения[Город])-1),ROW(AB79)-ROW($A$2)+1)),\"\")","v":""},{"$f":"IFERROR(INDEX(Отделения[отделение],SMALL(IF(Отделения[Город]=$AO$1,ROW(Отделения[Город])-1),ROW(AB79)-ROW($A$2)+1)),\"\")","v":""},{"$f":"IFERROR(INDEX(Отделения[отделение],SMALL(IF(Отделения[Город]=$AP$1,ROW(Отделения[Город])-1),ROW(AB79)-ROW($A$2)+1)),\"\")","v":""},{"$f":"IFERROR(INDEX(Отделения[отделение],SMALL(IF(Отделения[Город]=$AQ$1,ROW(Отделения[Город])-1),ROW(AB79)-ROW($A$2)+1)),\"\")","v":""},{"$f":"IFERROR(INDEX(Отделения[отделение],SMALL(IF(Отделения[Город]=$AR$1,ROW(Отделения[Город])-1),ROW(AB79)-ROW($A$2)+1)),\"\")","v":""},{"$f":"IFERROR(INDEX(Отделения[отделение],SMALL(IF(Отделения[Город]=$AS$1,ROW(Отделения[Город])-1),ROW(AB79)-ROW($A$2)+1)),\"\")","v":""},{"$f":"IFERROR(INDEX(Отделения[отделение],SMALL(IF(Отделения[Город]=$AT$1,ROW(Отделения[Город])-1),ROW(AB79)-ROW($A$2)+1)),\"\")","v":""},{"$f":"IFERROR(INDEX(Отделения[отделение],SMALL(IF(Отделения[Город]=$AU$1,ROW(Отделения[Город])-1),ROW(AB79)-ROW($A$2)+1)),\"\")","v":""},{"$f":"IFERROR(INDEX(Отделения[отделение],SMALL(IF(Отделения[Город]=$AV$1,ROW(Отделения[Город])-1),ROW(AB79)-ROW($A$2)+1)),\"\")","v":""},{"$f":"IFERROR(INDEX(Отделения[отделение],SMALL(IF(Отделения[Город]=$AW$1,ROW(Отделения[Город])-1),ROW(AB79)-ROW($A$2)+1)),\"\")","v":""},{"$f":"IFERROR(INDEX(Отделения[отделение],SMALL(IF(Отделения[Город]=$AX$1,ROW(Отделения[Город])-1),ROW(AB79)-ROW($A$2)+1)),\"\")","v":""},{"$f":"IFERROR(INDEX(Отделения[отделение],SMALL(IF(Отделения[Город]=$AY$1,ROW(Отделения[Город])-1),ROW(AB79)-ROW($A$2)+1)),\"\")","v":""},{"$f":"IFERROR(INDEX(Отделения[отделение],SMALL(IF(Отделения[Город]=$AZ$1,ROW(Отделения[Город])-1),ROW(AB79)-ROW($A$2)+1)),\"\")","v":""},{"$f":"IFERROR(INDEX(Отделения[отделение],SMALL(IF(Отделения[Город]=$BA$1,ROW(Отделения[Город])-1),ROW(AB79)-ROW($A$2)+1)),\"\")","v":""},{"$f":"IFERROR(INDEX(Отделения[отделение],SMALL(IF(Отделения[Город]=$BB$1,ROW(Отделения[Город])-1),ROW(AB79)-ROW($A$2)+1)),\"\")","v":""},{"$f":"IFERROR(INDEX(Отделения[отделение],SMALL(IF(Отделения[Город]=$BC$1,ROW(Отделения[Город])-1),ROW(AC79)-ROW($A$2)+1)),\"\")","v":""},{"$f":"IFERROR(INDEX(Отделения[отделение],SMALL(IF(Отделения[Город]=$BD$1,ROW(Отделения[Город])-1),ROW(AD79)-ROW($A$2)+1)),\"\")","v":""},{"$f":"IFERROR(INDEX(Отделения[отделение],SMALL(IF(Отделения[Город]=$BE$1,ROW(Отделения[Город])-1),ROW(AE79)-ROW($A$2)+1)),\"\")","v":""},{"$f":"IFERROR(INDEX(Отделения[отделение],SMALL(IF(Отделения[Город]=$BF$1,ROW(Отделения[Город])-1),ROW(AF79)-ROW($A$2)+1)),\"\")","v":""},{"$f":"IFERROR(INDEX(Отделения[отделение],SMALL(IF(Отделения[Город]=$BG$1,ROW(Отделения[Город])-1),ROW(AG79)-ROW($A$2)+1)),\"\")","v":""},{"$f":"IFERROR(INDEX(Отделения[отделение],SMALL(IF(Отделения[Город]=$BH$1,ROW(Отделения[Город])-1),ROW(AH79)-ROW($A$2)+1)),\"\")","v":""},{"$f":"IFERROR(INDEX(Отделения[отделение],SMALL(IF(Отделения[Город]=$BI$1,ROW(Отделения[Город])-1),ROW(AI79)-ROW($A$2)+1)),\"\")","v":""},{"$f":"IFERROR(INDEX(Отделения[отделение],SMALL(IF(Отделения[Город]=$BJ$1,ROW(Отделения[Город])-1),ROW(AJ79)-ROW($A$2)+1)),\"\")","v":""},{"$f":"IFERROR(INDEX(Отделения[отделение],SMALL(IF(Отделения[Город]=$BK$1,ROW(Отделения[Город])-1),ROW(AK79)-ROW($A$2)+1)),\"\")","v":""},{"$f":"IFERROR(INDEX(Отделения[отделение],SMALL(IF(Отделения[Город]=$BL$1,ROW(Отделения[Город])-1),ROW(AL79)-ROW($A$2)+1)),\"\")","v":""},{"$f":"IFERROR(INDEX(Отделения[отделение],SMALL(IF(Отделения[Город]=$BM$1,ROW(Отделения[Город])-1),ROW(AM79)-ROW($A$2)+1)),\"\")","v":""},{"$f":"IFERROR(INDEX(Отделения[отделение],SMALL(IF(Отделения[Город]=$BN$1,ROW(Отделения[Город])-1),ROW(AN79)-ROW($A$2)+1)),\"\")","v":""},{"$f":"IFERROR(INDEX(Отделения[отделение],SMALL(IF(Отделения[Город]=$BO$1,ROW(Отделения[Город])-1),ROW(AO79)-ROW($A$2)+1)),\"\")","v":""},{"$f":"IFERROR(INDEX(Отделения[отделение],SMALL(IF(Отделения[Город]=$BP$1,ROW(Отделения[Город])-1),ROW(AP79)-ROW($A$2)+1)),\"\")","v":""},{"$f":"IFERROR(INDEX(Отделения[отделение],SMALL(IF(Отделения[Город]=$BQ$1,ROW(Отделения[Город])-1),ROW(AQ79)-ROW($A$2)+1)),\"\")","v":""},{"$f":"IFERROR(INDEX(Отделения[отделение],SMALL(IF(Отделения[Город]=$BR$1,ROW(Отделения[Город])-1),ROW(AR79)-ROW($A$2)+1)),\"\")","v":""},{"$f":"IFERROR(INDEX(Отделения[отделение],SMALL(IF(Отделения[Город]=$BS$1,ROW(Отделения[Город])-1),ROW(AS79)-ROW($A$2)+1)),\"\")","v":""},{"$f":"IFERROR(INDEX(Отделения[отделение],SMALL(IF(Отделения[Город]=$BT$1,ROW(Отделения[Город])-1),ROW(AT79)-ROW($A$2)+1)),\"\")","v":""},{"$f":"IFERROR(INDEX(Отделения[отделение],SMALL(IF(Отделения[Город]=$BU$1,ROW(Отделения[Город])-1),ROW(AU79)-ROW($A$2)+1)),\"\")","v":""},{"$f":"IFERROR(INDEX(Отделения[отделение],SMALL(IF(Отделения[Город]=$BV$1,ROW(Отделения[Город])-1),ROW(AV79)-ROW($A$2)+1)),\"\")","v":""},{"$f":"IFERROR(INDEX(Отделения[отделение],SMALL(IF(Отделения[Город]=$BW$1,ROW(Отделения[Город])-1),ROW(AV79)-ROW($A$2)+1)),\"\")","v":""},{"$f":"IFERROR(INDEX(Отделения[отделение],SMALL(IF(Отделения[Город]=$BX$1,ROW(Отделения[Город])-1),ROW(AV79)-ROW($A$2)+1)),\"\")","v":""},{"$f":"IFERROR(INDEX(Отделения[отделение],SMALL(IF(Отделения[Город]=$BY$1,ROW(Отделения[Город])-1),ROW(AV79)-ROW($A$2)+1)),\"\")","v":""},{"$f":"IFERROR(INDEX(Отделения[отделение],SMALL(IF(Отделения[Город]=$BZ$1,ROW(Отделения[Город])-1),ROW(AV79)-ROW($A$2)+1)),\"\")","v":""},{"$f":"IFERROR(INDEX(Отделения[отделение],SMALL(IF(Отделения[Город]=$CA$1,ROW(Отделения[Город])-1),ROW(AV79)-ROW($A$2)+1)),\"\")","v":""},{"$f":"IFERROR(INDEX(Отделения[отделение],SMALL(IF(Отделения[Город]=$CB$1,ROW(Отделения[Город])-1),ROW(AV79)-ROW($A$2)+1)),\"\")","v":""},{"$f":"IFERROR(INDEX(Отделения[отделение],SMALL(IF(Отделения[Город]=$CC$1,ROW(Отделения[Город])-1),ROW(AV79)-ROW($A$2)+1)),\"\")","v":""},{"$f":"IFERROR(INDEX(Отделения[отделение],SMALL(IF(Отделения[Город]=$CD$1,ROW(Отделения[Город])-1),ROW(AV79)-ROW($A$2)+1)),\"\")","v":""},{"$f":"IFERROR(INDEX(Отделения[отделение],SMALL(IF(Отделения[Город]=$CE$1,ROW(Отделения[Город])-1),ROW(AV79)-ROW($A$2)+1)),\"\")","v":""},{"$f":"IFERROR(INDEX(Отделения[отделение],SMALL(IF(Отделения[Город]=$CF$1,ROW(Отделения[Город])-1),ROW(AV79)-ROW($A$2)+1)),\"\")","v":""},{"$f":"IFERROR(INDEX(Отделения[отделение],SMALL(IF(Отделения[Город]=$CG$1,ROW(Отделения[Город])-1),ROW(AV79)-ROW($A$2)+1)),\"\")","v":""},{"$f":"IFERROR(INDEX(Отделения[отделение],SMALL(IF(Отделения[Город]=$CH$1,ROW(Отделения[Город])-1),ROW(AW79)-ROW($A$2)+1)),\"\")","v":""},{"$f":"IFERROR(INDEX(Отделения[отделение],SMALL(IF(Отделения[Город]=$CI$1,ROW(Отделения[Город])-1),ROW(AX79)-ROW($A$2)+1)),\"\")","v":""},{"$f":"IFERROR(INDEX(Отделения[отделение],SMALL(IF(Отделения[Город]=$CJ$1,ROW(Отделения[Город])-1),ROW(AY79)-ROW($A$2)+1)),\"\")","v":""},{"$f":"IFERROR(INDEX(Отделения[отделение],SMALL(IF(Отделения[Город]=$CK$1,ROW(Отделения[Город])-1),ROW(AZ79)-ROW($A$2)+1)),\"\")","v":""},{"$f":"IFERROR(INDEX(Отделения[отделение],SMALL(IF(Отделения[Город]=$CL$1,ROW(Отделения[Город])-1),ROW(BA79)-ROW($A$2)+1)),\"\")","v":""},{"$f":"IFERROR(INDEX(Отделения[отделение],SMALL(IF(Отделения[Город]=$CM$1,ROW(Отделения[Город])-1),ROW(BB79)-ROW($A$2)+1)),\"\")","v":""},{"$f":"IFERROR(INDEX(Отделения[отделение],SMALL(IF(Отделения[Город]=$CN$1,ROW(Отделения[Город])-1),ROW(BC79)-ROW($A$2)+1)),\"\")","v":""},{"$f":"IFERROR(INDEX(Отделения[отделение],SMALL(IF(Отделения[Город]=$CO$1,ROW(Отделения[Город])-1),ROW(BD79)-ROW($A$2)+1)),\"\")","v":""},{"$f":"IFERROR(INDEX(Отделения[отделение],SMALL(IF(Отделения[Город]=$CP$1,ROW(Отделения[Город])-1),ROW(BE79)-ROW($A$2)+1)),\"\")","v":""},{"$f":"IFERROR(INDEX(Отделения[отделение],SMALL(IF(Отделения[Город]=$CQ$1,ROW(Отделения[Город])-1),ROW(BF79)-ROW($A$2)+1)),\"\")","v":""},{"$f":"IFERROR(INDEX(Отделения[отделение],SMALL(IF(Отделения[Город]=$CR$1,ROW(Отделения[Город])-1),ROW(BG79)-ROW($A$2)+1)),\"\")","v":""},{"$f":"IFERROR(INDEX(Отделения[отделение],SMALL(IF(Отделения[Город]=$CS$1,ROW(Отделения[Город])-1),ROW(BH79)-ROW($A$2)+1)),\"\")","v":""},{"$f":"IFERROR(INDEX(Отделения[отделение],SMALL(IF(Отделения[Город]=$CT$1,ROW(Отделения[Город])-1),ROW(BI79)-ROW($A$2)+1)),\"\")","v":""},{"$f":"IFERROR(INDEX(Отделения[отделение],SMALL(IF(Отделения[Город]=$CU$1,ROW(Отделения[Город])-1),ROW(BJ79)-ROW($A$2)+1)),\"\")","v":""},{"$f":"IFERROR(INDEX(Отделения[отделение],SMALL(IF(Отделения[Город]=$CV$1,ROW(Отделения[Город])-1),ROW(BK79)-ROW($A$2)+1)),\"\")","v":""},{"$f":"IFERROR(INDEX(Отделения[отделение],SMALL(IF(Отделения[Город]=$CW$1,ROW(Отделения[Город])-1),ROW(BL79)-ROW($A$2)+1)),\"\")","v":""},{"$f":"IFERROR(INDEX(Отделения[отделение],SMALL(IF(Отделения[Город]=$CX$1,ROW(Отделения[Город])-1),ROW(BM79)-ROW($A$2)+1)),\"\")","v":""},{"$f":"IFERROR(INDEX(Отделения[отделение],SMALL(IF(Отделения[Город]=$CY$1,ROW(Отделения[Город])-1),ROW(BM79)-ROW($A$2)+1)),\"\")","v":""},{"$f":"IFERROR(INDEX(Отделения[отделение],SMALL(IF(Отделения[Город]=$CZ$1,ROW(Отделения[Город])-1),ROW(BM79)-ROW($A$2)+1)),\"\")","v":""},{"$f":"IFERROR(INDEX(Отделения[отделение],SMALL(IF(Отделения[Город]=$DA$1,ROW(Отделения[Город])-1),ROW(BM79)-ROW($A$2)+1)),\"\")","v":""},{"$f":"IFERROR(INDEX(Отделения[отделение],SMALL(IF(Отделения[Город]=$DB$1,ROW(Отделения[Город])-1),ROW(BM79)-ROW($A$2)+1)),\"\")","v":""}]
["Мытищи","ДО \"МЫТИЩИ-АЙСБЕРГ\" , 141008, Московская обл., г. Мытищи,ул. Мира, д. 26А","0665","MOX2",null,null,{"$f":"IFERROR(INDEX(Отделения[отделение],SMALL(IF(Отделения[Город]=$G$1,ROW(Отделения[Город])-1),ROW(A80)-ROW($A$2)+1)),\"\")","v":""},{"$f":"IFERROR(INDEX(Отделения[отделение],SMALL(IF(Отделения[Город]=$H$1,ROW(Отделения[Город])-1),ROW(A80)-ROW($A$2)+1)),\"\")","v":""},{"$f":"IFERROR(INDEX(Отделения[отделение],SMALL(IF(Отделения[Город]=$I$1,ROW(Отделения[Город])-1),ROW(A80)-ROW($A$2)+1)),\"\")","v":""},{"$f":"IFERROR(INDEX(Отделения[отделение],SMALL(IF(Отделения[Город]=$J$1,ROW(Отделения[Город])-1),ROW(A80)-ROW($A$2)+1)),\"\")","v":""},{"$f":"IFERROR(INDEX(Отделения[отделение],SMALL(IF(Отделения[Город]=$K$1,ROW(Отделения[Город])-1),ROW(A80)-ROW($A$2)+1)),\"\")","v":""},{"$f":"IFERROR(INDEX(Отделения[отделение],SMALL(IF(Отделения[Город]=$L$1,ROW(Отделения[Город])-1),ROW(A80)-ROW($A$2)+1)),\"\")","v":""},{"$f":"IFERROR(INDEX(Отделения[отделение],SMALL(IF(Отделения[Город]=$M$1,ROW(Отделения[Город])-1),ROW(B80)-ROW($A$2)+1)),\"\")","v":""},{"$f":"IFERROR(INDEX(Отделения[отделение],SMALL(IF(Отделения[Город]=$N$1,ROW(Отделения[Город])-1),ROW(#REF!)-ROW($A$2)+1)),\"\")","v":""},{"$f":"IFERROR(INDEX(Отделения[отделение],SMALL(IF(Отделения[Город]=$O$1,ROW(Отделения[Город])-1),ROW(C80)-ROW($A$2)+1)),\"\")","v":""},{"$f":"IFERROR(INDEX(Отделения[отделение],SMALL(IF(Отделения[Город]=$P$1,ROW(Отделения[Город])-1),ROW(D80)-ROW($A$2)+1)),\"\")","v":""},{"$f":"IFERROR(INDEX(Отделения[отделение],SMALL(IF(Отделения[Город]=$Q$1,ROW(Отделения[Город])-1),ROW(F80)-ROW($A$2)+1)),\"\")","v":""},{"$f":"IFERROR(INDEX(Отделения[отделение],SMALL(IF(Отделения[Город]=$R$1,ROW(Отделения[Город])-1),ROW(#REF!)-ROW($A$2)+1)),\"\")","v":""},{"$f":"IFERROR(INDEX(Отделения[отделение],SMALL(IF(Отделения[Город]=$S$1,ROW(Отделения[Город])-1),ROW(G80)-ROW($A$2)+1)),\"\")","v":""},{"$f":"IFERROR(INDEX(Отделения[отделение],SMALL(IF(Отделения[Город]=$T$1,ROW(Отделения[Город])-1),ROW(H80)-ROW($A$2)+1)),\"\")","v":""},{"$f":"IFERROR(INDEX(Отделения[отделение],SMALL(IF(Отделения[Город]=$U$1,ROW(Отделения[Город])-1),ROW(I80)-ROW($A$2)+1)),\"\")","v":""},{"$f":"IFERROR(INDEX(Отделения[отделение],SMALL(IF(Отделения[Город]=$V$1,ROW(Отделения[Город])-1),ROW(J80)-ROW($A$2)+1)),\"\")","v":""},{"$f":"IFERROR(INDEX(Отделения[отделение],SMALL(IF(Отделения[Город]=$W$1,ROW(Отделения[Город])-1),ROW(K80)-ROW($A$2)+1)),\"\")","v":""},{"$f":"IFERROR(INDEX(Отделения[отделение],SMALL(IF(Отделения[Город]=$X$1,ROW(Отделения[Город])-1),ROW(L80)-ROW($A$2)+1)),\"\")","v":""},{"$f":"IFERROR(INDEX(Отделения[отделение],SMALL(IF(Отделения[Город]=$Y$1,ROW(Отделения[Город])-1),ROW(M80)-ROW($A$2)+1)),\"\")","v":""},{"$f":"IFERROR(INDEX(Отделения[отделение],SMALL(IF(Отделения[Город]=$Z$1,ROW(Отделения[Город])-1),ROW(N80)-ROW($A$2)+1)),\"\")","v":""},{"$f":"IFERROR(INDEX(Отделения[отделение],SMALL(IF(Отделения[Город]=$AA$1,ROW(Отделения[Город])-1),ROW(O80)-ROW($A$2)+1)),\"\")","v":""},{"$f":"IFERROR(INDEX(Отделения[отделение],SMALL(IF(Отделения[Город]=$AB$1,ROW(Отделения[Город])-1),ROW(P80)-ROW($A$2)+1)),\"\")","v":""},{"$f":"IFERROR(INDEX(Отделения[отделение],SMALL(IF(Отделения[Город]=$AC$1,ROW(Отделения[Город])-1),ROW(Q80)-ROW($A$2)+1)),\"\")","v":""},{"$f":"IFERROR(INDEX(Отделения[отделение],SMALL(IF(Отделения[Город]=$AD$1,ROW(Отделения[Город])-1),ROW(R80)-ROW($A$2)+1)),\"\")","v":""},{"$f":"IFERROR(INDEX(Отделения[отделение],SMALL(IF(Отделения[Город]=$AE$1,ROW(Отделения[Город])-1),ROW(S80)-ROW($A$2)+1)),\"\")","v":""},{"$f":"IFERROR(INDEX(Отделения[отделение],SMALL(IF(Отделения[Город]=$AF$1,ROW(Отделения[Город])-1),ROW(T80)-ROW($A$2)+1)),\"\")","v":""},{"$f":"IFERROR(INDEX(Отделения[отделение],SMALL(IF(Отделения[Город]=$AG$1,ROW(Отделения[Город])-1),ROW(U80)-ROW($A$2)+1)),\"\")","v":""},{"$f":"IFERROR(INDEX(Отделения[отделение],SMALL(IF(Отделения[Город]=$AH$1,ROW(Отделения[Город])-1),ROW(V80)-ROW($A$2)+1)),\"\")","v":""},{"$f":"IFERROR(INDEX(Отделения[отделение],SMALL(IF(Отделения[Город]=$AI$1,ROW(Отделения[Город])-1),ROW(AB80)-ROW($A$2)+1)),\"\")","v":""},{"$f":"IFERROR(INDEX(Отделения[отделение],SMALL(IF(Отделения[Город]=$AJ$1,ROW(Отделения[Город])-1),ROW(AB80)-ROW($A$2)+1)),\"\")","v":""},{"$f":"IFERROR(INDEX(Отделения[отделение],SMALL(IF(Отделения[Город]=$AK$1,ROW(Отделения[Город])-1),ROW(AB80)-ROW($A$2)+1)),\"\")","v":""},{"$f":"IFERROR(INDEX(Отделения[отделение],SMALL(IF(Отделения[Город]=$AL$1,ROW(Отделения[Город])-1),ROW(AB80)-ROW($A$2)+1)),\"\")","v":""},{"$f":"IFERROR(INDEX(Отделения[отделение],SMALL(IF(Отделения[Город]=$AM$1,ROW(Отделения[Город])-1),ROW(AB80)-ROW($A$2)+1)),\"\")","v":""},{"$f":"IFERROR(INDEX(Отделения[отделение],SMALL(IF(Отделения[Город]=$AN$1,ROW(Отделения[Город])-1),ROW(AB80)-ROW($A$2)+1)),\"\")","v":""},{"$f":"IFERROR(INDEX(Отделения[отделение],SMALL(IF(Отделения[Город]=$AO$1,ROW(Отделения[Город])-1),ROW(AB80)-ROW($A$2)+1)),\"\")","v":""},{"$f":"IFERROR(INDEX(Отделения[отделение],SMALL(IF(Отделения[Город]=$AP$1,ROW(Отделения[Город])-1),ROW(AB80)-ROW($A$2)+1)),\"\")","v":""},{"$f":"IFERROR(INDEX(Отделения[отделение],SMALL(IF(Отделения[Город]=$AQ$1,ROW(Отделения[Город])-1),ROW(AB80)-ROW($A$2)+1)),\"\")","v":""},{"$f":"IFERROR(INDEX(Отделения[отделение],SMALL(IF(Отделения[Город]=$AR$1,ROW(Отделения[Город])-1),ROW(AB80)-ROW($A$2)+1)),\"\")","v":""},{"$f":"IFERROR(INDEX(Отделения[отделение],SMALL(IF(Отделения[Город]=$AS$1,ROW(Отделения[Город])-1),ROW(AB80)-ROW($A$2)+1)),\"\")","v":""},{"$f":"IFERROR(INDEX(Отделения[отделение],SMALL(IF(Отделения[Город]=$AT$1,ROW(Отделения[Город])-1),ROW(AB80)-ROW($A$2)+1)),\"\")","v":""},{"$f":"IFERROR(INDEX(Отделения[отделение],SMALL(IF(Отделения[Город]=$AU$1,ROW(Отделения[Город])-1),ROW(AB80)-ROW($A$2)+1)),\"\")","v":""},{"$f":"IFERROR(INDEX(Отделения[отделение],SMALL(IF(Отделения[Город]=$AV$1,ROW(Отделения[Город])-1),ROW(AB80)-ROW($A$2)+1)),\"\")","v":""},{"$f":"IFERROR(INDEX(Отделения[отделение],SMALL(IF(Отделения[Город]=$AW$1,ROW(Отделения[Город])-1),ROW(AB80)-ROW($A$2)+1)),\"\")","v":""},{"$f":"IFERROR(INDEX(Отделения[отделение],SMALL(IF(Отделения[Город]=$AX$1,ROW(Отделения[Город])-1),ROW(AB80)-ROW($A$2)+1)),\"\")","v":""},{"$f":"IFERROR(INDEX(Отделения[отделение],SMALL(IF(Отделения[Город]=$AY$1,ROW(Отделения[Город])-1),ROW(AB80)-ROW($A$2)+1)),\"\")","v":""},{"$f":"IFERROR(INDEX(Отделения[отделение],SMALL(IF(Отделения[Город]=$AZ$1,ROW(Отделения[Город])-1),ROW(AB80)-ROW($A$2)+1)),\"\")","v":""},{"$f":"IFERROR(INDEX(Отделения[отделение],SMALL(IF(Отделения[Город]=$BA$1,ROW(Отделения[Город])-1),ROW(AB80)-ROW($A$2)+1)),\"\")","v":""},{"$f":"IFERROR(INDEX(Отделения[отделение],SMALL(IF(Отделения[Город]=$BB$1,ROW(Отделения[Город])-1),ROW(AB80)-ROW($A$2)+1)),\"\")","v":""},{"$f":"IFERROR(INDEX(Отделения[отделение],SMALL(IF(Отделения[Город]=$BC$1,ROW(Отделения[Город])-1),ROW(AC80)-ROW($A$2)+1)),\"\")","v":""},{"$f":"IFERROR(INDEX(Отделения[отделение],SMALL(IF(Отделения[Город]=$BD$1,ROW(Отделения[Город])-1),ROW(AD80)-ROW($A$2)+1)),\"\")","v":""},{"$f":"IFERROR(INDEX(Отделения[отделение],SMALL(IF(Отделения[Город]=$BE$1,ROW(Отделения[Город])-1),ROW(AE80)-ROW($A$2)+1)),\"\")","v":""},{"$f":"IFERROR(INDEX(Отделения[отделение],SMALL(IF(Отделения[Город]=$BF$1,ROW(Отделения[Город])-1),ROW(AF80)-ROW($A$2)+1)),\"\")","v":""},{"$f":"IFERROR(INDEX(Отделения[отделение],SMALL(IF(Отделения[Город]=$BG$1,ROW(Отделения[Город])-1),ROW(AG80)-ROW($A$2)+1)),\"\")","v":""},{"$f":"IFERROR(INDEX(Отделения[отделение],SMALL(IF(Отделения[Город]=$BH$1,ROW(Отделения[Город])-1),ROW(AH80)-ROW($A$2)+1)),\"\")","v":""},{"$f":"IFERROR(INDEX(Отделения[отделение],SMALL(IF(Отделения[Город]=$BI$1,ROW(Отделения[Город])-1),ROW(AI80)-ROW($A$2)+1)),\"\")","v":""},{"$f":"IFERROR(INDEX(Отделения[отделение],SMALL(IF(Отделения[Город]=$BJ$1,ROW(Отделения[Город])-1),ROW(AJ80)-ROW($A$2)+1)),\"\")","v":""},{"$f":"IFERROR(INDEX(Отделения[отделение],SMALL(IF(Отделения[Город]=$BK$1,ROW(Отделения[Город])-1),ROW(AK80)-ROW($A$2)+1)),\"\")","v":""},{"$f":"IFERROR(INDEX(Отделения[отделение],SMALL(IF(Отделения[Город]=$BL$1,ROW(Отделения[Город])-1),ROW(AL80)-ROW($A$2)+1)),\"\")","v":""},{"$f":"IFERROR(INDEX(Отделения[отделение],SMALL(IF(Отделения[Город]=$BM$1,ROW(Отделения[Город])-1),ROW(AM80)-ROW($A$2)+1)),\"\")","v":""},{"$f":"IFERROR(INDEX(Отделения[отделение],SMALL(IF(Отделения[Город]=$BN$1,ROW(Отделения[Город])-1),ROW(AN80)-ROW($A$2)+1)),\"\")","v":""},{"$f":"IFERROR(INDEX(Отделения[отделение],SMALL(IF(Отделения[Город]=$BO$1,ROW(Отделения[Город])-1),ROW(AO80)-ROW($A$2)+1)),\"\")","v":""},{"$f":"IFERROR(INDEX(Отделения[отделение],SMALL(IF(Отделения[Город]=$BP$1,ROW(Отделения[Город])-1),ROW(AP80)-ROW($A$2)+1)),\"\")","v":""},{"$f":"IFERROR(INDEX(Отделения[отделение],SMALL(IF(Отделения[Город]=$BQ$1,ROW(Отделения[Город])-1),ROW(AQ80)-ROW($A$2)+1)),\"\")","v":""},{"$f":"IFERROR(INDEX(Отделения[отделение],SMALL(IF(Отделения[Город]=$BR$1,ROW(Отделения[Город])-1),ROW(AR80)-ROW($A$2)+1)),\"\")","v":""},{"$f":"IFERROR(INDEX(Отделения[отделение],SMALL(IF(Отделения[Город]=$BS$1,ROW(Отделения[Город])-1),ROW(AS80)-ROW($A$2)+1)),\"\")","v":""},{"$f":"IFERROR(INDEX(Отделения[отделение],SMALL(IF(Отделения[Город]=$BT$1,ROW(Отделения[Город])-1),ROW(AT80)-ROW($A$2)+1)),\"\")","v":""},{"$f":"IFERROR(INDEX(Отделения[отделение],SMALL(IF(Отделения[Город]=$BU$1,ROW(Отделения[Город])-1),ROW(AU80)-ROW($A$2)+1)),\"\")","v":""},{"$f":"IFERROR(INDEX(Отделения[отделение],SMALL(IF(Отделения[Город]=$BV$1,ROW(Отделения[Город])-1),ROW(AV80)-ROW($A$2)+1)),\"\")","v":""},{"$f":"IFERROR(INDEX(Отделения[отделение],SMALL(IF(Отделения[Город]=$BW$1,ROW(Отделения[Город])-1),ROW(AV80)-ROW($A$2)+1)),\"\")","v":""},{"$f":"IFERROR(INDEX(Отделения[отделение],SMALL(IF(Отделения[Город]=$BX$1,ROW(Отделения[Город])-1),ROW(AV80)-ROW($A$2)+1)),\"\")","v":""},{"$f":"IFERROR(INDEX(Отделения[отделение],SMALL(IF(Отделения[Город]=$BY$1,ROW(Отделения[Город])-1),ROW(AV80)-ROW($A$2)+1)),\"\")","v":""},{"$f":"IFERROR(INDEX(Отделения[отделение],SMALL(IF(Отделения[Город]=$BZ$1,ROW(Отделения[Город])-1),ROW(AV80)-ROW($A$2)+1)),\"\")","v":""},{"$f":"IFERROR(INDEX(Отделения[отделение],SMALL(IF(Отделения[Город]=$CA$1,ROW(Отделения[Город])-1),ROW(AV80)-ROW($A$2)+1)),\"\")","v":""},{"$f":"IFERROR(INDEX(Отделения[отделение],SMALL(IF(Отделения[Город]=$CB$1,ROW(Отделения[Город])-1),ROW(AV80)-ROW($A$2)+1)),\"\")","v":""},{"$f":"IFERROR(INDEX(Отделения[отделение],SMALL(IF(Отделения[Город]=$CC$1,ROW(Отделения[Город])-1),ROW(AV80)-ROW($A$2)+1)),\"\")","v":""},{"$f":"IFERROR(INDEX(Отделения[отделение],SMALL(IF(Отделения[Город]=$CD$1,ROW(Отделения[Город])-1),ROW(AV80)-ROW($A$2)+1)),\"\")","v":""},{"$f":"IFERROR(INDEX(Отделения[отделение],SMALL(IF(Отделения[Город]=$CE$1,ROW(Отделения[Город])-1),ROW(AV80)-ROW($A$2)+1)),\"\")","v":""},{"$f":"IFERROR(INDEX(Отделения[отделение],SMALL(IF(Отделения[Город]=$CF$1,ROW(Отделения[Город])-1),ROW(AV80)-ROW($A$2)+1)),\"\")","v":""},{"$f":"IFERROR(INDEX(Отделения[отделение],SMALL(IF(Отделения[Город]=$CG$1,ROW(Отделения[Город])-1),ROW(AV80)-ROW($A$2)+1)),\"\")","v":""},{"$f":"IFERROR(INDEX(Отделения[отделение],SMALL(IF(Отделения[Город]=$CH$1,ROW(Отделения[Город])-1),ROW(AW80)-ROW($A$2)+1)),\"\")","v":""},{"$f":"IFERROR(INDEX(Отделения[отделение],SMALL(IF(Отделения[Город]=$CI$1,ROW(Отделения[Город])-1),ROW(AX80)-ROW($A$2)+1)),\"\")","v":""},{"$f":"IFERROR(INDEX(Отделения[отделение],SMALL(IF(Отделения[Город]=$CJ$1,ROW(Отделения[Город])-1),ROW(AY80)-ROW($A$2)+1)),\"\")","v":""},{"$f":"IFERROR(INDEX(Отделения[отделение],SMALL(IF(Отделения[Город]=$CK$1,ROW(Отделения[Город])-1),ROW(AZ80)-ROW($A$2)+1)),\"\")","v":""},{"$f":"IFERROR(INDEX(Отделения[отделение],SMALL(IF(Отделения[Город]=$CL$1,ROW(Отделения[Город])-1),ROW(BA80)-ROW($A$2)+1)),\"\")","v":""},{"$f":"IFERROR(INDEX(Отделения[отделение],SMALL(IF(Отделения[Город]=$CM$1,ROW(Отделения[Город])-1),ROW(BB80)-ROW($A$2)+1)),\"\")","v":""},{"$f":"IFERROR(INDEX(Отделения[отделение],SMALL(IF(Отделения[Город]=$CN$1,ROW(Отделения[Город])-1),ROW(BC80)-ROW($A$2)+1)),\"\")","v":""},{"$f":"IFERROR(INDEX(Отделения[отделение],SMALL(IF(Отделения[Город]=$CO$1,ROW(Отделения[Город])-1),ROW(BD80)-ROW($A$2)+1)),\"\")","v":""},{"$f":"IFERROR(INDEX(Отделения[отделение],SMALL(IF(Отделения[Город]=$CP$1,ROW(Отделения[Город])-1),ROW(BE80)-ROW($A$2)+1)),\"\")","v":""},{"$f":"IFERROR(INDEX(Отделения[отделение],SMALL(IF(Отделения[Город]=$CQ$1,ROW(Отделения[Город])-1),ROW(BF80)-ROW($A$2)+1)),\"\")","v":""},{"$f":"IFERROR(INDEX(Отделения[отделение],SMALL(IF(Отделения[Город]=$CR$1,ROW(Отделения[Город])-1),ROW(BG80)-ROW($A$2)+1)),\"\")","v":""},{"$f":"IFERROR(INDEX(Отделения[отделение],SMALL(IF(Отделения[Город]=$CS$1,ROW(Отделения[Город])-1),ROW(BH80)-ROW($A$2)+1)),\"\")","v":""},{"$f":"IFERROR(INDEX(Отделения[отделение],SMALL(IF(Отделения[Город]=$CT$1,ROW(Отделения[Город])-1),ROW(BI80)-ROW($A$2)+1)),\"\")","v":""},{"$f":"IFERROR(INDEX(Отделения[отделение],SMALL(IF(Отделения[Город]=$CU$1,ROW(Отделения[Город])-1),ROW(BJ80)-ROW($A$2)+1)),\"\")","v":""},{"$f":"IFERROR(INDEX(Отделения[отделение],SMALL(IF(Отделения[Город]=$CV$1,ROW(Отделения[Город])-1),ROW(BK80)-ROW($A$2)+1)),\"\")","v":""},{"$f":"IFERROR(INDEX(Отделения[отделение],SMALL(IF(Отделения[Город]=$CW$1,ROW(Отделения[Город])-1),ROW(BL80)-ROW($A$2)+1)),\"\")","v":""},{"$f":"IFERROR(INDEX(Отделения[отделение],SMALL(IF(Отделения[Город]=$CX$1,ROW(Отделения[Город])-1),ROW(BM80)-ROW($A$2)+1)),\"\")","v":""},{"$f":"IFERROR(INDEX(Отделения[отделение],SMALL(IF(Отделения[Город]=$CY$1,ROW(Отделения[Город])-1),ROW(BM80)-ROW($A$2)+1)),\"\")","v":""},{"$f":"IFERROR(INDEX(Отделения[отделение],SMALL(IF(Отделения[Город]=$CZ$1,ROW(Отделения[Город])-1),ROW(BM80)-ROW($A$2)+1)),\"\")","v":""},{"$f":"IFERROR(INDEX(Отделения[отделение],SMALL(IF(Отделения[Город]=$DA$1,ROW(Отделения[Город])-1),ROW(BM80)-ROW($A$2)+1)),\"\")","v":""},{"$f":"IFERROR(INDEX(Отделения[отделение],SMALL(IF(Отделения[Город]=$DB$1,ROW(Отделения[Город])-1),ROW(BM80)-ROW($A$2)+1)),\"\")","v":""}]
["Москва","ДО \"Щелковский\", 107241, г. Москва, ул. Уральская, д. 1","0669","MOY5",null,null,{"$f":"IFERROR(INDEX(Отделения[отделение],SMALL(IF(Отделения[Город]=$G$1,ROW(Отделения[Город])-1),ROW(A81)-ROW($A$2)+1)),\"\")","v":""},{"$f":"IFERROR(INDEX(Отделения[отделение],SMALL(IF(Отделения[Город]=$H$1,ROW(Отделения[Город])-1),ROW(A81)-ROW($A$2)+1)),\"\")","v":""},{"$f":"IFERROR(INDEX(Отделения[отделение],SMALL(IF(Отделения[Город]=$I$1,ROW(Отделения[Город])-1),ROW(A81)-ROW($A$2)+1)),\"\")","v":""},{"$f":"IFERROR(INDEX(Отделения[отделение],SMALL(IF(Отделения[Город]=$J$1,ROW(Отделения[Город])-1),ROW(A81)-ROW($A$2)+1)),\"\")","v":""},{"$f":"IFERROR(INDEX(Отделения[отделение],SMALL(IF(Отделения[Город]=$K$1,ROW(Отделения[Город])-1),ROW(A81)-ROW($A$2)+1)),\"\")","v":""},{"$f":"IFERROR(INDEX(Отделения[отделение],SMALL(IF(Отделения[Город]=$L$1,ROW(Отделения[Город])-1),ROW(A81)-ROW($A$2)+1)),\"\")","v":""},{"$f":"IFERROR(INDEX(Отделения[отделение],SMALL(IF(Отделения[Город]=$M$1,ROW(Отделения[Город])-1),ROW(B81)-ROW($A$2)+1)),\"\")","v":""},{"$f":"IFERROR(INDEX(Отделения[отделение],SMALL(IF(Отделения[Город]=$N$1,ROW(Отделения[Город])-1),ROW(#REF!)-ROW($A$2)+1)),\"\")","v":""},{"$f":"IFERROR(INDEX(Отделения[отделение],SMALL(IF(Отделения[Город]=$O$1,ROW(Отделения[Город])-1),ROW(C81)-ROW($A$2)+1)),\"\")","v":""},{"$f":"IFERROR(INDEX(Отделения[отделение],SMALL(IF(Отделения[Город]=$P$1,ROW(Отделения[Город])-1),ROW(D81)-ROW($A$2)+1)),\"\")","v":""},{"$f":"IFERROR(INDEX(Отделения[отделение],SMALL(IF(Отделения[Город]=$Q$1,ROW(Отделения[Город])-1),ROW(F81)-ROW($A$2)+1)),\"\")","v":""},{"$f":"IFERROR(INDEX(Отделения[отделение],SMALL(IF(Отделения[Город]=$R$1,ROW(Отделения[Город])-1),ROW(#REF!)-ROW($A$2)+1)),\"\")","v":""},{"$f":"IFERROR(INDEX(Отделения[отделение],SMALL(IF(Отделения[Город]=$S$1,ROW(Отделения[Город])-1),ROW(G81)-ROW($A$2)+1)),\"\")","v":""},{"$f":"IFERROR(INDEX(Отделения[отделение],SMALL(IF(Отделения[Город]=$T$1,ROW(Отделения[Город])-1),ROW(H81)-ROW($A$2)+1)),\"\")","v":""},{"$f":"IFERROR(INDEX(Отделения[отделение],SMALL(IF(Отделения[Город]=$U$1,ROW(Отделения[Город])-1),ROW(I81)-ROW($A$2)+1)),\"\")","v":""},{"$f":"IFERROR(INDEX(Отделения[отделение],SMALL(IF(Отделения[Город]=$V$1,ROW(Отделения[Город])-1),ROW(J81)-ROW($A$2)+1)),\"\")","v":""},{"$f":"IFERROR(INDEX(Отделения[отделение],SMALL(IF(Отделения[Город]=$W$1,ROW(Отделения[Город])-1),ROW(K81)-ROW($A$2)+1)),\"\")","v":""},{"$f":"IFERROR(INDEX(Отделения[отделение],SMALL(IF(Отделения[Город]=$X$1,ROW(Отделения[Город])-1),ROW(L81)-ROW($A$2)+1)),\"\")","v":""},{"$f":"IFERROR(INDEX(Отделения[отделение],SMALL(IF(Отделения[Город]=$Y$1,ROW(Отделения[Город])-1),ROW(M81)-ROW($A$2)+1)),\"\")","v":""},{"$f":"IFERROR(INDEX(Отделения[отделение],SMALL(IF(Отделения[Город]=$Z$1,ROW(Отделения[Город])-1),ROW(N81)-ROW($A$2)+1)),\"\")","v":""},{"$f":"IFERROR(INDEX(Отделения[отделение],SMALL(IF(Отделения[Город]=$AA$1,ROW(Отделения[Город])-1),ROW(O81)-ROW($A$2)+1)),\"\")","v":""},{"$f":"IFERROR(INDEX(Отделения[отделение],SMALL(IF(Отделения[Город]=$AB$1,ROW(Отделения[Город])-1),ROW(P81)-ROW($A$2)+1)),\"\")","v":""},{"$f":"IFERROR(INDEX(Отделения[отделение],SMALL(IF(Отделения[Город]=$AC$1,ROW(Отделения[Город])-1),ROW(Q81)-ROW($A$2)+1)),\"\")","v":""},{"$f":"IFERROR(INDEX(Отделения[отделение],SMALL(IF(Отделения[Город]=$AD$1,ROW(Отделения[Город])-1),ROW(R81)-ROW($A$2)+1)),\"\")","v":""},{"$f":"IFERROR(INDEX(Отделения[отделение],SMALL(IF(Отделения[Город]=$AE$1,ROW(Отделения[Город])-1),ROW(S81)-ROW($A$2)+1)),\"\")","v":""},{"$f":"IFERROR(INDEX(Отделения[отделение],SMALL(IF(Отделения[Город]=$AF$1,ROW(Отделения[Город])-1),ROW(T81)-ROW($A$2)+1)),\"\")","v":""},{"$f":"IFERROR(INDEX(Отделения[отделение],SMALL(IF(Отделения[Город]=$AG$1,ROW(Отделения[Город])-1),ROW(U81)-ROW($A$2)+1)),\"\")","v":""},{"$f":"IFERROR(INDEX(Отделения[отделение],SMALL(IF(Отделения[Город]=$AH$1,ROW(Отделения[Город])-1),ROW(V81)-ROW($A$2)+1)),\"\")","v":""},{"$f":"IFERROR(INDEX(Отделения[отделение],SMALL(IF(Отделения[Город]=$AI$1,ROW(Отделения[Город])-1),ROW(AB81)-ROW($A$2)+1)),\"\")","v":""},{"$f":"IFERROR(INDEX(Отделения[отделение],SMALL(IF(Отделения[Город]=$AJ$1,ROW(Отделения[Город])-1),ROW(AB81)-ROW($A$2)+1)),\"\")","v":""},{"$f":"IFERROR(INDEX(Отделения[отделение],SMALL(IF(Отделения[Город]=$AK$1,ROW(Отделения[Город])-1),ROW(AB81)-ROW($A$2)+1)),\"\")","v":""},{"$f":"IFERROR(INDEX(Отделения[отделение],SMALL(IF(Отделения[Город]=$AL$1,ROW(Отделения[Город])-1),ROW(AB81)-ROW($A$2)+1)),\"\")","v":""},{"$f":"IFERROR(INDEX(Отделения[отделение],SMALL(IF(Отделения[Город]=$AM$1,ROW(Отделения[Город])-1),ROW(AB81)-ROW($A$2)+1)),\"\")","v":""},{"$f":"IFERROR(INDEX(Отделения[отделение],SMALL(IF(Отделения[Город]=$AN$1,ROW(Отделения[Город])-1),ROW(AB81)-ROW($A$2)+1)),\"\")","v":""},{"$f":"IFERROR(INDEX(Отделения[отделение],SMALL(IF(Отделения[Город]=$AO$1,ROW(Отделения[Город])-1),ROW(AB81)-ROW($A$2)+1)),\"\")","v":""},{"$f":"IFERROR(INDEX(Отделения[отделение],SMALL(IF(Отделения[Город]=$AP$1,ROW(Отделения[Город])-1),ROW(AB81)-ROW($A$2)+1)),\"\")","v":""},{"$f":"IFERROR(INDEX(Отделения[отделение],SMALL(IF(Отделения[Город]=$AQ$1,ROW(Отделения[Город])-1),ROW(AB81)-ROW($A$2)+1)),\"\")","v":""},{"$f":"IFERROR(INDEX(Отделения[отделение],SMALL(IF(Отделения[Город]=$AR$1,ROW(Отделения[Город])-1),ROW(AB81)-ROW($A$2)+1)),\"\")","v":""},{"$f":"IFERROR(INDEX(Отделения[отделение],SMALL(IF(Отделения[Город]=$AS$1,ROW(Отделения[Город])-1),ROW(AB81)-ROW($A$2)+1)),\"\")","v":""},{"$f":"IFERROR(INDEX(Отделения[отделение],SMALL(IF(Отделения[Город]=$AT$1,ROW(Отделения[Город])-1),ROW(AB81)-ROW($A$2)+1)),\"\")","v":""},{"$f":"IFERROR(INDEX(Отделения[отделение],SMALL(IF(Отделения[Город]=$AU$1,ROW(Отделения[Город])-1),ROW(AB81)-ROW($A$2)+1)),\"\")","v":""},{"$f":"IFERROR(INDEX(Отделения[отделение],SMALL(IF(Отделения[Город]=$AV$1,ROW(Отделения[Город])-1),ROW(AB81)-ROW($A$2)+1)),\"\")","v":""},{"$f":"IFERROR(INDEX(Отделения[отделение],SMALL(IF(Отделения[Город]=$AW$1,ROW(Отделения[Город])-1),ROW(AB81)-ROW($A$2)+1)),\"\")","v":""},{"$f":"IFERROR(INDEX(Отделения[отделение],SMALL(IF(Отделения[Город]=$AX$1,ROW(Отделения[Город])-1),ROW(AB81)-ROW($A$2)+1)),\"\")","v":""},{"$f":"IFERROR(INDEX(Отделения[отделение],SMALL(IF(Отделения[Город]=$AY$1,ROW(Отделения[Город])-1),ROW(AB81)-ROW($A$2)+1)),\"\")","v":""},{"$f":"IFERROR(INDEX(Отделения[отделение],SMALL(IF(Отделения[Город]=$AZ$1,ROW(Отделения[Город])-1),ROW(AB81)-ROW($A$2)+1)),\"\")","v":""},{"$f":"IFERROR(INDEX(Отделения[отделение],SMALL(IF(Отделения[Город]=$BA$1,ROW(Отделения[Город])-1),ROW(AB81)-ROW($A$2)+1)),\"\")","v":""},{"$f":"IFERROR(INDEX(Отделения[отделение],SMALL(IF(Отделения[Город]=$BB$1,ROW(Отделения[Город])-1),ROW(AB81)-ROW($A$2)+1)),\"\")","v":""},{"$f":"IFERROR(INDEX(Отделения[отделение],SMALL(IF(Отделения[Город]=$BC$1,ROW(Отделения[Город])-1),ROW(AC81)-ROW($A$2)+1)),\"\")","v":""},{"$f":"IFERROR(INDEX(Отделения[отделение],SMALL(IF(Отделения[Город]=$BD$1,ROW(Отделения[Город])-1),ROW(AD81)-ROW($A$2)+1)),\"\")","v":""},{"$f":"IFERROR(INDEX(Отделения[отделение],SMALL(IF(Отделения[Город]=$BE$1,ROW(Отделения[Город])-1),ROW(AE81)-ROW($A$2)+1)),\"\")","v":""},{"$f":"IFERROR(INDEX(Отделения[отделение],SMALL(IF(Отделения[Город]=$BF$1,ROW(Отделения[Город])-1),ROW(AF81)-ROW($A$2)+1)),\"\")","v":""},{"$f":"IFERROR(INDEX(Отделения[отделение],SMALL(IF(Отделения[Город]=$BG$1,ROW(Отделения[Город])-1),ROW(AG81)-ROW($A$2)+1)),\"\")","v":""},{"$f":"IFERROR(INDEX(Отделения[отделение],SMALL(IF(Отделения[Город]=$BH$1,ROW(Отделения[Город])-1),ROW(AH81)-ROW($A$2)+1)),\"\")","v":""},{"$f":"IFERROR(INDEX(Отделения[отделение],SMALL(IF(Отделения[Город]=$BI$1,ROW(Отделения[Город])-1),ROW(AI81)-ROW($A$2)+1)),\"\")","v":""},{"$f":"IFERROR(INDEX(Отделения[отделение],SMALL(IF(Отделения[Город]=$BJ$1,ROW(Отделения[Город])-1),ROW(AJ81)-ROW($A$2)+1)),\"\")","v":""},{"$f":"IFERROR(INDEX(Отделения[отделение],SMALL(IF(Отделения[Город]=$BK$1,ROW(Отделения[Город])-1),ROW(AK81)-ROW($A$2)+1)),\"\")","v":""},{"$f":"IFERROR(INDEX(Отделения[отделение],SMALL(IF(Отделения[Город]=$BL$1,ROW(Отделения[Город])-1),ROW(AL81)-ROW($A$2)+1)),\"\")","v":""},{"$f":"IFERROR(INDEX(Отделения[отделение],SMALL(IF(Отделения[Город]=$BM$1,ROW(Отделения[Город])-1),ROW(AM81)-ROW($A$2)+1)),\"\")","v":""},{"$f":"IFERROR(INDEX(Отделения[отделение],SMALL(IF(Отделения[Город]=$BN$1,ROW(Отделения[Город])-1),ROW(AN81)-ROW($A$2)+1)),\"\")","v":""},{"$f":"IFERROR(INDEX(Отделения[отделение],SMALL(IF(Отделения[Город]=$BO$1,ROW(Отделения[Город])-1),ROW(AO81)-ROW($A$2)+1)),\"\")","v":""},{"$f":"IFERROR(INDEX(Отделения[отделение],SMALL(IF(Отделения[Город]=$BP$1,ROW(Отделения[Город])-1),ROW(AP81)-ROW($A$2)+1)),\"\")","v":""},{"$f":"IFERROR(INDEX(Отделения[отделение],SMALL(IF(Отделения[Город]=$BQ$1,ROW(Отделения[Город])-1),ROW(AQ81)-ROW($A$2)+1)),\"\")","v":""},{"$f":"IFERROR(INDEX(Отделения[отделение],SMALL(IF(Отделения[Город]=$BR$1,ROW(Отделения[Город])-1),ROW(AR81)-ROW($A$2)+1)),\"\")","v":""},{"$f":"IFERROR(INDEX(Отделения[отделение],SMALL(IF(Отделения[Город]=$BS$1,ROW(Отделения[Город])-1),ROW(AS81)-ROW($A$2)+1)),\"\")","v":""},{"$f":"IFERROR(INDEX(Отделения[отделение],SMALL(IF(Отделения[Город]=$BT$1,ROW(Отделения[Город])-1),ROW(AT81)-ROW($A$2)+1)),\"\")","v":""},{"$f":"IFERROR(INDEX(Отделения[отделение],SMALL(IF(Отделения[Город]=$BU$1,ROW(Отделения[Город])-1),ROW(AU81)-ROW($A$2)+1)),\"\")","v":""},{"$f":"IFERROR(INDEX(Отделения[отделение],SMALL(IF(Отделения[Город]=$BV$1,ROW(Отделения[Город])-1),ROW(AV81)-ROW($A$2)+1)),\"\")","v":""},{"$f":"IFERROR(INDEX(Отделения[отделение],SMALL(IF(Отделения[Город]=$BW$1,ROW(Отделения[Город])-1),ROW(AV81)-ROW($A$2)+1)),\"\")","v":""},{"$f":"IFERROR(INDEX(Отделения[отделение],SMALL(IF(Отделения[Город]=$BX$1,ROW(Отделения[Город])-1),ROW(AV81)-ROW($A$2)+1)),\"\")","v":""},{"$f":"IFERROR(INDEX(Отделения[отделение],SMALL(IF(Отделения[Город]=$BY$1,ROW(Отделения[Город])-1),ROW(AV81)-ROW($A$2)+1)),\"\")","v":""},{"$f":"IFERROR(INDEX(Отделения[отделение],SMALL(IF(Отделения[Город]=$BZ$1,ROW(Отделения[Город])-1),ROW(AV81)-ROW($A$2)+1)),\"\")","v":""},{"$f":"IFERROR(INDEX(Отделения[отделение],SMALL(IF(Отделения[Город]=$CA$1,ROW(Отделения[Город])-1),ROW(AV81)-ROW($A$2)+1)),\"\")","v":""},{"$f":"IFERROR(INDEX(Отделения[отделение],SMALL(IF(Отделения[Город]=$CB$1,ROW(Отделения[Город])-1),ROW(AV81)-ROW($A$2)+1)),\"\")","v":""},{"$f":"IFERROR(INDEX(Отделения[отделение],SMALL(IF(Отделения[Город]=$CC$1,ROW(Отделения[Город])-1),ROW(AV81)-ROW($A$2)+1)),\"\")","v":""},{"$f":"IFERROR(INDEX(Отделения[отделение],SMALL(IF(Отделения[Город]=$CD$1,ROW(Отделения[Город])-1),ROW(AV81)-ROW($A$2)+1)),\"\")","v":""},{"$f":"IFERROR(INDEX(Отделения[отделение],SMALL(IF(Отделения[Город]=$CE$1,ROW(Отделения[Город])-1),ROW(AV81)-ROW($A$2)+1)),\"\")","v":""},{"$f":"IFERROR(INDEX(Отделения[отделение],SMALL(IF(Отделения[Город]=$CF$1,ROW(Отделения[Город])-1),ROW(AV81)-ROW($A$2)+1)),\"\")","v":""},{"$f":"IFERROR(INDEX(Отделения[отделение],SMALL(IF(Отделения[Город]=$CG$1,ROW(Отделения[Город])-1),ROW(AV81)-ROW($A$2)+1)),\"\")","v":""},{"$f":"IFERROR(INDEX(Отделения[отделение],SMALL(IF(Отделения[Город]=$CH$1,ROW(Отделения[Город])-1),ROW(AW81)-ROW($A$2)+1)),\"\")","v":""},{"$f":"IFERROR(INDEX(Отделения[отделение],SMALL(IF(Отделения[Город]=$CI$1,ROW(Отделения[Город])-1),ROW(AX81)-ROW($A$2)+1)),\"\")","v":""},{"$f":"IFERROR(INDEX(Отделения[отделение],SMALL(IF(Отделения[Город]=$CJ$1,ROW(Отделения[Город])-1),ROW(AY81)-ROW($A$2)+1)),\"\")","v":""},{"$f":"IFERROR(INDEX(Отделения[отделение],SMALL(IF(Отделения[Город]=$CK$1,ROW(Отделения[Город])-1),ROW(AZ81)-ROW($A$2)+1)),\"\")","v":""},{"$f":"IFERROR(INDEX(Отделения[отделение],SMALL(IF(Отделения[Город]=$CL$1,ROW(Отделения[Город])-1),ROW(BA81)-ROW($A$2)+1)),\"\")","v":""},{"$f":"IFERROR(INDEX(Отделения[отделение],SMALL(IF(Отделения[Город]=$CM$1,ROW(Отделения[Город])-1),ROW(BB81)-ROW($A$2)+1)),\"\")","v":""},{"$f":"IFERROR(INDEX(Отделения[отделение],SMALL(IF(Отделения[Город]=$CN$1,ROW(Отделения[Город])-1),ROW(BC81)-ROW($A$2)+1)),\"\")","v":""},{"$f":"IFERROR(INDEX(Отделения[отделение],SMALL(IF(Отделения[Город]=$CO$1,ROW(Отделения[Город])-1),ROW(BD81)-ROW($A$2)+1)),\"\")","v":""},{"$f":"IFERROR(INDEX(Отделения[отделение],SMALL(IF(Отделения[Город]=$CP$1,ROW(Отделения[Город])-1),ROW(BE81)-ROW($A$2)+1)),\"\")","v":""},{"$f":"IFERROR(INDEX(Отделения[отделение],SMALL(IF(Отделения[Город]=$CQ$1,ROW(Отделения[Город])-1),ROW(BF81)-ROW($A$2)+1)),\"\")","v":""},{"$f":"IFERROR(INDEX(Отделения[отделение],SMALL(IF(Отделения[Город]=$CR$1,ROW(Отделения[Город])-1),ROW(BG81)-ROW($A$2)+1)),\"\")","v":""},{"$f":"IFERROR(INDEX(Отделения[отделение],SMALL(IF(Отделения[Город]=$CS$1,ROW(Отделения[Город])-1),ROW(BH81)-ROW($A$2)+1)),\"\")","v":""},{"$f":"IFERROR(INDEX(Отделения[отделение],SMALL(IF(Отделения[Город]=$CT$1,ROW(Отделения[Город])-1),ROW(BI81)-ROW($A$2)+1)),\"\")","v":""},{"$f":"IFERROR(INDEX(Отделения[отделение],SMALL(IF(Отделения[Город]=$CU$1,ROW(Отделения[Город])-1),ROW(BJ81)-ROW($A$2)+1)),\"\")","v":""},{"$f":"IFERROR(INDEX(Отделения[отделение],SMALL(IF(Отделения[Город]=$CV$1,ROW(Отделения[Город])-1),ROW(BK81)-ROW($A$2)+1)),\"\")","v":""},{"$f":"IFERROR(INDEX(Отделения[отделение],SMALL(IF(Отделения[Город]=$CW$1,ROW(Отделения[Город])-1),ROW(BL81)-ROW($A$2)+1)),\"\")","v":""},{"$f":"IFERROR(INDEX(Отделения[отделение],SMALL(IF(Отделения[Город]=$CX$1,ROW(Отделения[Город])-1),ROW(BM81)-ROW($A$2)+1)),\"\")","v":""},{"$f":"IFERROR(INDEX(Отделения[отделение],SMALL(IF(Отделения[Город]=$CY$1,ROW(Отделения[Город])-1),ROW(BM81)-ROW($A$2)+1)),\"\")","v":""},{"$f":"IFERROR(INDEX(Отделения[отделение],SMALL(IF(Отделения[Город]=$CZ$1,ROW(Отделения[Город])-1),ROW(BM81)-ROW($A$2)+1)),\"\")","v":""},{"$f":"IFERROR(INDEX(Отделения[отделение],SMALL(IF(Отделения[Город]=$DA$1,ROW(Отделения[Город])-1),ROW(BM81)-ROW($A$2)+1)),\"\")","v":""},{"$f":"IFERROR(INDEX(Отделения[отделение],SMALL(IF(Отделения[Город]=$DB$1,ROW(Отделения[Город])-1),ROW(BM81)-ROW($A$2)+1)),\"\")","v":""}]
["Уфа","ДО \"Уфа-Идель\" , 450075, Российская Федерация, Республика Башкортостан, г. Уфа, пр-кт.Октября, д. 107а","0671","MOC3",null,null,{"$f":"IFERROR(INDEX(Отделения[отделение],SMALL(IF(Отделения[Город]=$G$1,ROW(Отделения[Город])-1),ROW(A82)-ROW($A$2)+1)),\"\")","v":""},{"$f":"IFERROR(INDEX(Отделения[отделение],SMALL(IF(Отделения[Город]=$H$1,ROW(Отделения[Город])-1),ROW(A82)-ROW($A$2)+1)),\"\")","v":""},{"$f":"IFERROR(INDEX(Отделения[отделение],SMALL(IF(Отделения[Город]=$I$1,ROW(Отделения[Город])-1),ROW(A82)-ROW($A$2)+1)),\"\")","v":""},{"$f":"IFERROR(INDEX(Отделения[отделение],SMALL(IF(Отделения[Город]=$J$1,ROW(Отделения[Город])-1),ROW(A82)-ROW($A$2)+1)),\"\")","v":""},{"$f":"IFERROR(INDEX(Отделения[отделение],SMALL(IF(Отделения[Город]=$K$1,ROW(Отделения[Город])-1),ROW(A82)-ROW($A$2)+1)),\"\")","v":""},{"$f":"IFERROR(INDEX(Отделения[отделение],SMALL(IF(Отделения[Город]=$L$1,ROW(Отделения[Город])-1),ROW(A82)-ROW($A$2)+1)),\"\")","v":""},{"$f":"IFERROR(INDEX(Отделения[отделение],SMALL(IF(Отделения[Город]=$M$1,ROW(Отделения[Город])-1),ROW(B82)-ROW($A$2)+1)),\"\")","v":""},{"$f":"IFERROR(INDEX(Отделения[отделение],SMALL(IF(Отделения[Город]=$N$1,ROW(Отделения[Город])-1),ROW(#REF!)-ROW($A$2)+1)),\"\")","v":""},{"$f":"IFERROR(INDEX(Отделения[отделение],SMALL(IF(Отделения[Город]=$O$1,ROW(Отделения[Город])-1),ROW(C82)-ROW($A$2)+1)),\"\")","v":""},{"$f":"IFERROR(INDEX(Отделения[отделение],SMALL(IF(Отделения[Город]=$P$1,ROW(Отделения[Город])-1),ROW(D82)-ROW($A$2)+1)),\"\")","v":""},{"$f":"IFERROR(INDEX(Отделения[отделение],SMALL(IF(Отделения[Город]=$Q$1,ROW(Отделения[Город])-1),ROW(F82)-ROW($A$2)+1)),\"\")","v":""},{"$f":"IFERROR(INDEX(Отделения[отделение],SMALL(IF(Отделения[Город]=$R$1,ROW(Отделения[Город])-1),ROW(#REF!)-ROW($A$2)+1)),\"\")","v":""},{"$f":"IFERROR(INDEX(Отделения[отделение],SMALL(IF(Отделения[Город]=$S$1,ROW(Отделения[Город])-1),ROW(G82)-ROW($A$2)+1)),\"\")","v":""},{"$f":"IFERROR(INDEX(Отделения[отделение],SMALL(IF(Отделения[Город]=$T$1,ROW(Отделения[Город])-1),ROW(H82)-ROW($A$2)+1)),\"\")","v":""},{"$f":"IFERROR(INDEX(Отделения[отделение],SMALL(IF(Отделения[Город]=$U$1,ROW(Отделения[Город])-1),ROW(I82)-ROW($A$2)+1)),\"\")","v":""},{"$f":"IFERROR(INDEX(Отделения[отделение],SMALL(IF(Отделения[Город]=$V$1,ROW(Отделения[Город])-1),ROW(J82)-ROW($A$2)+1)),\"\")","v":""},{"$f":"IFERROR(INDEX(Отделения[отделение],SMALL(IF(Отделения[Город]=$W$1,ROW(Отделения[Город])-1),ROW(K82)-ROW($A$2)+1)),\"\")","v":""},{"$f":"IFERROR(INDEX(Отделения[отделение],SMALL(IF(Отделения[Город]=$X$1,ROW(Отделения[Город])-1),ROW(L82)-ROW($A$2)+1)),\"\")","v":""},{"$f":"IFERROR(INDEX(Отделения[отделение],SMALL(IF(Отделения[Город]=$Y$1,ROW(Отделения[Город])-1),ROW(M82)-ROW($A$2)+1)),\"\")","v":""},{"$f":"IFERROR(INDEX(Отделения[отделение],SMALL(IF(Отделения[Город]=$Z$1,ROW(Отделения[Город])-1),ROW(N82)-ROW($A$2)+1)),\"\")","v":""},{"$f":"IFERROR(INDEX(Отделения[отделение],SMALL(IF(Отделения[Город]=$AA$1,ROW(Отделения[Город])-1),ROW(O82)-ROW($A$2)+1)),\"\")","v":""},{"$f":"IFERROR(INDEX(Отделения[отделение],SMALL(IF(Отделения[Город]=$AB$1,ROW(Отделения[Город])-1),ROW(P82)-ROW($A$2)+1)),\"\")","v":""},{"$f":"IFERROR(INDEX(Отделения[отделение],SMALL(IF(Отделения[Город]=$AC$1,ROW(Отделения[Город])-1),ROW(Q82)-ROW($A$2)+1)),\"\")","v":""},{"$f":"IFERROR(INDEX(Отделения[отделение],SMALL(IF(Отделения[Город]=$AD$1,ROW(Отделения[Город])-1),ROW(R82)-ROW($A$2)+1)),\"\")","v":""},{"$f":"IFERROR(INDEX(Отделения[отделение],SMALL(IF(Отделения[Город]=$AE$1,ROW(Отделения[Город])-1),ROW(S82)-ROW($A$2)+1)),\"\")","v":""},{"$f":"IFERROR(INDEX(Отделения[отделение],SMALL(IF(Отделения[Город]=$AF$1,ROW(Отделения[Город])-1),ROW(T82)-ROW($A$2)+1)),\"\")","v":""},{"$f":"IFERROR(INDEX(Отделения[отделение],SMALL(IF(Отделения[Город]=$AG$1,ROW(Отделения[Город])-1),ROW(U82)-ROW($A$2)+1)),\"\")","v":""},{"$f":"IFERROR(INDEX(Отделения[отделение],SMALL(IF(Отделения[Город]=$AH$1,ROW(Отделения[Город])-1),ROW(V82)-ROW($A$2)+1)),\"\")","v":""},{"$f":"IFERROR(INDEX(Отделения[отделение],SMALL(IF(Отделения[Город]=$AI$1,ROW(Отделения[Город])-1),ROW(AB82)-ROW($A$2)+1)),\"\")","v":""},{"$f":"IFERROR(INDEX(Отделения[отделение],SMALL(IF(Отделения[Город]=$AJ$1,ROW(Отделения[Город])-1),ROW(AB82)-ROW($A$2)+1)),\"\")","v":""},{"$f":"IFERROR(INDEX(Отделения[отделение],SMALL(IF(Отделения[Город]=$AK$1,ROW(Отделения[Город])-1),ROW(AB82)-ROW($A$2)+1)),\"\")","v":""},{"$f":"IFERROR(INDEX(Отделения[отделение],SMALL(IF(Отделения[Город]=$AL$1,ROW(Отделения[Город])-1),ROW(AB82)-ROW($A$2)+1)),\"\")","v":""},{"$f":"IFERROR(INDEX(Отделения[отделение],SMALL(IF(Отделения[Город]=$AM$1,ROW(Отделения[Город])-1),ROW(AB82)-ROW($A$2)+1)),\"\")","v":""},{"$f":"IFERROR(INDEX(Отделения[отделение],SMALL(IF(Отделения[Город]=$AN$1,ROW(Отделения[Город])-1),ROW(AB82)-ROW($A$2)+1)),\"\")","v":""},{"$f":"IFERROR(INDEX(Отделения[отделение],SMALL(IF(Отделения[Город]=$AO$1,ROW(Отделения[Город])-1),ROW(AB82)-ROW($A$2)+1)),\"\")","v":""},{"$f":"IFERROR(INDEX(Отделения[отделение],SMALL(IF(Отделения[Город]=$AP$1,ROW(Отделения[Город])-1),ROW(AB82)-ROW($A$2)+1)),\"\")","v":""},{"$f":"IFERROR(INDEX(Отделения[отделение],SMALL(IF(Отделения[Город]=$AQ$1,ROW(Отделения[Город])-1),ROW(AB82)-ROW($A$2)+1)),\"\")","v":""},{"$f":"IFERROR(INDEX(Отделения[отделение],SMALL(IF(Отделения[Город]=$AR$1,ROW(Отделения[Город])-1),ROW(AB82)-ROW($A$2)+1)),\"\")","v":""},{"$f":"IFERROR(INDEX(Отделения[отделение],SMALL(IF(Отделения[Город]=$AS$1,ROW(Отделения[Город])-1),ROW(AB82)-ROW($A$2)+1)),\"\")","v":""},{"$f":"IFERROR(INDEX(Отделения[отделение],SMALL(IF(Отделения[Город]=$AT$1,ROW(Отделения[Город])-1),ROW(AB82)-ROW($A$2)+1)),\"\")","v":""},{"$f":"IFERROR(INDEX(Отделения[отделение],SMALL(IF(Отделения[Город]=$AU$1,ROW(Отделения[Город])-1),ROW(AB82)-ROW($A$2)+1)),\"\")","v":""},{"$f":"IFERROR(INDEX(Отделения[отделение],SMALL(IF(Отделения[Город]=$AV$1,ROW(Отделения[Город])-1),ROW(AB82)-ROW($A$2)+1)),\"\")","v":""},{"$f":"IFERROR(INDEX(Отделения[отделение],SMALL(IF(Отделения[Город]=$AW$1,ROW(Отделения[Город])-1),ROW(AB82)-ROW($A$2)+1)),\"\")","v":""},{"$f":"IFERROR(INDEX(Отделения[отделение],SMALL(IF(Отделения[Город]=$AX$1,ROW(Отделения[Город])-1),ROW(AB82)-ROW($A$2)+1)),\"\")","v":""},{"$f":"IFERROR(INDEX(Отделения[отделение],SMALL(IF(Отделения[Город]=$AY$1,ROW(Отделения[Город])-1),ROW(AB82)-ROW($A$2)+1)),\"\")","v":""},{"$f":"IFERROR(INDEX(Отделения[отделение],SMALL(IF(Отделения[Город]=$AZ$1,ROW(Отделения[Город])-1),ROW(AB82)-ROW($A$2)+1)),\"\")","v":""},{"$f":"IFERROR(INDEX(Отделения[отделение],SMALL(IF(Отделения[Город]=$BA$1,ROW(Отделения[Город])-1),ROW(AB82)-ROW($A$2)+1)),\"\")","v":""},{"$f":"IFERROR(INDEX(Отделения[отделение],SMALL(IF(Отделения[Город]=$BB$1,ROW(Отделения[Город])-1),ROW(AB82)-ROW($A$2)+1)),\"\")","v":""},{"$f":"IFERROR(INDEX(Отделения[отделение],SMALL(IF(Отделения[Город]=$BC$1,ROW(Отделения[Город])-1),ROW(AC82)-ROW($A$2)+1)),\"\")","v":""},{"$f":"IFERROR(INDEX(Отделения[отделение],SMALL(IF(Отделения[Город]=$BD$1,ROW(Отделения[Город])-1),ROW(AD82)-ROW($A$2)+1)),\"\")","v":""},{"$f":"IFERROR(INDEX(Отделения[отделение],SMALL(IF(Отделения[Город]=$BE$1,ROW(Отделения[Город])-1),ROW(AE82)-ROW($A$2)+1)),\"\")","v":""},{"$f":"IFERROR(INDEX(Отделения[отделение],SMALL(IF(Отделения[Город]=$BF$1,ROW(Отделения[Город])-1),ROW(AF82)-ROW($A$2)+1)),\"\")","v":""},{"$f":"IFERROR(INDEX(Отделения[отделение],SMALL(IF(Отделения[Город]=$BG$1,ROW(Отделения[Город])-1),ROW(AG82)-ROW($A$2)+1)),\"\")","v":""},{"$f":"IFERROR(INDEX(Отделения[отделение],SMALL(IF(Отделения[Город]=$BH$1,ROW(Отделения[Город])-1),ROW(AH82)-ROW($A$2)+1)),\"\")","v":""},{"$f":"IFERROR(INDEX(Отделения[отделение],SMALL(IF(Отделения[Город]=$BI$1,ROW(Отделения[Город])-1),ROW(AI82)-ROW($A$2)+1)),\"\")","v":""},{"$f":"IFERROR(INDEX(Отделения[отделение],SMALL(IF(Отделения[Город]=$BJ$1,ROW(Отделения[Город])-1),ROW(AJ82)-ROW($A$2)+1)),\"\")","v":""},{"$f":"IFERROR(INDEX(Отделения[отделение],SMALL(IF(Отделения[Город]=$BK$1,ROW(Отделения[Город])-1),ROW(AK82)-ROW($A$2)+1)),\"\")","v":""},{"$f":"IFERROR(INDEX(Отделения[отделение],SMALL(IF(Отделения[Город]=$BL$1,ROW(Отделения[Город])-1),ROW(AL82)-ROW($A$2)+1)),\"\")","v":""},{"$f":"IFERROR(INDEX(Отделения[отделение],SMALL(IF(Отделения[Город]=$BM$1,ROW(Отделения[Город])-1),ROW(AM82)-ROW($A$2)+1)),\"\")","v":""},{"$f":"IFERROR(INDEX(Отделения[отделение],SMALL(IF(Отделения[Город]=$BN$1,ROW(Отделения[Город])-1),ROW(AN82)-ROW($A$2)+1)),\"\")","v":""},{"$f":"IFERROR(INDEX(Отделения[отделение],SMALL(IF(Отделения[Город]=$BO$1,ROW(Отделения[Город])-1),ROW(AO82)-ROW($A$2)+1)),\"\")","v":""},{"$f":"IFERROR(INDEX(Отделения[отделение],SMALL(IF(Отделения[Город]=$BP$1,ROW(Отделения[Город])-1),ROW(AP82)-ROW($A$2)+1)),\"\")","v":""},{"$f":"IFERROR(INDEX(Отделения[отделение],SMALL(IF(Отделения[Город]=$BQ$1,ROW(Отделения[Город])-1),ROW(AQ82)-ROW($A$2)+1)),\"\")","v":""},{"$f":"IFERROR(INDEX(Отделения[отделение],SMALL(IF(Отделения[Город]=$BR$1,ROW(Отделения[Город])-1),ROW(AR82)-ROW($A$2)+1)),\"\")","v":""},{"$f":"IFERROR(INDEX(Отделения[отделение],SMALL(IF(Отделения[Город]=$BS$1,ROW(Отделения[Город])-1),ROW(AS82)-ROW($A$2)+1)),\"\")","v":""},{"$f":"IFERROR(INDEX(Отделения[отделение],SMALL(IF(Отделения[Город]=$BT$1,ROW(Отделения[Город])-1),ROW(AT82)-ROW($A$2)+1)),\"\")","v":""},{"$f":"IFERROR(INDEX(Отделения[отделение],SMALL(IF(Отделения[Город]=$BU$1,ROW(Отделения[Город])-1),ROW(AU82)-ROW($A$2)+1)),\"\")","v":""},{"$f":"IFERROR(INDEX(Отделения[отделение],SMALL(IF(Отделения[Город]=$BV$1,ROW(Отделения[Город])-1),ROW(AV82)-ROW($A$2)+1)),\"\")","v":""},{"$f":"IFERROR(INDEX(Отделения[отделение],SMALL(IF(Отделения[Город]=$BW$1,ROW(Отделения[Город])-1),ROW(AV82)-ROW($A$2)+1)),\"\")","v":""},{"$f":"IFERROR(INDEX(Отделения[отделение],SMALL(IF(Отделения[Город]=$BX$1,ROW(Отделения[Город])-1),ROW(AV82)-ROW($A$2)+1)),\"\")","v":""},{"$f":"IFERROR(INDEX(Отделения[отделение],SMALL(IF(Отделения[Город]=$BY$1,ROW(Отделения[Город])-1),ROW(AV82)-ROW($A$2)+1)),\"\")","v":""},{"$f":"IFERROR(INDEX(Отделения[отделение],SMALL(IF(Отделения[Город]=$BZ$1,ROW(Отделения[Город])-1),ROW(AV82)-ROW($A$2)+1)),\"\")","v":""},{"$f":"IFERROR(INDEX(Отделения[отделение],SMALL(IF(Отделения[Город]=$CA$1,ROW(Отделения[Город])-1),ROW(AV82)-ROW($A$2)+1)),\"\")","v":""},{"$f":"IFERROR(INDEX(Отделения[отделение],SMALL(IF(Отделения[Город]=$CB$1,ROW(Отделения[Город])-1),ROW(AV82)-ROW($A$2)+1)),\"\")","v":""},{"$f":"IFERROR(INDEX(Отделения[отделение],SMALL(IF(Отделения[Город]=$CC$1,ROW(Отделения[Город])-1),ROW(AV82)-ROW($A$2)+1)),\"\")","v":""},{"$f":"IFERROR(INDEX(Отделения[отделение],SMALL(IF(Отделения[Город]=$CD$1,ROW(Отделения[Город])-1),ROW(AV82)-ROW($A$2)+1)),\"\")","v":""},{"$f":"IFERROR(INDEX(Отделения[отделение],SMALL(IF(Отделения[Город]=$CE$1,ROW(Отделения[Город])-1),ROW(AV82)-ROW($A$2)+1)),\"\")","v":""},{"$f":"IFERROR(INDEX(Отделения[отделение],SMALL(IF(Отделения[Город]=$CF$1,ROW(Отделения[Город])-1),ROW(AV82)-ROW($A$2)+1)),\"\")","v":""},{"$f":"IFERROR(INDEX(Отделения[отделение],SMALL(IF(Отделения[Город]=$CG$1,ROW(Отделения[Город])-1),ROW(AV82)-ROW($A$2)+1)),\"\")","v":""},{"$f":"IFERROR(INDEX(Отделения[отделение],SMALL(IF(Отделения[Город]=$CH$1,ROW(Отделения[Город])-1),ROW(AW82)-ROW($A$2)+1)),\"\")","v":""},{"$f":"IFERROR(INDEX(Отделения[отделение],SMALL(IF(Отделения[Город]=$CI$1,ROW(Отделения[Город])-1),ROW(AX82)-ROW($A$2)+1)),\"\")","v":""},{"$f":"IFERROR(INDEX(Отделения[отделение],SMALL(IF(Отделения[Город]=$CJ$1,ROW(Отделения[Город])-1),ROW(AY82)-ROW($A$2)+1)),\"\")","v":""},{"$f":"IFERROR(INDEX(Отделения[отделение],SMALL(IF(Отделения[Город]=$CK$1,ROW(Отделения[Город])-1),ROW(AZ82)-ROW($A$2)+1)),\"\")","v":""},{"$f":"IFERROR(INDEX(Отделения[отделение],SMALL(IF(Отделения[Город]=$CL$1,ROW(Отделения[Город])-1),ROW(BA82)-ROW($A$2)+1)),\"\")","v":""},{"$f":"IFERROR(INDEX(Отделения[отделение],SMALL(IF(Отделения[Город]=$CM$1,ROW(Отделения[Город])-1),ROW(BB82)-ROW($A$2)+1)),\"\")","v":""},{"$f":"IFERROR(INDEX(Отделения[отделение],SMALL(IF(Отделения[Город]=$CN$1,ROW(Отделения[Город])-1),ROW(BC82)-ROW($A$2)+1)),\"\")","v":""},{"$f":"IFERROR(INDEX(Отделения[отделение],SMALL(IF(Отделения[Город]=$CO$1,ROW(Отделения[Город])-1),ROW(BD82)-ROW($A$2)+1)),\"\")","v":""},{"$f":"IFERROR(INDEX(Отделения[отделение],SMALL(IF(Отделения[Город]=$CP$1,ROW(Отделения[Город])-1),ROW(BE82)-ROW($A$2)+1)),\"\")","v":""},{"$f":"IFERROR(INDEX(Отделения[отделение],SMALL(IF(Отделения[Город]=$CQ$1,ROW(Отделения[Город])-1),ROW(BF82)-ROW($A$2)+1)),\"\")","v":""},{"$f":"IFERROR(INDEX(Отделения[отделение],SMALL(IF(Отделения[Город]=$CR$1,ROW(Отделения[Город])-1),ROW(BG82)-ROW($A$2)+1)),\"\")","v":""},{"$f":"IFERROR(INDEX(Отделения[отделение],SMALL(IF(Отделения[Город]=$CS$1,ROW(Отделения[Город])-1),ROW(BH82)-ROW($A$2)+1)),\"\")","v":""},{"$f":"IFERROR(INDEX(Отделения[отделение],SMALL(IF(Отделения[Город]=$CT$1,ROW(Отделения[Город])-1),ROW(BI82)-ROW($A$2)+1)),\"\")","v":""},{"$f":"IFERROR(INDEX(Отделения[отделение],SMALL(IF(Отделения[Город]=$CU$1,ROW(Отделения[Город])-1),ROW(BJ82)-ROW($A$2)+1)),\"\")","v":""},{"$f":"IFERROR(INDEX(Отделения[отделение],SMALL(IF(Отделения[Город]=$CV$1,ROW(Отделения[Город])-1),ROW(BK82)-ROW($A$2)+1)),\"\")","v":""},{"$f":"IFERROR(INDEX(Отделения[отделение],SMALL(IF(Отделения[Город]=$CW$1,ROW(Отделения[Город])-1),ROW(BL82)-ROW($A$2)+1)),\"\")","v":""},{"$f":"IFERROR(INDEX(Отделения[отделение],SMALL(IF(Отделения[Город]=$CX$1,ROW(Отделения[Город])-1),ROW(BM82)-ROW($A$2)+1)),\"\")","v":""},{"$f":"IFERROR(INDEX(Отделения[отделение],SMALL(IF(Отделения[Город]=$CY$1,ROW(Отделения[Город])-1),ROW(BM82)-ROW($A$2)+1)),\"\")","v":""},{"$f":"IFERROR(INDEX(Отделения[отделение],SMALL(IF(Отделения[Город]=$CZ$1,ROW(Отделения[Город])-1),ROW(BM82)-ROW($A$2)+1)),\"\")","v":""},{"$f":"IFERROR(INDEX(Отделения[отделение],SMALL(IF(Отделения[Город]=$DA$1,ROW(Отделения[Город])-1),ROW(BM82)-ROW($A$2)+1)),\"\")","v":""},{"$f":"IFERROR(INDEX(Отделения[отделение],SMALL(IF(Отделения[Город]=$DB$1,ROW(Отделения[Город])-1),ROW(BM82)-ROW($A$2)+1)),\"\")","v":""}]
["Калуга","ДО \"Калуга-улица Кирова\" , 248008, Российская Федерация, Калужская область, г. Калуга, ул. Кирова, д. 57","0672","MOC2",null,null,{"$f":"IFERROR(INDEX(Отделения[отделение],SMALL(IF(Отделения[Город]=$G$1,ROW(Отделения[Город])-1),ROW(A83)-ROW($A$2)+1)),\"\")","v":""},{"$f":"IFERROR(INDEX(Отделения[отделение],SMALL(IF(Отделения[Город]=$H$1,ROW(Отделения[Город])-1),ROW(A83)-ROW($A$2)+1)),\"\")","v":""},{"$f":"IFERROR(INDEX(Отделения[отделение],SMALL(IF(Отделения[Город]=$I$1,ROW(Отделения[Город])-1),ROW(A83)-ROW($A$2)+1)),\"\")","v":""},{"$f":"IFERROR(INDEX(Отделения[отделение],SMALL(IF(Отделения[Город]=$J$1,ROW(Отделения[Город])-1),ROW(A83)-ROW($A$2)+1)),\"\")","v":""},{"$f":"IFERROR(INDEX(Отделения[отделение],SMALL(IF(Отделения[Город]=$K$1,ROW(Отделения[Город])-1),ROW(A83)-ROW($A$2)+1)),\"\")","v":""},{"$f":"IFERROR(INDEX(Отделения[отделение],SMALL(IF(Отделения[Город]=$L$1,ROW(Отделения[Город])-1),ROW(A83)-ROW($A$2)+1)),\"\")","v":""},{"$f":"IFERROR(INDEX(Отделения[отделение],SMALL(IF(Отделения[Город]=$M$1,ROW(Отделения[Город])-1),ROW(B83)-ROW($A$2)+1)),\"\")","v":""},{"$f":"IFERROR(INDEX(Отделения[отделение],SMALL(IF(Отделения[Город]=$N$1,ROW(Отделения[Город])-1),ROW(#REF!)-ROW($A$2)+1)),\"\")","v":""},{"$f":"IFERROR(INDEX(Отделения[отделение],SMALL(IF(Отделения[Город]=$O$1,ROW(Отделения[Город])-1),ROW(C83)-ROW($A$2)+1)),\"\")","v":""},{"$f":"IFERROR(INDEX(Отделения[отделение],SMALL(IF(Отделения[Город]=$P$1,ROW(Отделения[Город])-1),ROW(D83)-ROW($A$2)+1)),\"\")","v":""},{"$f":"IFERROR(INDEX(Отделения[отделение],SMALL(IF(Отделения[Город]=$Q$1,ROW(Отделения[Город])-1),ROW(F83)-ROW($A$2)+1)),\"\")","v":""},{"$f":"IFERROR(INDEX(Отделения[отделение],SMALL(IF(Отделения[Город]=$R$1,ROW(Отделения[Город])-1),ROW(#REF!)-ROW($A$2)+1)),\"\")","v":""},{"$f":"IFERROR(INDEX(Отделения[отделение],SMALL(IF(Отделения[Город]=$S$1,ROW(Отделения[Город])-1),ROW(G83)-ROW($A$2)+1)),\"\")","v":""},{"$f":"IFERROR(INDEX(Отделения[отделение],SMALL(IF(Отделения[Город]=$T$1,ROW(Отделения[Город])-1),ROW(H83)-ROW($A$2)+1)),\"\")","v":""},{"$f":"IFERROR(INDEX(Отделения[отделение],SMALL(IF(Отделения[Город]=$U$1,ROW(Отделения[Город])-1),ROW(I83)-ROW($A$2)+1)),\"\")","v":""},{"$f":"IFERROR(INDEX(Отделения[отделение],SMALL(IF(Отделения[Город]=$V$1,ROW(Отделения[Город])-1),ROW(J83)-ROW($A$2)+1)),\"\")","v":""},{"$f":"IFERROR(INDEX(Отделения[отделение],SMALL(IF(Отделения[Город]=$W$1,ROW(Отделения[Город])-1),ROW(K83)-ROW($A$2)+1)),\"\")","v":""},{"$f":"IFERROR(INDEX(Отделения[отделение],SMALL(IF(Отделения[Город]=$X$1,ROW(Отделения[Город])-1),ROW(L83)-ROW($A$2)+1)),\"\")","v":""},{"$f":"IFERROR(INDEX(Отделения[отделение],SMALL(IF(Отделения[Город]=$Y$1,ROW(Отделения[Город])-1),ROW(M83)-ROW($A$2)+1)),\"\")","v":""},{"$f":"IFERROR(INDEX(Отделения[отделение],SMALL(IF(Отделения[Город]=$Z$1,ROW(Отделения[Город])-1),ROW(N83)-ROW($A$2)+1)),\"\")","v":""},{"$f":"IFERROR(INDEX(Отделения[отделение],SMALL(IF(Отделения[Город]=$AA$1,ROW(Отделения[Город])-1),ROW(O83)-ROW($A$2)+1)),\"\")","v":""},{"$f":"IFERROR(INDEX(Отделения[отделение],SMALL(IF(Отделения[Город]=$AB$1,ROW(Отделения[Город])-1),ROW(P83)-ROW($A$2)+1)),\"\")","v":""},{"$f":"IFERROR(INDEX(Отделения[отделение],SMALL(IF(Отделения[Город]=$AC$1,ROW(Отделения[Город])-1),ROW(Q83)-ROW($A$2)+1)),\"\")","v":""},{"$f":"IFERROR(INDEX(Отделения[отделение],SMALL(IF(Отделения[Город]=$AD$1,ROW(Отделения[Город])-1),ROW(R83)-ROW($A$2)+1)),\"\")","v":""},{"$f":"IFERROR(INDEX(Отделения[отделение],SMALL(IF(Отделения[Город]=$AE$1,ROW(Отделения[Город])-1),ROW(S83)-ROW($A$2)+1)),\"\")","v":""},{"$f":"IFERROR(INDEX(Отделения[отделение],SMALL(IF(Отделения[Город]=$AF$1,ROW(Отделения[Город])-1),ROW(T83)-ROW($A$2)+1)),\"\")","v":""},{"$f":"IFERROR(INDEX(Отделения[отделение],SMALL(IF(Отделения[Город]=$AG$1,ROW(Отделения[Город])-1),ROW(U83)-ROW($A$2)+1)),\"\")","v":""},{"$f":"IFERROR(INDEX(Отделения[отделение],SMALL(IF(Отделения[Город]=$AH$1,ROW(Отделения[Город])-1),ROW(V83)-ROW($A$2)+1)),\"\")","v":""},{"$f":"IFERROR(INDEX(Отделения[отделение],SMALL(IF(Отделения[Город]=$AI$1,ROW(Отделения[Город])-1),ROW(AB83)-ROW($A$2)+1)),\"\")","v":""},{"$f":"IFERROR(INDEX(Отделения[отделение],SMALL(IF(Отделения[Город]=$AJ$1,ROW(Отделения[Город])-1),ROW(AB83)-ROW($A$2)+1)),\"\")","v":""},{"$f":"IFERROR(INDEX(Отделения[отделение],SMALL(IF(Отделения[Город]=$AK$1,ROW(Отделения[Город])-1),ROW(AB83)-ROW($A$2)+1)),\"\")","v":""},{"$f":"IFERROR(INDEX(Отделения[отделение],SMALL(IF(Отделения[Город]=$AL$1,ROW(Отделения[Город])-1),ROW(AB83)-ROW($A$2)+1)),\"\")","v":""},{"$f":"IFERROR(INDEX(Отделения[отделение],SMALL(IF(Отделения[Город]=$AM$1,ROW(Отделения[Город])-1),ROW(AB83)-ROW($A$2)+1)),\"\")","v":""},{"$f":"IFERROR(INDEX(Отделения[отделение],SMALL(IF(Отделения[Город]=$AN$1,ROW(Отделения[Город])-1),ROW(AB83)-ROW($A$2)+1)),\"\")","v":""},{"$f":"IFERROR(INDEX(Отделения[отделение],SMALL(IF(Отделения[Город]=$AO$1,ROW(Отделения[Город])-1),ROW(AB83)-ROW($A$2)+1)),\"\")","v":""},{"$f":"IFERROR(INDEX(Отделения[отделение],SMALL(IF(Отделения[Город]=$AP$1,ROW(Отделения[Город])-1),ROW(AB83)-ROW($A$2)+1)),\"\")","v":""},{"$f":"IFERROR(INDEX(Отделения[отделение],SMALL(IF(Отделения[Город]=$AQ$1,ROW(Отделения[Город])-1),ROW(AB83)-ROW($A$2)+1)),\"\")","v":""},{"$f":"IFERROR(INDEX(Отделения[отделение],SMALL(IF(Отделения[Город]=$AR$1,ROW(Отделения[Город])-1),ROW(AB83)-ROW($A$2)+1)),\"\")","v":""},{"$f":"IFERROR(INDEX(Отделения[отделение],SMALL(IF(Отделения[Город]=$AS$1,ROW(Отделения[Город])-1),ROW(AB83)-ROW($A$2)+1)),\"\")","v":""},{"$f":"IFERROR(INDEX(Отделения[отделение],SMALL(IF(Отделения[Город]=$AT$1,ROW(Отделения[Город])-1),ROW(AB83)-ROW($A$2)+1)),\"\")","v":""},{"$f":"IFERROR(INDEX(Отделения[отделение],SMALL(IF(Отделения[Город]=$AU$1,ROW(Отделения[Город])-1),ROW(AB83)-ROW($A$2)+1)),\"\")","v":""},{"$f":"IFERROR(INDEX(Отделения[отделение],SMALL(IF(Отделения[Город]=$AV$1,ROW(Отделения[Город])-1),ROW(AB83)-ROW($A$2)+1)),\"\")","v":""},{"$f":"IFERROR(INDEX(Отделения[отделение],SMALL(IF(Отделения[Город]=$AW$1,ROW(Отделения[Город])-1),ROW(AB83)-ROW($A$2)+1)),\"\")","v":""},{"$f":"IFERROR(INDEX(Отделения[отделение],SMALL(IF(Отделения[Город]=$AX$1,ROW(Отделения[Город])-1),ROW(AB83)-ROW($A$2)+1)),\"\")","v":""},{"$f":"IFERROR(INDEX(Отделения[отделение],SMALL(IF(Отделения[Город]=$AY$1,ROW(Отделения[Город])-1),ROW(AB83)-ROW($A$2)+1)),\"\")","v":""},{"$f":"IFERROR(INDEX(Отделения[отделение],SMALL(IF(Отделения[Город]=$AZ$1,ROW(Отделения[Город])-1),ROW(AB83)-ROW($A$2)+1)),\"\")","v":""},{"$f":"IFERROR(INDEX(Отделения[отделение],SMALL(IF(Отделения[Город]=$BA$1,ROW(Отделения[Город])-1),ROW(AB83)-ROW($A$2)+1)),\"\")","v":""},{"$f":"IFERROR(INDEX(Отделения[отделение],SMALL(IF(Отделения[Город]=$BB$1,ROW(Отделения[Город])-1),ROW(AB83)-ROW($A$2)+1)),\"\")","v":""},{"$f":"IFERROR(INDEX(Отделения[отделение],SMALL(IF(Отделения[Город]=$BC$1,ROW(Отделения[Город])-1),ROW(AC83)-ROW($A$2)+1)),\"\")","v":""},{"$f":"IFERROR(INDEX(Отделения[отделение],SMALL(IF(Отделения[Город]=$BD$1,ROW(Отделения[Город])-1),ROW(AD83)-ROW($A$2)+1)),\"\")","v":""},{"$f":"IFERROR(INDEX(Отделения[отделение],SMALL(IF(Отделения[Город]=$BE$1,ROW(Отделения[Город])-1),ROW(AE83)-ROW($A$2)+1)),\"\")","v":""},{"$f":"IFERROR(INDEX(Отделения[отделение],SMALL(IF(Отделения[Город]=$BF$1,ROW(Отделения[Город])-1),ROW(AF83)-ROW($A$2)+1)),\"\")","v":""},{"$f":"IFERROR(INDEX(Отделения[отделение],SMALL(IF(Отделения[Город]=$BG$1,ROW(Отделения[Город])-1),ROW(AG83)-ROW($A$2)+1)),\"\")","v":""},{"$f":"IFERROR(INDEX(Отделения[отделение],SMALL(IF(Отделения[Город]=$BH$1,ROW(Отделения[Город])-1),ROW(AH83)-ROW($A$2)+1)),\"\")","v":""},{"$f":"IFERROR(INDEX(Отделения[отделение],SMALL(IF(Отделения[Город]=$BI$1,ROW(Отделения[Город])-1),ROW(AI83)-ROW($A$2)+1)),\"\")","v":""},{"$f":"IFERROR(INDEX(Отделения[отделение],SMALL(IF(Отделения[Город]=$BJ$1,ROW(Отделения[Город])-1),ROW(AJ83)-ROW($A$2)+1)),\"\")","v":""},{"$f":"IFERROR(INDEX(Отделения[отделение],SMALL(IF(Отделения[Город]=$BK$1,ROW(Отделения[Город])-1),ROW(AK83)-ROW($A$2)+1)),\"\")","v":""},{"$f":"IFERROR(INDEX(Отделения[отделение],SMALL(IF(Отделения[Город]=$BL$1,ROW(Отделения[Город])-1),ROW(AL83)-ROW($A$2)+1)),\"\")","v":""},{"$f":"IFERROR(INDEX(Отделения[отделение],SMALL(IF(Отделения[Город]=$BM$1,ROW(Отделения[Город])-1),ROW(AM83)-ROW($A$2)+1)),\"\")","v":""},{"$f":"IFERROR(INDEX(Отделения[отделение],SMALL(IF(Отделения[Город]=$BN$1,ROW(Отделения[Город])-1),ROW(AN83)-ROW($A$2)+1)),\"\")","v":""},{"$f":"IFERROR(INDEX(Отделения[отделение],SMALL(IF(Отделения[Город]=$BO$1,ROW(Отделения[Город])-1),ROW(AO83)-ROW($A$2)+1)),\"\")","v":""},{"$f":"IFERROR(INDEX(Отделения[отделение],SMALL(IF(Отделения[Город]=$BP$1,ROW(Отделения[Город])-1),ROW(AP83)-ROW($A$2)+1)),\"\")","v":""},{"$f":"IFERROR(INDEX(Отделения[отделение],SMALL(IF(Отделения[Город]=$BQ$1,ROW(Отделения[Город])-1),ROW(AQ83)-ROW($A$2)+1)),\"\")","v":""},{"$f":"IFERROR(INDEX(Отделения[отделение],SMALL(IF(Отделения[Город]=$BR$1,ROW(Отделения[Город])-1),ROW(AR83)-ROW($A$2)+1)),\"\")","v":""},{"$f":"IFERROR(INDEX(Отделения[отделение],SMALL(IF(Отделения[Город]=$BS$1,ROW(Отделения[Город])-1),ROW(AS83)-ROW($A$2)+1)),\"\")","v":""},{"$f":"IFERROR(INDEX(Отделения[отделение],SMALL(IF(Отделения[Город]=$BT$1,ROW(Отделения[Город])-1),ROW(AT83)-ROW($A$2)+1)),\"\")","v":""},{"$f":"IFERROR(INDEX(Отделения[отделение],SMALL(IF(Отделения[Город]=$BU$1,ROW(Отделения[Город])-1),ROW(AU83)-ROW($A$2)+1)),\"\")","v":""},{"$f":"IFERROR(INDEX(Отделения[отделение],SMALL(IF(Отделения[Город]=$BV$1,ROW(Отделения[Город])-1),ROW(AV83)-ROW($A$2)+1)),\"\")","v":""},{"$f":"IFERROR(INDEX(Отделения[отделение],SMALL(IF(Отделения[Город]=$BW$1,ROW(Отделения[Город])-1),ROW(AV83)-ROW($A$2)+1)),\"\")","v":""},{"$f":"IFERROR(INDEX(Отделения[отделение],SMALL(IF(Отделения[Город]=$BX$1,ROW(Отделения[Город])-1),ROW(AV83)-ROW($A$2)+1)),\"\")","v":""},{"$f":"IFERROR(INDEX(Отделения[отделение],SMALL(IF(Отделения[Город]=$BY$1,ROW(Отделения[Город])-1),ROW(AV83)-ROW($A$2)+1)),\"\")","v":""},{"$f":"IFERROR(INDEX(Отделения[отделение],SMALL(IF(Отделения[Город]=$BZ$1,ROW(Отделения[Город])-1),ROW(AV83)-ROW($A$2)+1)),\"\")","v":""},{"$f":"IFERROR(INDEX(Отделения[отделение],SMALL(IF(Отделения[Город]=$CA$1,ROW(Отделения[Город])-1),ROW(AV83)-ROW($A$2)+1)),\"\")","v":""},{"$f":"IFERROR(INDEX(Отделения[отделение],SMALL(IF(Отделения[Город]=$CB$1,ROW(Отделения[Город])-1),ROW(AV83)-ROW($A$2)+1)),\"\")","v":""},{"$f":"IFERROR(INDEX(Отделения[отделение],SMALL(IF(Отделения[Город]=$CC$1,ROW(Отделения[Город])-1),ROW(AV83)-ROW($A$2)+1)),\"\")","v":""},{"$f":"IFERROR(INDEX(Отделения[отделение],SMALL(IF(Отделения[Город]=$CD$1,ROW(Отделения[Город])-1),ROW(AV83)-ROW($A$2)+1)),\"\")","v":""},{"$f":"IFERROR(INDEX(Отделения[отделение],SMALL(IF(Отделения[Город]=$CE$1,ROW(Отделения[Город])-1),ROW(AV83)-ROW($A$2)+1)),\"\")","v":""},{"$f":"IFERROR(INDEX(Отделения[отделение],SMALL(IF(Отделения[Город]=$CF$1,ROW(Отделения[Город])-1),ROW(AV83)-ROW($A$2)+1)),\"\")","v":""},{"$f":"IFERROR(INDEX(Отделения[отделение],SMALL(IF(Отделения[Город]=$CG$1,ROW(Отделения[Город])-1),ROW(AV83)-ROW($A$2)+1)),\"\")","v":""},{"$f":"IFERROR(INDEX(Отделения[отделение],SMALL(IF(Отделения[Город]=$CH$1,ROW(Отделения[Город])-1),ROW(AW83)-ROW($A$2)+1)),\"\")","v":""},{"$f":"IFERROR(INDEX(Отделения[отделение],SMALL(IF(Отделения[Город]=$CI$1,ROW(Отделения[Город])-1),ROW(AX83)-ROW($A$2)+1)),\"\")","v":""},{"$f":"IFERROR(INDEX(Отделения[отделение],SMALL(IF(Отделения[Город]=$CJ$1,ROW(Отделения[Город])-1),ROW(AY83)-ROW($A$2)+1)),\"\")","v":""},{"$f":"IFERROR(INDEX(Отделения[отделение],SMALL(IF(Отделения[Город]=$CK$1,ROW(Отделения[Город])-1),ROW(AZ83)-ROW($A$2)+1)),\"\")","v":""},{"$f":"IFERROR(INDEX(Отделения[отделение],SMALL(IF(Отделения[Город]=$CL$1,ROW(Отделения[Город])-1),ROW(BA83)-ROW($A$2)+1)),\"\")","v":""},{"$f":"IFERROR(INDEX(Отделения[отделение],SMALL(IF(Отделения[Город]=$CM$1,ROW(Отделения[Город])-1),ROW(BB83)-ROW($A$2)+1)),\"\")","v":""},{"$f":"IFERROR(INDEX(Отделения[отделение],SMALL(IF(Отделения[Город]=$CN$1,ROW(Отделения[Город])-1),ROW(BC83)-ROW($A$2)+1)),\"\")","v":""},{"$f":"IFERROR(INDEX(Отделения[отделение],SMALL(IF(Отделения[Город]=$CO$1,ROW(Отделения[Город])-1),ROW(BD83)-ROW($A$2)+1)),\"\")","v":""},{"$f":"IFERROR(INDEX(Отделения[отделение],SMALL(IF(Отделения[Город]=$CP$1,ROW(Отделения[Город])-1),ROW(BE83)-ROW($A$2)+1)),\"\")","v":""},{"$f":"IFERROR(INDEX(Отделения[отделение],SMALL(IF(Отделения[Город]=$CQ$1,ROW(Отделения[Город])-1),ROW(BF83)-ROW($A$2)+1)),\"\")","v":""},{"$f":"IFERROR(INDEX(Отделения[отделение],SMALL(IF(Отделения[Город]=$CR$1,ROW(Отделения[Город])-1),ROW(BG83)-ROW($A$2)+1)),\"\")","v":""},{"$f":"IFERROR(INDEX(Отделения[отделение],SMALL(IF(Отделения[Город]=$CS$1,ROW(Отделения[Город])-1),ROW(BH83)-ROW($A$2)+1)),\"\")","v":""},{"$f":"IFERROR(INDEX(Отделения[отделение],SMALL(IF(Отделения[Город]=$CT$1,ROW(Отделения[Город])-1),ROW(BI83)-ROW($A$2)+1)),\"\")","v":""},{"$f":"IFERROR(INDEX(Отделения[отделение],SMALL(IF(Отделения[Город]=$CU$1,ROW(Отделения[Город])-1),ROW(BJ83)-ROW($A$2)+1)),\"\")","v":""},{"$f":"IFERROR(INDEX(Отделения[отделение],SMALL(IF(Отделения[Город]=$CV$1,ROW(Отделения[Город])-1),ROW(BK83)-ROW($A$2)+1)),\"\")","v":""},{"$f":"IFERROR(INDEX(Отделения[отделение],SMALL(IF(Отделения[Город]=$CW$1,ROW(Отделения[Город])-1),ROW(BL83)-ROW($A$2)+1)),\"\")","v":""},{"$f":"IFERROR(INDEX(Отделения[отделение],SMALL(IF(Отделения[Город]=$CX$1,ROW(Отделения[Город])-1),ROW(BM83)-ROW($A$2)+1)),\"\")","v":""},{"$f":"IFERROR(INDEX(Отделения[отделение],SMALL(IF(Отделения[Город]=$CY$1,ROW(Отделения[Город])-1),ROW(BM83)-ROW($A$2)+1)),\"\")","v":""},{"$f":"IFERROR(INDEX(Отделения[отделение],SMALL(IF(Отделения[Город]=$CZ$1,ROW(Отделения[Город])-1),ROW(BM83)-ROW($A$2)+1)),\"\")","v":""},{"$f":"IFERROR(INDEX(Отделения[отделение],SMALL(IF(Отделения[Город]=$DA$1,ROW(Отделения[Город])-1),ROW(BM83)-ROW($A$2)+1)),\"\")","v":""},{"$f":"IFERROR(INDEX(Отделения[отделение],SMALL(IF(Отделения[Город]=$DB$1,ROW(Отделения[Город])-1),ROW(BM83)-ROW($A$2)+1)),\"\")","v":""}]
["Тюмень","ДО \"Тюмень-улица Газовиков\" , 625022, Тюменская обл., г. Тюмень,ул. Газовиков, д. 65","0674","MOB8",null,null,{"$f":"IFERROR(INDEX(Отделения[отделение],SMALL(IF(Отделения[Город]=$G$1,ROW(Отделения[Город])-1),ROW(A84)-ROW($A$2)+1)),\"\")","v":""},{"$f":"IFERROR(INDEX(Отделения[отделение],SMALL(IF(Отделения[Город]=$H$1,ROW(Отделения[Город])-1),ROW(A84)-ROW($A$2)+1)),\"\")","v":""},{"$f":"IFERROR(INDEX(Отделения[отделение],SMALL(IF(Отделения[Город]=$I$1,ROW(Отделения[Город])-1),ROW(A84)-ROW($A$2)+1)),\"\")","v":""},{"$f":"IFERROR(INDEX(Отделения[отделение],SMALL(IF(Отделения[Город]=$J$1,ROW(Отделения[Город])-1),ROW(A84)-ROW($A$2)+1)),\"\")","v":""},{"$f":"IFERROR(INDEX(Отделения[отделение],SMALL(IF(Отделения[Город]=$K$1,ROW(Отделения[Город])-1),ROW(A84)-ROW($A$2)+1)),\"\")","v":""},{"$f":"IFERROR(INDEX(Отделения[отделение],SMALL(IF(Отделения[Город]=$L$1,ROW(Отделения[Город])-1),ROW(A84)-ROW($A$2)+1)),\"\")","v":""},{"$f":"IFERROR(INDEX(Отделения[отделение],SMALL(IF(Отделения[Город]=$M$1,ROW(Отделения[Город])-1),ROW(B84)-ROW($A$2)+1)),\"\")","v":""},{"$f":"IFERROR(INDEX(Отделения[отделение],SMALL(IF(Отделения[Город]=$N$1,ROW(Отделения[Город])-1),ROW(#REF!)-ROW($A$2)+1)),\"\")","v":""},{"$f":"IFERROR(INDEX(Отделения[отделение],SMALL(IF(Отделения[Город]=$O$1,ROW(Отделения[Город])-1),ROW(C84)-ROW($A$2)+1)),\"\")","v":""},{"$f":"IFERROR(INDEX(Отделения[отделение],SMALL(IF(Отделения[Город]=$P$1,ROW(Отделения[Город])-1),ROW(D84)-ROW($A$2)+1)),\"\")","v":""},{"$f":"IFERROR(INDEX(Отделения[отделение],SMALL(IF(Отделения[Город]=$Q$1,ROW(Отделения[Город])-1),ROW(F84)-ROW($A$2)+1)),\"\")","v":""},{"$f":"IFERROR(INDEX(Отделения[отделение],SMALL(IF(Отделения[Город]=$R$1,ROW(Отделения[Город])-1),ROW(#REF!)-ROW($A$2)+1)),\"\")","v":""},{"$f":"IFERROR(INDEX(Отделения[отделение],SMALL(IF(Отделения[Город]=$S$1,ROW(Отделения[Город])-1),ROW(G84)-ROW($A$2)+1)),\"\")","v":""},{"$f":"IFERROR(INDEX(Отделения[отделение],SMALL(IF(Отделения[Город]=$T$1,ROW(Отделения[Город])-1),ROW(H84)-ROW($A$2)+1)),\"\")","v":""},{"$f":"IFERROR(INDEX(Отделения[отделение],SMALL(IF(Отделения[Город]=$U$1,ROW(Отделения[Город])-1),ROW(I84)-ROW($A$2)+1)),\"\")","v":""},{"$f":"IFERROR(INDEX(Отделения[отделение],SMALL(IF(Отделения[Город]=$V$1,ROW(Отделения[Город])-1),ROW(J84)-ROW($A$2)+1)),\"\")","v":""},{"$f":"IFERROR(INDEX(Отделения[отделение],SMALL(IF(Отделения[Город]=$W$1,ROW(Отделения[Город])-1),ROW(K84)-ROW($A$2)+1)),\"\")","v":""},{"$f":"IFERROR(INDEX(Отделения[отделение],SMALL(IF(Отделения[Город]=$X$1,ROW(Отделения[Город])-1),ROW(L84)-ROW($A$2)+1)),\"\")","v":""},{"$f":"IFERROR(INDEX(Отделения[отделение],SMALL(IF(Отделения[Город]=$Y$1,ROW(Отделения[Город])-1),ROW(M84)-ROW($A$2)+1)),\"\")","v":""},{"$f":"IFERROR(INDEX(Отделения[отделение],SMALL(IF(Отделения[Город]=$Z$1,ROW(Отделения[Город])-1),ROW(N84)-ROW($A$2)+1)),\"\")","v":""},{"$f":"IFERROR(INDEX(Отделения[отделение],SMALL(IF(Отделения[Город]=$AA$1,ROW(Отделения[Город])-1),ROW(O84)-ROW($A$2)+1)),\"\")","v":""},{"$f":"IFERROR(INDEX(Отделения[отделение],SMALL(IF(Отделения[Город]=$AB$1,ROW(Отделения[Город])-1),ROW(P84)-ROW($A$2)+1)),\"\")","v":""},{"$f":"IFERROR(INDEX(Отделения[отделение],SMALL(IF(Отделения[Город]=$AC$1,ROW(Отделения[Город])-1),ROW(Q84)-ROW($A$2)+1)),\"\")","v":""},{"$f":"IFERROR(INDEX(Отделения[отделение],SMALL(IF(Отделения[Город]=$AD$1,ROW(Отделения[Город])-1),ROW(R84)-ROW($A$2)+1)),\"\")","v":""},{"$f":"IFERROR(INDEX(Отделения[отделение],SMALL(IF(Отделения[Город]=$AE$1,ROW(Отделения[Город])-1),ROW(S84)-ROW($A$2)+1)),\"\")","v":""},{"$f":"IFERROR(INDEX(Отделения[отделение],SMALL(IF(Отделения[Город]=$AF$1,ROW(Отделения[Город])-1),ROW(T84)-ROW($A$2)+1)),\"\")","v":""},{"$f":"IFERROR(INDEX(Отделения[отделение],SMALL(IF(Отделения[Город]=$AG$1,ROW(Отделения[Город])-1),ROW(U84)-ROW($A$2)+1)),\"\")","v":""},{"$f":"IFERROR(INDEX(Отделения[отделение],SMALL(IF(Отделения[Город]=$AH$1,ROW(Отделения[Город])-1),ROW(V84)-ROW($A$2)+1)),\"\")","v":""},{"$f":"IFERROR(INDEX(Отделения[отделение],SMALL(IF(Отделения[Город]=$AI$1,ROW(Отделения[Город])-1),ROW(AB84)-ROW($A$2)+1)),\"\")","v":""},{"$f":"IFERROR(INDEX(Отделения[отделение],SMALL(IF(Отделения[Город]=$AJ$1,ROW(Отделения[Город])-1),ROW(AB84)-ROW($A$2)+1)),\"\")","v":""},{"$f":"IFERROR(INDEX(Отделения[отделение],SMALL(IF(Отделения[Город]=$AK$1,ROW(Отделения[Город])-1),ROW(AB84)-ROW($A$2)+1)),\"\")","v":""},{"$f":"IFERROR(INDEX(Отделения[отделение],SMALL(IF(Отделения[Город]=$AL$1,ROW(Отделения[Город])-1),ROW(AB84)-ROW($A$2)+1)),\"\")","v":""},{"$f":"IFERROR(INDEX(Отделения[отделение],SMALL(IF(Отделения[Город]=$AM$1,ROW(Отделения[Город])-1),ROW(AB84)-ROW($A$2)+1)),\"\")","v":""},{"$f":"IFERROR(INDEX(Отделения[отделение],SMALL(IF(Отделения[Город]=$AN$1,ROW(Отделения[Город])-1),ROW(AB84)-ROW($A$2)+1)),\"\")","v":""},{"$f":"IFERROR(INDEX(Отделения[отделение],SMALL(IF(Отделения[Город]=$AO$1,ROW(Отделения[Город])-1),ROW(AB84)-ROW($A$2)+1)),\"\")","v":""},{"$f":"IFERROR(INDEX(Отделения[отделение],SMALL(IF(Отделения[Город]=$AP$1,ROW(Отделения[Город])-1),ROW(AB84)-ROW($A$2)+1)),\"\")","v":""},{"$f":"IFERROR(INDEX(Отделения[отделение],SMALL(IF(Отделения[Город]=$AQ$1,ROW(Отделения[Город])-1),ROW(AB84)-ROW($A$2)+1)),\"\")","v":""},{"$f":"IFERROR(INDEX(Отделения[отделение],SMALL(IF(Отделения[Город]=$AR$1,ROW(Отделения[Город])-1),ROW(AB84)-ROW($A$2)+1)),\"\")","v":""},{"$f":"IFERROR(INDEX(Отделения[отделение],SMALL(IF(Отделения[Город]=$AS$1,ROW(Отделения[Город])-1),ROW(AB84)-ROW($A$2)+1)),\"\")","v":""},{"$f":"IFERROR(INDEX(Отделения[отделение],SMALL(IF(Отделения[Город]=$AT$1,ROW(Отделения[Город])-1),ROW(AB84)-ROW($A$2)+1)),\"\")","v":""},{"$f":"IFERROR(INDEX(Отделения[отделение],SMALL(IF(Отделения[Город]=$AU$1,ROW(Отделения[Город])-1),ROW(AB84)-ROW($A$2)+1)),\"\")","v":""},{"$f":"IFERROR(INDEX(Отделения[отделение],SMALL(IF(Отделения[Город]=$AV$1,ROW(Отделения[Город])-1),ROW(AB84)-ROW($A$2)+1)),\"\")","v":""},{"$f":"IFERROR(INDEX(Отделения[отделение],SMALL(IF(Отделения[Город]=$AW$1,ROW(Отделения[Город])-1),ROW(AB84)-ROW($A$2)+1)),\"\")","v":""},{"$f":"IFERROR(INDEX(Отделения[отделение],SMALL(IF(Отделения[Город]=$AX$1,ROW(Отделения[Город])-1),ROW(AB84)-ROW($A$2)+1)),\"\")","v":""},{"$f":"IFERROR(INDEX(Отделения[отделение],SMALL(IF(Отделения[Город]=$AY$1,ROW(Отделения[Город])-1),ROW(AB84)-ROW($A$2)+1)),\"\")","v":""},{"$f":"IFERROR(INDEX(Отделения[отделение],SMALL(IF(Отделения[Город]=$AZ$1,ROW(Отделения[Город])-1),ROW(AB84)-ROW($A$2)+1)),\"\")","v":""},{"$f":"IFERROR(INDEX(Отделения[отделение],SMALL(IF(Отделения[Город]=$BA$1,ROW(Отделения[Город])-1),ROW(AB84)-ROW($A$2)+1)),\"\")","v":""},{"$f":"IFERROR(INDEX(Отделения[отделение],SMALL(IF(Отделения[Город]=$BB$1,ROW(Отделения[Город])-1),ROW(AB84)-ROW($A$2)+1)),\"\")","v":""},{"$f":"IFERROR(INDEX(Отделения[отделение],SMALL(IF(Отделения[Город]=$BC$1,ROW(Отделения[Город])-1),ROW(AC84)-ROW($A$2)+1)),\"\")","v":""},{"$f":"IFERROR(INDEX(Отделения[отделение],SMALL(IF(Отделения[Город]=$BD$1,ROW(Отделения[Город])-1),ROW(AD84)-ROW($A$2)+1)),\"\")","v":""},{"$f":"IFERROR(INDEX(Отделения[отделение],SMALL(IF(Отделения[Город]=$BE$1,ROW(Отделения[Город])-1),ROW(AE84)-ROW($A$2)+1)),\"\")","v":""},{"$f":"IFERROR(INDEX(Отделения[отделение],SMALL(IF(Отделения[Город]=$BF$1,ROW(Отделения[Город])-1),ROW(AF84)-ROW($A$2)+1)),\"\")","v":""},{"$f":"IFERROR(INDEX(Отделения[отделение],SMALL(IF(Отделения[Город]=$BG$1,ROW(Отделения[Город])-1),ROW(AG84)-ROW($A$2)+1)),\"\")","v":""},{"$f":"IFERROR(INDEX(Отделения[отделение],SMALL(IF(Отделения[Город]=$BH$1,ROW(Отделения[Город])-1),ROW(AH84)-ROW($A$2)+1)),\"\")","v":""},{"$f":"IFERROR(INDEX(Отделения[отделение],SMALL(IF(Отделения[Город]=$BI$1,ROW(Отделения[Город])-1),ROW(AI84)-ROW($A$2)+1)),\"\")","v":""},{"$f":"IFERROR(INDEX(Отделения[отделение],SMALL(IF(Отделения[Город]=$BJ$1,ROW(Отделения[Город])-1),ROW(AJ84)-ROW($A$2)+1)),\"\")","v":""},{"$f":"IFERROR(INDEX(Отделения[отделение],SMALL(IF(Отделения[Город]=$BK$1,ROW(Отделения[Город])-1),ROW(AK84)-ROW($A$2)+1)),\"\")","v":""},{"$f":"IFERROR(INDEX(Отделения[отделение],SMALL(IF(Отделения[Город]=$BL$1,ROW(Отделения[Город])-1),ROW(AL84)-ROW($A$2)+1)),\"\")","v":""},{"$f":"IFERROR(INDEX(Отделения[отделение],SMALL(IF(Отделения[Город]=$BM$1,ROW(Отделения[Город])-1),ROW(AM84)-ROW($A$2)+1)),\"\")","v":""},{"$f":"IFERROR(INDEX(Отделения[отделение],SMALL(IF(Отделения[Город]=$BN$1,ROW(Отделения[Город])-1),ROW(AN84)-ROW($A$2)+1)),\"\")","v":""},{"$f":"IFERROR(INDEX(Отделения[отделение],SMALL(IF(Отделения[Город]=$BO$1,ROW(Отделения[Город])-1),ROW(AO84)-ROW($A$2)+1)),\"\")","v":""},{"$f":"IFERROR(INDEX(Отделения[отделение],SMALL(IF(Отделения[Город]=$BP$1,ROW(Отделения[Город])-1),ROW(AP84)-ROW($A$2)+1)),\"\")","v":""},{"$f":"IFERROR(INDEX(Отделения[отделение],SMALL(IF(Отделения[Город]=$BQ$1,ROW(Отделения[Город])-1),ROW(AQ84)-ROW($A$2)+1)),\"\")","v":""},{"$f":"IFERROR(INDEX(Отделения[отделение],SMALL(IF(Отделения[Город]=$BR$1,ROW(Отделения[Город])-1),ROW(AR84)-ROW($A$2)+1)),\"\")","v":""},{"$f":"IFERROR(INDEX(Отделения[отделение],SMALL(IF(Отделения[Город]=$BS$1,ROW(Отделения[Город])-1),ROW(AS84)-ROW($A$2)+1)),\"\")","v":""},{"$f":"IFERROR(INDEX(Отделения[отделение],SMALL(IF(Отделения[Город]=$BT$1,ROW(Отделения[Город])-1),ROW(AT84)-ROW($A$2)+1)),\"\")","v":""},{"$f":"IFERROR(INDEX(Отделения[отделение],SMALL(IF(Отделения[Город]=$BU$1,ROW(Отделения[Город])-1),ROW(AU84)-ROW($A$2)+1)),\"\")","v":""},{"$f":"IFERROR(INDEX(Отделения[отделение],SMALL(IF(Отделения[Город]=$BV$1,ROW(Отделения[Город])-1),ROW(AV84)-ROW($A$2)+1)),\"\")","v":""},{"$f":"IFERROR(INDEX(Отделения[отделение],SMALL(IF(Отделения[Город]=$BW$1,ROW(Отделения[Город])-1),ROW(AV84)-ROW($A$2)+1)),\"\")","v":""},{"$f":"IFERROR(INDEX(Отделения[отделение],SMALL(IF(Отделения[Город]=$BX$1,ROW(Отделения[Город])-1),ROW(AV84)-ROW($A$2)+1)),\"\")","v":""},{"$f":"IFERROR(INDEX(Отделения[отделение],SMALL(IF(Отделения[Город]=$BY$1,ROW(Отделения[Город])-1),ROW(AV84)-ROW($A$2)+1)),\"\")","v":""},{"$f":"IFERROR(INDEX(Отделения[отделение],SMALL(IF(Отделения[Город]=$BZ$1,ROW(Отделения[Город])-1),ROW(AV84)-ROW($A$2)+1)),\"\")","v":""},{"$f":"IFERROR(INDEX(Отделения[отделение],SMALL(IF(Отделения[Город]=$CA$1,ROW(Отделения[Город])-1),ROW(AV84)-ROW($A$2)+1)),\"\")","v":""},{"$f":"IFERROR(INDEX(Отделения[отделение],SMALL(IF(Отделения[Город]=$CB$1,ROW(Отделения[Город])-1),ROW(AV84)-ROW($A$2)+1)),\"\")","v":""},{"$f":"IFERROR(INDEX(Отделения[отделение],SMALL(IF(Отделения[Город]=$CC$1,ROW(Отделения[Город])-1),ROW(AV84)-ROW($A$2)+1)),\"\")","v":""},{"$f":"IFERROR(INDEX(Отделения[отделение],SMALL(IF(Отделения[Город]=$CD$1,ROW(Отделения[Город])-1),ROW(AV84)-ROW($A$2)+1)),\"\")","v":""},{"$f":"IFERROR(INDEX(Отделения[отделение],SMALL(IF(Отделения[Город]=$CE$1,ROW(Отделения[Город])-1),ROW(AV84)-ROW($A$2)+1)),\"\")","v":""},{"$f":"IFERROR(INDEX(Отделения[отделение],SMALL(IF(Отделения[Город]=$CF$1,ROW(Отделения[Город])-1),ROW(AV84)-ROW($A$2)+1)),\"\")","v":""},{"$f":"IFERROR(INDEX(Отделения[отделение],SMALL(IF(Отделения[Город]=$CG$1,ROW(Отделения[Город])-1),ROW(AV84)-ROW($A$2)+1)),\"\")","v":""},{"$f":"IFERROR(INDEX(Отделения[отделение],SMALL(IF(Отделения[Город]=$CH$1,ROW(Отделения[Город])-1),ROW(AW84)-ROW($A$2)+1)),\"\")","v":""},{"$f":"IFERROR(INDEX(Отделения[отделение],SMALL(IF(Отделения[Город]=$CI$1,ROW(Отделения[Город])-1),ROW(AX84)-ROW($A$2)+1)),\"\")","v":""},{"$f":"IFERROR(INDEX(Отделения[отделение],SMALL(IF(Отделения[Город]=$CJ$1,ROW(Отделения[Город])-1),ROW(AY84)-ROW($A$2)+1)),\"\")","v":""},{"$f":"IFERROR(INDEX(Отделения[отделение],SMALL(IF(Отделения[Город]=$CK$1,ROW(Отделения[Город])-1),ROW(AZ84)-ROW($A$2)+1)),\"\")","v":""},{"$f":"IFERROR(INDEX(Отделения[отделение],SMALL(IF(Отделения[Город]=$CL$1,ROW(Отделения[Город])-1),ROW(BA84)-ROW($A$2)+1)),\"\")","v":""},{"$f":"IFERROR(INDEX(Отделения[отделение],SMALL(IF(Отделения[Город]=$CM$1,ROW(Отделения[Город])-1),ROW(BB84)-ROW($A$2)+1)),\"\")","v":""},{"$f":"IFERROR(INDEX(Отделения[отделение],SMALL(IF(Отделения[Город]=$CN$1,ROW(Отделения[Город])-1),ROW(BC84)-ROW($A$2)+1)),\"\")","v":""},{"$f":"IFERROR(INDEX(Отделения[отделение],SMALL(IF(Отделения[Город]=$CO$1,ROW(Отделения[Город])-1),ROW(BD84)-ROW($A$2)+1)),\"\")","v":""},{"$f":"IFERROR(INDEX(Отделения[отделение],SMALL(IF(Отделения[Город]=$CP$1,ROW(Отделения[Город])-1),ROW(BE84)-ROW($A$2)+1)),\"\")","v":""},{"$f":"IFERROR(INDEX(Отделения[отделение],SMALL(IF(Отделения[Город]=$CQ$1,ROW(Отделения[Город])-1),ROW(BF84)-ROW($A$2)+1)),\"\")","v":""},{"$f":"IFERROR(INDEX(Отделения[отделение],SMALL(IF(Отделения[Город]=$CR$1,ROW(Отделения[Город])-1),ROW(BG84)-ROW($A$2)+1)),\"\")","v":""},{"$f":"IFERROR(INDEX(Отделения[отделение],SMALL(IF(Отделения[Город]=$CS$1,ROW(Отделения[Город])-1),ROW(BH84)-ROW($A$2)+1)),\"\")","v":""},{"$f":"IFERROR(INDEX(Отделения[отделение],SMALL(IF(Отделения[Город]=$CT$1,ROW(Отделения[Город])-1),ROW(BI84)-ROW($A$2)+1)),\"\")","v":""},{"$f":"IFERROR(INDEX(Отделения[отделение],SMALL(IF(Отделения[Город]=$CU$1,ROW(Отделения[Город])-1),ROW(BJ84)-ROW($A$2)+1)),\"\")","v":""},{"$f":"IFERROR(INDEX(Отделения[отделение],SMALL(IF(Отделения[Город]=$CV$1,ROW(Отделения[Город])-1),ROW(BK84)-ROW($A$2)+1)),\"\")","v":""},{"$f":"IFERROR(INDEX(Отделения[отделение],SMALL(IF(Отделения[Город]=$CW$1,ROW(Отделения[Город])-1),ROW(BL84)-ROW($A$2)+1)),\"\")","v":""},{"$f":"IFERROR(INDEX(Отделения[отделение],SMALL(IF(Отделения[Город]=$CX$1,ROW(Отделения[Город])-1),ROW(BM84)-ROW($A$2)+1)),\"\")","v":""},{"$f":"IFERROR(INDEX(Отделения[отделение],SMALL(IF(Отделения[Город]=$CY$1,ROW(Отделения[Город])-1),ROW(BM84)-ROW($A$2)+1)),\"\")","v":""},{"$f":"IFERROR(INDEX(Отделения[отделение],SMALL(IF(Отделения[Город]=$CZ$1,ROW(Отделения[Город])-1),ROW(BM84)-ROW($A$2)+1)),\"\")","v":""},{"$f":"IFERROR(INDEX(Отделения[отделение],SMALL(IF(Отделения[Город]=$DA$1,ROW(Отделения[Город])-1),ROW(BM84)-ROW($A$2)+1)),\"\")","v":""},{"$f":"IFERROR(INDEX(Отделения[отделение],SMALL(IF(Отделения[Город]=$DB$1,ROW(Отделения[Город])-1),ROW(BM84)-ROW($A$2)+1)),\"\")","v":""}]
["Тюмень","ДО \"Тюмень-улица Пермякова\" , 625051, Тюменская обл., г. Тюмень,ул. Пермякова, д. 23а","0675","MOB5",null,null,{"$f":"IFERROR(INDEX(Отделения[отделение],SMALL(IF(Отделения[Город]=$G$1,ROW(Отделения[Город])-1),ROW(A85)-ROW($A$2)+1)),\"\")","v":""},{"$f":"IFERROR(INDEX(Отделения[отделение],SMALL(IF(Отделения[Город]=$H$1,ROW(Отделения[Город])-1),ROW(A85)-ROW($A$2)+1)),\"\")","v":""},{"$f":"IFERROR(INDEX(Отделения[отделение],SMALL(IF(Отделения[Город]=$I$1,ROW(Отделения[Город])-1),ROW(A85)-ROW($A$2)+1)),\"\")","v":""},{"$f":"IFERROR(INDEX(Отделения[отделение],SMALL(IF(Отделения[Город]=$J$1,ROW(Отделения[Город])-1),ROW(A85)-ROW($A$2)+1)),\"\")","v":""},{"$f":"IFERROR(INDEX(Отделения[отделение],SMALL(IF(Отделения[Город]=$K$1,ROW(Отделения[Город])-1),ROW(A85)-ROW($A$2)+1)),\"\")","v":""},{"$f":"IFERROR(INDEX(Отделения[отделение],SMALL(IF(Отделения[Город]=$L$1,ROW(Отделения[Город])-1),ROW(A85)-ROW($A$2)+1)),\"\")","v":""},{"$f":"IFERROR(INDEX(Отделения[отделение],SMALL(IF(Отделения[Город]=$M$1,ROW(Отделения[Город])-1),ROW(B85)-ROW($A$2)+1)),\"\")","v":""},{"$f":"IFERROR(INDEX(Отделения[отделение],SMALL(IF(Отделения[Город]=$N$1,ROW(Отделения[Город])-1),ROW(#REF!)-ROW($A$2)+1)),\"\")","v":""},{"$f":"IFERROR(INDEX(Отделения[отделение],SMALL(IF(Отделения[Город]=$O$1,ROW(Отделения[Город])-1),ROW(C85)-ROW($A$2)+1)),\"\")","v":""},{"$f":"IFERROR(INDEX(Отделения[отделение],SMALL(IF(Отделения[Город]=$P$1,ROW(Отделения[Город])-1),ROW(D85)-ROW($A$2)+1)),\"\")","v":""},{"$f":"IFERROR(INDEX(Отделения[отделение],SMALL(IF(Отделения[Город]=$Q$1,ROW(Отделения[Город])-1),ROW(F85)-ROW($A$2)+1)),\"\")","v":""},{"$f":"IFERROR(INDEX(Отделения[отделение],SMALL(IF(Отделения[Город]=$R$1,ROW(Отделения[Город])-1),ROW(#REF!)-ROW($A$2)+1)),\"\")","v":""},{"$f":"IFERROR(INDEX(Отделения[отделение],SMALL(IF(Отделения[Город]=$S$1,ROW(Отделения[Город])-1),ROW(G85)-ROW($A$2)+1)),\"\")","v":""},{"$f":"IFERROR(INDEX(Отделения[отделение],SMALL(IF(Отделения[Город]=$T$1,ROW(Отделения[Город])-1),ROW(H85)-ROW($A$2)+1)),\"\")","v":""},{"$f":"IFERROR(INDEX(Отделения[отделение],SMALL(IF(Отделения[Город]=$U$1,ROW(Отделения[Город])-1),ROW(I85)-ROW($A$2)+1)),\"\")","v":""},{"$f":"IFERROR(INDEX(Отделения[отделение],SMALL(IF(Отделения[Город]=$V$1,ROW(Отделения[Город])-1),ROW(J85)-ROW($A$2)+1)),\"\")","v":""},{"$f":"IFERROR(INDEX(Отделения[отделение],SMALL(IF(Отделения[Город]=$W$1,ROW(Отделения[Город])-1),ROW(K85)-ROW($A$2)+1)),\"\")","v":""},{"$f":"IFERROR(INDEX(Отделения[отделение],SMALL(IF(Отделения[Город]=$X$1,ROW(Отделения[Город])-1),ROW(L85)-ROW($A$2)+1)),\"\")","v":""},{"$f":"IFERROR(INDEX(Отделения[отделение],SMALL(IF(Отделения[Город]=$Y$1,ROW(Отделения[Город])-1),ROW(M85)-ROW($A$2)+1)),\"\")","v":""},{"$f":"IFERROR(INDEX(Отделения[отделение],SMALL(IF(Отделения[Город]=$Z$1,ROW(Отделения[Город])-1),ROW(N85)-ROW($A$2)+1)),\"\")","v":""},{"$f":"IFERROR(INDEX(Отделения[отделение],SMALL(IF(Отделения[Город]=$AA$1,ROW(Отделения[Город])-1),ROW(O85)-ROW($A$2)+1)),\"\")","v":""},{"$f":"IFERROR(INDEX(Отделения[отделение],SMALL(IF(Отделения[Город]=$AB$1,ROW(Отделения[Город])-1),ROW(P85)-ROW($A$2)+1)),\"\")","v":""},{"$f":"IFERROR(INDEX(Отделения[отделение],SMALL(IF(Отделения[Город]=$AC$1,ROW(Отделения[Город])-1),ROW(Q85)-ROW($A$2)+1)),\"\")","v":""},{"$f":"IFERROR(INDEX(Отделения[отделение],SMALL(IF(Отделения[Город]=$AD$1,ROW(Отделения[Город])-1),ROW(R85)-ROW($A$2)+1)),\"\")","v":""},{"$f":"IFERROR(INDEX(Отделения[отделение],SMALL(IF(Отделения[Город]=$AE$1,ROW(Отделения[Город])-1),ROW(S85)-ROW($A$2)+1)),\"\")","v":""},{"$f":"IFERROR(INDEX(Отделения[отделение],SMALL(IF(Отделения[Город]=$AF$1,ROW(Отделения[Город])-1),ROW(T85)-ROW($A$2)+1)),\"\")","v":""},{"$f":"IFERROR(INDEX(Отделения[отделение],SMALL(IF(Отделения[Город]=$AG$1,ROW(Отделения[Город])-1),ROW(U85)-ROW($A$2)+1)),\"\")","v":""},{"$f":"IFERROR(INDEX(Отделения[отделение],SMALL(IF(Отделения[Город]=$AH$1,ROW(Отделения[Город])-1),ROW(V85)-ROW($A$2)+1)),\"\")","v":""},{"$f":"IFERROR(INDEX(Отделения[отделение],SMALL(IF(Отделения[Город]=$AI$1,ROW(Отделения[Город])-1),ROW(AB85)-ROW($A$2)+1)),\"\")","v":""},{"$f":"IFERROR(INDEX(Отделения[отделение],SMALL(IF(Отделения[Город]=$AJ$1,ROW(Отделения[Город])-1),ROW(AB85)-ROW($A$2)+1)),\"\")","v":""},{"$f":"IFERROR(INDEX(Отделения[отделение],SMALL(IF(Отделения[Город]=$AK$1,ROW(Отделения[Город])-1),ROW(AB85)-ROW($A$2)+1)),\"\")","v":""},{"$f":"IFERROR(INDEX(Отделения[отделение],SMALL(IF(Отделения[Город]=$AL$1,ROW(Отделения[Город])-1),ROW(AB85)-ROW($A$2)+1)),\"\")","v":""},{"$f":"IFERROR(INDEX(Отделения[отделение],SMALL(IF(Отделения[Город]=$AM$1,ROW(Отделения[Город])-1),ROW(AB85)-ROW($A$2)+1)),\"\")","v":""},{"$f":"IFERROR(INDEX(Отделения[отделение],SMALL(IF(Отделения[Город]=$AN$1,ROW(Отделения[Город])-1),ROW(AB85)-ROW($A$2)+1)),\"\")","v":""},{"$f":"IFERROR(INDEX(Отделения[отделение],SMALL(IF(Отделения[Город]=$AO$1,ROW(Отделения[Город])-1),ROW(AB85)-ROW($A$2)+1)),\"\")","v":""},{"$f":"IFERROR(INDEX(Отделения[отделение],SMALL(IF(Отделения[Город]=$AP$1,ROW(Отделения[Город])-1),ROW(AB85)-ROW($A$2)+1)),\"\")","v":""},{"$f":"IFERROR(INDEX(Отделения[отделение],SMALL(IF(Отделения[Город]=$AQ$1,ROW(Отделения[Город])-1),ROW(AB85)-ROW($A$2)+1)),\"\")","v":""},{"$f":"IFERROR(INDEX(Отделения[отделение],SMALL(IF(Отделения[Город]=$AR$1,ROW(Отделения[Город])-1),ROW(AB85)-ROW($A$2)+1)),\"\")","v":""},{"$f":"IFERROR(INDEX(Отделения[отделение],SMALL(IF(Отделения[Город]=$AS$1,ROW(Отделения[Город])-1),ROW(AB85)-ROW($A$2)+1)),\"\")","v":""},{"$f":"IFERROR(INDEX(Отделения[отделение],SMALL(IF(Отделения[Город]=$AT$1,ROW(Отделения[Город])-1),ROW(AB85)-ROW($A$2)+1)),\"\")","v":""},{"$f":"IFERROR(INDEX(Отделения[отделение],SMALL(IF(Отделения[Город]=$AU$1,ROW(Отделения[Город])-1),ROW(AB85)-ROW($A$2)+1)),\"\")","v":""},{"$f":"IFERROR(INDEX(Отделения[отделение],SMALL(IF(Отделения[Город]=$AV$1,ROW(Отделения[Город])-1),ROW(AB85)-ROW($A$2)+1)),\"\")","v":""},{"$f":"IFERROR(INDEX(Отделения[отделение],SMALL(IF(Отделения[Город]=$AW$1,ROW(Отделения[Город])-1),ROW(AB85)-ROW($A$2)+1)),\"\")","v":""},{"$f":"IFERROR(INDEX(Отделения[отделение],SMALL(IF(Отделения[Город]=$AX$1,ROW(Отделения[Город])-1),ROW(AB85)-ROW($A$2)+1)),\"\")","v":""},{"$f":"IFERROR(INDEX(Отделения[отделение],SMALL(IF(Отделения[Город]=$AY$1,ROW(Отделения[Город])-1),ROW(AB85)-ROW($A$2)+1)),\"\")","v":""},{"$f":"IFERROR(INDEX(Отделения[отделение],SMALL(IF(Отделения[Город]=$AZ$1,ROW(Отделения[Город])-1),ROW(AB85)-ROW($A$2)+1)),\"\")","v":""},{"$f":"IFERROR(INDEX(Отделения[отделение],SMALL(IF(Отделения[Город]=$BA$1,ROW(Отделения[Город])-1),ROW(AB85)-ROW($A$2)+1)),\"\")","v":""},{"$f":"IFERROR(INDEX(Отделения[отделение],SMALL(IF(Отделения[Город]=$BB$1,ROW(Отделения[Город])-1),ROW(AB85)-ROW($A$2)+1)),\"\")","v":""},{"$f":"IFERROR(INDEX(Отделения[отделение],SMALL(IF(Отделения[Город]=$BC$1,ROW(Отделения[Город])-1),ROW(AC85)-ROW($A$2)+1)),\"\")","v":""},{"$f":"IFERROR(INDEX(Отделения[отделение],SMALL(IF(Отделения[Город]=$BD$1,ROW(Отделения[Город])-1),ROW(AD85)-ROW($A$2)+1)),\"\")","v":""},{"$f":"IFERROR(INDEX(Отделения[отделение],SMALL(IF(Отделения[Город]=$BE$1,ROW(Отделения[Город])-1),ROW(AE85)-ROW($A$2)+1)),\"\")","v":""},{"$f":"IFERROR(INDEX(Отделения[отделение],SMALL(IF(Отделения[Город]=$BF$1,ROW(Отделения[Город])-1),ROW(AF85)-ROW($A$2)+1)),\"\")","v":""},{"$f":"IFERROR(INDEX(Отделения[отделение],SMALL(IF(Отделения[Город]=$BG$1,ROW(Отделения[Город])-1),ROW(AG85)-ROW($A$2)+1)),\"\")","v":""},{"$f":"IFERROR(INDEX(Отделения[отделение],SMALL(IF(Отделения[Город]=$BH$1,ROW(Отделения[Город])-1),ROW(AH85)-ROW($A$2)+1)),\"\")","v":""},{"$f":"IFERROR(INDEX(Отделения[отделение],SMALL(IF(Отделения[Город]=$BI$1,ROW(Отделения[Город])-1),ROW(AI85)-ROW($A$2)+1)),\"\")","v":""},{"$f":"IFERROR(INDEX(Отделения[отделение],SMALL(IF(Отделения[Город]=$BJ$1,ROW(Отделения[Город])-1),ROW(AJ85)-ROW($A$2)+1)),\"\")","v":""},{"$f":"IFERROR(INDEX(Отделения[отделение],SMALL(IF(Отделения[Город]=$BK$1,ROW(Отделения[Город])-1),ROW(AK85)-ROW($A$2)+1)),\"\")","v":""},{"$f":"IFERROR(INDEX(Отделения[отделение],SMALL(IF(Отделения[Город]=$BL$1,ROW(Отделения[Город])-1),ROW(AL85)-ROW($A$2)+1)),\"\")","v":""},{"$f":"IFERROR(INDEX(Отделения[отделение],SMALL(IF(Отделения[Город]=$BM$1,ROW(Отделения[Город])-1),ROW(AM85)-ROW($A$2)+1)),\"\")","v":""},{"$f":"IFERROR(INDEX(Отделения[отделение],SMALL(IF(Отделения[Город]=$BN$1,ROW(Отделения[Город])-1),ROW(AN85)-ROW($A$2)+1)),\"\")","v":""},{"$f":"IFERROR(INDEX(Отделения[отделение],SMALL(IF(Отделения[Город]=$BO$1,ROW(Отделения[Город])-1),ROW(AO85)-ROW($A$2)+1)),\"\")","v":""},{"$f":"IFERROR(INDEX(Отделения[отделение],SMALL(IF(Отделения[Город]=$BP$1,ROW(Отделения[Город])-1),ROW(AP85)-ROW($A$2)+1)),\"\")","v":""},{"$f":"IFERROR(INDEX(Отделения[отделение],SMALL(IF(Отделения[Город]=$BQ$1,ROW(Отделения[Город])-1),ROW(AQ85)-ROW($A$2)+1)),\"\")","v":""},{"$f":"IFERROR(INDEX(Отделения[отделение],SMALL(IF(Отделения[Город]=$BR$1,ROW(Отделения[Город])-1),ROW(AR85)-ROW($A$2)+1)),\"\")","v":""},{"$f":"IFERROR(INDEX(Отделения[отделение],SMALL(IF(Отделения[Город]=$BS$1,ROW(Отделения[Город])-1),ROW(AS85)-ROW($A$2)+1)),\"\")","v":""},{"$f":"IFERROR(INDEX(Отделения[отделение],SMALL(IF(Отделения[Город]=$BT$1,ROW(Отделения[Город])-1),ROW(AT85)-ROW($A$2)+1)),\"\")","v":""},{"$f":"IFERROR(INDEX(Отделения[отделение],SMALL(IF(Отделения[Город]=$BU$1,ROW(Отделения[Город])-1),ROW(AU85)-ROW($A$2)+1)),\"\")","v":""},{"$f":"IFERROR(INDEX(Отделения[отделение],SMALL(IF(Отделения[Город]=$BV$1,ROW(Отделения[Город])-1),ROW(AV85)-ROW($A$2)+1)),\"\")","v":""},{"$f":"IFERROR(INDEX(Отделения[отделение],SMALL(IF(Отделения[Город]=$BW$1,ROW(Отделения[Город])-1),ROW(AV85)-ROW($A$2)+1)),\"\")","v":""},{"$f":"IFERROR(INDEX(Отделения[отделение],SMALL(IF(Отделения[Город]=$BX$1,ROW(Отделения[Город])-1),ROW(AV85)-ROW($A$2)+1)),\"\")","v":""},{"$f":"IFERROR(INDEX(Отделения[отделение],SMALL(IF(Отделения[Город]=$BY$1,ROW(Отделения[Город])-1),ROW(AV85)-ROW($A$2)+1)),\"\")","v":""},{"$f":"IFERROR(INDEX(Отделения[отделение],SMALL(IF(Отделения[Город]=$BZ$1,ROW(Отделения[Город])-1),ROW(AV85)-ROW($A$2)+1)),\"\")","v":""},{"$f":"IFERROR(INDEX(Отделения[отделение],SMALL(IF(Отделения[Город]=$CA$1,ROW(Отделения[Город])-1),ROW(AV85)-ROW($A$2)+1)),\"\")","v":""},{"$f":"IFERROR(INDEX(Отделения[отделение],SMALL(IF(Отделения[Город]=$CB$1,ROW(Отделения[Город])-1),ROW(AV85)-ROW($A$2)+1)),\"\")","v":""},{"$f":"IFERROR(INDEX(Отделения[отделение],SMALL(IF(Отделения[Город]=$CC$1,ROW(Отделения[Город])-1),ROW(AV85)-ROW($A$2)+1)),\"\")","v":""},{"$f":"IFERROR(INDEX(Отделения[отделение],SMALL(IF(Отделения[Город]=$CD$1,ROW(Отделения[Город])-1),ROW(AV85)-ROW($A$2)+1)),\"\")","v":""},{"$f":"IFERROR(INDEX(Отделения[отделение],SMALL(IF(Отделения[Город]=$CE$1,ROW(Отделения[Город])-1),ROW(AV85)-ROW($A$2)+1)),\"\")","v":""},{"$f":"IFERROR(INDEX(Отделения[отделение],SMALL(IF(Отделения[Город]=$CF$1,ROW(Отделения[Город])-1),ROW(AV85)-ROW($A$2)+1)),\"\")","v":""},{"$f":"IFERROR(INDEX(Отделения[отделение],SMALL(IF(Отделения[Город]=$CG$1,ROW(Отделения[Город])-1),ROW(AV85)-ROW($A$2)+1)),\"\")","v":""},{"$f":"IFERROR(INDEX(Отделения[отделение],SMALL(IF(Отделения[Город]=$CH$1,ROW(Отделения[Город])-1),ROW(AW85)-ROW($A$2)+1)),\"\")","v":""},{"$f":"IFERROR(INDEX(Отделения[отделение],SMALL(IF(Отделения[Город]=$CI$1,ROW(Отделения[Город])-1),ROW(AX85)-ROW($A$2)+1)),\"\")","v":""},{"$f":"IFERROR(INDEX(Отделения[отделение],SMALL(IF(Отделения[Город]=$CJ$1,ROW(Отделения[Город])-1),ROW(AY85)-ROW($A$2)+1)),\"\")","v":""},{"$f":"IFERROR(INDEX(Отделения[отделение],SMALL(IF(Отделения[Город]=$CK$1,ROW(Отделения[Город])-1),ROW(AZ85)-ROW($A$2)+1)),\"\")","v":""},{"$f":"IFERROR(INDEX(Отделения[отделение],SMALL(IF(Отделения[Город]=$CL$1,ROW(Отделения[Город])-1),ROW(BA85)-ROW($A$2)+1)),\"\")","v":""},{"$f":"IFERROR(INDEX(Отделения[отделение],SMALL(IF(Отделения[Город]=$CM$1,ROW(Отделения[Город])-1),ROW(BB85)-ROW($A$2)+1)),\"\")","v":""},{"$f":"IFERROR(INDEX(Отделения[отделение],SMALL(IF(Отделения[Город]=$CN$1,ROW(Отделения[Город])-1),ROW(BC85)-ROW($A$2)+1)),\"\")","v":""},{"$f":"IFERROR(INDEX(Отделения[отделение],SMALL(IF(Отделения[Город]=$CO$1,ROW(Отделения[Город])-1),ROW(BD85)-ROW($A$2)+1)),\"\")","v":""},{"$f":"IFERROR(INDEX(Отделения[отделение],SMALL(IF(Отделения[Город]=$CP$1,ROW(Отделения[Город])-1),ROW(BE85)-ROW($A$2)+1)),\"\")","v":""},{"$f":"IFERROR(INDEX(Отделения[отделение],SMALL(IF(Отделения[Город]=$CQ$1,ROW(Отделения[Город])-1),ROW(BF85)-ROW($A$2)+1)),\"\")","v":""},{"$f":"IFERROR(INDEX(Отделения[отделение],SMALL(IF(Отделения[Город]=$CR$1,ROW(Отделения[Город])-1),ROW(BG85)-ROW($A$2)+1)),\"\")","v":""},{"$f":"IFERROR(INDEX(Отделения[отделение],SMALL(IF(Отделения[Город]=$CS$1,ROW(Отделения[Город])-1),ROW(BH85)-ROW($A$2)+1)),\"\")","v":""},{"$f":"IFERROR(INDEX(Отделения[отделение],SMALL(IF(Отделения[Город]=$CT$1,ROW(Отделения[Город])-1),ROW(BI85)-ROW($A$2)+1)),\"\")","v":""},{"$f":"IFERROR(INDEX(Отделения[отделение],SMALL(IF(Отделения[Город]=$CU$1,ROW(Отделения[Город])-1),ROW(BJ85)-ROW($A$2)+1)),\"\")","v":""},{"$f":"IFERROR(INDEX(Отделения[отделение],SMALL(IF(Отделения[Город]=$CV$1,ROW(Отделения[Город])-1),ROW(BK85)-ROW($A$2)+1)),\"\")","v":""},{"$f":"IFERROR(INDEX(Отделения[отделение],SMALL(IF(Отделения[Город]=$CW$1,ROW(Отделения[Город])-1),ROW(BL85)-ROW($A$2)+1)),\"\")","v":""},{"$f":"IFERROR(INDEX(Отделения[отделение],SMALL(IF(Отделения[Город]=$CX$1,ROW(Отделения[Город])-1),ROW(BM85)-ROW($A$2)+1)),\"\")","v":""},{"$f":"IFERROR(INDEX(Отделения[отделение],SMALL(IF(Отделения[Город]=$CY$1,ROW(Отделения[Город])-1),ROW(BM85)-ROW($A$2)+1)),\"\")","v":""},{"$f":"IFERROR(INDEX(Отделения[отделение],SMALL(IF(Отделения[Город]=$CZ$1,ROW(Отделения[Город])-1),ROW(BM85)-ROW($A$2)+1)),\"\")","v":""},{"$f":"IFERROR(INDEX(Отделения[отделение],SMALL(IF(Отделения[Город]=$DA$1,ROW(Отделения[Город])-1),ROW(BM85)-ROW($A$2)+1)),\"\")","v":""},{"$f":"IFERROR(INDEX(Отделения[отделение],SMALL(IF(Отделения[Город]=$DB$1,ROW(Отделения[Город])-1),ROW(BM85)-ROW($A$2)+1)),\"\")","v":""}]
["Самара","ДО \"Самара-Московское шоссе\" , 443080, Россия, Самарская область,г. Самара, шоссе Московское, д. 47","0677","MOA0",null,null,{"$f":"IFERROR(INDEX(Отделения[отделение],SMALL(IF(Отделения[Город]=$G$1,ROW(Отделения[Город])-1),ROW(A86)-ROW($A$2)+1)),\"\")","v":""},{"$f":"IFERROR(INDEX(Отделения[отделение],SMALL(IF(Отделения[Город]=$H$1,ROW(Отделения[Город])-1),ROW(A86)-ROW($A$2)+1)),\"\")","v":""},{"$f":"IFERROR(INDEX(Отделения[отделение],SMALL(IF(Отделения[Город]=$I$1,ROW(Отделения[Город])-1),ROW(A86)-ROW($A$2)+1)),\"\")","v":""},{"$f":"IFERROR(INDEX(Отделения[отделение],SMALL(IF(Отделения[Город]=$J$1,ROW(Отделения[Город])-1),ROW(A86)-ROW($A$2)+1)),\"\")","v":""},{"$f":"IFERROR(INDEX(Отделения[отделение],SMALL(IF(Отделения[Город]=$K$1,ROW(Отделения[Город])-1),ROW(A86)-ROW($A$2)+1)),\"\")","v":""},{"$f":"IFERROR(INDEX(Отделения[отделение],SMALL(IF(Отделения[Город]=$L$1,ROW(Отделения[Город])-1),ROW(A86)-ROW($A$2)+1)),\"\")","v":""},{"$f":"IFERROR(INDEX(Отделения[отделение],SMALL(IF(Отделения[Город]=$M$1,ROW(Отделения[Город])-1),ROW(B86)-ROW($A$2)+1)),\"\")","v":""},{"$f":"IFERROR(INDEX(Отделения[отделение],SMALL(IF(Отделения[Город]=$N$1,ROW(Отделения[Город])-1),ROW(#REF!)-ROW($A$2)+1)),\"\")","v":""},{"$f":"IFERROR(INDEX(Отделения[отделение],SMALL(IF(Отделения[Город]=$O$1,ROW(Отделения[Город])-1),ROW(C86)-ROW($A$2)+1)),\"\")","v":""},{"$f":"IFERROR(INDEX(Отделения[отделение],SMALL(IF(Отделения[Город]=$P$1,ROW(Отделения[Город])-1),ROW(D86)-ROW($A$2)+1)),\"\")","v":""},{"$f":"IFERROR(INDEX(Отделения[отделение],SMALL(IF(Отделения[Город]=$Q$1,ROW(Отделения[Город])-1),ROW(F86)-ROW($A$2)+1)),\"\")","v":""},{"$f":"IFERROR(INDEX(Отделения[отделение],SMALL(IF(Отделения[Город]=$R$1,ROW(Отделения[Город])-1),ROW(#REF!)-ROW($A$2)+1)),\"\")","v":""},{"$f":"IFERROR(INDEX(Отделения[отделение],SMALL(IF(Отделения[Город]=$S$1,ROW(Отделения[Город])-1),ROW(G86)-ROW($A$2)+1)),\"\")","v":""},{"$f":"IFERROR(INDEX(Отделения[отделение],SMALL(IF(Отделения[Город]=$T$1,ROW(Отделения[Город])-1),ROW(H86)-ROW($A$2)+1)),\"\")","v":""},{"$f":"IFERROR(INDEX(Отделения[отделение],SMALL(IF(Отделения[Город]=$U$1,ROW(Отделения[Город])-1),ROW(I86)-ROW($A$2)+1)),\"\")","v":""},{"$f":"IFERROR(INDEX(Отделения[отделение],SMALL(IF(Отделения[Город]=$V$1,ROW(Отделения[Город])-1),ROW(J86)-ROW($A$2)+1)),\"\")","v":""},{"$f":"IFERROR(INDEX(Отделения[отделение],SMALL(IF(Отделения[Город]=$W$1,ROW(Отделения[Город])-1),ROW(K86)-ROW($A$2)+1)),\"\")","v":""},{"$f":"IFERROR(INDEX(Отделения[отделение],SMALL(IF(Отделения[Город]=$X$1,ROW(Отделения[Город])-1),ROW(L86)-ROW($A$2)+1)),\"\")","v":""},{"$f":"IFERROR(INDEX(Отделения[отделение],SMALL(IF(Отделения[Город]=$Y$1,ROW(Отделения[Город])-1),ROW(M86)-ROW($A$2)+1)),\"\")","v":""},{"$f":"IFERROR(INDEX(Отделения[отделение],SMALL(IF(Отделения[Город]=$Z$1,ROW(Отделения[Город])-1),ROW(N86)-ROW($A$2)+1)),\"\")","v":""},{"$f":"IFERROR(INDEX(Отделения[отделение],SMALL(IF(Отделения[Город]=$AA$1,ROW(Отделения[Город])-1),ROW(O86)-ROW($A$2)+1)),\"\")","v":""},{"$f":"IFERROR(INDEX(Отделения[отделение],SMALL(IF(Отделения[Город]=$AB$1,ROW(Отделения[Город])-1),ROW(P86)-ROW($A$2)+1)),\"\")","v":""},{"$f":"IFERROR(INDEX(Отделения[отделение],SMALL(IF(Отделения[Город]=$AC$1,ROW(Отделения[Город])-1),ROW(Q86)-ROW($A$2)+1)),\"\")","v":""},{"$f":"IFERROR(INDEX(Отделения[отделение],SMALL(IF(Отделения[Город]=$AD$1,ROW(Отделения[Город])-1),ROW(R86)-ROW($A$2)+1)),\"\")","v":""},{"$f":"IFERROR(INDEX(Отделения[отделение],SMALL(IF(Отделения[Город]=$AE$1,ROW(Отделения[Город])-1),ROW(S86)-ROW($A$2)+1)),\"\")","v":""},{"$f":"IFERROR(INDEX(Отделения[отделение],SMALL(IF(Отделения[Город]=$AF$1,ROW(Отделения[Город])-1),ROW(T86)-ROW($A$2)+1)),\"\")","v":""},{"$f":"IFERROR(INDEX(Отделения[отделение],SMALL(IF(Отделения[Город]=$AG$1,ROW(Отделения[Город])-1),ROW(U86)-ROW($A$2)+1)),\"\")","v":""},{"$f":"IFERROR(INDEX(Отделения[отделение],SMALL(IF(Отделения[Город]=$AH$1,ROW(Отделения[Город])-1),ROW(V86)-ROW($A$2)+1)),\"\")","v":""},{"$f":"IFERROR(INDEX(Отделения[отделение],SMALL(IF(Отделения[Город]=$AI$1,ROW(Отделения[Город])-1),ROW(AB86)-ROW($A$2)+1)),\"\")","v":""},{"$f":"IFERROR(INDEX(Отделения[отделение],SMALL(IF(Отделения[Город]=$AJ$1,ROW(Отделения[Город])-1),ROW(AB86)-ROW($A$2)+1)),\"\")","v":""},{"$f":"IFERROR(INDEX(Отделения[отделение],SMALL(IF(Отделения[Город]=$AK$1,ROW(Отделения[Город])-1),ROW(AB86)-ROW($A$2)+1)),\"\")","v":""},{"$f":"IFERROR(INDEX(Отделения[отделение],SMALL(IF(Отделения[Город]=$AL$1,ROW(Отделения[Город])-1),ROW(AB86)-ROW($A$2)+1)),\"\")","v":""},{"$f":"IFERROR(INDEX(Отделения[отделение],SMALL(IF(Отделения[Город]=$AM$1,ROW(Отделения[Город])-1),ROW(AB86)-ROW($A$2)+1)),\"\")","v":""},{"$f":"IFERROR(INDEX(Отделения[отделение],SMALL(IF(Отделения[Город]=$AN$1,ROW(Отделения[Город])-1),ROW(AB86)-ROW($A$2)+1)),\"\")","v":""},{"$f":"IFERROR(INDEX(Отделения[отделение],SMALL(IF(Отделения[Город]=$AO$1,ROW(Отделения[Город])-1),ROW(AB86)-ROW($A$2)+1)),\"\")","v":""},{"$f":"IFERROR(INDEX(Отделения[отделение],SMALL(IF(Отделения[Город]=$AP$1,ROW(Отделения[Город])-1),ROW(AB86)-ROW($A$2)+1)),\"\")","v":""},{"$f":"IFERROR(INDEX(Отделения[отделение],SMALL(IF(Отделения[Город]=$AQ$1,ROW(Отделения[Город])-1),ROW(AB86)-ROW($A$2)+1)),\"\")","v":""},{"$f":"IFERROR(INDEX(Отделения[отделение],SMALL(IF(Отделения[Город]=$AR$1,ROW(Отделения[Город])-1),ROW(AB86)-ROW($A$2)+1)),\"\")","v":""},{"$f":"IFERROR(INDEX(Отделения[отделение],SMALL(IF(Отделения[Город]=$AS$1,ROW(Отделения[Город])-1),ROW(AB86)-ROW($A$2)+1)),\"\")","v":""},{"$f":"IFERROR(INDEX(Отделения[отделение],SMALL(IF(Отделения[Город]=$AT$1,ROW(Отделения[Город])-1),ROW(AB86)-ROW($A$2)+1)),\"\")","v":""},{"$f":"IFERROR(INDEX(Отделения[отделение],SMALL(IF(Отделения[Город]=$AU$1,ROW(Отделения[Город])-1),ROW(AB86)-ROW($A$2)+1)),\"\")","v":""},{"$f":"IFERROR(INDEX(Отделения[отделение],SMALL(IF(Отделения[Город]=$AV$1,ROW(Отделения[Город])-1),ROW(AB86)-ROW($A$2)+1)),\"\")","v":""},{"$f":"IFERROR(INDEX(Отделения[отделение],SMALL(IF(Отделения[Город]=$AW$1,ROW(Отделения[Город])-1),ROW(AB86)-ROW($A$2)+1)),\"\")","v":""},{"$f":"IFERROR(INDEX(Отделения[отделение],SMALL(IF(Отделения[Город]=$AX$1,ROW(Отделения[Город])-1),ROW(AB86)-ROW($A$2)+1)),\"\")","v":""},{"$f":"IFERROR(INDEX(Отделения[отделение],SMALL(IF(Отделения[Город]=$AY$1,ROW(Отделения[Город])-1),ROW(AB86)-ROW($A$2)+1)),\"\")","v":""},{"$f":"IFERROR(INDEX(Отделения[отделение],SMALL(IF(Отделения[Город]=$AZ$1,ROW(Отделения[Город])-1),ROW(AB86)-ROW($A$2)+1)),\"\")","v":""},{"$f":"IFERROR(INDEX(Отделения[отделение],SMALL(IF(Отделения[Город]=$BA$1,ROW(Отделения[Город])-1),ROW(AB86)-ROW($A$2)+1)),\"\")","v":""},{"$f":"IFERROR(INDEX(Отделения[отделение],SMALL(IF(Отделения[Город]=$BB$1,ROW(Отделения[Город])-1),ROW(AB86)-ROW($A$2)+1)),\"\")","v":""},{"$f":"IFERROR(INDEX(Отделения[отделение],SMALL(IF(Отделения[Город]=$BC$1,ROW(Отделения[Город])-1),ROW(AC86)-ROW($A$2)+1)),\"\")","v":""},{"$f":"IFERROR(INDEX(Отделения[отделение],SMALL(IF(Отделения[Город]=$BD$1,ROW(Отделения[Город])-1),ROW(AD86)-ROW($A$2)+1)),\"\")","v":""},{"$f":"IFERROR(INDEX(Отделения[отделение],SMALL(IF(Отделения[Город]=$BE$1,ROW(Отделения[Город])-1),ROW(AE86)-ROW($A$2)+1)),\"\")","v":""},{"$f":"IFERROR(INDEX(Отделения[отделение],SMALL(IF(Отделения[Город]=$BF$1,ROW(Отделения[Город])-1),ROW(AF86)-ROW($A$2)+1)),\"\")","v":""},{"$f":"IFERROR(INDEX(Отделения[отделение],SMALL(IF(Отделения[Город]=$BG$1,ROW(Отделения[Город])-1),ROW(AG86)-ROW($A$2)+1)),\"\")","v":""},{"$f":"IFERROR(INDEX(Отделения[отделение],SMALL(IF(Отделения[Город]=$BH$1,ROW(Отделения[Город])-1),ROW(AH86)-ROW($A$2)+1)),\"\")","v":""},{"$f":"IFERROR(INDEX(Отделения[отделение],SMALL(IF(Отделения[Город]=$BI$1,ROW(Отделения[Город])-1),ROW(AI86)-ROW($A$2)+1)),\"\")","v":""},{"$f":"IFERROR(INDEX(Отделения[отделение],SMALL(IF(Отделения[Город]=$BJ$1,ROW(Отделения[Город])-1),ROW(AJ86)-ROW($A$2)+1)),\"\")","v":""},{"$f":"IFERROR(INDEX(Отделения[отделение],SMALL(IF(Отделения[Город]=$BK$1,ROW(Отделения[Город])-1),ROW(AK86)-ROW($A$2)+1)),\"\")","v":""},{"$f":"IFERROR(INDEX(Отделения[отделение],SMALL(IF(Отделения[Город]=$BL$1,ROW(Отделения[Город])-1),ROW(AL86)-ROW($A$2)+1)),\"\")","v":""},{"$f":"IFERROR(INDEX(Отделения[отделение],SMALL(IF(Отделения[Город]=$BM$1,ROW(Отделения[Город])-1),ROW(AM86)-ROW($A$2)+1)),\"\")","v":""},{"$f":"IFERROR(INDEX(Отделения[отделение],SMALL(IF(Отделения[Город]=$BN$1,ROW(Отделения[Город])-1),ROW(AN86)-ROW($A$2)+1)),\"\")","v":""},{"$f":"IFERROR(INDEX(Отделения[отделение],SMALL(IF(Отделения[Город]=$BO$1,ROW(Отделения[Город])-1),ROW(AO86)-ROW($A$2)+1)),\"\")","v":""},{"$f":"IFERROR(INDEX(Отделения[отделение],SMALL(IF(Отделения[Город]=$BP$1,ROW(Отделения[Город])-1),ROW(AP86)-ROW($A$2)+1)),\"\")","v":""},{"$f":"IFERROR(INDEX(Отделения[отделение],SMALL(IF(Отделения[Город]=$BQ$1,ROW(Отделения[Город])-1),ROW(AQ86)-ROW($A$2)+1)),\"\")","v":""},{"$f":"IFERROR(INDEX(Отделения[отделение],SMALL(IF(Отделения[Город]=$BR$1,ROW(Отделения[Город])-1),ROW(AR86)-ROW($A$2)+1)),\"\")","v":""},{"$f":"IFERROR(INDEX(Отделения[отделение],SMALL(IF(Отделения[Город]=$BS$1,ROW(Отделения[Город])-1),ROW(AS86)-ROW($A$2)+1)),\"\")","v":""},{"$f":"IFERROR(INDEX(Отделения[отделение],SMALL(IF(Отделения[Город]=$BT$1,ROW(Отделения[Город])-1),ROW(AT86)-ROW($A$2)+1)),\"\")","v":""},{"$f":"IFERROR(INDEX(Отделения[отделение],SMALL(IF(Отделения[Город]=$BU$1,ROW(Отделения[Город])-1),ROW(AU86)-ROW($A$2)+1)),\"\")","v":""},{"$f":"IFERROR(INDEX(Отделения[отделение],SMALL(IF(Отделения[Город]=$BV$1,ROW(Отделения[Город])-1),ROW(AV86)-ROW($A$2)+1)),\"\")","v":""},{"$f":"IFERROR(INDEX(Отделения[отделение],SMALL(IF(Отделения[Город]=$BW$1,ROW(Отделения[Город])-1),ROW(AV86)-ROW($A$2)+1)),\"\")","v":""},{"$f":"IFERROR(INDEX(Отделения[отделение],SMALL(IF(Отделения[Город]=$BX$1,ROW(Отделения[Город])-1),ROW(AV86)-ROW($A$2)+1)),\"\")","v":""},{"$f":"IFERROR(INDEX(Отделения[отделение],SMALL(IF(Отделения[Город]=$BY$1,ROW(Отделения[Город])-1),ROW(AV86)-ROW($A$2)+1)),\"\")","v":""},{"$f":"IFERROR(INDEX(Отделения[отделение],SMALL(IF(Отделения[Город]=$BZ$1,ROW(Отделения[Город])-1),ROW(AV86)-ROW($A$2)+1)),\"\")","v":""},{"$f":"IFERROR(INDEX(Отделения[отделение],SMALL(IF(Отделения[Город]=$CA$1,ROW(Отделения[Город])-1),ROW(AV86)-ROW($A$2)+1)),\"\")","v":""},{"$f":"IFERROR(INDEX(Отделения[отделение],SMALL(IF(Отделения[Город]=$CB$1,ROW(Отделения[Город])-1),ROW(AV86)-ROW($A$2)+1)),\"\")","v":""},{"$f":"IFERROR(INDEX(Отделения[отделение],SMALL(IF(Отделения[Город]=$CC$1,ROW(Отделения[Город])-1),ROW(AV86)-ROW($A$2)+1)),\"\")","v":""},{"$f":"IFERROR(INDEX(Отделения[отделение],SMALL(IF(Отделения[Город]=$CD$1,ROW(Отделения[Город])-1),ROW(AV86)-ROW($A$2)+1)),\"\")","v":""},{"$f":"IFERROR(INDEX(Отделения[отделение],SMALL(IF(Отделения[Город]=$CE$1,ROW(Отделения[Город])-1),ROW(AV86)-ROW($A$2)+1)),\"\")","v":""},{"$f":"IFERROR(INDEX(Отделения[отделение],SMALL(IF(Отделения[Город]=$CF$1,ROW(Отделения[Город])-1),ROW(AV86)-ROW($A$2)+1)),\"\")","v":""},{"$f":"IFERROR(INDEX(Отделения[отделение],SMALL(IF(Отделения[Город]=$CG$1,ROW(Отделения[Город])-1),ROW(AV86)-ROW($A$2)+1)),\"\")","v":""},{"$f":"IFERROR(INDEX(Отделения[отделение],SMALL(IF(Отделения[Город]=$CH$1,ROW(Отделения[Город])-1),ROW(AW86)-ROW($A$2)+1)),\"\")","v":""},{"$f":"IFERROR(INDEX(Отделения[отделение],SMALL(IF(Отделения[Город]=$CI$1,ROW(Отделения[Город])-1),ROW(AX86)-ROW($A$2)+1)),\"\")","v":""},{"$f":"IFERROR(INDEX(Отделения[отделение],SMALL(IF(Отделения[Город]=$CJ$1,ROW(Отделения[Город])-1),ROW(AY86)-ROW($A$2)+1)),\"\")","v":""},{"$f":"IFERROR(INDEX(Отделения[отделение],SMALL(IF(Отделения[Город]=$CK$1,ROW(Отделения[Город])-1),ROW(AZ86)-ROW($A$2)+1)),\"\")","v":""},{"$f":"IFERROR(INDEX(Отделения[отделение],SMALL(IF(Отделения[Город]=$CL$1,ROW(Отделения[Город])-1),ROW(BA86)-ROW($A$2)+1)),\"\")","v":""},{"$f":"IFERROR(INDEX(Отделения[отделение],SMALL(IF(Отделения[Город]=$CM$1,ROW(Отделения[Город])-1),ROW(BB86)-ROW($A$2)+1)),\"\")","v":""},{"$f":"IFERROR(INDEX(Отделения[отделение],SMALL(IF(Отделения[Город]=$CN$1,ROW(Отделения[Город])-1),ROW(BC86)-ROW($A$2)+1)),\"\")","v":""},{"$f":"IFERROR(INDEX(Отделения[отделение],SMALL(IF(Отделения[Город]=$CO$1,ROW(Отделения[Город])-1),ROW(BD86)-ROW($A$2)+1)),\"\")","v":""},{"$f":"IFERROR(INDEX(Отделения[отделение],SMALL(IF(Отделения[Город]=$CP$1,ROW(Отделения[Город])-1),ROW(BE86)-ROW($A$2)+1)),\"\")","v":""},{"$f":"IFERROR(INDEX(Отделения[отделение],SMALL(IF(Отделения[Город]=$CQ$1,ROW(Отделения[Город])-1),ROW(BF86)-ROW($A$2)+1)),\"\")","v":""},{"$f":"IFERROR(INDEX(Отделения[отделение],SMALL(IF(Отделения[Город]=$CR$1,ROW(Отделения[Город])-1),ROW(BG86)-ROW($A$2)+1)),\"\")","v":""},{"$f":"IFERROR(INDEX(Отделения[отделение],SMALL(IF(Отделения[Город]=$CS$1,ROW(Отделения[Город])-1),ROW(BH86)-ROW($A$2)+1)),\"\")","v":""},{"$f":"IFERROR(INDEX(Отделения[отделение],SMALL(IF(Отделения[Город]=$CT$1,ROW(Отделения[Город])-1),ROW(BI86)-ROW($A$2)+1)),\"\")","v":""},{"$f":"IFERROR(INDEX(Отделения[отделение],SMALL(IF(Отделения[Город]=$CU$1,ROW(Отделения[Город])-1),ROW(BJ86)-ROW($A$2)+1)),\"\")","v":""},{"$f":"IFERROR(INDEX(Отделения[отделение],SMALL(IF(Отделения[Город]=$CV$1,ROW(Отделения[Город])-1),ROW(BK86)-ROW($A$2)+1)),\"\")","v":""},{"$f":"IFERROR(INDEX(Отделения[отделение],SMALL(IF(Отделения[Город]=$CW$1,ROW(Отделения[Город])-1),ROW(BL86)-ROW($A$2)+1)),\"\")","v":""},{"$f":"IFERROR(INDEX(Отделения[отделение],SMALL(IF(Отделения[Город]=$CX$1,ROW(Отделения[Город])-1),ROW(BM86)-ROW($A$2)+1)),\"\")","v":""},{"$f":"IFERROR(INDEX(Отделения[отделение],SMALL(IF(Отделения[Город]=$CY$1,ROW(Отделения[Город])-1),ROW(BM86)-ROW($A$2)+1)),\"\")","v":""},{"$f":"IFERROR(INDEX(Отделения[отделение],SMALL(IF(Отделения[Город]=$CZ$1,ROW(Отделения[Город])-1),ROW(BM86)-ROW($A$2)+1)),\"\")","v":""},{"$f":"IFERROR(INDEX(Отделения[отделение],SMALL(IF(Отделения[Город]=$DA$1,ROW(Отделения[Город])-1),ROW(BM86)-ROW($A$2)+1)),\"\")","v":""},{"$f":"IFERROR(INDEX(Отделения[отделение],SMALL(IF(Отделения[Город]=$DB$1,ROW(Отделения[Город])-1),ROW(BM86)-ROW($A$2)+1)),\"\")","v":""}]
["Санкт-Петербург","ДО \"СПБ-Каменноостровский\" , 197022, г. Санкт-Петербург, Каменноостровский проспект, д. 41, литераА","0678","MOA3",null,null,{"$f":"IFERROR(INDEX(Отделения[отделение],SMALL(IF(Отделения[Город]=$G$1,ROW(Отделения[Город])-1),ROW(A87)-ROW($A$2)+1)),\"\")","v":""},{"$f":"IFERROR(INDEX(Отделения[отделение],SMALL(IF(Отделения[Город]=$H$1,ROW(Отделения[Город])-1),ROW(A87)-ROW($A$2)+1)),\"\")","v":""},{"$f":"IFERROR(INDEX(Отделения[отделение],SMALL(IF(Отделения[Город]=$I$1,ROW(Отделения[Город])-1),ROW(A87)-ROW($A$2)+1)),\"\")","v":""},{"$f":"IFERROR(INDEX(Отделения[отделение],SMALL(IF(Отделения[Город]=$J$1,ROW(Отделения[Город])-1),ROW(A87)-ROW($A$2)+1)),\"\")","v":""},{"$f":"IFERROR(INDEX(Отделения[отделение],SMALL(IF(Отделения[Город]=$K$1,ROW(Отделения[Город])-1),ROW(A87)-ROW($A$2)+1)),\"\")","v":""},{"$f":"IFERROR(INDEX(Отделения[отделение],SMALL(IF(Отделения[Город]=$L$1,ROW(Отделения[Город])-1),ROW(A87)-ROW($A$2)+1)),\"\")","v":""},{"$f":"IFERROR(INDEX(Отделения[отделение],SMALL(IF(Отделения[Город]=$M$1,ROW(Отделения[Город])-1),ROW(B87)-ROW($A$2)+1)),\"\")","v":""},{"$f":"IFERROR(INDEX(Отделения[отделение],SMALL(IF(Отделения[Город]=$N$1,ROW(Отделения[Город])-1),ROW(#REF!)-ROW($A$2)+1)),\"\")","v":""},{"$f":"IFERROR(INDEX(Отделения[отделение],SMALL(IF(Отделения[Город]=$O$1,ROW(Отделения[Город])-1),ROW(C87)-ROW($A$2)+1)),\"\")","v":""},{"$f":"IFERROR(INDEX(Отделения[отделение],SMALL(IF(Отделения[Город]=$P$1,ROW(Отделения[Город])-1),ROW(D87)-ROW($A$2)+1)),\"\")","v":""},{"$f":"IFERROR(INDEX(Отделения[отделение],SMALL(IF(Отделения[Город]=$Q$1,ROW(Отделения[Город])-1),ROW(F87)-ROW($A$2)+1)),\"\")","v":""},{"$f":"IFERROR(INDEX(Отделения[отделение],SMALL(IF(Отделения[Город]=$R$1,ROW(Отделения[Город])-1),ROW(#REF!)-ROW($A$2)+1)),\"\")","v":""},{"$f":"IFERROR(INDEX(Отделения[отделение],SMALL(IF(Отделения[Город]=$S$1,ROW(Отделения[Город])-1),ROW(G87)-ROW($A$2)+1)),\"\")","v":""},{"$f":"IFERROR(INDEX(Отделения[отделение],SMALL(IF(Отделения[Город]=$T$1,ROW(Отделения[Город])-1),ROW(H87)-ROW($A$2)+1)),\"\")","v":""},{"$f":"IFERROR(INDEX(Отделения[отделение],SMALL(IF(Отделения[Город]=$U$1,ROW(Отделения[Город])-1),ROW(I87)-ROW($A$2)+1)),\"\")","v":""},{"$f":"IFERROR(INDEX(Отделения[отделение],SMALL(IF(Отделения[Город]=$V$1,ROW(Отделения[Город])-1),ROW(J87)-ROW($A$2)+1)),\"\")","v":""},{"$f":"IFERROR(INDEX(Отделения[отделение],SMALL(IF(Отделения[Город]=$W$1,ROW(Отделения[Город])-1),ROW(K87)-ROW($A$2)+1)),\"\")","v":""},{"$f":"IFERROR(INDEX(Отделения[отделение],SMALL(IF(Отделения[Город]=$X$1,ROW(Отделения[Город])-1),ROW(L87)-ROW($A$2)+1)),\"\")","v":""},{"$f":"IFERROR(INDEX(Отделения[отделение],SMALL(IF(Отделения[Город]=$Y$1,ROW(Отделения[Город])-1),ROW(M87)-ROW($A$2)+1)),\"\")","v":""},{"$f":"IFERROR(INDEX(Отделения[отделение],SMALL(IF(Отделения[Город]=$Z$1,ROW(Отделения[Город])-1),ROW(N87)-ROW($A$2)+1)),\"\")","v":""},{"$f":"IFERROR(INDEX(Отделения[отделение],SMALL(IF(Отделения[Город]=$AA$1,ROW(Отделения[Город])-1),ROW(O87)-ROW($A$2)+1)),\"\")","v":""},{"$f":"IFERROR(INDEX(Отделения[отделение],SMALL(IF(Отделения[Город]=$AB$1,ROW(Отделения[Город])-1),ROW(P87)-ROW($A$2)+1)),\"\")","v":""},{"$f":"IFERROR(INDEX(Отделения[отделение],SMALL(IF(Отделения[Город]=$AC$1,ROW(Отделения[Город])-1),ROW(Q87)-ROW($A$2)+1)),\"\")","v":""},{"$f":"IFERROR(INDEX(Отделения[отделение],SMALL(IF(Отделения[Город]=$AD$1,ROW(Отделения[Город])-1),ROW(R87)-ROW($A$2)+1)),\"\")","v":""},{"$f":"IFERROR(INDEX(Отделения[отделение],SMALL(IF(Отделения[Город]=$AE$1,ROW(Отделения[Город])-1),ROW(S87)-ROW($A$2)+1)),\"\")","v":""},{"$f":"IFERROR(INDEX(Отделения[отделение],SMALL(IF(Отделения[Город]=$AF$1,ROW(Отделения[Город])-1),ROW(T87)-ROW($A$2)+1)),\"\")","v":""},{"$f":"IFERROR(INDEX(Отделения[отделение],SMALL(IF(Отделения[Город]=$AG$1,ROW(Отделения[Город])-1),ROW(U87)-ROW($A$2)+1)),\"\")","v":""},{"$f":"IFERROR(INDEX(Отделения[отделение],SMALL(IF(Отделения[Город]=$AH$1,ROW(Отделения[Город])-1),ROW(V87)-ROW($A$2)+1)),\"\")","v":""},{"$f":"IFERROR(INDEX(Отделения[отделение],SMALL(IF(Отделения[Город]=$AI$1,ROW(Отделения[Город])-1),ROW(AB87)-ROW($A$2)+1)),\"\")","v":""},{"$f":"IFERROR(INDEX(Отделения[отделение],SMALL(IF(Отделения[Город]=$AJ$1,ROW(Отделения[Город])-1),ROW(AB87)-ROW($A$2)+1)),\"\")","v":""},{"$f":"IFERROR(INDEX(Отделения[отделение],SMALL(IF(Отделения[Город]=$AK$1,ROW(Отделения[Город])-1),ROW(AB87)-ROW($A$2)+1)),\"\")","v":""},{"$f":"IFERROR(INDEX(Отделения[отделение],SMALL(IF(Отделения[Город]=$AL$1,ROW(Отделения[Город])-1),ROW(AB87)-ROW($A$2)+1)),\"\")","v":""},{"$f":"IFERROR(INDEX(Отделения[отделение],SMALL(IF(Отделения[Город]=$AM$1,ROW(Отделения[Город])-1),ROW(AB87)-ROW($A$2)+1)),\"\")","v":""},{"$f":"IFERROR(INDEX(Отделения[отделение],SMALL(IF(Отделения[Город]=$AN$1,ROW(Отделения[Город])-1),ROW(AB87)-ROW($A$2)+1)),\"\")","v":""},{"$f":"IFERROR(INDEX(Отделения[отделение],SMALL(IF(Отделения[Город]=$AO$1,ROW(Отделения[Город])-1),ROW(AB87)-ROW($A$2)+1)),\"\")","v":""},{"$f":"IFERROR(INDEX(Отделения[отделение],SMALL(IF(Отделения[Город]=$AP$1,ROW(Отделения[Город])-1),ROW(AB87)-ROW($A$2)+1)),\"\")","v":""},{"$f":"IFERROR(INDEX(Отделения[отделение],SMALL(IF(Отделения[Город]=$AQ$1,ROW(Отделения[Город])-1),ROW(AB87)-ROW($A$2)+1)),\"\")","v":""},{"$f":"IFERROR(INDEX(Отделения[отделение],SMALL(IF(Отделения[Город]=$AR$1,ROW(Отделения[Город])-1),ROW(AB87)-ROW($A$2)+1)),\"\")","v":""},{"$f":"IFERROR(INDEX(Отделения[отделение],SMALL(IF(Отделения[Город]=$AS$1,ROW(Отделения[Город])-1),ROW(AB87)-ROW($A$2)+1)),\"\")","v":""},{"$f":"IFERROR(INDEX(Отделения[отделение],SMALL(IF(Отделения[Город]=$AT$1,ROW(Отделения[Город])-1),ROW(AB87)-ROW($A$2)+1)),\"\")","v":""},{"$f":"IFERROR(INDEX(Отделения[отделение],SMALL(IF(Отделения[Город]=$AU$1,ROW(Отделения[Город])-1),ROW(AB87)-ROW($A$2)+1)),\"\")","v":""},{"$f":"IFERROR(INDEX(Отделения[отделение],SMALL(IF(Отделения[Город]=$AV$1,ROW(Отделения[Город])-1),ROW(AB87)-ROW($A$2)+1)),\"\")","v":""},{"$f":"IFERROR(INDEX(Отделения[отделение],SMALL(IF(Отделения[Город]=$AW$1,ROW(Отделения[Город])-1),ROW(AB87)-ROW($A$2)+1)),\"\")","v":""},{"$f":"IFERROR(INDEX(Отделения[отделение],SMALL(IF(Отделения[Город]=$AX$1,ROW(Отделения[Город])-1),ROW(AB87)-ROW($A$2)+1)),\"\")","v":""},{"$f":"IFERROR(INDEX(Отделения[отделение],SMALL(IF(Отделения[Город]=$AY$1,ROW(Отделения[Город])-1),ROW(AB87)-ROW($A$2)+1)),\"\")","v":""},{"$f":"IFERROR(INDEX(Отделения[отделение],SMALL(IF(Отделения[Город]=$AZ$1,ROW(Отделения[Город])-1),ROW(AB87)-ROW($A$2)+1)),\"\")","v":""},{"$f":"IFERROR(INDEX(Отделения[отделение],SMALL(IF(Отделения[Город]=$BA$1,ROW(Отделения[Город])-1),ROW(AB87)-ROW($A$2)+1)),\"\")","v":""},{"$f":"IFERROR(INDEX(Отделения[отделение],SMALL(IF(Отделения[Город]=$BB$1,ROW(Отделения[Город])-1),ROW(AB87)-ROW($A$2)+1)),\"\")","v":""},{"$f":"IFERROR(INDEX(Отделения[отделение],SMALL(IF(Отделения[Город]=$BC$1,ROW(Отделения[Город])-1),ROW(AC87)-ROW($A$2)+1)),\"\")","v":""},{"$f":"IFERROR(INDEX(Отделения[отделение],SMALL(IF(Отделения[Город]=$BD$1,ROW(Отделения[Город])-1),ROW(AD87)-ROW($A$2)+1)),\"\")","v":""},{"$f":"IFERROR(INDEX(Отделения[отделение],SMALL(IF(Отделения[Город]=$BE$1,ROW(Отделения[Город])-1),ROW(AE87)-ROW($A$2)+1)),\"\")","v":""},{"$f":"IFERROR(INDEX(Отделения[отделение],SMALL(IF(Отделения[Город]=$BF$1,ROW(Отделения[Город])-1),ROW(AF87)-ROW($A$2)+1)),\"\")","v":""},{"$f":"IFERROR(INDEX(Отделения[отделение],SMALL(IF(Отделения[Город]=$BG$1,ROW(Отделения[Город])-1),ROW(AG87)-ROW($A$2)+1)),\"\")","v":""},{"$f":"IFERROR(INDEX(Отделения[отделение],SMALL(IF(Отделения[Город]=$BH$1,ROW(Отделения[Город])-1),ROW(AH87)-ROW($A$2)+1)),\"\")","v":""},{"$f":"IFERROR(INDEX(Отделения[отделение],SMALL(IF(Отделения[Город]=$BI$1,ROW(Отделения[Город])-1),ROW(AI87)-ROW($A$2)+1)),\"\")","v":""},{"$f":"IFERROR(INDEX(Отделения[отделение],SMALL(IF(Отделения[Город]=$BJ$1,ROW(Отделения[Город])-1),ROW(AJ87)-ROW($A$2)+1)),\"\")","v":""},{"$f":"IFERROR(INDEX(Отделения[отделение],SMALL(IF(Отделения[Город]=$BK$1,ROW(Отделения[Город])-1),ROW(AK87)-ROW($A$2)+1)),\"\")","v":""},{"$f":"IFERROR(INDEX(Отделения[отделение],SMALL(IF(Отделения[Город]=$BL$1,ROW(Отделения[Город])-1),ROW(AL87)-ROW($A$2)+1)),\"\")","v":""},{"$f":"IFERROR(INDEX(Отделения[отделение],SMALL(IF(Отделения[Город]=$BM$1,ROW(Отделения[Город])-1),ROW(AM87)-ROW($A$2)+1)),\"\")","v":""},{"$f":"IFERROR(INDEX(Отделения[отделение],SMALL(IF(Отделения[Город]=$BN$1,ROW(Отделения[Город])-1),ROW(AN87)-ROW($A$2)+1)),\"\")","v":""},{"$f":"IFERROR(INDEX(Отделения[отделение],SMALL(IF(Отделения[Город]=$BO$1,ROW(Отделения[Город])-1),ROW(AO87)-ROW($A$2)+1)),\"\")","v":""},{"$f":"IFERROR(INDEX(Отделения[отделение],SMALL(IF(Отделения[Город]=$BP$1,ROW(Отделения[Город])-1),ROW(AP87)-ROW($A$2)+1)),\"\")","v":""},{"$f":"IFERROR(INDEX(Отделения[отделение],SMALL(IF(Отделения[Город]=$BQ$1,ROW(Отделения[Город])-1),ROW(AQ87)-ROW($A$2)+1)),\"\")","v":""},{"$f":"IFERROR(INDEX(Отделения[отделение],SMALL(IF(Отделения[Город]=$BR$1,ROW(Отделения[Город])-1),ROW(AR87)-ROW($A$2)+1)),\"\")","v":""},{"$f":"IFERROR(INDEX(Отделения[отделение],SMALL(IF(Отделения[Город]=$BS$1,ROW(Отделения[Город])-1),ROW(AS87)-ROW($A$2)+1)),\"\")","v":""},{"$f":"IFERROR(INDEX(Отделения[отделение],SMALL(IF(Отделения[Город]=$BT$1,ROW(Отделения[Город])-1),ROW(AT87)-ROW($A$2)+1)),\"\")","v":""},{"$f":"IFERROR(INDEX(Отделения[отделение],SMALL(IF(Отделения[Город]=$BU$1,ROW(Отделения[Город])-1),ROW(AU87)-ROW($A$2)+1)),\"\")","v":""},{"$f":"IFERROR(INDEX(Отделения[отделение],SMALL(IF(Отделения[Город]=$BV$1,ROW(Отделения[Город])-1),ROW(AV87)-ROW($A$2)+1)),\"\")","v":""},{"$f":"IFERROR(INDEX(Отделения[отделение],SMALL(IF(Отделения[Город]=$BW$1,ROW(Отделения[Город])-1),ROW(AV87)-ROW($A$2)+1)),\"\")","v":""},{"$f":"IFERROR(INDEX(Отделения[отделение],SMALL(IF(Отделения[Город]=$BX$1,ROW(Отделения[Город])-1),ROW(AV87)-ROW($A$2)+1)),\"\")","v":""},{"$f":"IFERROR(INDEX(Отделения[отделение],SMALL(IF(Отделения[Город]=$BY$1,ROW(Отделения[Город])-1),ROW(AV87)-ROW($A$2)+1)),\"\")","v":""},{"$f":"IFERROR(INDEX(Отделения[отделение],SMALL(IF(Отделения[Город]=$BZ$1,ROW(Отделения[Город])-1),ROW(AV87)-ROW($A$2)+1)),\"\")","v":""},{"$f":"IFERROR(INDEX(Отделения[отделение],SMALL(IF(Отделения[Город]=$CA$1,ROW(Отделения[Город])-1),ROW(AV87)-ROW($A$2)+1)),\"\")","v":""},{"$f":"IFERROR(INDEX(Отделения[отделение],SMALL(IF(Отделения[Город]=$CB$1,ROW(Отделения[Город])-1),ROW(AV87)-ROW($A$2)+1)),\"\")","v":""},{"$f":"IFERROR(INDEX(Отделения[отделение],SMALL(IF(Отделения[Город]=$CC$1,ROW(Отделения[Город])-1),ROW(AV87)-ROW($A$2)+1)),\"\")","v":""},{"$f":"IFERROR(INDEX(Отделения[отделение],SMALL(IF(Отделения[Город]=$CD$1,ROW(Отделения[Город])-1),ROW(AV87)-ROW($A$2)+1)),\"\")","v":""},{"$f":"IFERROR(INDEX(Отделения[отделение],SMALL(IF(Отделения[Город]=$CE$1,ROW(Отделения[Город])-1),ROW(AV87)-ROW($A$2)+1)),\"\")","v":""},{"$f":"IFERROR(INDEX(Отделения[отделение],SMALL(IF(Отделения[Город]=$CF$1,ROW(Отделения[Город])-1),ROW(AV87)-ROW($A$2)+1)),\"\")","v":""},{"$f":"IFERROR(INDEX(Отделения[отделение],SMALL(IF(Отделения[Город]=$CG$1,ROW(Отделения[Город])-1),ROW(AV87)-ROW($A$2)+1)),\"\")","v":""},{"$f":"IFERROR(INDEX(Отделения[отделение],SMALL(IF(Отделения[Город]=$CH$1,ROW(Отделения[Город])-1),ROW(AW87)-ROW($A$2)+1)),\"\")","v":""},{"$f":"IFERROR(INDEX(Отделения[отделение],SMALL(IF(Отделения[Город]=$CI$1,ROW(Отделения[Город])-1),ROW(AX87)-ROW($A$2)+1)),\"\")","v":""},{"$f":"IFERROR(INDEX(Отделения[отделение],SMALL(IF(Отделения[Город]=$CJ$1,ROW(Отделения[Город])-1),ROW(AY87)-ROW($A$2)+1)),\"\")","v":""},{"$f":"IFERROR(INDEX(Отделения[отделение],SMALL(IF(Отделения[Город]=$CK$1,ROW(Отделения[Город])-1),ROW(AZ87)-ROW($A$2)+1)),\"\")","v":""},{"$f":"IFERROR(INDEX(Отделения[отделение],SMALL(IF(Отделения[Город]=$CL$1,ROW(Отделения[Город])-1),ROW(BA87)-ROW($A$2)+1)),\"\")","v":""},{"$f":"IFERROR(INDEX(Отделения[отделение],SMALL(IF(Отделения[Город]=$CM$1,ROW(Отделения[Город])-1),ROW(BB87)-ROW($A$2)+1)),\"\")","v":""},{"$f":"IFERROR(INDEX(Отделения[отделение],SMALL(IF(Отделения[Город]=$CN$1,ROW(Отделения[Город])-1),ROW(BC87)-ROW($A$2)+1)),\"\")","v":""},{"$f":"IFERROR(INDEX(Отделения[отделение],SMALL(IF(Отделения[Город]=$CO$1,ROW(Отделения[Город])-1),ROW(BD87)-ROW($A$2)+1)),\"\")","v":""},{"$f":"IFERROR(INDEX(Отделения[отделение],SMALL(IF(Отделения[Город]=$CP$1,ROW(Отделения[Город])-1),ROW(BE87)-ROW($A$2)+1)),\"\")","v":""},{"$f":"IFERROR(INDEX(Отделения[отделение],SMALL(IF(Отделения[Город]=$CQ$1,ROW(Отделения[Город])-1),ROW(BF87)-ROW($A$2)+1)),\"\")","v":""},{"$f":"IFERROR(INDEX(Отделения[отделение],SMALL(IF(Отделения[Город]=$CR$1,ROW(Отделения[Город])-1),ROW(BG87)-ROW($A$2)+1)),\"\")","v":""},{"$f":"IFERROR(INDEX(Отделения[отделение],SMALL(IF(Отделения[Город]=$CS$1,ROW(Отделения[Город])-1),ROW(BH87)-ROW($A$2)+1)),\"\")","v":""},{"$f":"IFERROR(INDEX(Отделения[отделение],SMALL(IF(Отделения[Город]=$CT$1,ROW(Отделения[Город])-1),ROW(BI87)-ROW($A$2)+1)),\"\")","v":""},{"$f":"IFERROR(INDEX(Отделения[отделение],SMALL(IF(Отделения[Город]=$CU$1,ROW(Отделения[Город])-1),ROW(BJ87)-ROW($A$2)+1)),\"\")","v":""},{"$f":"IFERROR(INDEX(Отделения[отделение],SMALL(IF(Отделения[Город]=$CV$1,ROW(Отделения[Город])-1),ROW(BK87)-ROW($A$2)+1)),\"\")","v":""},{"$f":"IFERROR(INDEX(Отделения[отделение],SMALL(IF(Отделения[Город]=$CW$1,ROW(Отделения[Город])-1),ROW(BL87)-ROW($A$2)+1)),\"\")","v":""},{"$f":"IFERROR(INDEX(Отделения[отделение],SMALL(IF(Отделения[Город]=$CX$1,ROW(Отделения[Город])-1),ROW(BM87)-ROW($A$2)+1)),\"\")","v":""},{"$f":"IFERROR(INDEX(Отделения[отделение],SMALL(IF(Отделения[Город]=$CY$1,ROW(Отделения[Город])-1),ROW(BM87)-ROW($A$2)+1)),\"\")","v":""},{"$f":"IFERROR(INDEX(Отделения[отделение],SMALL(IF(Отделения[Город]=$CZ$1,ROW(Отделения[Город])-1),ROW(BM87)-ROW($A$2)+1)),\"\")","v":""},{"$f":"IFERROR(INDEX(Отделения[отделение],SMALL(IF(Отделения[Город]=$DA$1,ROW(Отделения[Город])-1),ROW(BM87)-ROW($A$2)+1)),\"\")","v":""},{"$f":"IFERROR(INDEX(Отделения[отделение],SMALL(IF(Отделения[Город]=$DB$1,ROW(Отделения[Город])-1),ROW(BM87)-ROW($A$2)+1)),\"\")","v":""}]
["Санкт-Петербург","ДО \"СПБ-Парк Победы\" , 196070, г. Санкт-Петербург, Московский проспект, дом 192-194, пом. 19Н, лит. А","0679","MOA1",null,null,{"$f":"IFERROR(INDEX(Отделения[отделение],SMALL(IF(Отделения[Город]=$G$1,ROW(Отделения[Город])-1),ROW(A88)-ROW($A$2)+1)),\"\")","v":""},{"$f":"IFERROR(INDEX(Отделения[отделение],SMALL(IF(Отделения[Город]=$H$1,ROW(Отделения[Город])-1),ROW(A88)-ROW($A$2)+1)),\"\")","v":""},{"$f":"IFERROR(INDEX(Отделения[отделение],SMALL(IF(Отделения[Город]=$I$1,ROW(Отделения[Город])-1),ROW(A88)-ROW($A$2)+1)),\"\")","v":""},{"$f":"IFERROR(INDEX(Отделения[отделение],SMALL(IF(Отделения[Город]=$J$1,ROW(Отделения[Город])-1),ROW(A88)-ROW($A$2)+1)),\"\")","v":""},{"$f":"IFERROR(INDEX(Отделения[отделение],SMALL(IF(Отделения[Город]=$K$1,ROW(Отделения[Город])-1),ROW(A88)-ROW($A$2)+1)),\"\")","v":""},{"$f":"IFERROR(INDEX(Отделения[отделение],SMALL(IF(Отделения[Город]=$L$1,ROW(Отделения[Город])-1),ROW(A88)-ROW($A$2)+1)),\"\")","v":""},{"$f":"IFERROR(INDEX(Отделения[отделение],SMALL(IF(Отделения[Город]=$M$1,ROW(Отделения[Город])-1),ROW(B88)-ROW($A$2)+1)),\"\")","v":""},{"$f":"IFERROR(INDEX(Отделения[отделение],SMALL(IF(Отделения[Город]=$N$1,ROW(Отделения[Город])-1),ROW(#REF!)-ROW($A$2)+1)),\"\")","v":""},{"$f":"IFERROR(INDEX(Отделения[отделение],SMALL(IF(Отделения[Город]=$O$1,ROW(Отделения[Город])-1),ROW(C88)-ROW($A$2)+1)),\"\")","v":""},{"$f":"IFERROR(INDEX(Отделения[отделение],SMALL(IF(Отделения[Город]=$P$1,ROW(Отделения[Город])-1),ROW(D88)-ROW($A$2)+1)),\"\")","v":""},{"$f":"IFERROR(INDEX(Отделения[отделение],SMALL(IF(Отделения[Город]=$Q$1,ROW(Отделения[Город])-1),ROW(F88)-ROW($A$2)+1)),\"\")","v":""},{"$f":"IFERROR(INDEX(Отделения[отделение],SMALL(IF(Отделения[Город]=$R$1,ROW(Отделения[Город])-1),ROW(#REF!)-ROW($A$2)+1)),\"\")","v":""},{"$f":"IFERROR(INDEX(Отделения[отделение],SMALL(IF(Отделения[Город]=$S$1,ROW(Отделения[Город])-1),ROW(G88)-ROW($A$2)+1)),\"\")","v":""},{"$f":"IFERROR(INDEX(Отделения[отделение],SMALL(IF(Отделения[Город]=$T$1,ROW(Отделения[Город])-1),ROW(H88)-ROW($A$2)+1)),\"\")","v":""},{"$f":"IFERROR(INDEX(Отделения[отделение],SMALL(IF(Отделения[Город]=$U$1,ROW(Отделения[Город])-1),ROW(I88)-ROW($A$2)+1)),\"\")","v":""},{"$f":"IFERROR(INDEX(Отделения[отделение],SMALL(IF(Отделения[Город]=$V$1,ROW(Отделения[Город])-1),ROW(J88)-ROW($A$2)+1)),\"\")","v":""},{"$f":"IFERROR(INDEX(Отделения[отделение],SMALL(IF(Отделения[Город]=$W$1,ROW(Отделения[Город])-1),ROW(K88)-ROW($A$2)+1)),\"\")","v":""},{"$f":"IFERROR(INDEX(Отделения[отделение],SMALL(IF(Отделения[Город]=$X$1,ROW(Отделения[Город])-1),ROW(L88)-ROW($A$2)+1)),\"\")","v":""},{"$f":"IFERROR(INDEX(Отделения[отделение],SMALL(IF(Отделения[Город]=$Y$1,ROW(Отделения[Город])-1),ROW(M88)-ROW($A$2)+1)),\"\")","v":""},{"$f":"IFERROR(INDEX(Отделения[отделение],SMALL(IF(Отделения[Город]=$Z$1,ROW(Отделения[Город])-1),ROW(N88)-ROW($A$2)+1)),\"\")","v":""},{"$f":"IFERROR(INDEX(Отделения[отделение],SMALL(IF(Отделения[Город]=$AA$1,ROW(Отделения[Город])-1),ROW(O88)-ROW($A$2)+1)),\"\")","v":""},{"$f":"IFERROR(INDEX(Отделения[отделение],SMALL(IF(Отделения[Город]=$AB$1,ROW(Отделения[Город])-1),ROW(P88)-ROW($A$2)+1)),\"\")","v":""},{"$f":"IFERROR(INDEX(Отделения[отделение],SMALL(IF(Отделения[Город]=$AC$1,ROW(Отделения[Город])-1),ROW(Q88)-ROW($A$2)+1)),\"\")","v":""},{"$f":"IFERROR(INDEX(Отделения[отделение],SMALL(IF(Отделения[Город]=$AD$1,ROW(Отделения[Город])-1),ROW(R88)-ROW($A$2)+1)),\"\")","v":""},{"$f":"IFERROR(INDEX(Отделения[отделение],SMALL(IF(Отделения[Город]=$AE$1,ROW(Отделения[Город])-1),ROW(S88)-ROW($A$2)+1)),\"\")","v":""},{"$f":"IFERROR(INDEX(Отделения[отделение],SMALL(IF(Отделения[Город]=$AF$1,ROW(Отделения[Город])-1),ROW(T88)-ROW($A$2)+1)),\"\")","v":""},{"$f":"IFERROR(INDEX(Отделения[отделение],SMALL(IF(Отделения[Город]=$AG$1,ROW(Отделения[Город])-1),ROW(U88)-ROW($A$2)+1)),\"\")","v":""},{"$f":"IFERROR(INDEX(Отделения[отделение],SMALL(IF(Отделения[Город]=$AH$1,ROW(Отделения[Город])-1),ROW(V88)-ROW($A$2)+1)),\"\")","v":""},{"$f":"IFERROR(INDEX(Отделения[отделение],SMALL(IF(Отделения[Город]=$AI$1,ROW(Отделения[Город])-1),ROW(AB88)-ROW($A$2)+1)),\"\")","v":""},{"$f":"IFERROR(INDEX(Отделения[отделение],SMALL(IF(Отделения[Город]=$AJ$1,ROW(Отделения[Город])-1),ROW(AB88)-ROW($A$2)+1)),\"\")","v":""},{"$f":"IFERROR(INDEX(Отделения[отделение],SMALL(IF(Отделения[Город]=$AK$1,ROW(Отделения[Город])-1),ROW(AB88)-ROW($A$2)+1)),\"\")","v":""},{"$f":"IFERROR(INDEX(Отделения[отделение],SMALL(IF(Отделения[Город]=$AL$1,ROW(Отделения[Город])-1),ROW(AB88)-ROW($A$2)+1)),\"\")","v":""},{"$f":"IFERROR(INDEX(Отделения[отделение],SMALL(IF(Отделения[Город]=$AM$1,ROW(Отделения[Город])-1),ROW(AB88)-ROW($A$2)+1)),\"\")","v":""},{"$f":"IFERROR(INDEX(Отделения[отделение],SMALL(IF(Отделения[Город]=$AN$1,ROW(Отделения[Город])-1),ROW(AB88)-ROW($A$2)+1)),\"\")","v":""},{"$f":"IFERROR(INDEX(Отделения[отделение],SMALL(IF(Отделения[Город]=$AO$1,ROW(Отделения[Город])-1),ROW(AB88)-ROW($A$2)+1)),\"\")","v":""},{"$f":"IFERROR(INDEX(Отделения[отделение],SMALL(IF(Отделения[Город]=$AP$1,ROW(Отделения[Город])-1),ROW(AB88)-ROW($A$2)+1)),\"\")","v":""},{"$f":"IFERROR(INDEX(Отделения[отделение],SMALL(IF(Отделения[Город]=$AQ$1,ROW(Отделения[Город])-1),ROW(AB88)-ROW($A$2)+1)),\"\")","v":""},{"$f":"IFERROR(INDEX(Отделения[отделение],SMALL(IF(Отделения[Город]=$AR$1,ROW(Отделения[Город])-1),ROW(AB88)-ROW($A$2)+1)),\"\")","v":""},{"$f":"IFERROR(INDEX(Отделения[отделение],SMALL(IF(Отделения[Город]=$AS$1,ROW(Отделения[Город])-1),ROW(AB88)-ROW($A$2)+1)),\"\")","v":""},{"$f":"IFERROR(INDEX(Отделения[отделение],SMALL(IF(Отделения[Город]=$AT$1,ROW(Отделения[Город])-1),ROW(AB88)-ROW($A$2)+1)),\"\")","v":""},{"$f":"IFERROR(INDEX(Отделения[отделение],SMALL(IF(Отделения[Город]=$AU$1,ROW(Отделения[Город])-1),ROW(AB88)-ROW($A$2)+1)),\"\")","v":""},{"$f":"IFERROR(INDEX(Отделения[отделение],SMALL(IF(Отделения[Город]=$AV$1,ROW(Отделения[Город])-1),ROW(AB88)-ROW($A$2)+1)),\"\")","v":""},{"$f":"IFERROR(INDEX(Отделения[отделение],SMALL(IF(Отделения[Город]=$AW$1,ROW(Отделения[Город])-1),ROW(AB88)-ROW($A$2)+1)),\"\")","v":""},{"$f":"IFERROR(INDEX(Отделения[отделение],SMALL(IF(Отделения[Город]=$AX$1,ROW(Отделения[Город])-1),ROW(AB88)-ROW($A$2)+1)),\"\")","v":""},{"$f":"IFERROR(INDEX(Отделения[отделение],SMALL(IF(Отделения[Город]=$AY$1,ROW(Отделения[Город])-1),ROW(AB88)-ROW($A$2)+1)),\"\")","v":""},{"$f":"IFERROR(INDEX(Отделения[отделение],SMALL(IF(Отделения[Город]=$AZ$1,ROW(Отделения[Город])-1),ROW(AB88)-ROW($A$2)+1)),\"\")","v":""},{"$f":"IFERROR(INDEX(Отделения[отделение],SMALL(IF(Отделения[Город]=$BA$1,ROW(Отделения[Город])-1),ROW(AB88)-ROW($A$2)+1)),\"\")","v":""},{"$f":"IFERROR(INDEX(Отделения[отделение],SMALL(IF(Отделения[Город]=$BB$1,ROW(Отделения[Город])-1),ROW(AB88)-ROW($A$2)+1)),\"\")","v":""},{"$f":"IFERROR(INDEX(Отделения[отделение],SMALL(IF(Отделения[Город]=$BC$1,ROW(Отделения[Город])-1),ROW(AC88)-ROW($A$2)+1)),\"\")","v":""},{"$f":"IFERROR(INDEX(Отделения[отделение],SMALL(IF(Отделения[Город]=$BD$1,ROW(Отделения[Город])-1),ROW(AD88)-ROW($A$2)+1)),\"\")","v":""},{"$f":"IFERROR(INDEX(Отделения[отделение],SMALL(IF(Отделения[Город]=$BE$1,ROW(Отделения[Город])-1),ROW(AE88)-ROW($A$2)+1)),\"\")","v":""},{"$f":"IFERROR(INDEX(Отделения[отделение],SMALL(IF(Отделения[Город]=$BF$1,ROW(Отделения[Город])-1),ROW(AF88)-ROW($A$2)+1)),\"\")","v":""},{"$f":"IFERROR(INDEX(Отделения[отделение],SMALL(IF(Отделения[Город]=$BG$1,ROW(Отделения[Город])-1),ROW(AG88)-ROW($A$2)+1)),\"\")","v":""},{"$f":"IFERROR(INDEX(Отделения[отделение],SMALL(IF(Отделения[Город]=$BH$1,ROW(Отделения[Город])-1),ROW(AH88)-ROW($A$2)+1)),\"\")","v":""},{"$f":"IFERROR(INDEX(Отделения[отделение],SMALL(IF(Отделения[Город]=$BI$1,ROW(Отделения[Город])-1),ROW(AI88)-ROW($A$2)+1)),\"\")","v":""},{"$f":"IFERROR(INDEX(Отделения[отделение],SMALL(IF(Отделения[Город]=$BJ$1,ROW(Отделения[Город])-1),ROW(AJ88)-ROW($A$2)+1)),\"\")","v":""},{"$f":"IFERROR(INDEX(Отделения[отделение],SMALL(IF(Отделения[Город]=$BK$1,ROW(Отделения[Город])-1),ROW(AK88)-ROW($A$2)+1)),\"\")","v":""},{"$f":"IFERROR(INDEX(Отделения[отделение],SMALL(IF(Отделения[Город]=$BL$1,ROW(Отделения[Город])-1),ROW(AL88)-ROW($A$2)+1)),\"\")","v":""},{"$f":"IFERROR(INDEX(Отделения[отделение],SMALL(IF(Отделения[Город]=$BM$1,ROW(Отделения[Город])-1),ROW(AM88)-ROW($A$2)+1)),\"\")","v":""},{"$f":"IFERROR(INDEX(Отделения[отделение],SMALL(IF(Отделения[Город]=$BN$1,ROW(Отделения[Город])-1),ROW(AN88)-ROW($A$2)+1)),\"\")","v":""},{"$f":"IFERROR(INDEX(Отделения[отделение],SMALL(IF(Отделения[Город]=$BO$1,ROW(Отделения[Город])-1),ROW(AO88)-ROW($A$2)+1)),\"\")","v":""},{"$f":"IFERROR(INDEX(Отделения[отделение],SMALL(IF(Отделения[Город]=$BP$1,ROW(Отделения[Город])-1),ROW(AP88)-ROW($A$2)+1)),\"\")","v":""},{"$f":"IFERROR(INDEX(Отделения[отделение],SMALL(IF(Отделения[Город]=$BQ$1,ROW(Отделения[Город])-1),ROW(AQ88)-ROW($A$2)+1)),\"\")","v":""},{"$f":"IFERROR(INDEX(Отделения[отделение],SMALL(IF(Отделения[Город]=$BR$1,ROW(Отделения[Город])-1),ROW(AR88)-ROW($A$2)+1)),\"\")","v":""},{"$f":"IFERROR(INDEX(Отделения[отделение],SMALL(IF(Отделения[Город]=$BS$1,ROW(Отделения[Город])-1),ROW(AS88)-ROW($A$2)+1)),\"\")","v":""},{"$f":"IFERROR(INDEX(Отделения[отделение],SMALL(IF(Отделения[Город]=$BT$1,ROW(Отделения[Город])-1),ROW(AT88)-ROW($A$2)+1)),\"\")","v":""},{"$f":"IFERROR(INDEX(Отделения[отделение],SMALL(IF(Отделения[Город]=$BU$1,ROW(Отделения[Город])-1),ROW(AU88)-ROW($A$2)+1)),\"\")","v":""},{"$f":"IFERROR(INDEX(Отделения[отделение],SMALL(IF(Отделения[Город]=$BV$1,ROW(Отделения[Город])-1),ROW(AV88)-ROW($A$2)+1)),\"\")","v":""},{"$f":"IFERROR(INDEX(Отделения[отделение],SMALL(IF(Отделения[Город]=$BW$1,ROW(Отделения[Город])-1),ROW(AV88)-ROW($A$2)+1)),\"\")","v":""},{"$f":"IFERROR(INDEX(Отделения[отделение],SMALL(IF(Отделения[Город]=$BX$1,ROW(Отделения[Город])-1),ROW(AV88)-ROW($A$2)+1)),\"\")","v":""},{"$f":"IFERROR(INDEX(Отделения[отделение],SMALL(IF(Отделения[Город]=$BY$1,ROW(Отделения[Город])-1),ROW(AV88)-ROW($A$2)+1)),\"\")","v":""},{"$f":"IFERROR(INDEX(Отделения[отделение],SMALL(IF(Отделения[Город]=$BZ$1,ROW(Отделения[Город])-1),ROW(AV88)-ROW($A$2)+1)),\"\")","v":""},{"$f":"IFERROR(INDEX(Отделения[отделение],SMALL(IF(Отделения[Город]=$CA$1,ROW(Отделения[Город])-1),ROW(AV88)-ROW($A$2)+1)),\"\")","v":""},{"$f":"IFERROR(INDEX(Отделения[отделение],SMALL(IF(Отделения[Город]=$CB$1,ROW(Отделения[Город])-1),ROW(AV88)-ROW($A$2)+1)),\"\")","v":""},{"$f":"IFERROR(INDEX(Отделения[отделение],SMALL(IF(Отделения[Город]=$CC$1,ROW(Отделения[Город])-1),ROW(AV88)-ROW($A$2)+1)),\"\")","v":""},{"$f":"IFERROR(INDEX(Отделения[отделение],SMALL(IF(Отделения[Город]=$CD$1,ROW(Отделения[Город])-1),ROW(AV88)-ROW($A$2)+1)),\"\")","v":""},{"$f":"IFERROR(INDEX(Отделения[отделение],SMALL(IF(Отделения[Город]=$CE$1,ROW(Отделения[Город])-1),ROW(AV88)-ROW($A$2)+1)),\"\")","v":""},{"$f":"IFERROR(INDEX(Отделения[отделение],SMALL(IF(Отделения[Город]=$CF$1,ROW(Отделения[Город])-1),ROW(AV88)-ROW($A$2)+1)),\"\")","v":""},{"$f":"IFERROR(INDEX(Отделения[отделение],SMALL(IF(Отделения[Город]=$CG$1,ROW(Отделения[Город])-1),ROW(AV88)-ROW($A$2)+1)),\"\")","v":""},{"$f":"IFERROR(INDEX(Отделения[отделение],SMALL(IF(Отделения[Город]=$CH$1,ROW(Отделения[Город])-1),ROW(AW88)-ROW($A$2)+1)),\"\")","v":""},{"$f":"IFERROR(INDEX(Отделения[отделение],SMALL(IF(Отделения[Город]=$CI$1,ROW(Отделения[Город])-1),ROW(AX88)-ROW($A$2)+1)),\"\")","v":""},{"$f":"IFERROR(INDEX(Отделения[отделение],SMALL(IF(Отделения[Город]=$CJ$1,ROW(Отделения[Город])-1),ROW(AY88)-ROW($A$2)+1)),\"\")","v":""},{"$f":"IFERROR(INDEX(Отделения[отделение],SMALL(IF(Отделения[Город]=$CK$1,ROW(Отделения[Город])-1),ROW(AZ88)-ROW($A$2)+1)),\"\")","v":""},{"$f":"IFERROR(INDEX(Отделения[отделение],SMALL(IF(Отделения[Город]=$CL$1,ROW(Отделения[Город])-1),ROW(BA88)-ROW($A$2)+1)),\"\")","v":""},{"$f":"IFERROR(INDEX(Отделения[отделение],SMALL(IF(Отделения[Город]=$CM$1,ROW(Отделения[Город])-1),ROW(BB88)-ROW($A$2)+1)),\"\")","v":""},{"$f":"IFERROR(INDEX(Отделения[отделение],SMALL(IF(Отделения[Город]=$CN$1,ROW(Отделения[Город])-1),ROW(BC88)-ROW($A$2)+1)),\"\")","v":""},{"$f":"IFERROR(INDEX(Отделения[отделение],SMALL(IF(Отделения[Город]=$CO$1,ROW(Отделения[Город])-1),ROW(BD88)-ROW($A$2)+1)),\"\")","v":""},{"$f":"IFERROR(INDEX(Отделения[отделение],SMALL(IF(Отделения[Город]=$CP$1,ROW(Отделения[Город])-1),ROW(BE88)-ROW($A$2)+1)),\"\")","v":""},{"$f":"IFERROR(INDEX(Отделения[отделение],SMALL(IF(Отделения[Город]=$CQ$1,ROW(Отделения[Город])-1),ROW(BF88)-ROW($A$2)+1)),\"\")","v":""},{"$f":"IFERROR(INDEX(Отделения[отделение],SMALL(IF(Отделения[Город]=$CR$1,ROW(Отделения[Город])-1),ROW(BG88)-ROW($A$2)+1)),\"\")","v":""},{"$f":"IFERROR(INDEX(Отделения[отделение],SMALL(IF(Отделения[Город]=$CS$1,ROW(Отделения[Город])-1),ROW(BH88)-ROW($A$2)+1)),\"\")","v":""},{"$f":"IFERROR(INDEX(Отделения[отделение],SMALL(IF(Отделения[Город]=$CT$1,ROW(Отделения[Город])-1),ROW(BI88)-ROW($A$2)+1)),\"\")","v":""},{"$f":"IFERROR(INDEX(Отделения[отделение],SMALL(IF(Отделения[Город]=$CU$1,ROW(Отделения[Город])-1),ROW(BJ88)-ROW($A$2)+1)),\"\")","v":""},{"$f":"IFERROR(INDEX(Отделения[отделение],SMALL(IF(Отделения[Город]=$CV$1,ROW(Отделения[Город])-1),ROW(BK88)-ROW($A$2)+1)),\"\")","v":""},{"$f":"IFERROR(INDEX(Отделения[отделение],SMALL(IF(Отделения[Город]=$CW$1,ROW(Отделения[Город])-1),ROW(BL88)-ROW($A$2)+1)),\"\")","v":""},{"$f":"IFERROR(INDEX(Отделения[отделение],SMALL(IF(Отделения[Город]=$CX$1,ROW(Отделения[Город])-1),ROW(BM88)-ROW($A$2)+1)),\"\")","v":""},{"$f":"IFERROR(INDEX(Отделения[отделение],SMALL(IF(Отделения[Город]=$CY$1,ROW(Отделения[Город])-1),ROW(BM88)-ROW($A$2)+1)),\"\")","v":""},{"$f":"IFERROR(INDEX(Отделения[отделение],SMALL(IF(Отделения[Город]=$CZ$1,ROW(Отделения[Город])-1),ROW(BM88)-ROW($A$2)+1)),\"\")","v":""},{"$f":"IFERROR(INDEX(Отделения[отделение],SMALL(IF(Отделения[Город]=$DA$1,ROW(Отделения[Город])-1),ROW(BM88)-ROW($A$2)+1)),\"\")","v":""},{"$f":"IFERROR(INDEX(Отделения[отделение],SMALL(IF(Отделения[Город]=$DB$1,ROW(Отделения[Город])-1),ROW(BM88)-ROW($A$2)+1)),\"\")","v":""}]
["Санкт-Петербург","ДО \"СПБ-улица Дыбенко\" , 193232, г. Санкт-Петербург, пр-кт Большевиков, д. 21литерР","0681","MOXU",null,null,{"$f":"IFERROR(INDEX(Отделения[отделение],SMALL(IF(Отделения[Город]=$G$1,ROW(Отделения[Город])-1),ROW(A89)-ROW($A$2)+1)),\"\")","v":""},{"$f":"IFERROR(INDEX(Отделения[отделение],SMALL(IF(Отделения[Город]=$H$1,ROW(Отделения[Город])-1),ROW(A89)-ROW($A$2)+1)),\"\")","v":""},{"$f":"IFERROR(INDEX(Отделения[отделение],SMALL(IF(Отделения[Город]=$I$1,ROW(Отделения[Город])-1),ROW(A89)-ROW($A$2)+1)),\"\")","v":""},{"$f":"IFERROR(INDEX(Отделения[отделение],SMALL(IF(Отделения[Город]=$J$1,ROW(Отделения[Город])-1),ROW(A89)-ROW($A$2)+1)),\"\")","v":""},{"$f":"IFERROR(INDEX(Отделения[отделение],SMALL(IF(Отделения[Город]=$K$1,ROW(Отделения[Город])-1),ROW(A89)-ROW($A$2)+1)),\"\")","v":""},{"$f":"IFERROR(INDEX(Отделения[отделение],SMALL(IF(Отделения[Город]=$L$1,ROW(Отделения[Город])-1),ROW(A89)-ROW($A$2)+1)),\"\")","v":""},{"$f":"IFERROR(INDEX(Отделения[отделение],SMALL(IF(Отделения[Город]=$M$1,ROW(Отделения[Город])-1),ROW(B89)-ROW($A$2)+1)),\"\")","v":""},{"$f":"IFERROR(INDEX(Отделения[отделение],SMALL(IF(Отделения[Город]=$N$1,ROW(Отделения[Город])-1),ROW(#REF!)-ROW($A$2)+1)),\"\")","v":""},{"$f":"IFERROR(INDEX(Отделения[отделение],SMALL(IF(Отделения[Город]=$O$1,ROW(Отделения[Город])-1),ROW(C89)-ROW($A$2)+1)),\"\")","v":""},{"$f":"IFERROR(INDEX(Отделения[отделение],SMALL(IF(Отделения[Город]=$P$1,ROW(Отделения[Город])-1),ROW(D89)-ROW($A$2)+1)),\"\")","v":""},{"$f":"IFERROR(INDEX(Отделения[отделение],SMALL(IF(Отделения[Город]=$Q$1,ROW(Отделения[Город])-1),ROW(F89)-ROW($A$2)+1)),\"\")","v":""},{"$f":"IFERROR(INDEX(Отделения[отделение],SMALL(IF(Отделения[Город]=$R$1,ROW(Отделения[Город])-1),ROW(#REF!)-ROW($A$2)+1)),\"\")","v":""},{"$f":"IFERROR(INDEX(Отделения[отделение],SMALL(IF(Отделения[Город]=$S$1,ROW(Отделения[Город])-1),ROW(G89)-ROW($A$2)+1)),\"\")","v":""},{"$f":"IFERROR(INDEX(Отделения[отделение],SMALL(IF(Отделения[Город]=$T$1,ROW(Отделения[Город])-1),ROW(H89)-ROW($A$2)+1)),\"\")","v":""},{"$f":"IFERROR(INDEX(Отделения[отделение],SMALL(IF(Отделения[Город]=$U$1,ROW(Отделения[Город])-1),ROW(I89)-ROW($A$2)+1)),\"\")","v":""},{"$f":"IFERROR(INDEX(Отделения[отделение],SMALL(IF(Отделения[Город]=$V$1,ROW(Отделения[Город])-1),ROW(J89)-ROW($A$2)+1)),\"\")","v":""},{"$f":"IFERROR(INDEX(Отделения[отделение],SMALL(IF(Отделения[Город]=$W$1,ROW(Отделения[Город])-1),ROW(K89)-ROW($A$2)+1)),\"\")","v":""},{"$f":"IFERROR(INDEX(Отделения[отделение],SMALL(IF(Отделения[Город]=$X$1,ROW(Отделения[Город])-1),ROW(L89)-ROW($A$2)+1)),\"\")","v":""},{"$f":"IFERROR(INDEX(Отделения[отделение],SMALL(IF(Отделения[Город]=$Y$1,ROW(Отделения[Город])-1),ROW(M89)-ROW($A$2)+1)),\"\")","v":""},{"$f":"IFERROR(INDEX(Отделения[отделение],SMALL(IF(Отделения[Город]=$Z$1,ROW(Отделения[Город])-1),ROW(N89)-ROW($A$2)+1)),\"\")","v":""},{"$f":"IFERROR(INDEX(Отделения[отделение],SMALL(IF(Отделения[Город]=$AA$1,ROW(Отделения[Город])-1),ROW(O89)-ROW($A$2)+1)),\"\")","v":""},{"$f":"IFERROR(INDEX(Отделения[отделение],SMALL(IF(Отделения[Город]=$AB$1,ROW(Отделения[Город])-1),ROW(P89)-ROW($A$2)+1)),\"\")","v":""},{"$f":"IFERROR(INDEX(Отделения[отделение],SMALL(IF(Отделения[Город]=$AC$1,ROW(Отделения[Город])-1),ROW(Q89)-ROW($A$2)+1)),\"\")","v":""},{"$f":"IFERROR(INDEX(Отделения[отделение],SMALL(IF(Отделения[Город]=$AD$1,ROW(Отделения[Город])-1),ROW(R89)-ROW($A$2)+1)),\"\")","v":""},{"$f":"IFERROR(INDEX(Отделения[отделение],SMALL(IF(Отделения[Город]=$AE$1,ROW(Отделения[Город])-1),ROW(S89)-ROW($A$2)+1)),\"\")","v":""},{"$f":"IFERROR(INDEX(Отделения[отделение],SMALL(IF(Отделения[Город]=$AF$1,ROW(Отделения[Город])-1),ROW(T89)-ROW($A$2)+1)),\"\")","v":""},{"$f":"IFERROR(INDEX(Отделения[отделение],SMALL(IF(Отделения[Город]=$AG$1,ROW(Отделения[Город])-1),ROW(U89)-ROW($A$2)+1)),\"\")","v":""},{"$f":"IFERROR(INDEX(Отделения[отделение],SMALL(IF(Отделения[Город]=$AH$1,ROW(Отделения[Город])-1),ROW(V89)-ROW($A$2)+1)),\"\")","v":""},{"$f":"IFERROR(INDEX(Отделения[отделение],SMALL(IF(Отделения[Город]=$AI$1,ROW(Отделения[Город])-1),ROW(AB89)-ROW($A$2)+1)),\"\")","v":""},{"$f":"IFERROR(INDEX(Отделения[отделение],SMALL(IF(Отделения[Город]=$AJ$1,ROW(Отделения[Город])-1),ROW(AB89)-ROW($A$2)+1)),\"\")","v":""},{"$f":"IFERROR(INDEX(Отделения[отделение],SMALL(IF(Отделения[Город]=$AK$1,ROW(Отделения[Город])-1),ROW(AB89)-ROW($A$2)+1)),\"\")","v":""},{"$f":"IFERROR(INDEX(Отделения[отделение],SMALL(IF(Отделения[Город]=$AL$1,ROW(Отделения[Город])-1),ROW(AB89)-ROW($A$2)+1)),\"\")","v":""},{"$f":"IFERROR(INDEX(Отделения[отделение],SMALL(IF(Отделения[Город]=$AM$1,ROW(Отделения[Город])-1),ROW(AB89)-ROW($A$2)+1)),\"\")","v":""},{"$f":"IFERROR(INDEX(Отделения[отделение],SMALL(IF(Отделения[Город]=$AN$1,ROW(Отделения[Город])-1),ROW(AB89)-ROW($A$2)+1)),\"\")","v":""},{"$f":"IFERROR(INDEX(Отделения[отделение],SMALL(IF(Отделения[Город]=$AO$1,ROW(Отделения[Город])-1),ROW(AB89)-ROW($A$2)+1)),\"\")","v":""},{"$f":"IFERROR(INDEX(Отделения[отделение],SMALL(IF(Отделения[Город]=$AP$1,ROW(Отделения[Город])-1),ROW(AB89)-ROW($A$2)+1)),\"\")","v":""},{"$f":"IFERROR(INDEX(Отделения[отделение],SMALL(IF(Отделения[Город]=$AQ$1,ROW(Отделения[Город])-1),ROW(AB89)-ROW($A$2)+1)),\"\")","v":""},{"$f":"IFERROR(INDEX(Отделения[отделение],SMALL(IF(Отделения[Город]=$AR$1,ROW(Отделения[Город])-1),ROW(AB89)-ROW($A$2)+1)),\"\")","v":""},{"$f":"IFERROR(INDEX(Отделения[отделение],SMALL(IF(Отделения[Город]=$AS$1,ROW(Отделения[Город])-1),ROW(AB89)-ROW($A$2)+1)),\"\")","v":""},{"$f":"IFERROR(INDEX(Отделения[отделение],SMALL(IF(Отделения[Город]=$AT$1,ROW(Отделения[Город])-1),ROW(AB89)-ROW($A$2)+1)),\"\")","v":""},{"$f":"IFERROR(INDEX(Отделения[отделение],SMALL(IF(Отделения[Город]=$AU$1,ROW(Отделения[Город])-1),ROW(AB89)-ROW($A$2)+1)),\"\")","v":""},{"$f":"IFERROR(INDEX(Отделения[отделение],SMALL(IF(Отделения[Город]=$AV$1,ROW(Отделения[Город])-1),ROW(AB89)-ROW($A$2)+1)),\"\")","v":""},{"$f":"IFERROR(INDEX(Отделения[отделение],SMALL(IF(Отделения[Город]=$AW$1,ROW(Отделения[Город])-1),ROW(AB89)-ROW($A$2)+1)),\"\")","v":""},{"$f":"IFERROR(INDEX(Отделения[отделение],SMALL(IF(Отделения[Город]=$AX$1,ROW(Отделения[Город])-1),ROW(AB89)-ROW($A$2)+1)),\"\")","v":""},{"$f":"IFERROR(INDEX(Отделения[отделение],SMALL(IF(Отделения[Город]=$AY$1,ROW(Отделения[Город])-1),ROW(AB89)-ROW($A$2)+1)),\"\")","v":""},{"$f":"IFERROR(INDEX(Отделения[отделение],SMALL(IF(Отделения[Город]=$AZ$1,ROW(Отделения[Город])-1),ROW(AB89)-ROW($A$2)+1)),\"\")","v":""},{"$f":"IFERROR(INDEX(Отделения[отделение],SMALL(IF(Отделения[Город]=$BA$1,ROW(Отделения[Город])-1),ROW(AB89)-ROW($A$2)+1)),\"\")","v":""},{"$f":"IFERROR(INDEX(Отделения[отделение],SMALL(IF(Отделения[Город]=$BB$1,ROW(Отделения[Город])-1),ROW(AB89)-ROW($A$2)+1)),\"\")","v":""},{"$f":"IFERROR(INDEX(Отделения[отделение],SMALL(IF(Отделения[Город]=$BC$1,ROW(Отделения[Город])-1),ROW(AC89)-ROW($A$2)+1)),\"\")","v":""},{"$f":"IFERROR(INDEX(Отделения[отделение],SMALL(IF(Отделения[Город]=$BD$1,ROW(Отделения[Город])-1),ROW(AD89)-ROW($A$2)+1)),\"\")","v":""},{"$f":"IFERROR(INDEX(Отделения[отделение],SMALL(IF(Отделения[Город]=$BE$1,ROW(Отделения[Город])-1),ROW(AE89)-ROW($A$2)+1)),\"\")","v":""},{"$f":"IFERROR(INDEX(Отделения[отделение],SMALL(IF(Отделения[Город]=$BF$1,ROW(Отделения[Город])-1),ROW(AF89)-ROW($A$2)+1)),\"\")","v":""},{"$f":"IFERROR(INDEX(Отделения[отделение],SMALL(IF(Отделения[Город]=$BG$1,ROW(Отделения[Город])-1),ROW(AG89)-ROW($A$2)+1)),\"\")","v":""},{"$f":"IFERROR(INDEX(Отделения[отделение],SMALL(IF(Отделения[Город]=$BH$1,ROW(Отделения[Город])-1),ROW(AH89)-ROW($A$2)+1)),\"\")","v":""},{"$f":"IFERROR(INDEX(Отделения[отделение],SMALL(IF(Отделения[Город]=$BI$1,ROW(Отделения[Город])-1),ROW(AI89)-ROW($A$2)+1)),\"\")","v":""},{"$f":"IFERROR(INDEX(Отделения[отделение],SMALL(IF(Отделения[Город]=$BJ$1,ROW(Отделения[Город])-1),ROW(AJ89)-ROW($A$2)+1)),\"\")","v":""},{"$f":"IFERROR(INDEX(Отделения[отделение],SMALL(IF(Отделения[Город]=$BK$1,ROW(Отделения[Город])-1),ROW(AK89)-ROW($A$2)+1)),\"\")","v":""},{"$f":"IFERROR(INDEX(Отделения[отделение],SMALL(IF(Отделения[Город]=$BL$1,ROW(Отделения[Город])-1),ROW(AL89)-ROW($A$2)+1)),\"\")","v":""},{"$f":"IFERROR(INDEX(Отделения[отделение],SMALL(IF(Отделения[Город]=$BM$1,ROW(Отделения[Город])-1),ROW(AM89)-ROW($A$2)+1)),\"\")","v":""},{"$f":"IFERROR(INDEX(Отделения[отделение],SMALL(IF(Отделения[Город]=$BN$1,ROW(Отделения[Город])-1),ROW(AN89)-ROW($A$2)+1)),\"\")","v":""},{"$f":"IFERROR(INDEX(Отделения[отделение],SMALL(IF(Отделения[Город]=$BO$1,ROW(Отделения[Город])-1),ROW(AO89)-ROW($A$2)+1)),\"\")","v":""},{"$f":"IFERROR(INDEX(Отделения[отделение],SMALL(IF(Отделения[Город]=$BP$1,ROW(Отделения[Город])-1),ROW(AP89)-ROW($A$2)+1)),\"\")","v":""},{"$f":"IFERROR(INDEX(Отделения[отделение],SMALL(IF(Отделения[Город]=$BQ$1,ROW(Отделения[Город])-1),ROW(AQ89)-ROW($A$2)+1)),\"\")","v":""},{"$f":"IFERROR(INDEX(Отделения[отделение],SMALL(IF(Отделения[Город]=$BR$1,ROW(Отделения[Город])-1),ROW(AR89)-ROW($A$2)+1)),\"\")","v":""},{"$f":"IFERROR(INDEX(Отделения[отделение],SMALL(IF(Отделения[Город]=$BS$1,ROW(Отделения[Город])-1),ROW(AS89)-ROW($A$2)+1)),\"\")","v":""},{"$f":"IFERROR(INDEX(Отделения[отделение],SMALL(IF(Отделения[Город]=$BT$1,ROW(Отделения[Город])-1),ROW(AT89)-ROW($A$2)+1)),\"\")","v":""},{"$f":"IFERROR(INDEX(Отделения[отделение],SMALL(IF(Отделения[Город]=$BU$1,ROW(Отделения[Город])-1),ROW(AU89)-ROW($A$2)+1)),\"\")","v":""},{"$f":"IFERROR(INDEX(Отделения[отделение],SMALL(IF(Отделения[Город]=$BV$1,ROW(Отделения[Город])-1),ROW(AV89)-ROW($A$2)+1)),\"\")","v":""},{"$f":"IFERROR(INDEX(Отделения[отделение],SMALL(IF(Отделения[Город]=$BW$1,ROW(Отделения[Город])-1),ROW(AV89)-ROW($A$2)+1)),\"\")","v":""},{"$f":"IFERROR(INDEX(Отделения[отделение],SMALL(IF(Отделения[Город]=$BX$1,ROW(Отделения[Город])-1),ROW(AV89)-ROW($A$2)+1)),\"\")","v":""},{"$f":"IFERROR(INDEX(Отделения[отделение],SMALL(IF(Отделения[Город]=$BY$1,ROW(Отделения[Город])-1),ROW(AV89)-ROW($A$2)+1)),\"\")","v":""},{"$f":"IFERROR(INDEX(Отделения[отделение],SMALL(IF(Отделения[Город]=$BZ$1,ROW(Отделения[Город])-1),ROW(AV89)-ROW($A$2)+1)),\"\")","v":""},{"$f":"IFERROR(INDEX(Отделения[отделение],SMALL(IF(Отделения[Город]=$CA$1,ROW(Отделения[Город])-1),ROW(AV89)-ROW($A$2)+1)),\"\")","v":""},{"$f":"IFERROR(INDEX(Отделения[отделение],SMALL(IF(Отделения[Город]=$CB$1,ROW(Отделения[Город])-1),ROW(AV89)-ROW($A$2)+1)),\"\")","v":""},{"$f":"IFERROR(INDEX(Отделения[отделение],SMALL(IF(Отделения[Город]=$CC$1,ROW(Отделения[Город])-1),ROW(AV89)-ROW($A$2)+1)),\"\")","v":""},{"$f":"IFERROR(INDEX(Отделения[отделение],SMALL(IF(Отделения[Город]=$CD$1,ROW(Отделения[Город])-1),ROW(AV89)-ROW($A$2)+1)),\"\")","v":""},{"$f":"IFERROR(INDEX(Отделения[отделение],SMALL(IF(Отделения[Город]=$CE$1,ROW(Отделения[Город])-1),ROW(AV89)-ROW($A$2)+1)),\"\")","v":""},{"$f":"IFERROR(INDEX(Отделения[отделение],SMALL(IF(Отделения[Город]=$CF$1,ROW(Отделения[Город])-1),ROW(AV89)-ROW($A$2)+1)),\"\")","v":""},{"$f":"IFERROR(INDEX(Отделения[отделение],SMALL(IF(Отделения[Город]=$CG$1,ROW(Отделения[Город])-1),ROW(AV89)-ROW($A$2)+1)),\"\")","v":""},{"$f":"IFERROR(INDEX(Отделения[отделение],SMALL(IF(Отделения[Город]=$CH$1,ROW(Отделения[Город])-1),ROW(AW89)-ROW($A$2)+1)),\"\")","v":""},{"$f":"IFERROR(INDEX(Отделения[отделение],SMALL(IF(Отделения[Город]=$CI$1,ROW(Отделения[Город])-1),ROW(AX89)-ROW($A$2)+1)),\"\")","v":""},{"$f":"IFERROR(INDEX(Отделения[отделение],SMALL(IF(Отделения[Город]=$CJ$1,ROW(Отделения[Город])-1),ROW(AY89)-ROW($A$2)+1)),\"\")","v":""},{"$f":"IFERROR(INDEX(Отделения[отделение],SMALL(IF(Отделения[Город]=$CK$1,ROW(Отделения[Город])-1),ROW(AZ89)-ROW($A$2)+1)),\"\")","v":""},{"$f":"IFERROR(INDEX(Отделения[отделение],SMALL(IF(Отделения[Город]=$CL$1,ROW(Отделения[Город])-1),ROW(BA89)-ROW($A$2)+1)),\"\")","v":""},{"$f":"IFERROR(INDEX(Отделения[отделение],SMALL(IF(Отделения[Город]=$CM$1,ROW(Отделения[Город])-1),ROW(BB89)-ROW($A$2)+1)),\"\")","v":""},{"$f":"IFERROR(INDEX(Отделения[отделение],SMALL(IF(Отделения[Город]=$CN$1,ROW(Отделения[Город])-1),ROW(BC89)-ROW($A$2)+1)),\"\")","v":""},{"$f":"IFERROR(INDEX(Отделения[отделение],SMALL(IF(Отделения[Город]=$CO$1,ROW(Отделения[Город])-1),ROW(BD89)-ROW($A$2)+1)),\"\")","v":""},{"$f":"IFERROR(INDEX(Отделения[отделение],SMALL(IF(Отделения[Город]=$CP$1,ROW(Отделения[Город])-1),ROW(BE89)-ROW($A$2)+1)),\"\")","v":""},{"$f":"IFERROR(INDEX(Отделения[отделение],SMALL(IF(Отделения[Город]=$CQ$1,ROW(Отделения[Город])-1),ROW(BF89)-ROW($A$2)+1)),\"\")","v":""},{"$f":"IFERROR(INDEX(Отделения[отделение],SMALL(IF(Отделения[Город]=$CR$1,ROW(Отделения[Город])-1),ROW(BG89)-ROW($A$2)+1)),\"\")","v":""},{"$f":"IFERROR(INDEX(Отделения[отделение],SMALL(IF(Отделения[Город]=$CS$1,ROW(Отделения[Город])-1),ROW(BH89)-ROW($A$2)+1)),\"\")","v":""},{"$f":"IFERROR(INDEX(Отделения[отделение],SMALL(IF(Отделения[Город]=$CT$1,ROW(Отделения[Город])-1),ROW(BI89)-ROW($A$2)+1)),\"\")","v":""},{"$f":"IFERROR(INDEX(Отделения[отделение],SMALL(IF(Отделения[Город]=$CU$1,ROW(Отделения[Город])-1),ROW(BJ89)-ROW($A$2)+1)),\"\")","v":""},{"$f":"IFERROR(INDEX(Отделения[отделение],SMALL(IF(Отделения[Город]=$CV$1,ROW(Отделения[Город])-1),ROW(BK89)-ROW($A$2)+1)),\"\")","v":""},{"$f":"IFERROR(INDEX(Отделения[отделение],SMALL(IF(Отделения[Город]=$CW$1,ROW(Отделения[Город])-1),ROW(BL89)-ROW($A$2)+1)),\"\")","v":""},{"$f":"IFERROR(INDEX(Отделения[отделение],SMALL(IF(Отделения[Город]=$CX$1,ROW(Отделения[Город])-1),ROW(BM89)-ROW($A$2)+1)),\"\")","v":""},{"$f":"IFERROR(INDEX(Отделения[отделение],SMALL(IF(Отделения[Город]=$CY$1,ROW(Отделения[Город])-1),ROW(BM89)-ROW($A$2)+1)),\"\")","v":""},{"$f":"IFERROR(INDEX(Отделения[отделение],SMALL(IF(Отделения[Город]=$CZ$1,ROW(Отделения[Город])-1),ROW(BM89)-ROW($A$2)+1)),\"\")","v":""},{"$f":"IFERROR(INDEX(Отделения[отделение],SMALL(IF(Отделения[Город]=$DA$1,ROW(Отделения[Город])-1),ROW(BM89)-ROW($A$2)+1)),\"\")","v":""},{"$f":"IFERROR(INDEX(Отделения[отделение],SMALL(IF(Отделения[Город]=$DB$1,ROW(Отделения[Город])-1),ROW(BM89)-ROW($A$2)+1)),\"\")","v":""}]
["Тверь","ДО \"Тверь-улица Трехсвятская\" , 170100, Тверская область, г. Тверь,ул. Трехсвятская, д. 28","0682","MOXS",null,null,{"$f":"IFERROR(INDEX(Отделения[отделение],SMALL(IF(Отделения[Город]=$G$1,ROW(Отделения[Город])-1),ROW(A90)-ROW($A$2)+1)),\"\")","v":""},{"$f":"IFERROR(INDEX(Отделения[отделение],SMALL(IF(Отделения[Город]=$H$1,ROW(Отделения[Город])-1),ROW(A90)-ROW($A$2)+1)),\"\")","v":""},{"$f":"IFERROR(INDEX(Отделения[отделение],SMALL(IF(Отделения[Город]=$I$1,ROW(Отделения[Город])-1),ROW(A90)-ROW($A$2)+1)),\"\")","v":""},{"$f":"IFERROR(INDEX(Отделения[отделение],SMALL(IF(Отделения[Город]=$J$1,ROW(Отделения[Город])-1),ROW(A90)-ROW($A$2)+1)),\"\")","v":""},{"$f":"IFERROR(INDEX(Отделения[отделение],SMALL(IF(Отделения[Город]=$K$1,ROW(Отделения[Город])-1),ROW(A90)-ROW($A$2)+1)),\"\")","v":""},{"$f":"IFERROR(INDEX(Отделения[отделение],SMALL(IF(Отделения[Город]=$L$1,ROW(Отделения[Город])-1),ROW(A90)-ROW($A$2)+1)),\"\")","v":""},{"$f":"IFERROR(INDEX(Отделения[отделение],SMALL(IF(Отделения[Город]=$M$1,ROW(Отделения[Город])-1),ROW(B90)-ROW($A$2)+1)),\"\")","v":""},{"$f":"IFERROR(INDEX(Отделения[отделение],SMALL(IF(Отделения[Город]=$N$1,ROW(Отделения[Город])-1),ROW(#REF!)-ROW($A$2)+1)),\"\")","v":""},{"$f":"IFERROR(INDEX(Отделения[отделение],SMALL(IF(Отделения[Город]=$O$1,ROW(Отделения[Город])-1),ROW(C90)-ROW($A$2)+1)),\"\")","v":""},{"$f":"IFERROR(INDEX(Отделения[отделение],SMALL(IF(Отделения[Город]=$P$1,ROW(Отделения[Город])-1),ROW(D90)-ROW($A$2)+1)),\"\")","v":""},{"$f":"IFERROR(INDEX(Отделения[отделение],SMALL(IF(Отделения[Город]=$Q$1,ROW(Отделения[Город])-1),ROW(F90)-ROW($A$2)+1)),\"\")","v":""},{"$f":"IFERROR(INDEX(Отделения[отделение],SMALL(IF(Отделения[Город]=$R$1,ROW(Отделения[Город])-1),ROW(#REF!)-ROW($A$2)+1)),\"\")","v":""},{"$f":"IFERROR(INDEX(Отделения[отделение],SMALL(IF(Отделения[Город]=$S$1,ROW(Отделения[Город])-1),ROW(G90)-ROW($A$2)+1)),\"\")","v":""},{"$f":"IFERROR(INDEX(Отделения[отделение],SMALL(IF(Отделения[Город]=$T$1,ROW(Отделения[Город])-1),ROW(H90)-ROW($A$2)+1)),\"\")","v":""},{"$f":"IFERROR(INDEX(Отделения[отделение],SMALL(IF(Отделения[Город]=$U$1,ROW(Отделения[Город])-1),ROW(I90)-ROW($A$2)+1)),\"\")","v":""},{"$f":"IFERROR(INDEX(Отделения[отделение],SMALL(IF(Отделения[Город]=$V$1,ROW(Отделения[Город])-1),ROW(J90)-ROW($A$2)+1)),\"\")","v":""},{"$f":"IFERROR(INDEX(Отделения[отделение],SMALL(IF(Отделения[Город]=$W$1,ROW(Отделения[Город])-1),ROW(K90)-ROW($A$2)+1)),\"\")","v":""},{"$f":"IFERROR(INDEX(Отделения[отделение],SMALL(IF(Отделения[Город]=$X$1,ROW(Отделения[Город])-1),ROW(L90)-ROW($A$2)+1)),\"\")","v":""},{"$f":"IFERROR(INDEX(Отделения[отделение],SMALL(IF(Отделения[Город]=$Y$1,ROW(Отделения[Город])-1),ROW(M90)-ROW($A$2)+1)),\"\")","v":""},{"$f":"IFERROR(INDEX(Отделения[отделение],SMALL(IF(Отделения[Город]=$Z$1,ROW(Отделения[Город])-1),ROW(N90)-ROW($A$2)+1)),\"\")","v":""},{"$f":"IFERROR(INDEX(Отделения[отделение],SMALL(IF(Отделения[Город]=$AA$1,ROW(Отделения[Город])-1),ROW(O90)-ROW($A$2)+1)),\"\")","v":""},{"$f":"IFERROR(INDEX(Отделения[отделение],SMALL(IF(Отделения[Город]=$AB$1,ROW(Отделения[Город])-1),ROW(P90)-ROW($A$2)+1)),\"\")","v":""},{"$f":"IFERROR(INDEX(Отделения[отделение],SMALL(IF(Отделения[Город]=$AC$1,ROW(Отделения[Город])-1),ROW(Q90)-ROW($A$2)+1)),\"\")","v":""},{"$f":"IFERROR(INDEX(Отделения[отделение],SMALL(IF(Отделения[Город]=$AD$1,ROW(Отделения[Город])-1),ROW(R90)-ROW($A$2)+1)),\"\")","v":""},{"$f":"IFERROR(INDEX(Отделения[отделение],SMALL(IF(Отделения[Город]=$AE$1,ROW(Отделения[Город])-1),ROW(S90)-ROW($A$2)+1)),\"\")","v":""},{"$f":"IFERROR(INDEX(Отделения[отделение],SMALL(IF(Отделения[Город]=$AF$1,ROW(Отделения[Город])-1),ROW(T90)-ROW($A$2)+1)),\"\")","v":""},{"$f":"IFERROR(INDEX(Отделения[отделение],SMALL(IF(Отделения[Город]=$AG$1,ROW(Отделения[Город])-1),ROW(U90)-ROW($A$2)+1)),\"\")","v":""},{"$f":"IFERROR(INDEX(Отделения[отделение],SMALL(IF(Отделения[Город]=$AH$1,ROW(Отделения[Город])-1),ROW(V90)-ROW($A$2)+1)),\"\")","v":""},{"$f":"IFERROR(INDEX(Отделения[отделение],SMALL(IF(Отделения[Город]=$AI$1,ROW(Отделения[Город])-1),ROW(AB90)-ROW($A$2)+1)),\"\")","v":""},{"$f":"IFERROR(INDEX(Отделения[отделение],SMALL(IF(Отделения[Город]=$AJ$1,ROW(Отделения[Город])-1),ROW(AB90)-ROW($A$2)+1)),\"\")","v":""},{"$f":"IFERROR(INDEX(Отделения[отделение],SMALL(IF(Отделения[Город]=$AK$1,ROW(Отделения[Город])-1),ROW(AB90)-ROW($A$2)+1)),\"\")","v":""},{"$f":"IFERROR(INDEX(Отделения[отделение],SMALL(IF(Отделения[Город]=$AL$1,ROW(Отделения[Город])-1),ROW(AB90)-ROW($A$2)+1)),\"\")","v":""},{"$f":"IFERROR(INDEX(Отделения[отделение],SMALL(IF(Отделения[Город]=$AM$1,ROW(Отделения[Город])-1),ROW(AB90)-ROW($A$2)+1)),\"\")","v":""},{"$f":"IFERROR(INDEX(Отделения[отделение],SMALL(IF(Отделения[Город]=$AN$1,ROW(Отделения[Город])-1),ROW(AB90)-ROW($A$2)+1)),\"\")","v":""},{"$f":"IFERROR(INDEX(Отделения[отделение],SMALL(IF(Отделения[Город]=$AO$1,ROW(Отделения[Город])-1),ROW(AB90)-ROW($A$2)+1)),\"\")","v":""},{"$f":"IFERROR(INDEX(Отделения[отделение],SMALL(IF(Отделения[Город]=$AP$1,ROW(Отделения[Город])-1),ROW(AB90)-ROW($A$2)+1)),\"\")","v":""},{"$f":"IFERROR(INDEX(Отделения[отделение],SMALL(IF(Отделения[Город]=$AQ$1,ROW(Отделения[Город])-1),ROW(AB90)-ROW($A$2)+1)),\"\")","v":""},{"$f":"IFERROR(INDEX(Отделения[отделение],SMALL(IF(Отделения[Город]=$AR$1,ROW(Отделения[Город])-1),ROW(AB90)-ROW($A$2)+1)),\"\")","v":""},{"$f":"IFERROR(INDEX(Отделения[отделение],SMALL(IF(Отделения[Город]=$AS$1,ROW(Отделения[Город])-1),ROW(AB90)-ROW($A$2)+1)),\"\")","v":""},{"$f":"IFERROR(INDEX(Отделения[отделение],SMALL(IF(Отделения[Город]=$AT$1,ROW(Отделения[Город])-1),ROW(AB90)-ROW($A$2)+1)),\"\")","v":""},{"$f":"IFERROR(INDEX(Отделения[отделение],SMALL(IF(Отделения[Город]=$AU$1,ROW(Отделения[Город])-1),ROW(AB90)-ROW($A$2)+1)),\"\")","v":""},{"$f":"IFERROR(INDEX(Отделения[отделение],SMALL(IF(Отделения[Город]=$AV$1,ROW(Отделения[Город])-1),ROW(AB90)-ROW($A$2)+1)),\"\")","v":""},{"$f":"IFERROR(INDEX(Отделения[отделение],SMALL(IF(Отделения[Город]=$AW$1,ROW(Отделения[Город])-1),ROW(AB90)-ROW($A$2)+1)),\"\")","v":""},{"$f":"IFERROR(INDEX(Отделения[отделение],SMALL(IF(Отделения[Город]=$AX$1,ROW(Отделения[Город])-1),ROW(AB90)-ROW($A$2)+1)),\"\")","v":""},{"$f":"IFERROR(INDEX(Отделения[отделение],SMALL(IF(Отделения[Город]=$AY$1,ROW(Отделения[Город])-1),ROW(AB90)-ROW($A$2)+1)),\"\")","v":""},{"$f":"IFERROR(INDEX(Отделения[отделение],SMALL(IF(Отделения[Город]=$AZ$1,ROW(Отделения[Город])-1),ROW(AB90)-ROW($A$2)+1)),\"\")","v":""},{"$f":"IFERROR(INDEX(Отделения[отделение],SMALL(IF(Отделения[Город]=$BA$1,ROW(Отделения[Город])-1),ROW(AB90)-ROW($A$2)+1)),\"\")","v":""},{"$f":"IFERROR(INDEX(Отделения[отделение],SMALL(IF(Отделения[Город]=$BB$1,ROW(Отделения[Город])-1),ROW(AB90)-ROW($A$2)+1)),\"\")","v":""},{"$f":"IFERROR(INDEX(Отделения[отделение],SMALL(IF(Отделения[Город]=$BC$1,ROW(Отделения[Город])-1),ROW(AC90)-ROW($A$2)+1)),\"\")","v":""},{"$f":"IFERROR(INDEX(Отделения[отделение],SMALL(IF(Отделения[Город]=$BD$1,ROW(Отделения[Город])-1),ROW(AD90)-ROW($A$2)+1)),\"\")","v":""},{"$f":"IFERROR(INDEX(Отделения[отделение],SMALL(IF(Отделения[Город]=$BE$1,ROW(Отделения[Город])-1),ROW(AE90)-ROW($A$2)+1)),\"\")","v":""},{"$f":"IFERROR(INDEX(Отделения[отделение],SMALL(IF(Отделения[Город]=$BF$1,ROW(Отделения[Город])-1),ROW(AF90)-ROW($A$2)+1)),\"\")","v":""},{"$f":"IFERROR(INDEX(Отделения[отделение],SMALL(IF(Отделения[Город]=$BG$1,ROW(Отделения[Город])-1),ROW(AG90)-ROW($A$2)+1)),\"\")","v":""},{"$f":"IFERROR(INDEX(Отделения[отделение],SMALL(IF(Отделения[Город]=$BH$1,ROW(Отделения[Город])-1),ROW(AH90)-ROW($A$2)+1)),\"\")","v":""},{"$f":"IFERROR(INDEX(Отделения[отделение],SMALL(IF(Отделения[Город]=$BI$1,ROW(Отделения[Город])-1),ROW(AI90)-ROW($A$2)+1)),\"\")","v":""},{"$f":"IFERROR(INDEX(Отделения[отделение],SMALL(IF(Отделения[Город]=$BJ$1,ROW(Отделения[Город])-1),ROW(AJ90)-ROW($A$2)+1)),\"\")","v":""},{"$f":"IFERROR(INDEX(Отделения[отделение],SMALL(IF(Отделения[Город]=$BK$1,ROW(Отделения[Город])-1),ROW(AK90)-ROW($A$2)+1)),\"\")","v":""},{"$f":"IFERROR(INDEX(Отделения[отделение],SMALL(IF(Отделения[Город]=$BL$1,ROW(Отделения[Город])-1),ROW(AL90)-ROW($A$2)+1)),\"\")","v":""},{"$f":"IFERROR(INDEX(Отделения[отделение],SMALL(IF(Отделения[Город]=$BM$1,ROW(Отделения[Город])-1),ROW(AM90)-ROW($A$2)+1)),\"\")","v":""},{"$f":"IFERROR(INDEX(Отделения[отделение],SMALL(IF(Отделения[Город]=$BN$1,ROW(Отделения[Город])-1),ROW(AN90)-ROW($A$2)+1)),\"\")","v":""},{"$f":"IFERROR(INDEX(Отделения[отделение],SMALL(IF(Отделения[Город]=$BO$1,ROW(Отделения[Город])-1),ROW(AO90)-ROW($A$2)+1)),\"\")","v":""},{"$f":"IFERROR(INDEX(Отделения[отделение],SMALL(IF(Отделения[Город]=$BP$1,ROW(Отделения[Город])-1),ROW(AP90)-ROW($A$2)+1)),\"\")","v":""},{"$f":"IFERROR(INDEX(Отделения[отделение],SMALL(IF(Отделения[Город]=$BQ$1,ROW(Отделения[Город])-1),ROW(AQ90)-ROW($A$2)+1)),\"\")","v":""},{"$f":"IFERROR(INDEX(Отделения[отделение],SMALL(IF(Отделения[Город]=$BR$1,ROW(Отделения[Город])-1),ROW(AR90)-ROW($A$2)+1)),\"\")","v":""},{"$f":"IFERROR(INDEX(Отделения[отделение],SMALL(IF(Отделения[Город]=$BS$1,ROW(Отделения[Город])-1),ROW(AS90)-ROW($A$2)+1)),\"\")","v":""},{"$f":"IFERROR(INDEX(Отделения[отделение],SMALL(IF(Отделения[Город]=$BT$1,ROW(Отделения[Город])-1),ROW(AT90)-ROW($A$2)+1)),\"\")","v":""},{"$f":"IFERROR(INDEX(Отделения[отделение],SMALL(IF(Отделения[Город]=$BU$1,ROW(Отделения[Город])-1),ROW(AU90)-ROW($A$2)+1)),\"\")","v":""},{"$f":"IFERROR(INDEX(Отделения[отделение],SMALL(IF(Отделения[Город]=$BV$1,ROW(Отделения[Город])-1),ROW(AV90)-ROW($A$2)+1)),\"\")","v":""},{"$f":"IFERROR(INDEX(Отделения[отделение],SMALL(IF(Отделения[Город]=$BW$1,ROW(Отделения[Город])-1),ROW(AV90)-ROW($A$2)+1)),\"\")","v":""},{"$f":"IFERROR(INDEX(Отделения[отделение],SMALL(IF(Отделения[Город]=$BX$1,ROW(Отделения[Город])-1),ROW(AV90)-ROW($A$2)+1)),\"\")","v":""},{"$f":"IFERROR(INDEX(Отделения[отделение],SMALL(IF(Отделения[Город]=$BY$1,ROW(Отделения[Город])-1),ROW(AV90)-ROW($A$2)+1)),\"\")","v":""},{"$f":"IFERROR(INDEX(Отделения[отделение],SMALL(IF(Отделения[Город]=$BZ$1,ROW(Отделения[Город])-1),ROW(AV90)-ROW($A$2)+1)),\"\")","v":""},{"$f":"IFERROR(INDEX(Отделения[отделение],SMALL(IF(Отделения[Город]=$CA$1,ROW(Отделения[Город])-1),ROW(AV90)-ROW($A$2)+1)),\"\")","v":""},{"$f":"IFERROR(INDEX(Отделения[отделение],SMALL(IF(Отделения[Город]=$CB$1,ROW(Отделения[Город])-1),ROW(AV90)-ROW($A$2)+1)),\"\")","v":""},{"$f":"IFERROR(INDEX(Отделения[отделение],SMALL(IF(Отделения[Город]=$CC$1,ROW(Отделения[Город])-1),ROW(AV90)-ROW($A$2)+1)),\"\")","v":""},{"$f":"IFERROR(INDEX(Отделения[отделение],SMALL(IF(Отделения[Город]=$CD$1,ROW(Отделения[Город])-1),ROW(AV90)-ROW($A$2)+1)),\"\")","v":""},{"$f":"IFERROR(INDEX(Отделения[отделение],SMALL(IF(Отделения[Город]=$CE$1,ROW(Отделения[Город])-1),ROW(AV90)-ROW($A$2)+1)),\"\")","v":""},{"$f":"IFERROR(INDEX(Отделения[отделение],SMALL(IF(Отделения[Город]=$CF$1,ROW(Отделения[Город])-1),ROW(AV90)-ROW($A$2)+1)),\"\")","v":""},{"$f":"IFERROR(INDEX(Отделения[отделение],SMALL(IF(Отделения[Город]=$CG$1,ROW(Отделения[Город])-1),ROW(AV90)-ROW($A$2)+1)),\"\")","v":""},{"$f":"IFERROR(INDEX(Отделения[отделение],SMALL(IF(Отделения[Город]=$CH$1,ROW(Отделения[Город])-1),ROW(AW90)-ROW($A$2)+1)),\"\")","v":""},{"$f":"IFERROR(INDEX(Отделения[отделение],SMALL(IF(Отделения[Город]=$CI$1,ROW(Отделения[Город])-1),ROW(AX90)-ROW($A$2)+1)),\"\")","v":""},{"$f":"IFERROR(INDEX(Отделения[отделение],SMALL(IF(Отделения[Город]=$CJ$1,ROW(Отделения[Город])-1),ROW(AY90)-ROW($A$2)+1)),\"\")","v":""},{"$f":"IFERROR(INDEX(Отделения[отделение],SMALL(IF(Отделения[Город]=$CK$1,ROW(Отделения[Город])-1),ROW(AZ90)-ROW($A$2)+1)),\"\")","v":""},{"$f":"IFERROR(INDEX(Отделения[отделение],SMALL(IF(Отделения[Город]=$CL$1,ROW(Отделения[Город])-1),ROW(BA90)-ROW($A$2)+1)),\"\")","v":""},{"$f":"IFERROR(INDEX(Отделения[отделение],SMALL(IF(Отделения[Город]=$CM$1,ROW(Отделения[Город])-1),ROW(BB90)-ROW($A$2)+1)),\"\")","v":""},{"$f":"IFERROR(INDEX(Отделения[отделение],SMALL(IF(Отделения[Город]=$CN$1,ROW(Отделения[Город])-1),ROW(BC90)-ROW($A$2)+1)),\"\")","v":""},{"$f":"IFERROR(INDEX(Отделения[отделение],SMALL(IF(Отделения[Город]=$CO$1,ROW(Отделения[Город])-1),ROW(BD90)-ROW($A$2)+1)),\"\")","v":""},{"$f":"IFERROR(INDEX(Отделения[отделение],SMALL(IF(Отделения[Город]=$CP$1,ROW(Отделения[Город])-1),ROW(BE90)-ROW($A$2)+1)),\"\")","v":""},{"$f":"IFERROR(INDEX(Отделения[отделение],SMALL(IF(Отделения[Город]=$CQ$1,ROW(Отделения[Город])-1),ROW(BF90)-ROW($A$2)+1)),\"\")","v":""},{"$f":"IFERROR(INDEX(Отделения[отделение],SMALL(IF(Отделения[Город]=$CR$1,ROW(Отделения[Город])-1),ROW(BG90)-ROW($A$2)+1)),\"\")","v":""},{"$f":"IFERROR(INDEX(Отделения[отделение],SMALL(IF(Отделения[Город]=$CS$1,ROW(Отделения[Город])-1),ROW(BH90)-ROW($A$2)+1)),\"\")","v":""},{"$f":"IFERROR(INDEX(Отделения[отделение],SMALL(IF(Отделения[Город]=$CT$1,ROW(Отделения[Город])-1),ROW(BI90)-ROW($A$2)+1)),\"\")","v":""},{"$f":"IFERROR(INDEX(Отделения[отделение],SMALL(IF(Отделения[Город]=$CU$1,ROW(Отделения[Город])-1),ROW(BJ90)-ROW($A$2)+1)),\"\")","v":""},{"$f":"IFERROR(INDEX(Отделения[отделение],SMALL(IF(Отделения[Город]=$CV$1,ROW(Отделения[Город])-1),ROW(BK90)-ROW($A$2)+1)),\"\")","v":""},{"$f":"IFERROR(INDEX(Отделения[отделение],SMALL(IF(Отделения[Город]=$CW$1,ROW(Отделения[Город])-1),ROW(BL90)-ROW($A$2)+1)),\"\")","v":""},{"$f":"IFERROR(INDEX(Отделения[отделение],SMALL(IF(Отделения[Город]=$CX$1,ROW(Отделения[Город])-1),ROW(BM90)-ROW($A$2)+1)),\"\")","v":""},{"$f":"IFERROR(INDEX(Отделения[отделение],SMALL(IF(Отделения[Город]=$CY$1,ROW(Отделения[Город])-1),ROW(BM90)-ROW($A$2)+1)),\"\")","v":""},{"$f":"IFERROR(INDEX(Отделения[отделение],SMALL(IF(Отделения[Город]=$CZ$1,ROW(Отделения[Город])-1),ROW(BM90)-ROW($A$2)+1)),\"\")","v":""},{"$f":"IFERROR(INDEX(Отделения[отделение],SMALL(IF(Отделения[Город]=$DA$1,ROW(Отделения[Город])-1),ROW(BM90)-ROW($A$2)+1)),\"\")","v":""},{"$f":"IFERROR(INDEX(Отделения[отделение],SMALL(IF(Отделения[Город]=$DB$1,ROW(Отделения[Город])-1),ROW(BM90)-ROW($A$2)+1)),\"\")","v":""}]
["Екатеринбург","ДО \"Екатеринбург-улица Уральская\" , 620041, г. Екатеринбург ,ул.Уральская д 75","0684","MOYO",null,null,{"$f":"IFERROR(INDEX(Отделения[отделение],SMALL(IF(Отделения[Город]=$G$1,ROW(Отделения[Город])-1),ROW(A91)-ROW($A$2)+1)),\"\")","v":""},{"$f":"IFERROR(INDEX(Отделения[отделение],SMALL(IF(Отделения[Город]=$H$1,ROW(Отделения[Город])-1),ROW(A91)-ROW($A$2)+1)),\"\")","v":""},{"$f":"IFERROR(INDEX(Отделения[отделение],SMALL(IF(Отделения[Город]=$I$1,ROW(Отделения[Город])-1),ROW(A91)-ROW($A$2)+1)),\"\")","v":""},{"$f":"IFERROR(INDEX(Отделения[отделение],SMALL(IF(Отделения[Город]=$J$1,ROW(Отделения[Город])-1),ROW(A91)-ROW($A$2)+1)),\"\")","v":""},{"$f":"IFERROR(INDEX(Отделения[отделение],SMALL(IF(Отделения[Город]=$K$1,ROW(Отделения[Город])-1),ROW(A91)-ROW($A$2)+1)),\"\")","v":""},{"$f":"IFERROR(INDEX(Отделения[отделение],SMALL(IF(Отделения[Город]=$L$1,ROW(Отделения[Город])-1),ROW(A91)-ROW($A$2)+1)),\"\")","v":""},{"$f":"IFERROR(INDEX(Отделения[отделение],SMALL(IF(Отделения[Город]=$M$1,ROW(Отделения[Город])-1),ROW(B91)-ROW($A$2)+1)),\"\")","v":""},{"$f":"IFERROR(INDEX(Отделения[отделение],SMALL(IF(Отделения[Город]=$N$1,ROW(Отделения[Город])-1),ROW(#REF!)-ROW($A$2)+1)),\"\")","v":""},{"$f":"IFERROR(INDEX(Отделения[отделение],SMALL(IF(Отделения[Город]=$O$1,ROW(Отделения[Город])-1),ROW(C91)-ROW($A$2)+1)),\"\")","v":""},{"$f":"IFERROR(INDEX(Отделения[отделение],SMALL(IF(Отделения[Город]=$P$1,ROW(Отделения[Город])-1),ROW(D91)-ROW($A$2)+1)),\"\")","v":""},{"$f":"IFERROR(INDEX(Отделения[отделение],SMALL(IF(Отделения[Город]=$Q$1,ROW(Отделения[Город])-1),ROW(F91)-ROW($A$2)+1)),\"\")","v":""},{"$f":"IFERROR(INDEX(Отделения[отделение],SMALL(IF(Отделения[Город]=$R$1,ROW(Отделения[Город])-1),ROW(#REF!)-ROW($A$2)+1)),\"\")","v":""},{"$f":"IFERROR(INDEX(Отделения[отделение],SMALL(IF(Отделения[Город]=$S$1,ROW(Отделения[Город])-1),ROW(G91)-ROW($A$2)+1)),\"\")","v":""},{"$f":"IFERROR(INDEX(Отделения[отделение],SMALL(IF(Отделения[Город]=$T$1,ROW(Отделения[Город])-1),ROW(H91)-ROW($A$2)+1)),\"\")","v":""},{"$f":"IFERROR(INDEX(Отделения[отделение],SMALL(IF(Отделения[Город]=$U$1,ROW(Отделения[Город])-1),ROW(I91)-ROW($A$2)+1)),\"\")","v":""},{"$f":"IFERROR(INDEX(Отделения[отделение],SMALL(IF(Отделения[Город]=$V$1,ROW(Отделения[Город])-1),ROW(J91)-ROW($A$2)+1)),\"\")","v":""},{"$f":"IFERROR(INDEX(Отделения[отделение],SMALL(IF(Отделения[Город]=$W$1,ROW(Отделения[Город])-1),ROW(K91)-ROW($A$2)+1)),\"\")","v":""},{"$f":"IFERROR(INDEX(Отделения[отделение],SMALL(IF(Отделения[Город]=$X$1,ROW(Отделения[Город])-1),ROW(L91)-ROW($A$2)+1)),\"\")","v":""},{"$f":"IFERROR(INDEX(Отделения[отделение],SMALL(IF(Отделения[Город]=$Y$1,ROW(Отделения[Город])-1),ROW(M91)-ROW($A$2)+1)),\"\")","v":""},{"$f":"IFERROR(INDEX(Отделения[отделение],SMALL(IF(Отделения[Город]=$Z$1,ROW(Отделения[Город])-1),ROW(N91)-ROW($A$2)+1)),\"\")","v":""},{"$f":"IFERROR(INDEX(Отделения[отделение],SMALL(IF(Отделения[Город]=$AA$1,ROW(Отделения[Город])-1),ROW(O91)-ROW($A$2)+1)),\"\")","v":""},{"$f":"IFERROR(INDEX(Отделения[отделение],SMALL(IF(Отделения[Город]=$AB$1,ROW(Отделения[Город])-1),ROW(P91)-ROW($A$2)+1)),\"\")","v":""},{"$f":"IFERROR(INDEX(Отделения[отделение],SMALL(IF(Отделения[Город]=$AC$1,ROW(Отделения[Город])-1),ROW(Q91)-ROW($A$2)+1)),\"\")","v":""},{"$f":"IFERROR(INDEX(Отделения[отделение],SMALL(IF(Отделения[Город]=$AD$1,ROW(Отделения[Город])-1),ROW(R91)-ROW($A$2)+1)),\"\")","v":""},{"$f":"IFERROR(INDEX(Отделения[отделение],SMALL(IF(Отделения[Город]=$AE$1,ROW(Отделения[Город])-1),ROW(S91)-ROW($A$2)+1)),\"\")","v":""},{"$f":"IFERROR(INDEX(Отделения[отделение],SMALL(IF(Отделения[Город]=$AF$1,ROW(Отделения[Город])-1),ROW(T91)-ROW($A$2)+1)),\"\")","v":""},{"$f":"IFERROR(INDEX(Отделения[отделение],SMALL(IF(Отделения[Город]=$AG$1,ROW(Отделения[Город])-1),ROW(U91)-ROW($A$2)+1)),\"\")","v":""},{"$f":"IFERROR(INDEX(Отделения[отделение],SMALL(IF(Отделения[Город]=$AH$1,ROW(Отделения[Город])-1),ROW(V91)-ROW($A$2)+1)),\"\")","v":""},{"$f":"IFERROR(INDEX(Отделения[отделение],SMALL(IF(Отделения[Город]=$AI$1,ROW(Отделения[Город])-1),ROW(AB91)-ROW($A$2)+1)),\"\")","v":""},{"$f":"IFERROR(INDEX(Отделения[отделение],SMALL(IF(Отделения[Город]=$AJ$1,ROW(Отделения[Город])-1),ROW(AB91)-ROW($A$2)+1)),\"\")","v":""},{"$f":"IFERROR(INDEX(Отделения[отделение],SMALL(IF(Отделения[Город]=$AK$1,ROW(Отделения[Город])-1),ROW(AB91)-ROW($A$2)+1)),\"\")","v":""},{"$f":"IFERROR(INDEX(Отделения[отделение],SMALL(IF(Отделения[Город]=$AL$1,ROW(Отделения[Город])-1),ROW(AB91)-ROW($A$2)+1)),\"\")","v":""},{"$f":"IFERROR(INDEX(Отделения[отделение],SMALL(IF(Отделения[Город]=$AM$1,ROW(Отделения[Город])-1),ROW(AB91)-ROW($A$2)+1)),\"\")","v":""},{"$f":"IFERROR(INDEX(Отделения[отделение],SMALL(IF(Отделения[Город]=$AN$1,ROW(Отделения[Город])-1),ROW(AB91)-ROW($A$2)+1)),\"\")","v":""},{"$f":"IFERROR(INDEX(Отделения[отделение],SMALL(IF(Отделения[Город]=$AO$1,ROW(Отделения[Город])-1),ROW(AB91)-ROW($A$2)+1)),\"\")","v":""},{"$f":"IFERROR(INDEX(Отделения[отделение],SMALL(IF(Отделения[Город]=$AP$1,ROW(Отделения[Город])-1),ROW(AB91)-ROW($A$2)+1)),\"\")","v":""},{"$f":"IFERROR(INDEX(Отделения[отделение],SMALL(IF(Отделения[Город]=$AQ$1,ROW(Отделения[Город])-1),ROW(AB91)-ROW($A$2)+1)),\"\")","v":""},{"$f":"IFERROR(INDEX(Отделения[отделение],SMALL(IF(Отделения[Город]=$AR$1,ROW(Отделения[Город])-1),ROW(AB91)-ROW($A$2)+1)),\"\")","v":""},{"$f":"IFERROR(INDEX(Отделения[отделение],SMALL(IF(Отделения[Город]=$AS$1,ROW(Отделения[Город])-1),ROW(AB91)-ROW($A$2)+1)),\"\")","v":""},{"$f":"IFERROR(INDEX(Отделения[отделение],SMALL(IF(Отделения[Город]=$AT$1,ROW(Отделения[Город])-1),ROW(AB91)-ROW($A$2)+1)),\"\")","v":""},{"$f":"IFERROR(INDEX(Отделения[отделение],SMALL(IF(Отделения[Город]=$AU$1,ROW(Отделения[Город])-1),ROW(AB91)-ROW($A$2)+1)),\"\")","v":""},{"$f":"IFERROR(INDEX(Отделения[отделение],SMALL(IF(Отделения[Город]=$AV$1,ROW(Отделения[Город])-1),ROW(AB91)-ROW($A$2)+1)),\"\")","v":""},{"$f":"IFERROR(INDEX(Отделения[отделение],SMALL(IF(Отделения[Город]=$AW$1,ROW(Отделения[Город])-1),ROW(AB91)-ROW($A$2)+1)),\"\")","v":""},{"$f":"IFERROR(INDEX(Отделения[отделение],SMALL(IF(Отделения[Город]=$AX$1,ROW(Отделения[Город])-1),ROW(AB91)-ROW($A$2)+1)),\"\")","v":""},{"$f":"IFERROR(INDEX(Отделения[отделение],SMALL(IF(Отделения[Город]=$AY$1,ROW(Отделения[Город])-1),ROW(AB91)-ROW($A$2)+1)),\"\")","v":""},{"$f":"IFERROR(INDEX(Отделения[отделение],SMALL(IF(Отделения[Город]=$AZ$1,ROW(Отделения[Город])-1),ROW(AB91)-ROW($A$2)+1)),\"\")","v":""},{"$f":"IFERROR(INDEX(Отделения[отделение],SMALL(IF(Отделения[Город]=$BA$1,ROW(Отделения[Город])-1),ROW(AB91)-ROW($A$2)+1)),\"\")","v":""},{"$f":"IFERROR(INDEX(Отделения[отделение],SMALL(IF(Отделения[Город]=$BB$1,ROW(Отделения[Город])-1),ROW(AB91)-ROW($A$2)+1)),\"\")","v":""},{"$f":"IFERROR(INDEX(Отделения[отделение],SMALL(IF(Отделения[Город]=$BC$1,ROW(Отделения[Город])-1),ROW(AC91)-ROW($A$2)+1)),\"\")","v":""},{"$f":"IFERROR(INDEX(Отделения[отделение],SMALL(IF(Отделения[Город]=$BD$1,ROW(Отделения[Город])-1),ROW(AD91)-ROW($A$2)+1)),\"\")","v":""},{"$f":"IFERROR(INDEX(Отделения[отделение],SMALL(IF(Отделения[Город]=$BE$1,ROW(Отделения[Город])-1),ROW(AE91)-ROW($A$2)+1)),\"\")","v":""},{"$f":"IFERROR(INDEX(Отделения[отделение],SMALL(IF(Отделения[Город]=$BF$1,ROW(Отделения[Город])-1),ROW(AF91)-ROW($A$2)+1)),\"\")","v":""},{"$f":"IFERROR(INDEX(Отделения[отделение],SMALL(IF(Отделения[Город]=$BG$1,ROW(Отделения[Город])-1),ROW(AG91)-ROW($A$2)+1)),\"\")","v":""},{"$f":"IFERROR(INDEX(Отделения[отделение],SMALL(IF(Отделения[Город]=$BH$1,ROW(Отделения[Город])-1),ROW(AH91)-ROW($A$2)+1)),\"\")","v":""},{"$f":"IFERROR(INDEX(Отделения[отделение],SMALL(IF(Отделения[Город]=$BI$1,ROW(Отделения[Город])-1),ROW(AI91)-ROW($A$2)+1)),\"\")","v":""},{"$f":"IFERROR(INDEX(Отделения[отделение],SMALL(IF(Отделения[Город]=$BJ$1,ROW(Отделения[Город])-1),ROW(AJ91)-ROW($A$2)+1)),\"\")","v":""},{"$f":"IFERROR(INDEX(Отделения[отделение],SMALL(IF(Отделения[Город]=$BK$1,ROW(Отделения[Город])-1),ROW(AK91)-ROW($A$2)+1)),\"\")","v":""},{"$f":"IFERROR(INDEX(Отделения[отделение],SMALL(IF(Отделения[Город]=$BL$1,ROW(Отделения[Город])-1),ROW(AL91)-ROW($A$2)+1)),\"\")","v":""},{"$f":"IFERROR(INDEX(Отделения[отделение],SMALL(IF(Отделения[Город]=$BM$1,ROW(Отделения[Город])-1),ROW(AM91)-ROW($A$2)+1)),\"\")","v":""},{"$f":"IFERROR(INDEX(Отделения[отделение],SMALL(IF(Отделения[Город]=$BN$1,ROW(Отделения[Город])-1),ROW(AN91)-ROW($A$2)+1)),\"\")","v":""},{"$f":"IFERROR(INDEX(Отделения[отделение],SMALL(IF(Отделения[Город]=$BO$1,ROW(Отделения[Город])-1),ROW(AO91)-ROW($A$2)+1)),\"\")","v":""},{"$f":"IFERROR(INDEX(Отделения[отделение],SMALL(IF(Отделения[Город]=$BP$1,ROW(Отделения[Город])-1),ROW(AP91)-ROW($A$2)+1)),\"\")","v":""},{"$f":"IFERROR(INDEX(Отделения[отделение],SMALL(IF(Отделения[Город]=$BQ$1,ROW(Отделения[Город])-1),ROW(AQ91)-ROW($A$2)+1)),\"\")","v":""},{"$f":"IFERROR(INDEX(Отделения[отделение],SMALL(IF(Отделения[Город]=$BR$1,ROW(Отделения[Город])-1),ROW(AR91)-ROW($A$2)+1)),\"\")","v":""},{"$f":"IFERROR(INDEX(Отделения[отделение],SMALL(IF(Отделения[Город]=$BS$1,ROW(Отделения[Город])-1),ROW(AS91)-ROW($A$2)+1)),\"\")","v":""},{"$f":"IFERROR(INDEX(Отделения[отделение],SMALL(IF(Отделения[Город]=$BT$1,ROW(Отделения[Город])-1),ROW(AT91)-ROW($A$2)+1)),\"\")","v":""},{"$f":"IFERROR(INDEX(Отделения[отделение],SMALL(IF(Отделения[Город]=$BU$1,ROW(Отделения[Город])-1),ROW(AU91)-ROW($A$2)+1)),\"\")","v":""},{"$f":"IFERROR(INDEX(Отделения[отделение],SMALL(IF(Отделения[Город]=$BV$1,ROW(Отделения[Город])-1),ROW(AV91)-ROW($A$2)+1)),\"\")","v":""},{"$f":"IFERROR(INDEX(Отделения[отделение],SMALL(IF(Отделения[Город]=$BW$1,ROW(Отделения[Город])-1),ROW(AV91)-ROW($A$2)+1)),\"\")","v":""},{"$f":"IFERROR(INDEX(Отделения[отделение],SMALL(IF(Отделения[Город]=$BX$1,ROW(Отделения[Город])-1),ROW(AV91)-ROW($A$2)+1)),\"\")","v":""},{"$f":"IFERROR(INDEX(Отделения[отделение],SMALL(IF(Отделения[Город]=$BY$1,ROW(Отделения[Город])-1),ROW(AV91)-ROW($A$2)+1)),\"\")","v":""},{"$f":"IFERROR(INDEX(Отделения[отделение],SMALL(IF(Отделения[Город]=$BZ$1,ROW(Отделения[Город])-1),ROW(AV91)-ROW($A$2)+1)),\"\")","v":""},{"$f":"IFERROR(INDEX(Отделения[отделение],SMALL(IF(Отделения[Город]=$CA$1,ROW(Отделения[Город])-1),ROW(AV91)-ROW($A$2)+1)),\"\")","v":""},{"$f":"IFERROR(INDEX(Отделения[отделение],SMALL(IF(Отделения[Город]=$CB$1,ROW(Отделения[Город])-1),ROW(AV91)-ROW($A$2)+1)),\"\")","v":""},{"$f":"IFERROR(INDEX(Отделения[отделение],SMALL(IF(Отделения[Город]=$CC$1,ROW(Отделения[Город])-1),ROW(AV91)-ROW($A$2)+1)),\"\")","v":""},{"$f":"IFERROR(INDEX(Отделения[отделение],SMALL(IF(Отделения[Город]=$CD$1,ROW(Отделения[Город])-1),ROW(AV91)-ROW($A$2)+1)),\"\")","v":""},{"$f":"IFERROR(INDEX(Отделения[отделение],SMALL(IF(Отделения[Город]=$CE$1,ROW(Отделения[Город])-1),ROW(AV91)-ROW($A$2)+1)),\"\")","v":""},{"$f":"IFERROR(INDEX(Отделения[отделение],SMALL(IF(Отделения[Город]=$CF$1,ROW(Отделения[Город])-1),ROW(AV91)-ROW($A$2)+1)),\"\")","v":""},{"$f":"IFERROR(INDEX(Отделения[отделение],SMALL(IF(Отделения[Город]=$CG$1,ROW(Отделения[Город])-1),ROW(AV91)-ROW($A$2)+1)),\"\")","v":""},{"$f":"IFERROR(INDEX(Отделения[отделение],SMALL(IF(Отделения[Город]=$CH$1,ROW(Отделения[Город])-1),ROW(AW91)-ROW($A$2)+1)),\"\")","v":""},{"$f":"IFERROR(INDEX(Отделения[отделение],SMALL(IF(Отделения[Город]=$CI$1,ROW(Отделения[Город])-1),ROW(AX91)-ROW($A$2)+1)),\"\")","v":""},{"$f":"IFERROR(INDEX(Отделения[отделение],SMALL(IF(Отделения[Город]=$CJ$1,ROW(Отделения[Город])-1),ROW(AY91)-ROW($A$2)+1)),\"\")","v":""},{"$f":"IFERROR(INDEX(Отделения[отделение],SMALL(IF(Отделения[Город]=$CK$1,ROW(Отделения[Город])-1),ROW(AZ91)-ROW($A$2)+1)),\"\")","v":""},{"$f":"IFERROR(INDEX(Отделения[отделение],SMALL(IF(Отделения[Город]=$CL$1,ROW(Отделения[Город])-1),ROW(BA91)-ROW($A$2)+1)),\"\")","v":""},{"$f":"IFERROR(INDEX(Отделения[отделение],SMALL(IF(Отделения[Город]=$CM$1,ROW(Отделения[Город])-1),ROW(BB91)-ROW($A$2)+1)),\"\")","v":""},{"$f":"IFERROR(INDEX(Отделения[отделение],SMALL(IF(Отделения[Город]=$CN$1,ROW(Отделения[Город])-1),ROW(BC91)-ROW($A$2)+1)),\"\")","v":""},{"$f":"IFERROR(INDEX(Отделения[отделение],SMALL(IF(Отделения[Город]=$CO$1,ROW(Отделения[Город])-1),ROW(BD91)-ROW($A$2)+1)),\"\")","v":""},{"$f":"IFERROR(INDEX(Отделения[отделение],SMALL(IF(Отделения[Город]=$CP$1,ROW(Отделения[Город])-1),ROW(BE91)-ROW($A$2)+1)),\"\")","v":""},{"$f":"IFERROR(INDEX(Отделения[отделение],SMALL(IF(Отделения[Город]=$CQ$1,ROW(Отделения[Город])-1),ROW(BF91)-ROW($A$2)+1)),\"\")","v":""},{"$f":"IFERROR(INDEX(Отделения[отделение],SMALL(IF(Отделения[Город]=$CR$1,ROW(Отделения[Город])-1),ROW(BG91)-ROW($A$2)+1)),\"\")","v":""},{"$f":"IFERROR(INDEX(Отделения[отделение],SMALL(IF(Отделения[Город]=$CS$1,ROW(Отделения[Город])-1),ROW(BH91)-ROW($A$2)+1)),\"\")","v":""},{"$f":"IFERROR(INDEX(Отделения[отделение],SMALL(IF(Отделения[Город]=$CT$1,ROW(Отделения[Город])-1),ROW(BI91)-ROW($A$2)+1)),\"\")","v":""},{"$f":"IFERROR(INDEX(Отделения[отделение],SMALL(IF(Отделения[Город]=$CU$1,ROW(Отделения[Город])-1),ROW(BJ91)-ROW($A$2)+1)),\"\")","v":""},{"$f":"IFERROR(INDEX(Отделения[отделение],SMALL(IF(Отделения[Город]=$CV$1,ROW(Отделения[Город])-1),ROW(BK91)-ROW($A$2)+1)),\"\")","v":""},{"$f":"IFERROR(INDEX(Отделения[отделение],SMALL(IF(Отделения[Город]=$CW$1,ROW(Отделения[Город])-1),ROW(BL91)-ROW($A$2)+1)),\"\")","v":""},{"$f":"IFERROR(INDEX(Отделения[отделение],SMALL(IF(Отделения[Город]=$CX$1,ROW(Отделения[Город])-1),ROW(BM91)-ROW($A$2)+1)),\"\")","v":""},{"$f":"IFERROR(INDEX(Отделения[отделение],SMALL(IF(Отделения[Город]=$CY$1,ROW(Отделения[Город])-1),ROW(BM91)-ROW($A$2)+1)),\"\")","v":""},{"$f":"IFERROR(INDEX(Отделения[отделение],SMALL(IF(Отделения[Город]=$CZ$1,ROW(Отделения[Город])-1),ROW(BM91)-ROW($A$2)+1)),\"\")","v":""},{"$f":"IFERROR(INDEX(Отделения[отделение],SMALL(IF(Отделения[Город]=$DA$1,ROW(Отделения[Город])-1),ROW(BM91)-ROW($A$2)+1)),\"\")","v":""},{"$f":"IFERROR(INDEX(Отделения[отделение],SMALL(IF(Отделения[Город]=$DB$1,ROW(Отделения[Город])-1),ROW(BM91)-ROW($A$2)+1)),\"\")","v":""}]
["Владивосток","ДО \"Владивосток-Тихоокеанский\" , 690002, Россия, Приморский край, г.Владивосток, пр-т Острякова, д. 5Г","0685","MOXN",null,null,{"$f":"IFERROR(INDEX(Отделения[отделение],SMALL(IF(Отделения[Город]=$G$1,ROW(Отделения[Город])-1),ROW(A92)-ROW($A$2)+1)),\"\")","v":""},{"$f":"IFERROR(INDEX(Отделения[отделение],SMALL(IF(Отделения[Город]=$H$1,ROW(Отделения[Город])-1),ROW(A92)-ROW($A$2)+1)),\"\")","v":""},{"$f":"IFERROR(INDEX(Отделения[отделение],SMALL(IF(Отделения[Город]=$I$1,ROW(Отделения[Город])-1),ROW(A92)-ROW($A$2)+1)),\"\")","v":""},{"$f":"IFERROR(INDEX(Отделения[отделение],SMALL(IF(Отделения[Город]=$J$1,ROW(Отделения[Город])-1),ROW(A92)-ROW($A$2)+1)),\"\")","v":""},{"$f":"IFERROR(INDEX(Отделения[отделение],SMALL(IF(Отделения[Город]=$K$1,ROW(Отделения[Город])-1),ROW(A92)-ROW($A$2)+1)),\"\")","v":""},{"$f":"IFERROR(INDEX(Отделения[отделение],SMALL(IF(Отделения[Город]=$L$1,ROW(Отделения[Город])-1),ROW(A92)-ROW($A$2)+1)),\"\")","v":""},{"$f":"IFERROR(INDEX(Отделения[отделение],SMALL(IF(Отделения[Город]=$M$1,ROW(Отделения[Город])-1),ROW(B92)-ROW($A$2)+1)),\"\")","v":""},{"$f":"IFERROR(INDEX(Отделения[отделение],SMALL(IF(Отделения[Город]=$N$1,ROW(Отделения[Город])-1),ROW(#REF!)-ROW($A$2)+1)),\"\")","v":""},{"$f":"IFERROR(INDEX(Отделения[отделение],SMALL(IF(Отделения[Город]=$O$1,ROW(Отделения[Город])-1),ROW(C92)-ROW($A$2)+1)),\"\")","v":""},{"$f":"IFERROR(INDEX(Отделения[отделение],SMALL(IF(Отделения[Город]=$P$1,ROW(Отделения[Город])-1),ROW(D92)-ROW($A$2)+1)),\"\")","v":""},{"$f":"IFERROR(INDEX(Отделения[отделение],SMALL(IF(Отделения[Город]=$Q$1,ROW(Отделения[Город])-1),ROW(F92)-ROW($A$2)+1)),\"\")","v":""},{"$f":"IFERROR(INDEX(Отделения[отделение],SMALL(IF(Отделения[Город]=$R$1,ROW(Отделения[Город])-1),ROW(#REF!)-ROW($A$2)+1)),\"\")","v":""},{"$f":"IFERROR(INDEX(Отделения[отделение],SMALL(IF(Отделения[Город]=$S$1,ROW(Отделения[Город])-1),ROW(G92)-ROW($A$2)+1)),\"\")","v":""},{"$f":"IFERROR(INDEX(Отделения[отделение],SMALL(IF(Отделения[Город]=$T$1,ROW(Отделения[Город])-1),ROW(H92)-ROW($A$2)+1)),\"\")","v":""},{"$f":"IFERROR(INDEX(Отделения[отделение],SMALL(IF(Отделения[Город]=$U$1,ROW(Отделения[Город])-1),ROW(I92)-ROW($A$2)+1)),\"\")","v":""},{"$f":"IFERROR(INDEX(Отделения[отделение],SMALL(IF(Отделения[Город]=$V$1,ROW(Отделения[Город])-1),ROW(J92)-ROW($A$2)+1)),\"\")","v":""},{"$f":"IFERROR(INDEX(Отделения[отделение],SMALL(IF(Отделения[Город]=$W$1,ROW(Отделения[Город])-1),ROW(K92)-ROW($A$2)+1)),\"\")","v":""},{"$f":"IFERROR(INDEX(Отделения[отделение],SMALL(IF(Отделения[Город]=$X$1,ROW(Отделения[Город])-1),ROW(L92)-ROW($A$2)+1)),\"\")","v":""},{"$f":"IFERROR(INDEX(Отделения[отделение],SMALL(IF(Отделения[Город]=$Y$1,ROW(Отделения[Город])-1),ROW(M92)-ROW($A$2)+1)),\"\")","v":""},{"$f":"IFERROR(INDEX(Отделения[отделение],SMALL(IF(Отделения[Город]=$Z$1,ROW(Отделения[Город])-1),ROW(N92)-ROW($A$2)+1)),\"\")","v":""},{"$f":"IFERROR(INDEX(Отделения[отделение],SMALL(IF(Отделения[Город]=$AA$1,ROW(Отделения[Город])-1),ROW(O92)-ROW($A$2)+1)),\"\")","v":""},{"$f":"IFERROR(INDEX(Отделения[отделение],SMALL(IF(Отделения[Город]=$AB$1,ROW(Отделения[Город])-1),ROW(P92)-ROW($A$2)+1)),\"\")","v":""},{"$f":"IFERROR(INDEX(Отделения[отделение],SMALL(IF(Отделения[Город]=$AC$1,ROW(Отделения[Город])-1),ROW(Q92)-ROW($A$2)+1)),\"\")","v":""},{"$f":"IFERROR(INDEX(Отделения[отделение],SMALL(IF(Отделения[Город]=$AD$1,ROW(Отделения[Город])-1),ROW(R92)-ROW($A$2)+1)),\"\")","v":""},{"$f":"IFERROR(INDEX(Отделения[отделение],SMALL(IF(Отделения[Город]=$AE$1,ROW(Отделения[Город])-1),ROW(S92)-ROW($A$2)+1)),\"\")","v":""},{"$f":"IFERROR(INDEX(Отделения[отделение],SMALL(IF(Отделения[Город]=$AF$1,ROW(Отделения[Город])-1),ROW(T92)-ROW($A$2)+1)),\"\")","v":""},{"$f":"IFERROR(INDEX(Отделения[отделение],SMALL(IF(Отделения[Город]=$AG$1,ROW(Отделения[Город])-1),ROW(U92)-ROW($A$2)+1)),\"\")","v":""},{"$f":"IFERROR(INDEX(Отделения[отделение],SMALL(IF(Отделения[Город]=$AH$1,ROW(Отделения[Город])-1),ROW(V92)-ROW($A$2)+1)),\"\")","v":""},{"$f":"IFERROR(INDEX(Отделения[отделение],SMALL(IF(Отделения[Город]=$AI$1,ROW(Отделения[Город])-1),ROW(AB92)-ROW($A$2)+1)),\"\")","v":""},{"$f":"IFERROR(INDEX(Отделения[отделение],SMALL(IF(Отделения[Город]=$AJ$1,ROW(Отделения[Город])-1),ROW(AB92)-ROW($A$2)+1)),\"\")","v":""},{"$f":"IFERROR(INDEX(Отделения[отделение],SMALL(IF(Отделения[Город]=$AK$1,ROW(Отделения[Город])-1),ROW(AB92)-ROW($A$2)+1)),\"\")","v":""},{"$f":"IFERROR(INDEX(Отделения[отделение],SMALL(IF(Отделения[Город]=$AL$1,ROW(Отделения[Город])-1),ROW(AB92)-ROW($A$2)+1)),\"\")","v":""},{"$f":"IFERROR(INDEX(Отделения[отделение],SMALL(IF(Отделения[Город]=$AM$1,ROW(Отделения[Город])-1),ROW(AB92)-ROW($A$2)+1)),\"\")","v":""},{"$f":"IFERROR(INDEX(Отделения[отделение],SMALL(IF(Отделения[Город]=$AN$1,ROW(Отделения[Город])-1),ROW(AB92)-ROW($A$2)+1)),\"\")","v":""},{"$f":"IFERROR(INDEX(Отделения[отделение],SMALL(IF(Отделения[Город]=$AO$1,ROW(Отделения[Город])-1),ROW(AB92)-ROW($A$2)+1)),\"\")","v":""},{"$f":"IFERROR(INDEX(Отделения[отделение],SMALL(IF(Отделения[Город]=$AP$1,ROW(Отделения[Город])-1),ROW(AB92)-ROW($A$2)+1)),\"\")","v":""},{"$f":"IFERROR(INDEX(Отделения[отделение],SMALL(IF(Отделения[Город]=$AQ$1,ROW(Отделения[Город])-1),ROW(AB92)-ROW($A$2)+1)),\"\")","v":""},{"$f":"IFERROR(INDEX(Отделения[отделение],SMALL(IF(Отделения[Город]=$AR$1,ROW(Отделения[Город])-1),ROW(AB92)-ROW($A$2)+1)),\"\")","v":""},{"$f":"IFERROR(INDEX(Отделения[отделение],SMALL(IF(Отделения[Город]=$AS$1,ROW(Отделения[Город])-1),ROW(AB92)-ROW($A$2)+1)),\"\")","v":""},{"$f":"IFERROR(INDEX(Отделения[отделение],SMALL(IF(Отделения[Город]=$AT$1,ROW(Отделения[Город])-1),ROW(AB92)-ROW($A$2)+1)),\"\")","v":""},{"$f":"IFERROR(INDEX(Отделения[отделение],SMALL(IF(Отделения[Город]=$AU$1,ROW(Отделения[Город])-1),ROW(AB92)-ROW($A$2)+1)),\"\")","v":""},{"$f":"IFERROR(INDEX(Отделения[отделение],SMALL(IF(Отделения[Город]=$AV$1,ROW(Отделения[Город])-1),ROW(AB92)-ROW($A$2)+1)),\"\")","v":""},{"$f":"IFERROR(INDEX(Отделения[отделение],SMALL(IF(Отделения[Город]=$AW$1,ROW(Отделения[Город])-1),ROW(AB92)-ROW($A$2)+1)),\"\")","v":""},{"$f":"IFERROR(INDEX(Отделения[отделение],SMALL(IF(Отделения[Город]=$AX$1,ROW(Отделения[Город])-1),ROW(AB92)-ROW($A$2)+1)),\"\")","v":""},{"$f":"IFERROR(INDEX(Отделения[отделение],SMALL(IF(Отделения[Город]=$AY$1,ROW(Отделения[Город])-1),ROW(AB92)-ROW($A$2)+1)),\"\")","v":""},{"$f":"IFERROR(INDEX(Отделения[отделение],SMALL(IF(Отделения[Город]=$AZ$1,ROW(Отделения[Город])-1),ROW(AB92)-ROW($A$2)+1)),\"\")","v":""},{"$f":"IFERROR(INDEX(Отделения[отделение],SMALL(IF(Отделения[Город]=$BA$1,ROW(Отделения[Город])-1),ROW(AB92)-ROW($A$2)+1)),\"\")","v":""},{"$f":"IFERROR(INDEX(Отделения[отделение],SMALL(IF(Отделения[Город]=$BB$1,ROW(Отделения[Город])-1),ROW(AB92)-ROW($A$2)+1)),\"\")","v":""},{"$f":"IFERROR(INDEX(Отделения[отделение],SMALL(IF(Отделения[Город]=$BC$1,ROW(Отделения[Город])-1),ROW(AC92)-ROW($A$2)+1)),\"\")","v":""},{"$f":"IFERROR(INDEX(Отделения[отделение],SMALL(IF(Отделения[Город]=$BD$1,ROW(Отделения[Город])-1),ROW(AD92)-ROW($A$2)+1)),\"\")","v":""},{"$f":"IFERROR(INDEX(Отделения[отделение],SMALL(IF(Отделения[Город]=$BE$1,ROW(Отделения[Город])-1),ROW(AE92)-ROW($A$2)+1)),\"\")","v":""},{"$f":"IFERROR(INDEX(Отделения[отделение],SMALL(IF(Отделения[Город]=$BF$1,ROW(Отделения[Город])-1),ROW(AF92)-ROW($A$2)+1)),\"\")","v":""},{"$f":"IFERROR(INDEX(Отделения[отделение],SMALL(IF(Отделения[Город]=$BG$1,ROW(Отделения[Город])-1),ROW(AG92)-ROW($A$2)+1)),\"\")","v":""},{"$f":"IFERROR(INDEX(Отделения[отделение],SMALL(IF(Отделения[Город]=$BH$1,ROW(Отделения[Город])-1),ROW(AH92)-ROW($A$2)+1)),\"\")","v":""},{"$f":"IFERROR(INDEX(Отделения[отделение],SMALL(IF(Отделения[Город]=$BI$1,ROW(Отделения[Город])-1),ROW(AI92)-ROW($A$2)+1)),\"\")","v":""},{"$f":"IFERROR(INDEX(Отделения[отделение],SMALL(IF(Отделения[Город]=$BJ$1,ROW(Отделения[Город])-1),ROW(AJ92)-ROW($A$2)+1)),\"\")","v":""},{"$f":"IFERROR(INDEX(Отделения[отделение],SMALL(IF(Отделения[Город]=$BK$1,ROW(Отделения[Город])-1),ROW(AK92)-ROW($A$2)+1)),\"\")","v":""},{"$f":"IFERROR(INDEX(Отделения[отделение],SMALL(IF(Отделения[Город]=$BL$1,ROW(Отделения[Город])-1),ROW(AL92)-ROW($A$2)+1)),\"\")","v":""},{"$f":"IFERROR(INDEX(Отделения[отделение],SMALL(IF(Отделения[Город]=$BM$1,ROW(Отделения[Город])-1),ROW(AM92)-ROW($A$2)+1)),\"\")","v":""},{"$f":"IFERROR(INDEX(Отделения[отделение],SMALL(IF(Отделения[Город]=$BN$1,ROW(Отделения[Город])-1),ROW(AN92)-ROW($A$2)+1)),\"\")","v":""},{"$f":"IFERROR(INDEX(Отделения[отделение],SMALL(IF(Отделения[Город]=$BO$1,ROW(Отделения[Город])-1),ROW(AO92)-ROW($A$2)+1)),\"\")","v":""},{"$f":"IFERROR(INDEX(Отделения[отделение],SMALL(IF(Отделения[Город]=$BP$1,ROW(Отделения[Город])-1),ROW(AP92)-ROW($A$2)+1)),\"\")","v":""},{"$f":"IFERROR(INDEX(Отделения[отделение],SMALL(IF(Отделения[Город]=$BQ$1,ROW(Отделения[Город])-1),ROW(AQ92)-ROW($A$2)+1)),\"\")","v":""},{"$f":"IFERROR(INDEX(Отделения[отделение],SMALL(IF(Отделения[Город]=$BR$1,ROW(Отделения[Город])-1),ROW(AR92)-ROW($A$2)+1)),\"\")","v":""},{"$f":"IFERROR(INDEX(Отделения[отделение],SMALL(IF(Отделения[Город]=$BS$1,ROW(Отделения[Город])-1),ROW(AS92)-ROW($A$2)+1)),\"\")","v":""},{"$f":"IFERROR(INDEX(Отделения[отделение],SMALL(IF(Отделения[Город]=$BT$1,ROW(Отделения[Город])-1),ROW(AT92)-ROW($A$2)+1)),\"\")","v":""},{"$f":"IFERROR(INDEX(Отделения[отделение],SMALL(IF(Отделения[Город]=$BU$1,ROW(Отделения[Город])-1),ROW(AU92)-ROW($A$2)+1)),\"\")","v":""},{"$f":"IFERROR(INDEX(Отделения[отделение],SMALL(IF(Отделения[Город]=$BV$1,ROW(Отделения[Город])-1),ROW(AV92)-ROW($A$2)+1)),\"\")","v":""},{"$f":"IFERROR(INDEX(Отделения[отделение],SMALL(IF(Отделения[Город]=$BW$1,ROW(Отделения[Город])-1),ROW(AV92)-ROW($A$2)+1)),\"\")","v":""},{"$f":"IFERROR(INDEX(Отделения[отделение],SMALL(IF(Отделения[Город]=$BX$1,ROW(Отделения[Город])-1),ROW(AV92)-ROW($A$2)+1)),\"\")","v":""},{"$f":"IFERROR(INDEX(Отделения[отделение],SMALL(IF(Отделения[Город]=$BY$1,ROW(Отделения[Город])-1),ROW(AV92)-ROW($A$2)+1)),\"\")","v":""},{"$f":"IFERROR(INDEX(Отделения[отделение],SMALL(IF(Отделения[Город]=$BZ$1,ROW(Отделения[Город])-1),ROW(AV92)-ROW($A$2)+1)),\"\")","v":""},{"$f":"IFERROR(INDEX(Отделения[отделение],SMALL(IF(Отделения[Город]=$CA$1,ROW(Отделения[Город])-1),ROW(AV92)-ROW($A$2)+1)),\"\")","v":""},{"$f":"IFERROR(INDEX(Отделения[отделение],SMALL(IF(Отделения[Город]=$CB$1,ROW(Отделения[Город])-1),ROW(AV92)-ROW($A$2)+1)),\"\")","v":""},{"$f":"IFERROR(INDEX(Отделения[отделение],SMALL(IF(Отделения[Город]=$CC$1,ROW(Отделения[Город])-1),ROW(AV92)-ROW($A$2)+1)),\"\")","v":""},{"$f":"IFERROR(INDEX(Отделения[отделение],SMALL(IF(Отделения[Город]=$CD$1,ROW(Отделения[Город])-1),ROW(AV92)-ROW($A$2)+1)),\"\")","v":""},{"$f":"IFERROR(INDEX(Отделения[отделение],SMALL(IF(Отделения[Город]=$CE$1,ROW(Отделения[Город])-1),ROW(AV92)-ROW($A$2)+1)),\"\")","v":""},{"$f":"IFERROR(INDEX(Отделения[отделение],SMALL(IF(Отделения[Город]=$CF$1,ROW(Отделения[Город])-1),ROW(AV92)-ROW($A$2)+1)),\"\")","v":""},{"$f":"IFERROR(INDEX(Отделения[отделение],SMALL(IF(Отделения[Город]=$CG$1,ROW(Отделения[Город])-1),ROW(AV92)-ROW($A$2)+1)),\"\")","v":""},{"$f":"IFERROR(INDEX(Отделения[отделение],SMALL(IF(Отделения[Город]=$CH$1,ROW(Отделения[Город])-1),ROW(AW92)-ROW($A$2)+1)),\"\")","v":""},{"$f":"IFERROR(INDEX(Отделения[отделение],SMALL(IF(Отделения[Город]=$CI$1,ROW(Отделения[Город])-1),ROW(AX92)-ROW($A$2)+1)),\"\")","v":""},{"$f":"IFERROR(INDEX(Отделения[отделение],SMALL(IF(Отделения[Город]=$CJ$1,ROW(Отделения[Город])-1),ROW(AY92)-ROW($A$2)+1)),\"\")","v":""},{"$f":"IFERROR(INDEX(Отделения[отделение],SMALL(IF(Отделения[Город]=$CK$1,ROW(Отделения[Город])-1),ROW(AZ92)-ROW($A$2)+1)),\"\")","v":""},{"$f":"IFERROR(INDEX(Отделения[отделение],SMALL(IF(Отделения[Город]=$CL$1,ROW(Отделения[Город])-1),ROW(BA92)-ROW($A$2)+1)),\"\")","v":""},{"$f":"IFERROR(INDEX(Отделения[отделение],SMALL(IF(Отделения[Город]=$CM$1,ROW(Отделения[Город])-1),ROW(BB92)-ROW($A$2)+1)),\"\")","v":""},{"$f":"IFERROR(INDEX(Отделения[отделение],SMALL(IF(Отделения[Город]=$CN$1,ROW(Отделения[Город])-1),ROW(BC92)-ROW($A$2)+1)),\"\")","v":""},{"$f":"IFERROR(INDEX(Отделения[отделение],SMALL(IF(Отделения[Город]=$CO$1,ROW(Отделения[Город])-1),ROW(BD92)-ROW($A$2)+1)),\"\")","v":""},{"$f":"IFERROR(INDEX(Отделения[отделение],SMALL(IF(Отделения[Город]=$CP$1,ROW(Отделения[Город])-1),ROW(BE92)-ROW($A$2)+1)),\"\")","v":""},{"$f":"IFERROR(INDEX(Отделения[отделение],SMALL(IF(Отделения[Город]=$CQ$1,ROW(Отделения[Город])-1),ROW(BF92)-ROW($A$2)+1)),\"\")","v":""},{"$f":"IFERROR(INDEX(Отделения[отделение],SMALL(IF(Отделения[Город]=$CR$1,ROW(Отделения[Город])-1),ROW(BG92)-ROW($A$2)+1)),\"\")","v":""},{"$f":"IFERROR(INDEX(Отделения[отделение],SMALL(IF(Отделения[Город]=$CS$1,ROW(Отделения[Город])-1),ROW(BH92)-ROW($A$2)+1)),\"\")","v":""},{"$f":"IFERROR(INDEX(Отделения[отделение],SMALL(IF(Отделения[Город]=$CT$1,ROW(Отделения[Город])-1),ROW(BI92)-ROW($A$2)+1)),\"\")","v":""},{"$f":"IFERROR(INDEX(Отделения[отделение],SMALL(IF(Отделения[Город]=$CU$1,ROW(Отделения[Город])-1),ROW(BJ92)-ROW($A$2)+1)),\"\")","v":""},{"$f":"IFERROR(INDEX(Отделения[отделение],SMALL(IF(Отделения[Город]=$CV$1,ROW(Отделения[Город])-1),ROW(BK92)-ROW($A$2)+1)),\"\")","v":""},{"$f":"IFERROR(INDEX(Отделения[отделение],SMALL(IF(Отделения[Город]=$CW$1,ROW(Отделения[Город])-1),ROW(BL92)-ROW($A$2)+1)),\"\")","v":""},{"$f":"IFERROR(INDEX(Отделения[отделение],SMALL(IF(Отделения[Город]=$CX$1,ROW(Отделения[Город])-1),ROW(BM92)-ROW($A$2)+1)),\"\")","v":""},{"$f":"IFERROR(INDEX(Отделения[отделение],SMALL(IF(Отделения[Город]=$CY$1,ROW(Отделения[Город])-1),ROW(BM92)-ROW($A$2)+1)),\"\")","v":""},{"$f":"IFERROR(INDEX(Отделения[отделение],SMALL(IF(Отделения[Город]=$CZ$1,ROW(Отделения[Город])-1),ROW(BM92)-ROW($A$2)+1)),\"\")","v":""},{"$f":"IFERROR(INDEX(Отделения[отделение],SMALL(IF(Отделения[Город]=$DA$1,ROW(Отделения[Город])-1),ROW(BM92)-ROW($A$2)+1)),\"\")","v":""},{"$f":"IFERROR(INDEX(Отделения[отделение],SMALL(IF(Отделения[Город]=$DB$1,ROW(Отделения[Город])-1),ROW(BM92)-ROW($A$2)+1)),\"\")","v":""}]
["Ачинск","ДО \"Ачинск-Чулым\" , 662153, Красноярский край, гАчинск, ул. 28 квартал, дом 5,пом.30","0686","MOWJ",null,null,{"$f":"IFERROR(INDEX(Отделения[отделение],SMALL(IF(Отделения[Город]=$G$1,ROW(Отделения[Город])-1),ROW(A93)-ROW($A$2)+1)),\"\")","v":""},{"$f":"IFERROR(INDEX(Отделения[отделение],SMALL(IF(Отделения[Город]=$H$1,ROW(Отделения[Город])-1),ROW(A93)-ROW($A$2)+1)),\"\")","v":""},{"$f":"IFERROR(INDEX(Отделения[отделение],SMALL(IF(Отделения[Город]=$I$1,ROW(Отделения[Город])-1),ROW(A93)-ROW($A$2)+1)),\"\")","v":""},{"$f":"IFERROR(INDEX(Отделения[отделение],SMALL(IF(Отделения[Город]=$J$1,ROW(Отделения[Город])-1),ROW(A93)-ROW($A$2)+1)),\"\")","v":""},{"$f":"IFERROR(INDEX(Отделения[отделение],SMALL(IF(Отделения[Город]=$K$1,ROW(Отделения[Город])-1),ROW(A93)-ROW($A$2)+1)),\"\")","v":""},{"$f":"IFERROR(INDEX(Отделения[отделение],SMALL(IF(Отделения[Город]=$L$1,ROW(Отделения[Город])-1),ROW(A93)-ROW($A$2)+1)),\"\")","v":""},{"$f":"IFERROR(INDEX(Отделения[отделение],SMALL(IF(Отделения[Город]=$M$1,ROW(Отделения[Город])-1),ROW(B93)-ROW($A$2)+1)),\"\")","v":""},{"$f":"IFERROR(INDEX(Отделения[отделение],SMALL(IF(Отделения[Город]=$N$1,ROW(Отделения[Город])-1),ROW(#REF!)-ROW($A$2)+1)),\"\")","v":""},{"$f":"IFERROR(INDEX(Отделения[отделение],SMALL(IF(Отделения[Город]=$O$1,ROW(Отделения[Город])-1),ROW(C93)-ROW($A$2)+1)),\"\")","v":""},{"$f":"IFERROR(INDEX(Отделения[отделение],SMALL(IF(Отделения[Город]=$P$1,ROW(Отделения[Город])-1),ROW(D93)-ROW($A$2)+1)),\"\")","v":""},{"$f":"IFERROR(INDEX(Отделения[отделение],SMALL(IF(Отделения[Город]=$Q$1,ROW(Отделения[Город])-1),ROW(F93)-ROW($A$2)+1)),\"\")","v":""},{"$f":"IFERROR(INDEX(Отделения[отделение],SMALL(IF(Отделения[Город]=$R$1,ROW(Отделения[Город])-1),ROW(#REF!)-ROW($A$2)+1)),\"\")","v":""},{"$f":"IFERROR(INDEX(Отделения[отделение],SMALL(IF(Отделения[Город]=$S$1,ROW(Отделения[Город])-1),ROW(G93)-ROW($A$2)+1)),\"\")","v":""},{"$f":"IFERROR(INDEX(Отделения[отделение],SMALL(IF(Отделения[Город]=$T$1,ROW(Отделения[Город])-1),ROW(H93)-ROW($A$2)+1)),\"\")","v":""},{"$f":"IFERROR(INDEX(Отделения[отделение],SMALL(IF(Отделения[Город]=$U$1,ROW(Отделения[Город])-1),ROW(I93)-ROW($A$2)+1)),\"\")","v":""},{"$f":"IFERROR(INDEX(Отделения[отделение],SMALL(IF(Отделения[Город]=$V$1,ROW(Отделения[Город])-1),ROW(J93)-ROW($A$2)+1)),\"\")","v":""},{"$f":"IFERROR(INDEX(Отделения[отделение],SMALL(IF(Отделения[Город]=$W$1,ROW(Отделения[Город])-1),ROW(K93)-ROW($A$2)+1)),\"\")","v":""},{"$f":"IFERROR(INDEX(Отделения[отделение],SMALL(IF(Отделения[Город]=$X$1,ROW(Отделения[Город])-1),ROW(L93)-ROW($A$2)+1)),\"\")","v":""},{"$f":"IFERROR(INDEX(Отделения[отделение],SMALL(IF(Отделения[Город]=$Y$1,ROW(Отделения[Город])-1),ROW(M93)-ROW($A$2)+1)),\"\")","v":""},{"$f":"IFERROR(INDEX(Отделения[отделение],SMALL(IF(Отделения[Город]=$Z$1,ROW(Отделения[Город])-1),ROW(N93)-ROW($A$2)+1)),\"\")","v":""},{"$f":"IFERROR(INDEX(Отделения[отделение],SMALL(IF(Отделения[Город]=$AA$1,ROW(Отделения[Город])-1),ROW(O93)-ROW($A$2)+1)),\"\")","v":""},{"$f":"IFERROR(INDEX(Отделения[отделение],SMALL(IF(Отделения[Город]=$AB$1,ROW(Отделения[Город])-1),ROW(P93)-ROW($A$2)+1)),\"\")","v":""},{"$f":"IFERROR(INDEX(Отделения[отделение],SMALL(IF(Отделения[Город]=$AC$1,ROW(Отделения[Город])-1),ROW(Q93)-ROW($A$2)+1)),\"\")","v":""},{"$f":"IFERROR(INDEX(Отделения[отделение],SMALL(IF(Отделения[Город]=$AD$1,ROW(Отделения[Город])-1),ROW(R93)-ROW($A$2)+1)),\"\")","v":""},{"$f":"IFERROR(INDEX(Отделения[отделение],SMALL(IF(Отделения[Город]=$AE$1,ROW(Отделения[Город])-1),ROW(S93)-ROW($A$2)+1)),\"\")","v":""},{"$f":"IFERROR(INDEX(Отделения[отделение],SMALL(IF(Отделения[Город]=$AF$1,ROW(Отделения[Город])-1),ROW(T93)-ROW($A$2)+1)),\"\")","v":""},{"$f":"IFERROR(INDEX(Отделения[отделение],SMALL(IF(Отделения[Город]=$AG$1,ROW(Отделения[Город])-1),ROW(U93)-ROW($A$2)+1)),\"\")","v":""},{"$f":"IFERROR(INDEX(Отделения[отделение],SMALL(IF(Отделения[Город]=$AH$1,ROW(Отделения[Город])-1),ROW(V93)-ROW($A$2)+1)),\"\")","v":""},{"$f":"IFERROR(INDEX(Отделения[отделение],SMALL(IF(Отделения[Город]=$AI$1,ROW(Отделения[Город])-1),ROW(AB93)-ROW($A$2)+1)),\"\")","v":""},{"$f":"IFERROR(INDEX(Отделения[отделение],SMALL(IF(Отделения[Город]=$AJ$1,ROW(Отделения[Город])-1),ROW(AB93)-ROW($A$2)+1)),\"\")","v":""},{"$f":"IFERROR(INDEX(Отделения[отделение],SMALL(IF(Отделения[Город]=$AK$1,ROW(Отделения[Город])-1),ROW(AB93)-ROW($A$2)+1)),\"\")","v":""},{"$f":"IFERROR(INDEX(Отделения[отделение],SMALL(IF(Отделения[Город]=$AL$1,ROW(Отделения[Город])-1),ROW(AB93)-ROW($A$2)+1)),\"\")","v":""},{"$f":"IFERROR(INDEX(Отделения[отделение],SMALL(IF(Отделения[Город]=$AM$1,ROW(Отделения[Город])-1),ROW(AB93)-ROW($A$2)+1)),\"\")","v":""},{"$f":"IFERROR(INDEX(Отделения[отделение],SMALL(IF(Отделения[Город]=$AN$1,ROW(Отделения[Город])-1),ROW(AB93)-ROW($A$2)+1)),\"\")","v":""},{"$f":"IFERROR(INDEX(Отделения[отделение],SMALL(IF(Отделения[Город]=$AO$1,ROW(Отделения[Город])-1),ROW(AB93)-ROW($A$2)+1)),\"\")","v":""},{"$f":"IFERROR(INDEX(Отделения[отделение],SMALL(IF(Отделения[Город]=$AP$1,ROW(Отделения[Город])-1),ROW(AB93)-ROW($A$2)+1)),\"\")","v":""},{"$f":"IFERROR(INDEX(Отделения[отделение],SMALL(IF(Отделения[Город]=$AQ$1,ROW(Отделения[Город])-1),ROW(AB93)-ROW($A$2)+1)),\"\")","v":""},{"$f":"IFERROR(INDEX(Отделения[отделение],SMALL(IF(Отделения[Город]=$AR$1,ROW(Отделения[Город])-1),ROW(AB93)-ROW($A$2)+1)),\"\")","v":""},{"$f":"IFERROR(INDEX(Отделения[отделение],SMALL(IF(Отделения[Город]=$AS$1,ROW(Отделения[Город])-1),ROW(AB93)-ROW($A$2)+1)),\"\")","v":""},{"$f":"IFERROR(INDEX(Отделения[отделение],SMALL(IF(Отделения[Город]=$AT$1,ROW(Отделения[Город])-1),ROW(AB93)-ROW($A$2)+1)),\"\")","v":""},{"$f":"IFERROR(INDEX(Отделения[отделение],SMALL(IF(Отделения[Город]=$AU$1,ROW(Отделения[Город])-1),ROW(AB93)-ROW($A$2)+1)),\"\")","v":""},{"$f":"IFERROR(INDEX(Отделения[отделение],SMALL(IF(Отделения[Город]=$AV$1,ROW(Отделения[Город])-1),ROW(AB93)-ROW($A$2)+1)),\"\")","v":""},{"$f":"IFERROR(INDEX(Отделения[отделение],SMALL(IF(Отделения[Город]=$AW$1,ROW(Отделения[Город])-1),ROW(AB93)-ROW($A$2)+1)),\"\")","v":""},{"$f":"IFERROR(INDEX(Отделения[отделение],SMALL(IF(Отделения[Город]=$AX$1,ROW(Отделения[Город])-1),ROW(AB93)-ROW($A$2)+1)),\"\")","v":""},{"$f":"IFERROR(INDEX(Отделения[отделение],SMALL(IF(Отделения[Город]=$AY$1,ROW(Отделения[Город])-1),ROW(AB93)-ROW($A$2)+1)),\"\")","v":""},{"$f":"IFERROR(INDEX(Отделения[отделение],SMALL(IF(Отделения[Город]=$AZ$1,ROW(Отделения[Город])-1),ROW(AB93)-ROW($A$2)+1)),\"\")","v":""},{"$f":"IFERROR(INDEX(Отделения[отделение],SMALL(IF(Отделения[Город]=$BA$1,ROW(Отделения[Город])-1),ROW(AB93)-ROW($A$2)+1)),\"\")","v":""},{"$f":"IFERROR(INDEX(Отделения[отделение],SMALL(IF(Отделения[Город]=$BB$1,ROW(Отделения[Город])-1),ROW(AB93)-ROW($A$2)+1)),\"\")","v":""},{"$f":"IFERROR(INDEX(Отделения[отделение],SMALL(IF(Отделения[Город]=$BC$1,ROW(Отделения[Город])-1),ROW(AC93)-ROW($A$2)+1)),\"\")","v":""},{"$f":"IFERROR(INDEX(Отделения[отделение],SMALL(IF(Отделения[Город]=$BD$1,ROW(Отделения[Город])-1),ROW(AD93)-ROW($A$2)+1)),\"\")","v":""},{"$f":"IFERROR(INDEX(Отделения[отделение],SMALL(IF(Отделения[Город]=$BE$1,ROW(Отделения[Город])-1),ROW(AE93)-ROW($A$2)+1)),\"\")","v":""},{"$f":"IFERROR(INDEX(Отделения[отделение],SMALL(IF(Отделения[Город]=$BF$1,ROW(Отделения[Город])-1),ROW(AF93)-ROW($A$2)+1)),\"\")","v":""},{"$f":"IFERROR(INDEX(Отделения[отделение],SMALL(IF(Отделения[Город]=$BG$1,ROW(Отделения[Город])-1),ROW(AG93)-ROW($A$2)+1)),\"\")","v":""},{"$f":"IFERROR(INDEX(Отделения[отделение],SMALL(IF(Отделения[Город]=$BH$1,ROW(Отделения[Город])-1),ROW(AH93)-ROW($A$2)+1)),\"\")","v":""},{"$f":"IFERROR(INDEX(Отделения[отделение],SMALL(IF(Отделения[Город]=$BI$1,ROW(Отделения[Город])-1),ROW(AI93)-ROW($A$2)+1)),\"\")","v":""},{"$f":"IFERROR(INDEX(Отделения[отделение],SMALL(IF(Отделения[Город]=$BJ$1,ROW(Отделения[Город])-1),ROW(AJ93)-ROW($A$2)+1)),\"\")","v":""},{"$f":"IFERROR(INDEX(Отделения[отделение],SMALL(IF(Отделения[Город]=$BK$1,ROW(Отделения[Город])-1),ROW(AK93)-ROW($A$2)+1)),\"\")","v":""},{"$f":"IFERROR(INDEX(Отделения[отделение],SMALL(IF(Отделения[Город]=$BL$1,ROW(Отделения[Город])-1),ROW(AL93)-ROW($A$2)+1)),\"\")","v":""},{"$f":"IFERROR(INDEX(Отделения[отделение],SMALL(IF(Отделения[Город]=$BM$1,ROW(Отделения[Город])-1),ROW(AM93)-ROW($A$2)+1)),\"\")","v":""},{"$f":"IFERROR(INDEX(Отделения[отделение],SMALL(IF(Отделения[Город]=$BN$1,ROW(Отделения[Город])-1),ROW(AN93)-ROW($A$2)+1)),\"\")","v":""},{"$f":"IFERROR(INDEX(Отделения[отделение],SMALL(IF(Отделения[Город]=$BO$1,ROW(Отделения[Город])-1),ROW(AO93)-ROW($A$2)+1)),\"\")","v":""},{"$f":"IFERROR(INDEX(Отделения[отделение],SMALL(IF(Отделения[Город]=$BP$1,ROW(Отделения[Город])-1),ROW(AP93)-ROW($A$2)+1)),\"\")","v":""},{"$f":"IFERROR(INDEX(Отделения[отделение],SMALL(IF(Отделения[Город]=$BQ$1,ROW(Отделения[Город])-1),ROW(AQ93)-ROW($A$2)+1)),\"\")","v":""},{"$f":"IFERROR(INDEX(Отделения[отделение],SMALL(IF(Отделения[Город]=$BR$1,ROW(Отделения[Город])-1),ROW(AR93)-ROW($A$2)+1)),\"\")","v":""},{"$f":"IFERROR(INDEX(Отделения[отделение],SMALL(IF(Отделения[Город]=$BS$1,ROW(Отделения[Город])-1),ROW(AS93)-ROW($A$2)+1)),\"\")","v":""},{"$f":"IFERROR(INDEX(Отделения[отделение],SMALL(IF(Отделения[Город]=$BT$1,ROW(Отделения[Город])-1),ROW(AT93)-ROW($A$2)+1)),\"\")","v":""},{"$f":"IFERROR(INDEX(Отделения[отделение],SMALL(IF(Отделения[Город]=$BU$1,ROW(Отделения[Город])-1),ROW(AU93)-ROW($A$2)+1)),\"\")","v":""},{"$f":"IFERROR(INDEX(Отделения[отделение],SMALL(IF(Отделения[Город]=$BV$1,ROW(Отделения[Город])-1),ROW(AV93)-ROW($A$2)+1)),\"\")","v":""},{"$f":"IFERROR(INDEX(Отделения[отделение],SMALL(IF(Отделения[Город]=$BW$1,ROW(Отделения[Город])-1),ROW(AV93)-ROW($A$2)+1)),\"\")","v":""},{"$f":"IFERROR(INDEX(Отделения[отделение],SMALL(IF(Отделения[Город]=$BX$1,ROW(Отделения[Город])-1),ROW(AV93)-ROW($A$2)+1)),\"\")","v":""},{"$f":"IFERROR(INDEX(Отделения[отделение],SMALL(IF(Отделения[Город]=$BY$1,ROW(Отделения[Город])-1),ROW(AV93)-ROW($A$2)+1)),\"\")","v":""},{"$f":"IFERROR(INDEX(Отделения[отделение],SMALL(IF(Отделения[Город]=$BZ$1,ROW(Отделения[Город])-1),ROW(AV93)-ROW($A$2)+1)),\"\")","v":""},{"$f":"IFERROR(INDEX(Отделения[отделение],SMALL(IF(Отделения[Город]=$CA$1,ROW(Отделения[Город])-1),ROW(AV93)-ROW($A$2)+1)),\"\")","v":""},{"$f":"IFERROR(INDEX(Отделения[отделение],SMALL(IF(Отделения[Город]=$CB$1,ROW(Отделения[Город])-1),ROW(AV93)-ROW($A$2)+1)),\"\")","v":""},{"$f":"IFERROR(INDEX(Отделения[отделение],SMALL(IF(Отделения[Город]=$CC$1,ROW(Отделения[Город])-1),ROW(AV93)-ROW($A$2)+1)),\"\")","v":""},{"$f":"IFERROR(INDEX(Отделения[отделение],SMALL(IF(Отделения[Город]=$CD$1,ROW(Отделения[Город])-1),ROW(AV93)-ROW($A$2)+1)),\"\")","v":""},{"$f":"IFERROR(INDEX(Отделения[отделение],SMALL(IF(Отделения[Город]=$CE$1,ROW(Отделения[Город])-1),ROW(AV93)-ROW($A$2)+1)),\"\")","v":""},{"$f":"IFERROR(INDEX(Отделения[отделение],SMALL(IF(Отделения[Город]=$CF$1,ROW(Отделения[Город])-1),ROW(AV93)-ROW($A$2)+1)),\"\")","v":""},{"$f":"IFERROR(INDEX(Отделения[отделение],SMALL(IF(Отделения[Город]=$CG$1,ROW(Отделения[Город])-1),ROW(AV93)-ROW($A$2)+1)),\"\")","v":""},{"$f":"IFERROR(INDEX(Отделения[отделение],SMALL(IF(Отделения[Город]=$CH$1,ROW(Отделения[Город])-1),ROW(AW93)-ROW($A$2)+1)),\"\")","v":""},{"$f":"IFERROR(INDEX(Отделения[отделение],SMALL(IF(Отделения[Город]=$CI$1,ROW(Отделения[Город])-1),ROW(AX93)-ROW($A$2)+1)),\"\")","v":""},{"$f":"IFERROR(INDEX(Отделения[отделение],SMALL(IF(Отделения[Город]=$CJ$1,ROW(Отделения[Город])-1),ROW(AY93)-ROW($A$2)+1)),\"\")","v":""},{"$f":"IFERROR(INDEX(Отделения[отделение],SMALL(IF(Отделения[Город]=$CK$1,ROW(Отделения[Город])-1),ROW(AZ93)-ROW($A$2)+1)),\"\")","v":""},{"$f":"IFERROR(INDEX(Отделения[отделение],SMALL(IF(Отделения[Город]=$CL$1,ROW(Отделения[Город])-1),ROW(BA93)-ROW($A$2)+1)),\"\")","v":""},{"$f":"IFERROR(INDEX(Отделения[отделение],SMALL(IF(Отделения[Город]=$CM$1,ROW(Отделения[Город])-1),ROW(BB93)-ROW($A$2)+1)),\"\")","v":""},{"$f":"IFERROR(INDEX(Отделения[отделение],SMALL(IF(Отделения[Город]=$CN$1,ROW(Отделения[Город])-1),ROW(BC93)-ROW($A$2)+1)),\"\")","v":""},{"$f":"IFERROR(INDEX(Отделения[отделение],SMALL(IF(Отделения[Город]=$CO$1,ROW(Отделения[Город])-1),ROW(BD93)-ROW($A$2)+1)),\"\")","v":""},{"$f":"IFERROR(INDEX(Отделения[отделение],SMALL(IF(Отделения[Город]=$CP$1,ROW(Отделения[Город])-1),ROW(BE93)-ROW($A$2)+1)),\"\")","v":""},{"$f":"IFERROR(INDEX(Отделения[отделение],SMALL(IF(Отделения[Город]=$CQ$1,ROW(Отделения[Город])-1),ROW(BF93)-ROW($A$2)+1)),\"\")","v":""},{"$f":"IFERROR(INDEX(Отделения[отделение],SMALL(IF(Отделения[Город]=$CR$1,ROW(Отделения[Город])-1),ROW(BG93)-ROW($A$2)+1)),\"\")","v":""},{"$f":"IFERROR(INDEX(Отделения[отделение],SMALL(IF(Отделения[Город]=$CS$1,ROW(Отделения[Город])-1),ROW(BH93)-ROW($A$2)+1)),\"\")","v":""},{"$f":"IFERROR(INDEX(Отделения[отделение],SMALL(IF(Отделения[Город]=$CT$1,ROW(Отделения[Город])-1),ROW(BI93)-ROW($A$2)+1)),\"\")","v":""},{"$f":"IFERROR(INDEX(Отделения[отделение],SMALL(IF(Отделения[Город]=$CU$1,ROW(Отделения[Город])-1),ROW(BJ93)-ROW($A$2)+1)),\"\")","v":""},{"$f":"IFERROR(INDEX(Отделения[отделение],SMALL(IF(Отделения[Город]=$CV$1,ROW(Отделения[Город])-1),ROW(BK93)-ROW($A$2)+1)),\"\")","v":""},{"$f":"IFERROR(INDEX(Отделения[отделение],SMALL(IF(Отделения[Город]=$CW$1,ROW(Отделения[Город])-1),ROW(BL93)-ROW($A$2)+1)),\"\")","v":""},{"$f":"IFERROR(INDEX(Отделения[отделение],SMALL(IF(Отделения[Город]=$CX$1,ROW(Отделения[Город])-1),ROW(BM93)-ROW($A$2)+1)),\"\")","v":""},{"$f":"IFERROR(INDEX(Отделения[отделение],SMALL(IF(Отделения[Город]=$CY$1,ROW(Отделения[Город])-1),ROW(BM93)-ROW($A$2)+1)),\"\")","v":""},{"$f":"IFERROR(INDEX(Отделения[отделение],SMALL(IF(Отделения[Город]=$CZ$1,ROW(Отделения[Город])-1),ROW(BM93)-ROW($A$2)+1)),\"\")","v":""},{"$f":"IFERROR(INDEX(Отделения[отделение],SMALL(IF(Отделения[Город]=$DA$1,ROW(Отделения[Город])-1),ROW(BM93)-ROW($A$2)+1)),\"\")","v":""},{"$f":"IFERROR(INDEX(Отделения[отделение],SMALL(IF(Отделения[Город]=$DB$1,ROW(Отделения[Город])-1),ROW(BM93)-ROW($A$2)+1)),\"\")","v":""}]
["Прокопьевск","ДО \"Прокопьевск-улица Шишкина\" , 653039, Кемеровская область - Кузбасс, город Прокопьевск, улица Шишкина, дом 11","0687","MOXM",null,null,{"$f":"IFERROR(INDEX(Отделения[отделение],SMALL(IF(Отделения[Город]=$G$1,ROW(Отделения[Город])-1),ROW(A94)-ROW($A$2)+1)),\"\")","v":""},{"$f":"IFERROR(INDEX(Отделения[отделение],SMALL(IF(Отделения[Город]=$H$1,ROW(Отделения[Город])-1),ROW(A94)-ROW($A$2)+1)),\"\")","v":""},{"$f":"IFERROR(INDEX(Отделения[отделение],SMALL(IF(Отделения[Город]=$I$1,ROW(Отделения[Город])-1),ROW(A94)-ROW($A$2)+1)),\"\")","v":""},{"$f":"IFERROR(INDEX(Отделения[отделение],SMALL(IF(Отделения[Город]=$J$1,ROW(Отделения[Город])-1),ROW(A94)-ROW($A$2)+1)),\"\")","v":""},{"$f":"IFERROR(INDEX(Отделения[отделение],SMALL(IF(Отделения[Город]=$K$1,ROW(Отделения[Город])-1),ROW(A94)-ROW($A$2)+1)),\"\")","v":""},{"$f":"IFERROR(INDEX(Отделения[отделение],SMALL(IF(Отделения[Город]=$L$1,ROW(Отделения[Город])-1),ROW(A94)-ROW($A$2)+1)),\"\")","v":""},{"$f":"IFERROR(INDEX(Отделения[отделение],SMALL(IF(Отделения[Город]=$M$1,ROW(Отделения[Город])-1),ROW(B94)-ROW($A$2)+1)),\"\")","v":""},{"$f":"IFERROR(INDEX(Отделения[отделение],SMALL(IF(Отделения[Город]=$N$1,ROW(Отделения[Город])-1),ROW(#REF!)-ROW($A$2)+1)),\"\")","v":""},{"$f":"IFERROR(INDEX(Отделения[отделение],SMALL(IF(Отделения[Город]=$O$1,ROW(Отделения[Город])-1),ROW(C94)-ROW($A$2)+1)),\"\")","v":""},{"$f":"IFERROR(INDEX(Отделения[отделение],SMALL(IF(Отделения[Город]=$P$1,ROW(Отделения[Город])-1),ROW(D94)-ROW($A$2)+1)),\"\")","v":""},{"$f":"IFERROR(INDEX(Отделения[отделение],SMALL(IF(Отделения[Город]=$Q$1,ROW(Отделения[Город])-1),ROW(F94)-ROW($A$2)+1)),\"\")","v":""},{"$f":"IFERROR(INDEX(Отделения[отделение],SMALL(IF(Отделения[Город]=$R$1,ROW(Отделения[Город])-1),ROW(#REF!)-ROW($A$2)+1)),\"\")","v":""},{"$f":"IFERROR(INDEX(Отделения[отделение],SMALL(IF(Отделения[Город]=$S$1,ROW(Отделения[Город])-1),ROW(G94)-ROW($A$2)+1)),\"\")","v":""},{"$f":"IFERROR(INDEX(Отделения[отделение],SMALL(IF(Отделения[Город]=$T$1,ROW(Отделения[Город])-1),ROW(H94)-ROW($A$2)+1)),\"\")","v":""},{"$f":"IFERROR(INDEX(Отделения[отделение],SMALL(IF(Отделения[Город]=$U$1,ROW(Отделения[Город])-1),ROW(I94)-ROW($A$2)+1)),\"\")","v":""},{"$f":"IFERROR(INDEX(Отделения[отделение],SMALL(IF(Отделения[Город]=$V$1,ROW(Отделения[Город])-1),ROW(J94)-ROW($A$2)+1)),\"\")","v":""},{"$f":"IFERROR(INDEX(Отделения[отделение],SMALL(IF(Отделения[Город]=$W$1,ROW(Отделения[Город])-1),ROW(K94)-ROW($A$2)+1)),\"\")","v":""},{"$f":"IFERROR(INDEX(Отделения[отделение],SMALL(IF(Отделения[Город]=$X$1,ROW(Отделения[Город])-1),ROW(L94)-ROW($A$2)+1)),\"\")","v":""},{"$f":"IFERROR(INDEX(Отделения[отделение],SMALL(IF(Отделения[Город]=$Y$1,ROW(Отделения[Город])-1),ROW(M94)-ROW($A$2)+1)),\"\")","v":""},{"$f":"IFERROR(INDEX(Отделения[отделение],SMALL(IF(Отделения[Город]=$Z$1,ROW(Отделения[Город])-1),ROW(N94)-ROW($A$2)+1)),\"\")","v":""},{"$f":"IFERROR(INDEX(Отделения[отделение],SMALL(IF(Отделения[Город]=$AA$1,ROW(Отделения[Город])-1),ROW(O94)-ROW($A$2)+1)),\"\")","v":""},{"$f":"IFERROR(INDEX(Отделения[отделение],SMALL(IF(Отделения[Город]=$AB$1,ROW(Отделения[Город])-1),ROW(P94)-ROW($A$2)+1)),\"\")","v":""},{"$f":"IFERROR(INDEX(Отделения[отделение],SMALL(IF(Отделения[Город]=$AC$1,ROW(Отделения[Город])-1),ROW(Q94)-ROW($A$2)+1)),\"\")","v":""},{"$f":"IFERROR(INDEX(Отделения[отделение],SMALL(IF(Отделения[Город]=$AD$1,ROW(Отделения[Город])-1),ROW(R94)-ROW($A$2)+1)),\"\")","v":""},{"$f":"IFERROR(INDEX(Отделения[отделение],SMALL(IF(Отделения[Город]=$AE$1,ROW(Отделения[Город])-1),ROW(S94)-ROW($A$2)+1)),\"\")","v":""},{"$f":"IFERROR(INDEX(Отделения[отделение],SMALL(IF(Отделения[Город]=$AF$1,ROW(Отделения[Город])-1),ROW(T94)-ROW($A$2)+1)),\"\")","v":""},{"$f":"IFERROR(INDEX(Отделения[отделение],SMALL(IF(Отделения[Город]=$AG$1,ROW(Отделения[Город])-1),ROW(U94)-ROW($A$2)+1)),\"\")","v":""},{"$f":"IFERROR(INDEX(Отделения[отделение],SMALL(IF(Отделения[Город]=$AH$1,ROW(Отделения[Город])-1),ROW(V94)-ROW($A$2)+1)),\"\")","v":""},{"$f":"IFERROR(INDEX(Отделения[отделение],SMALL(IF(Отделения[Город]=$AI$1,ROW(Отделения[Город])-1),ROW(AB94)-ROW($A$2)+1)),\"\")","v":""},{"$f":"IFERROR(INDEX(Отделения[отделение],SMALL(IF(Отделения[Город]=$AJ$1,ROW(Отделения[Город])-1),ROW(AB94)-ROW($A$2)+1)),\"\")","v":""},{"$f":"IFERROR(INDEX(Отделения[отделение],SMALL(IF(Отделения[Город]=$AK$1,ROW(Отделения[Город])-1),ROW(AB94)-ROW($A$2)+1)),\"\")","v":""},{"$f":"IFERROR(INDEX(Отделения[отделение],SMALL(IF(Отделения[Город]=$AL$1,ROW(Отделения[Город])-1),ROW(AB94)-ROW($A$2)+1)),\"\")","v":""},{"$f":"IFERROR(INDEX(Отделения[отделение],SMALL(IF(Отделения[Город]=$AM$1,ROW(Отделения[Город])-1),ROW(AB94)-ROW($A$2)+1)),\"\")","v":""},{"$f":"IFERROR(INDEX(Отделения[отделение],SMALL(IF(Отделения[Город]=$AN$1,ROW(Отделения[Город])-1),ROW(AB94)-ROW($A$2)+1)),\"\")","v":""},{"$f":"IFERROR(INDEX(Отделения[отделение],SMALL(IF(Отделения[Город]=$AO$1,ROW(Отделения[Город])-1),ROW(AB94)-ROW($A$2)+1)),\"\")","v":""},{"$f":"IFERROR(INDEX(Отделения[отделение],SMALL(IF(Отделения[Город]=$AP$1,ROW(Отделения[Город])-1),ROW(AB94)-ROW($A$2)+1)),\"\")","v":""},{"$f":"IFERROR(INDEX(Отделения[отделение],SMALL(IF(Отделения[Город]=$AQ$1,ROW(Отделения[Город])-1),ROW(AB94)-ROW($A$2)+1)),\"\")","v":""},{"$f":"IFERROR(INDEX(Отделения[отделение],SMALL(IF(Отделения[Город]=$AR$1,ROW(Отделения[Город])-1),ROW(AB94)-ROW($A$2)+1)),\"\")","v":""},{"$f":"IFERROR(INDEX(Отделения[отделение],SMALL(IF(Отделения[Город]=$AS$1,ROW(Отделения[Город])-1),ROW(AB94)-ROW($A$2)+1)),\"\")","v":""},{"$f":"IFERROR(INDEX(Отделения[отделение],SMALL(IF(Отделения[Город]=$AT$1,ROW(Отделения[Город])-1),ROW(AB94)-ROW($A$2)+1)),\"\")","v":""},{"$f":"IFERROR(INDEX(Отделения[отделение],SMALL(IF(Отделения[Город]=$AU$1,ROW(Отделения[Город])-1),ROW(AB94)-ROW($A$2)+1)),\"\")","v":""},{"$f":"IFERROR(INDEX(Отделения[отделение],SMALL(IF(Отделения[Город]=$AV$1,ROW(Отделения[Город])-1),ROW(AB94)-ROW($A$2)+1)),\"\")","v":""},{"$f":"IFERROR(INDEX(Отделения[отделение],SMALL(IF(Отделения[Город]=$AW$1,ROW(Отделения[Город])-1),ROW(AB94)-ROW($A$2)+1)),\"\")","v":""},{"$f":"IFERROR(INDEX(Отделения[отделение],SMALL(IF(Отделения[Город]=$AX$1,ROW(Отделения[Город])-1),ROW(AB94)-ROW($A$2)+1)),\"\")","v":""},{"$f":"IFERROR(INDEX(Отделения[отделение],SMALL(IF(Отделения[Город]=$AY$1,ROW(Отделения[Город])-1),ROW(AB94)-ROW($A$2)+1)),\"\")","v":""},{"$f":"IFERROR(INDEX(Отделения[отделение],SMALL(IF(Отделения[Город]=$AZ$1,ROW(Отделения[Город])-1),ROW(AB94)-ROW($A$2)+1)),\"\")","v":""},{"$f":"IFERROR(INDEX(Отделения[отделение],SMALL(IF(Отделения[Город]=$BA$1,ROW(Отделения[Город])-1),ROW(AB94)-ROW($A$2)+1)),\"\")","v":""},{"$f":"IFERROR(INDEX(Отделения[отделение],SMALL(IF(Отделения[Город]=$BB$1,ROW(Отделения[Город])-1),ROW(AB94)-ROW($A$2)+1)),\"\")","v":""},{"$f":"IFERROR(INDEX(Отделения[отделение],SMALL(IF(Отделения[Город]=$BC$1,ROW(Отделения[Город])-1),ROW(AC94)-ROW($A$2)+1)),\"\")","v":""},{"$f":"IFERROR(INDEX(Отделения[отделение],SMALL(IF(Отделения[Город]=$BD$1,ROW(Отделения[Город])-1),ROW(AD94)-ROW($A$2)+1)),\"\")","v":""},{"$f":"IFERROR(INDEX(Отделения[отделение],SMALL(IF(Отделения[Город]=$BE$1,ROW(Отделения[Город])-1),ROW(AE94)-ROW($A$2)+1)),\"\")","v":""},{"$f":"IFERROR(INDEX(Отделения[отделение],SMALL(IF(Отделения[Город]=$BF$1,ROW(Отделения[Город])-1),ROW(AF94)-ROW($A$2)+1)),\"\")","v":""},{"$f":"IFERROR(INDEX(Отделения[отделение],SMALL(IF(Отделения[Город]=$BG$1,ROW(Отделения[Город])-1),ROW(AG94)-ROW($A$2)+1)),\"\")","v":""},{"$f":"IFERROR(INDEX(Отделения[отделение],SMALL(IF(Отделения[Город]=$BH$1,ROW(Отделения[Город])-1),ROW(AH94)-ROW($A$2)+1)),\"\")","v":""},{"$f":"IFERROR(INDEX(Отделения[отделение],SMALL(IF(Отделения[Город]=$BI$1,ROW(Отделения[Город])-1),ROW(AI94)-ROW($A$2)+1)),\"\")","v":""},{"$f":"IFERROR(INDEX(Отделения[отделение],SMALL(IF(Отделения[Город]=$BJ$1,ROW(Отделения[Город])-1),ROW(AJ94)-ROW($A$2)+1)),\"\")","v":""},{"$f":"IFERROR(INDEX(Отделения[отделение],SMALL(IF(Отделения[Город]=$BK$1,ROW(Отделения[Город])-1),ROW(AK94)-ROW($A$2)+1)),\"\")","v":""},{"$f":"IFERROR(INDEX(Отделения[отделение],SMALL(IF(Отделения[Город]=$BL$1,ROW(Отделения[Город])-1),ROW(AL94)-ROW($A$2)+1)),\"\")","v":""},{"$f":"IFERROR(INDEX(Отделения[отделение],SMALL(IF(Отделения[Город]=$BM$1,ROW(Отделения[Город])-1),ROW(AM94)-ROW($A$2)+1)),\"\")","v":""},{"$f":"IFERROR(INDEX(Отделения[отделение],SMALL(IF(Отделения[Город]=$BN$1,ROW(Отделения[Город])-1),ROW(AN94)-ROW($A$2)+1)),\"\")","v":""},{"$f":"IFERROR(INDEX(Отделения[отделение],SMALL(IF(Отделения[Город]=$BO$1,ROW(Отделения[Город])-1),ROW(AO94)-ROW($A$2)+1)),\"\")","v":""},{"$f":"IFERROR(INDEX(Отделения[отделение],SMALL(IF(Отделения[Город]=$BP$1,ROW(Отделения[Город])-1),ROW(AP94)-ROW($A$2)+1)),\"\")","v":""},{"$f":"IFERROR(INDEX(Отделения[отделение],SMALL(IF(Отделения[Город]=$BQ$1,ROW(Отделения[Город])-1),ROW(AQ94)-ROW($A$2)+1)),\"\")","v":""},{"$f":"IFERROR(INDEX(Отделения[отделение],SMALL(IF(Отделения[Город]=$BR$1,ROW(Отделения[Город])-1),ROW(AR94)-ROW($A$2)+1)),\"\")","v":""},{"$f":"IFERROR(INDEX(Отделения[отделение],SMALL(IF(Отделения[Город]=$BS$1,ROW(Отделения[Город])-1),ROW(AS94)-ROW($A$2)+1)),\"\")","v":""},{"$f":"IFERROR(INDEX(Отделения[отделение],SMALL(IF(Отделения[Город]=$BT$1,ROW(Отделения[Город])-1),ROW(AT94)-ROW($A$2)+1)),\"\")","v":""},{"$f":"IFERROR(INDEX(Отделения[отделение],SMALL(IF(Отделения[Город]=$BU$1,ROW(Отделения[Город])-1),ROW(AU94)-ROW($A$2)+1)),\"\")","v":""},{"$f":"IFERROR(INDEX(Отделения[отделение],SMALL(IF(Отделения[Город]=$BV$1,ROW(Отделения[Город])-1),ROW(AV94)-ROW($A$2)+1)),\"\")","v":""},{"$f":"IFERROR(INDEX(Отделения[отделение],SMALL(IF(Отделения[Город]=$BW$1,ROW(Отделения[Город])-1),ROW(AV94)-ROW($A$2)+1)),\"\")","v":""},{"$f":"IFERROR(INDEX(Отделения[отделение],SMALL(IF(Отделения[Город]=$BX$1,ROW(Отделения[Город])-1),ROW(AV94)-ROW($A$2)+1)),\"\")","v":""},{"$f":"IFERROR(INDEX(Отделения[отделение],SMALL(IF(Отделения[Город]=$BY$1,ROW(Отделения[Город])-1),ROW(AV94)-ROW($A$2)+1)),\"\")","v":""},{"$f":"IFERROR(INDEX(Отделения[отделение],SMALL(IF(Отделения[Город]=$BZ$1,ROW(Отделения[Город])-1),ROW(AV94)-ROW($A$2)+1)),\"\")","v":""},{"$f":"IFERROR(INDEX(Отделения[отделение],SMALL(IF(Отделения[Город]=$CA$1,ROW(Отделения[Город])-1),ROW(AV94)-ROW($A$2)+1)),\"\")","v":""},{"$f":"IFERROR(INDEX(Отделения[отделение],SMALL(IF(Отделения[Город]=$CB$1,ROW(Отделения[Город])-1),ROW(AV94)-ROW($A$2)+1)),\"\")","v":""},{"$f":"IFERROR(INDEX(Отделения[отделение],SMALL(IF(Отделения[Город]=$CC$1,ROW(Отделения[Город])-1),ROW(AV94)-ROW($A$2)+1)),\"\")","v":""},{"$f":"IFERROR(INDEX(Отделения[отделение],SMALL(IF(Отделения[Город]=$CD$1,ROW(Отделения[Город])-1),ROW(AV94)-ROW($A$2)+1)),\"\")","v":""},{"$f":"IFERROR(INDEX(Отделения[отделение],SMALL(IF(Отделения[Город]=$CE$1,ROW(Отделения[Город])-1),ROW(AV94)-ROW($A$2)+1)),\"\")","v":""},{"$f":"IFERROR(INDEX(Отделения[отделение],SMALL(IF(Отделения[Город]=$CF$1,ROW(Отделения[Город])-1),ROW(AV94)-ROW($A$2)+1)),\"\")","v":""},{"$f":"IFERROR(INDEX(Отделения[отделение],SMALL(IF(Отделения[Город]=$CG$1,ROW(Отделения[Город])-1),ROW(AV94)-ROW($A$2)+1)),\"\")","v":""},{"$f":"IFERROR(INDEX(Отделения[отделение],SMALL(IF(Отделения[Город]=$CH$1,ROW(Отделения[Город])-1),ROW(AW94)-ROW($A$2)+1)),\"\")","v":""},{"$f":"IFERROR(INDEX(Отделения[отделение],SMALL(IF(Отделения[Город]=$CI$1,ROW(Отделения[Город])-1),ROW(AX94)-ROW($A$2)+1)),\"\")","v":""},{"$f":"IFERROR(INDEX(Отделения[отделение],SMALL(IF(Отделения[Город]=$CJ$1,ROW(Отделения[Город])-1),ROW(AY94)-ROW($A$2)+1)),\"\")","v":""},{"$f":"IFERROR(INDEX(Отделения[отделение],SMALL(IF(Отделения[Город]=$CK$1,ROW(Отделения[Город])-1),ROW(AZ94)-ROW($A$2)+1)),\"\")","v":""},{"$f":"IFERROR(INDEX(Отделения[отделение],SMALL(IF(Отделения[Город]=$CL$1,ROW(Отделения[Город])-1),ROW(BA94)-ROW($A$2)+1)),\"\")","v":""},{"$f":"IFERROR(INDEX(Отделения[отделение],SMALL(IF(Отделения[Город]=$CM$1,ROW(Отделения[Город])-1),ROW(BB94)-ROW($A$2)+1)),\"\")","v":""},{"$f":"IFERROR(INDEX(Отделения[отделение],SMALL(IF(Отделения[Город]=$CN$1,ROW(Отделения[Город])-1),ROW(BC94)-ROW($A$2)+1)),\"\")","v":""},{"$f":"IFERROR(INDEX(Отделения[отделение],SMALL(IF(Отделения[Город]=$CO$1,ROW(Отделения[Город])-1),ROW(BD94)-ROW($A$2)+1)),\"\")","v":""},{"$f":"IFERROR(INDEX(Отделения[отделение],SMALL(IF(Отделения[Город]=$CP$1,ROW(Отделения[Город])-1),ROW(BE94)-ROW($A$2)+1)),\"\")","v":""},{"$f":"IFERROR(INDEX(Отделения[отделение],SMALL(IF(Отделения[Город]=$CQ$1,ROW(Отделения[Город])-1),ROW(BF94)-ROW($A$2)+1)),\"\")","v":""},{"$f":"IFERROR(INDEX(Отделения[отделение],SMALL(IF(Отделения[Город]=$CR$1,ROW(Отделения[Город])-1),ROW(BG94)-ROW($A$2)+1)),\"\")","v":""},{"$f":"IFERROR(INDEX(Отделения[отделение],SMALL(IF(Отделения[Город]=$CS$1,ROW(Отделения[Город])-1),ROW(BH94)-ROW($A$2)+1)),\"\")","v":""},{"$f":"IFERROR(INDEX(Отделения[отделение],SMALL(IF(Отделения[Город]=$CT$1,ROW(Отделения[Город])-1),ROW(BI94)-ROW($A$2)+1)),\"\")","v":""},{"$f":"IFERROR(INDEX(Отделения[отделение],SMALL(IF(Отделения[Город]=$CU$1,ROW(Отделения[Город])-1),ROW(BJ94)-ROW($A$2)+1)),\"\")","v":""},{"$f":"IFERROR(INDEX(Отделения[отделение],SMALL(IF(Отделения[Город]=$CV$1,ROW(Отделения[Город])-1),ROW(BK94)-ROW($A$2)+1)),\"\")","v":""},{"$f":"IFERROR(INDEX(Отделения[отделение],SMALL(IF(Отделения[Город]=$CW$1,ROW(Отделения[Город])-1),ROW(BL94)-ROW($A$2)+1)),\"\")","v":""},{"$f":"IFERROR(INDEX(Отделения[отделение],SMALL(IF(Отделения[Город]=$CX$1,ROW(Отделения[Город])-1),ROW(BM94)-ROW($A$2)+1)),\"\")","v":""},{"$f":"IFERROR(INDEX(Отделения[отделение],SMALL(IF(Отделения[Город]=$CY$1,ROW(Отделения[Город])-1),ROW(BM94)-ROW($A$2)+1)),\"\")","v":""},{"$f":"IFERROR(INDEX(Отделения[отделение],SMALL(IF(Отделения[Город]=$CZ$1,ROW(Отделения[Город])-1),ROW(BM94)-ROW($A$2)+1)),\"\")","v":""},{"$f":"IFERROR(INDEX(Отделения[отделение],SMALL(IF(Отделения[Город]=$DA$1,ROW(Отделения[Город])-1),ROW(BM94)-ROW($A$2)+1)),\"\")","v":""},{"$f":"IFERROR(INDEX(Отделения[отделение],SMALL(IF(Отделения[Город]=$DB$1,ROW(Отделения[Город])-1),ROW(BM94)-ROW($A$2)+1)),\"\")","v":""}]
["Краснодар","ДО \"Краснодар-улица Селезнева\" , 350075, Краснодарский край, г.Краснодар, ул.Селезнева, д.134","0688","MOWI",null,null,{"$f":"IFERROR(INDEX(Отделения[отделение],SMALL(IF(Отделения[Город]=$G$1,ROW(Отделения[Город])-1),ROW(A95)-ROW($A$2)+1)),\"\")","v":""},{"$f":"IFERROR(INDEX(Отделения[отделение],SMALL(IF(Отделения[Город]=$H$1,ROW(Отделения[Город])-1),ROW(A95)-ROW($A$2)+1)),\"\")","v":""},{"$f":"IFERROR(INDEX(Отделения[отделение],SMALL(IF(Отделения[Город]=$I$1,ROW(Отделения[Город])-1),ROW(A95)-ROW($A$2)+1)),\"\")","v":""},{"$f":"IFERROR(INDEX(Отделения[отделение],SMALL(IF(Отделения[Город]=$J$1,ROW(Отделения[Город])-1),ROW(A95)-ROW($A$2)+1)),\"\")","v":""},{"$f":"IFERROR(INDEX(Отделения[отделение],SMALL(IF(Отделения[Город]=$K$1,ROW(Отделения[Город])-1),ROW(A95)-ROW($A$2)+1)),\"\")","v":""},{"$f":"IFERROR(INDEX(Отделения[отделение],SMALL(IF(Отделения[Город]=$L$1,ROW(Отделения[Город])-1),ROW(A95)-ROW($A$2)+1)),\"\")","v":""},{"$f":"IFERROR(INDEX(Отделения[отделение],SMALL(IF(Отделения[Город]=$M$1,ROW(Отделения[Город])-1),ROW(B95)-ROW($A$2)+1)),\"\")","v":""},{"$f":"IFERROR(INDEX(Отделения[отделение],SMALL(IF(Отделения[Город]=$N$1,ROW(Отделения[Город])-1),ROW(#REF!)-ROW($A$2)+1)),\"\")","v":""},{"$f":"IFERROR(INDEX(Отделения[отделение],SMALL(IF(Отделения[Город]=$O$1,ROW(Отделения[Город])-1),ROW(C95)-ROW($A$2)+1)),\"\")","v":""},{"$f":"IFERROR(INDEX(Отделения[отделение],SMALL(IF(Отделения[Город]=$P$1,ROW(Отделения[Город])-1),ROW(D95)-ROW($A$2)+1)),\"\")","v":""},{"$f":"IFERROR(INDEX(Отделения[отделение],SMALL(IF(Отделения[Город]=$Q$1,ROW(Отделения[Город])-1),ROW(F95)-ROW($A$2)+1)),\"\")","v":""},{"$f":"IFERROR(INDEX(Отделения[отделение],SMALL(IF(Отделения[Город]=$R$1,ROW(Отделения[Город])-1),ROW(#REF!)-ROW($A$2)+1)),\"\")","v":""},{"$f":"IFERROR(INDEX(Отделения[отделение],SMALL(IF(Отделения[Город]=$S$1,ROW(Отделения[Город])-1),ROW(G95)-ROW($A$2)+1)),\"\")","v":""},{"$f":"IFERROR(INDEX(Отделения[отделение],SMALL(IF(Отделения[Город]=$T$1,ROW(Отделения[Город])-1),ROW(H95)-ROW($A$2)+1)),\"\")","v":""},{"$f":"IFERROR(INDEX(Отделения[отделение],SMALL(IF(Отделения[Город]=$U$1,ROW(Отделения[Город])-1),ROW(I95)-ROW($A$2)+1)),\"\")","v":""},{"$f":"IFERROR(INDEX(Отделения[отделение],SMALL(IF(Отделения[Город]=$V$1,ROW(Отделения[Город])-1),ROW(J95)-ROW($A$2)+1)),\"\")","v":""},{"$f":"IFERROR(INDEX(Отделения[отделение],SMALL(IF(Отделения[Город]=$W$1,ROW(Отделения[Город])-1),ROW(K95)-ROW($A$2)+1)),\"\")","v":""},{"$f":"IFERROR(INDEX(Отделения[отделение],SMALL(IF(Отделения[Город]=$X$1,ROW(Отделения[Город])-1),ROW(L95)-ROW($A$2)+1)),\"\")","v":""},{"$f":"IFERROR(INDEX(Отделения[отделение],SMALL(IF(Отделения[Город]=$Y$1,ROW(Отделения[Город])-1),ROW(M95)-ROW($A$2)+1)),\"\")","v":""},{"$f":"IFERROR(INDEX(Отделения[отделение],SMALL(IF(Отделения[Город]=$Z$1,ROW(Отделения[Город])-1),ROW(N95)-ROW($A$2)+1)),\"\")","v":""},{"$f":"IFERROR(INDEX(Отделения[отделение],SMALL(IF(Отделения[Город]=$AA$1,ROW(Отделения[Город])-1),ROW(O95)-ROW($A$2)+1)),\"\")","v":""},{"$f":"IFERROR(INDEX(Отделения[отделение],SMALL(IF(Отделения[Город]=$AB$1,ROW(Отделения[Город])-1),ROW(P95)-ROW($A$2)+1)),\"\")","v":""},{"$f":"IFERROR(INDEX(Отделения[отделение],SMALL(IF(Отделения[Город]=$AC$1,ROW(Отделения[Город])-1),ROW(Q95)-ROW($A$2)+1)),\"\")","v":""},{"$f":"IFERROR(INDEX(Отделения[отделение],SMALL(IF(Отделения[Город]=$AD$1,ROW(Отделения[Город])-1),ROW(R95)-ROW($A$2)+1)),\"\")","v":""},{"$f":"IFERROR(INDEX(Отделения[отделение],SMALL(IF(Отделения[Город]=$AE$1,ROW(Отделения[Город])-1),ROW(S95)-ROW($A$2)+1)),\"\")","v":""},{"$f":"IFERROR(INDEX(Отделения[отделение],SMALL(IF(Отделения[Город]=$AF$1,ROW(Отделения[Город])-1),ROW(T95)-ROW($A$2)+1)),\"\")","v":""},{"$f":"IFERROR(INDEX(Отделения[отделение],SMALL(IF(Отделения[Город]=$AG$1,ROW(Отделения[Город])-1),ROW(U95)-ROW($A$2)+1)),\"\")","v":""},{"$f":"IFERROR(INDEX(Отделения[отделение],SMALL(IF(Отделения[Город]=$AH$1,ROW(Отделения[Город])-1),ROW(V95)-ROW($A$2)+1)),\"\")","v":""},{"$f":"IFERROR(INDEX(Отделения[отделение],SMALL(IF(Отделения[Город]=$AI$1,ROW(Отделения[Город])-1),ROW(AB95)-ROW($A$2)+1)),\"\")","v":""},{"$f":"IFERROR(INDEX(Отделения[отделение],SMALL(IF(Отделения[Город]=$AJ$1,ROW(Отделения[Город])-1),ROW(AB95)-ROW($A$2)+1)),\"\")","v":""},{"$f":"IFERROR(INDEX(Отделения[отделение],SMALL(IF(Отделения[Город]=$AK$1,ROW(Отделения[Город])-1),ROW(AB95)-ROW($A$2)+1)),\"\")","v":""},{"$f":"IFERROR(INDEX(Отделения[отделение],SMALL(IF(Отделения[Город]=$AL$1,ROW(Отделения[Город])-1),ROW(AB95)-ROW($A$2)+1)),\"\")","v":""},{"$f":"IFERROR(INDEX(Отделения[отделение],SMALL(IF(Отделения[Город]=$AM$1,ROW(Отделения[Город])-1),ROW(AB95)-ROW($A$2)+1)),\"\")","v":""},{"$f":"IFERROR(INDEX(Отделения[отделение],SMALL(IF(Отделения[Город]=$AN$1,ROW(Отделения[Город])-1),ROW(AB95)-ROW($A$2)+1)),\"\")","v":""},{"$f":"IFERROR(INDEX(Отделения[отделение],SMALL(IF(Отделения[Город]=$AO$1,ROW(Отделения[Город])-1),ROW(AB95)-ROW($A$2)+1)),\"\")","v":""},{"$f":"IFERROR(INDEX(Отделения[отделение],SMALL(IF(Отделения[Город]=$AP$1,ROW(Отделения[Город])-1),ROW(AB95)-ROW($A$2)+1)),\"\")","v":""},{"$f":"IFERROR(INDEX(Отделения[отделение],SMALL(IF(Отделения[Город]=$AQ$1,ROW(Отделения[Город])-1),ROW(AB95)-ROW($A$2)+1)),\"\")","v":""},{"$f":"IFERROR(INDEX(Отделения[отделение],SMALL(IF(Отделения[Город]=$AR$1,ROW(Отделения[Город])-1),ROW(AB95)-ROW($A$2)+1)),\"\")","v":""},{"$f":"IFERROR(INDEX(Отделения[отделение],SMALL(IF(Отделения[Город]=$AS$1,ROW(Отделения[Город])-1),ROW(AB95)-ROW($A$2)+1)),\"\")","v":""},{"$f":"IFERROR(INDEX(Отделения[отделение],SMALL(IF(Отделения[Город]=$AT$1,ROW(Отделения[Город])-1),ROW(AB95)-ROW($A$2)+1)),\"\")","v":""},{"$f":"IFERROR(INDEX(Отделения[отделение],SMALL(IF(Отделения[Город]=$AU$1,ROW(Отделения[Город])-1),ROW(AB95)-ROW($A$2)+1)),\"\")","v":""},{"$f":"IFERROR(INDEX(Отделения[отделение],SMALL(IF(Отделения[Город]=$AV$1,ROW(Отделения[Город])-1),ROW(AB95)-ROW($A$2)+1)),\"\")","v":""},{"$f":"IFERROR(INDEX(Отделения[отделение],SMALL(IF(Отделения[Город]=$AW$1,ROW(Отделения[Город])-1),ROW(AB95)-ROW($A$2)+1)),\"\")","v":""},{"$f":"IFERROR(INDEX(Отделения[отделение],SMALL(IF(Отделения[Город]=$AX$1,ROW(Отделения[Город])-1),ROW(AB95)-ROW($A$2)+1)),\"\")","v":""},{"$f":"IFERROR(INDEX(Отделения[отделение],SMALL(IF(Отделения[Город]=$AY$1,ROW(Отделения[Город])-1),ROW(AB95)-ROW($A$2)+1)),\"\")","v":""},{"$f":"IFERROR(INDEX(Отделения[отделение],SMALL(IF(Отделения[Город]=$AZ$1,ROW(Отделения[Город])-1),ROW(AB95)-ROW($A$2)+1)),\"\")","v":""},{"$f":"IFERROR(INDEX(Отделения[отделение],SMALL(IF(Отделения[Город]=$BA$1,ROW(Отделения[Город])-1),ROW(AB95)-ROW($A$2)+1)),\"\")","v":""},{"$f":"IFERROR(INDEX(Отделения[отделение],SMALL(IF(Отделения[Город]=$BB$1,ROW(Отделения[Город])-1),ROW(AB95)-ROW($A$2)+1)),\"\")","v":""},{"$f":"IFERROR(INDEX(Отделения[отделение],SMALL(IF(Отделения[Город]=$BC$1,ROW(Отделения[Город])-1),ROW(AC95)-ROW($A$2)+1)),\"\")","v":""},{"$f":"IFERROR(INDEX(Отделения[отделение],SMALL(IF(Отделения[Город]=$BD$1,ROW(Отделения[Город])-1),ROW(AD95)-ROW($A$2)+1)),\"\")","v":""},{"$f":"IFERROR(INDEX(Отделения[отделение],SMALL(IF(Отделения[Город]=$BE$1,ROW(Отделения[Город])-1),ROW(AE95)-ROW($A$2)+1)),\"\")","v":""},{"$f":"IFERROR(INDEX(Отделения[отделение],SMALL(IF(Отделения[Город]=$BF$1,ROW(Отделения[Город])-1),ROW(AF95)-ROW($A$2)+1)),\"\")","v":""},{"$f":"IFERROR(INDEX(Отделения[отделение],SMALL(IF(Отделения[Город]=$BG$1,ROW(Отделения[Город])-1),ROW(AG95)-ROW($A$2)+1)),\"\")","v":""},{"$f":"IFERROR(INDEX(Отделения[отделение],SMALL(IF(Отделения[Город]=$BH$1,ROW(Отделения[Город])-1),ROW(AH95)-ROW($A$2)+1)),\"\")","v":""},{"$f":"IFERROR(INDEX(Отделения[отделение],SMALL(IF(Отделения[Город]=$BI$1,ROW(Отделения[Город])-1),ROW(AI95)-ROW($A$2)+1)),\"\")","v":""},{"$f":"IFERROR(INDEX(Отделения[отделение],SMALL(IF(Отделения[Город]=$BJ$1,ROW(Отделения[Город])-1),ROW(AJ95)-ROW($A$2)+1)),\"\")","v":""},{"$f":"IFERROR(INDEX(Отделения[отделение],SMALL(IF(Отделения[Город]=$BK$1,ROW(Отделения[Город])-1),ROW(AK95)-ROW($A$2)+1)),\"\")","v":""},{"$f":"IFERROR(INDEX(Отделения[отделение],SMALL(IF(Отделения[Город]=$BL$1,ROW(Отделения[Город])-1),ROW(AL95)-ROW($A$2)+1)),\"\")","v":""},{"$f":"IFERROR(INDEX(Отделения[отделение],SMALL(IF(Отделения[Город]=$BM$1,ROW(Отделения[Город])-1),ROW(AM95)-ROW($A$2)+1)),\"\")","v":""},{"$f":"IFERROR(INDEX(Отделения[отделение],SMALL(IF(Отделения[Город]=$BN$1,ROW(Отделения[Город])-1),ROW(AN95)-ROW($A$2)+1)),\"\")","v":""},{"$f":"IFERROR(INDEX(Отделения[отделение],SMALL(IF(Отделения[Город]=$BO$1,ROW(Отделения[Город])-1),ROW(AO95)-ROW($A$2)+1)),\"\")","v":""},{"$f":"IFERROR(INDEX(Отделения[отделение],SMALL(IF(Отделения[Город]=$BP$1,ROW(Отделения[Город])-1),ROW(AP95)-ROW($A$2)+1)),\"\")","v":""},{"$f":"IFERROR(INDEX(Отделения[отделение],SMALL(IF(Отделения[Город]=$BQ$1,ROW(Отделения[Город])-1),ROW(AQ95)-ROW($A$2)+1)),\"\")","v":""},{"$f":"IFERROR(INDEX(Отделения[отделение],SMALL(IF(Отделения[Город]=$BR$1,ROW(Отделения[Город])-1),ROW(AR95)-ROW($A$2)+1)),\"\")","v":""},{"$f":"IFERROR(INDEX(Отделения[отделение],SMALL(IF(Отделения[Город]=$BS$1,ROW(Отделения[Город])-1),ROW(AS95)-ROW($A$2)+1)),\"\")","v":""},{"$f":"IFERROR(INDEX(Отделения[отделение],SMALL(IF(Отделения[Город]=$BT$1,ROW(Отделения[Город])-1),ROW(AT95)-ROW($A$2)+1)),\"\")","v":""},{"$f":"IFERROR(INDEX(Отделения[отделение],SMALL(IF(Отделения[Город]=$BU$1,ROW(Отделения[Город])-1),ROW(AU95)-ROW($A$2)+1)),\"\")","v":""},{"$f":"IFERROR(INDEX(Отделения[отделение],SMALL(IF(Отделения[Город]=$BV$1,ROW(Отделения[Город])-1),ROW(AV95)-ROW($A$2)+1)),\"\")","v":""},{"$f":"IFERROR(INDEX(Отделения[отделение],SMALL(IF(Отделения[Город]=$BW$1,ROW(Отделения[Город])-1),ROW(AV95)-ROW($A$2)+1)),\"\")","v":""},{"$f":"IFERROR(INDEX(Отделения[отделение],SMALL(IF(Отделения[Город]=$BX$1,ROW(Отделения[Город])-1),ROW(AV95)-ROW($A$2)+1)),\"\")","v":""},{"$f":"IFERROR(INDEX(Отделения[отделение],SMALL(IF(Отделения[Город]=$BY$1,ROW(Отделения[Город])-1),ROW(AV95)-ROW($A$2)+1)),\"\")","v":""},{"$f":"IFERROR(INDEX(Отделения[отделение],SMALL(IF(Отделения[Город]=$BZ$1,ROW(Отделения[Город])-1),ROW(AV95)-ROW($A$2)+1)),\"\")","v":""},{"$f":"IFERROR(INDEX(Отделения[отделение],SMALL(IF(Отделения[Город]=$CA$1,ROW(Отделения[Город])-1),ROW(AV95)-ROW($A$2)+1)),\"\")","v":""},{"$f":"IFERROR(INDEX(Отделения[отделение],SMALL(IF(Отделения[Город]=$CB$1,ROW(Отделения[Город])-1),ROW(AV95)-ROW($A$2)+1)),\"\")","v":""},{"$f":"IFERROR(INDEX(Отделения[отделение],SMALL(IF(Отделения[Город]=$CC$1,ROW(Отделения[Город])-1),ROW(AV95)-ROW($A$2)+1)),\"\")","v":""},{"$f":"IFERROR(INDEX(Отделения[отделение],SMALL(IF(Отделения[Город]=$CD$1,ROW(Отделения[Город])-1),ROW(AV95)-ROW($A$2)+1)),\"\")","v":""},{"$f":"IFERROR(INDEX(Отделения[отделение],SMALL(IF(Отделения[Город]=$CE$1,ROW(Отделения[Город])-1),ROW(AV95)-ROW($A$2)+1)),\"\")","v":""},{"$f":"IFERROR(INDEX(Отделения[отделение],SMALL(IF(Отделения[Город]=$CF$1,ROW(Отделения[Город])-1),ROW(AV95)-ROW($A$2)+1)),\"\")","v":""},{"$f":"IFERROR(INDEX(Отделения[отделение],SMALL(IF(Отделения[Город]=$CG$1,ROW(Отделения[Город])-1),ROW(AV95)-ROW($A$2)+1)),\"\")","v":""},{"$f":"IFERROR(INDEX(Отделения[отделение],SMALL(IF(Отделения[Город]=$CH$1,ROW(Отделения[Город])-1),ROW(AW95)-ROW($A$2)+1)),\"\")","v":""},{"$f":"IFERROR(INDEX(Отделения[отделение],SMALL(IF(Отделения[Город]=$CI$1,ROW(Отделения[Город])-1),ROW(AX95)-ROW($A$2)+1)),\"\")","v":""},{"$f":"IFERROR(INDEX(Отделения[отделение],SMALL(IF(Отделения[Город]=$CJ$1,ROW(Отделения[Город])-1),ROW(AY95)-ROW($A$2)+1)),\"\")","v":""},{"$f":"IFERROR(INDEX(Отделения[отделение],SMALL(IF(Отделения[Город]=$CK$1,ROW(Отделения[Город])-1),ROW(AZ95)-ROW($A$2)+1)),\"\")","v":""},{"$f":"IFERROR(INDEX(Отделения[отделение],SMALL(IF(Отделения[Город]=$CL$1,ROW(Отделения[Город])-1),ROW(BA95)-ROW($A$2)+1)),\"\")","v":""},{"$f":"IFERROR(INDEX(Отделения[отделение],SMALL(IF(Отделения[Город]=$CM$1,ROW(Отделения[Город])-1),ROW(BB95)-ROW($A$2)+1)),\"\")","v":""},{"$f":"IFERROR(INDEX(Отделения[отделение],SMALL(IF(Отделения[Город]=$CN$1,ROW(Отделения[Город])-1),ROW(BC95)-ROW($A$2)+1)),\"\")","v":""},{"$f":"IFERROR(INDEX(Отделения[отделение],SMALL(IF(Отделения[Город]=$CO$1,ROW(Отделения[Город])-1),ROW(BD95)-ROW($A$2)+1)),\"\")","v":""},{"$f":"IFERROR(INDEX(Отделения[отделение],SMALL(IF(Отделения[Город]=$CP$1,ROW(Отделения[Город])-1),ROW(BE95)-ROW($A$2)+1)),\"\")","v":""},{"$f":"IFERROR(INDEX(Отделения[отделение],SMALL(IF(Отделения[Город]=$CQ$1,ROW(Отделения[Город])-1),ROW(BF95)-ROW($A$2)+1)),\"\")","v":""},{"$f":"IFERROR(INDEX(Отделения[отделение],SMALL(IF(Отделения[Город]=$CR$1,ROW(Отделения[Город])-1),ROW(BG95)-ROW($A$2)+1)),\"\")","v":""},{"$f":"IFERROR(INDEX(Отделения[отделение],SMALL(IF(Отделения[Город]=$CS$1,ROW(Отделения[Город])-1),ROW(BH95)-ROW($A$2)+1)),\"\")","v":""},{"$f":"IFERROR(INDEX(Отделения[отделение],SMALL(IF(Отделения[Город]=$CT$1,ROW(Отделения[Город])-1),ROW(BI95)-ROW($A$2)+1)),\"\")","v":""},{"$f":"IFERROR(INDEX(Отделения[отделение],SMALL(IF(Отделения[Город]=$CU$1,ROW(Отделения[Город])-1),ROW(BJ95)-ROW($A$2)+1)),\"\")","v":""},{"$f":"IFERROR(INDEX(Отделения[отделение],SMALL(IF(Отделения[Город]=$CV$1,ROW(Отделения[Город])-1),ROW(BK95)-ROW($A$2)+1)),\"\")","v":""},{"$f":"IFERROR(INDEX(Отделения[отделение],SMALL(IF(Отделения[Город]=$CW$1,ROW(Отделения[Город])-1),ROW(BL95)-ROW($A$2)+1)),\"\")","v":""},{"$f":"IFERROR(INDEX(Отделения[отделение],SMALL(IF(Отделения[Город]=$CX$1,ROW(Отделения[Город])-1),ROW(BM95)-ROW($A$2)+1)),\"\")","v":""},{"$f":"IFERROR(INDEX(Отделения[отделение],SMALL(IF(Отделения[Город]=$CY$1,ROW(Отделения[Город])-1),ROW(BM95)-ROW($A$2)+1)),\"\")","v":""},{"$f":"IFERROR(INDEX(Отделения[отделение],SMALL(IF(Отделения[Город]=$CZ$1,ROW(Отделения[Город])-1),ROW(BM95)-ROW($A$2)+1)),\"\")","v":""},{"$f":"IFERROR(INDEX(Отделения[отделение],SMALL(IF(Отделения[Город]=$DA$1,ROW(Отделения[Город])-1),ROW(BM95)-ROW($A$2)+1)),\"\")","v":""},{"$f":"IFERROR(INDEX(Отделения[отделение],SMALL(IF(Отделения[Город]=$DB$1,ROW(Отделения[Город])-1),ROW(BM95)-ROW($A$2)+1)),\"\")","v":""}]
["Псков","ДО \"Псков-Центральный\" , 180004, Российская Федерация,Псковская область, г. Псков, ул.Яна Фабрициуса, д. 27, пом. 1005","0689","MOXL",null,null,{"$f":"IFERROR(INDEX(Отделения[отделение],SMALL(IF(Отделения[Город]=$G$1,ROW(Отделения[Город])-1),ROW(A96)-ROW($A$2)+1)),\"\")","v":""},{"$f":"IFERROR(INDEX(Отделения[отделение],SMALL(IF(Отделения[Город]=$H$1,ROW(Отделения[Город])-1),ROW(A96)-ROW($A$2)+1)),\"\")","v":""},{"$f":"IFERROR(INDEX(Отделения[отделение],SMALL(IF(Отделения[Город]=$I$1,ROW(Отделения[Город])-1),ROW(A96)-ROW($A$2)+1)),\"\")","v":""},{"$f":"IFERROR(INDEX(Отделения[отделение],SMALL(IF(Отделения[Город]=$J$1,ROW(Отделения[Город])-1),ROW(A96)-ROW($A$2)+1)),\"\")","v":""},{"$f":"IFERROR(INDEX(Отделения[отделение],SMALL(IF(Отделения[Город]=$K$1,ROW(Отделения[Город])-1),ROW(A96)-ROW($A$2)+1)),\"\")","v":""},{"$f":"IFERROR(INDEX(Отделения[отделение],SMALL(IF(Отделения[Город]=$L$1,ROW(Отделения[Город])-1),ROW(A96)-ROW($A$2)+1)),\"\")","v":""},{"$f":"IFERROR(INDEX(Отделения[отделение],SMALL(IF(Отделения[Город]=$M$1,ROW(Отделения[Город])-1),ROW(B96)-ROW($A$2)+1)),\"\")","v":""},{"$f":"IFERROR(INDEX(Отделения[отделение],SMALL(IF(Отделения[Город]=$N$1,ROW(Отделения[Город])-1),ROW(#REF!)-ROW($A$2)+1)),\"\")","v":""},{"$f":"IFERROR(INDEX(Отделения[отделение],SMALL(IF(Отделения[Город]=$O$1,ROW(Отделения[Город])-1),ROW(C96)-ROW($A$2)+1)),\"\")","v":""},{"$f":"IFERROR(INDEX(Отделения[отделение],SMALL(IF(Отделения[Город]=$P$1,ROW(Отделения[Город])-1),ROW(D96)-ROW($A$2)+1)),\"\")","v":""},{"$f":"IFERROR(INDEX(Отделения[отделение],SMALL(IF(Отделения[Город]=$Q$1,ROW(Отделения[Город])-1),ROW(F96)-ROW($A$2)+1)),\"\")","v":""},{"$f":"IFERROR(INDEX(Отделения[отделение],SMALL(IF(Отделения[Город]=$R$1,ROW(Отделения[Город])-1),ROW(#REF!)-ROW($A$2)+1)),\"\")","v":""},{"$f":"IFERROR(INDEX(Отделения[отделение],SMALL(IF(Отделения[Город]=$S$1,ROW(Отделения[Город])-1),ROW(G96)-ROW($A$2)+1)),\"\")","v":""},{"$f":"IFERROR(INDEX(Отделения[отделение],SMALL(IF(Отделения[Город]=$T$1,ROW(Отделения[Город])-1),ROW(H96)-ROW($A$2)+1)),\"\")","v":""},{"$f":"IFERROR(INDEX(Отделения[отделение],SMALL(IF(Отделения[Город]=$U$1,ROW(Отделения[Город])-1),ROW(I96)-ROW($A$2)+1)),\"\")","v":""},{"$f":"IFERROR(INDEX(Отделения[отделение],SMALL(IF(Отделения[Город]=$V$1,ROW(Отделения[Город])-1),ROW(J96)-ROW($A$2)+1)),\"\")","v":""},{"$f":"IFERROR(INDEX(Отделения[отделение],SMALL(IF(Отделения[Город]=$W$1,ROW(Отделения[Город])-1),ROW(K96)-ROW($A$2)+1)),\"\")","v":""},{"$f":"IFERROR(INDEX(Отделения[отделение],SMALL(IF(Отделения[Город]=$X$1,ROW(Отделения[Город])-1),ROW(L96)-ROW($A$2)+1)),\"\")","v":""},{"$f":"IFERROR(INDEX(Отделения[отделение],SMALL(IF(Отделения[Город]=$Y$1,ROW(Отделения[Город])-1),ROW(M96)-ROW($A$2)+1)),\"\")","v":""},{"$f":"IFERROR(INDEX(Отделения[отделение],SMALL(IF(Отделения[Город]=$Z$1,ROW(Отделения[Город])-1),ROW(N96)-ROW($A$2)+1)),\"\")","v":""},{"$f":"IFERROR(INDEX(Отделения[отделение],SMALL(IF(Отделения[Город]=$AA$1,ROW(Отделения[Город])-1),ROW(O96)-ROW($A$2)+1)),\"\")","v":""},{"$f":"IFERROR(INDEX(Отделения[отделение],SMALL(IF(Отделения[Город]=$AB$1,ROW(Отделения[Город])-1),ROW(P96)-ROW($A$2)+1)),\"\")","v":""},{"$f":"IFERROR(INDEX(Отделения[отделение],SMALL(IF(Отделения[Город]=$AC$1,ROW(Отделения[Город])-1),ROW(Q96)-ROW($A$2)+1)),\"\")","v":""},{"$f":"IFERROR(INDEX(Отделения[отделение],SMALL(IF(Отделения[Город]=$AD$1,ROW(Отделения[Город])-1),ROW(R96)-ROW($A$2)+1)),\"\")","v":""},{"$f":"IFERROR(INDEX(Отделения[отделение],SMALL(IF(Отделения[Город]=$AE$1,ROW(Отделения[Город])-1),ROW(S96)-ROW($A$2)+1)),\"\")","v":""},{"$f":"IFERROR(INDEX(Отделения[отделение],SMALL(IF(Отделения[Город]=$AF$1,ROW(Отделения[Город])-1),ROW(T96)-ROW($A$2)+1)),\"\")","v":""},{"$f":"IFERROR(INDEX(Отделения[отделение],SMALL(IF(Отделения[Город]=$AG$1,ROW(Отделения[Город])-1),ROW(U96)-ROW($A$2)+1)),\"\")","v":""},{"$f":"IFERROR(INDEX(Отделения[отделение],SMALL(IF(Отделения[Город]=$AH$1,ROW(Отделения[Город])-1),ROW(V96)-ROW($A$2)+1)),\"\")","v":""},{"$f":"IFERROR(INDEX(Отделения[отделение],SMALL(IF(Отделения[Город]=$AI$1,ROW(Отделения[Город])-1),ROW(AB96)-ROW($A$2)+1)),\"\")","v":""},{"$f":"IFERROR(INDEX(Отделения[отделение],SMALL(IF(Отделения[Город]=$AJ$1,ROW(Отделения[Город])-1),ROW(AB96)-ROW($A$2)+1)),\"\")","v":""},{"$f":"IFERROR(INDEX(Отделения[отделение],SMALL(IF(Отделения[Город]=$AK$1,ROW(Отделения[Город])-1),ROW(AB96)-ROW($A$2)+1)),\"\")","v":""},{"$f":"IFERROR(INDEX(Отделения[отделение],SMALL(IF(Отделения[Город]=$AL$1,ROW(Отделения[Город])-1),ROW(AB96)-ROW($A$2)+1)),\"\")","v":""},{"$f":"IFERROR(INDEX(Отделения[отделение],SMALL(IF(Отделения[Город]=$AM$1,ROW(Отделения[Город])-1),ROW(AB96)-ROW($A$2)+1)),\"\")","v":""},{"$f":"IFERROR(INDEX(Отделения[отделение],SMALL(IF(Отделения[Город]=$AN$1,ROW(Отделения[Город])-1),ROW(AB96)-ROW($A$2)+1)),\"\")","v":""},{"$f":"IFERROR(INDEX(Отделения[отделение],SMALL(IF(Отделения[Город]=$AO$1,ROW(Отделения[Город])-1),ROW(AB96)-ROW($A$2)+1)),\"\")","v":""},{"$f":"IFERROR(INDEX(Отделения[отделение],SMALL(IF(Отделения[Город]=$AP$1,ROW(Отделения[Город])-1),ROW(AB96)-ROW($A$2)+1)),\"\")","v":""},{"$f":"IFERROR(INDEX(Отделения[отделение],SMALL(IF(Отделения[Город]=$AQ$1,ROW(Отделения[Город])-1),ROW(AB96)-ROW($A$2)+1)),\"\")","v":""},{"$f":"IFERROR(INDEX(Отделения[отделение],SMALL(IF(Отделения[Город]=$AR$1,ROW(Отделения[Город])-1),ROW(AB96)-ROW($A$2)+1)),\"\")","v":""},{"$f":"IFERROR(INDEX(Отделения[отделение],SMALL(IF(Отделения[Город]=$AS$1,ROW(Отделения[Город])-1),ROW(AB96)-ROW($A$2)+1)),\"\")","v":""},{"$f":"IFERROR(INDEX(Отделения[отделение],SMALL(IF(Отделения[Город]=$AT$1,ROW(Отделения[Город])-1),ROW(AB96)-ROW($A$2)+1)),\"\")","v":""},{"$f":"IFERROR(INDEX(Отделения[отделение],SMALL(IF(Отделения[Город]=$AU$1,ROW(Отделения[Город])-1),ROW(AB96)-ROW($A$2)+1)),\"\")","v":""},{"$f":"IFERROR(INDEX(Отделения[отделение],SMALL(IF(Отделения[Город]=$AV$1,ROW(Отделения[Город])-1),ROW(AB96)-ROW($A$2)+1)),\"\")","v":""},{"$f":"IFERROR(INDEX(Отделения[отделение],SMALL(IF(Отделения[Город]=$AW$1,ROW(Отделения[Город])-1),ROW(AB96)-ROW($A$2)+1)),\"\")","v":""},{"$f":"IFERROR(INDEX(Отделения[отделение],SMALL(IF(Отделения[Город]=$AX$1,ROW(Отделения[Город])-1),ROW(AB96)-ROW($A$2)+1)),\"\")","v":""},{"$f":"IFERROR(INDEX(Отделения[отделение],SMALL(IF(Отделения[Город]=$AY$1,ROW(Отделения[Город])-1),ROW(AB96)-ROW($A$2)+1)),\"\")","v":""},{"$f":"IFERROR(INDEX(Отделения[отделение],SMALL(IF(Отделения[Город]=$AZ$1,ROW(Отделения[Город])-1),ROW(AB96)-ROW($A$2)+1)),\"\")","v":""},{"$f":"IFERROR(INDEX(Отделения[отделение],SMALL(IF(Отделения[Город]=$BA$1,ROW(Отделения[Город])-1),ROW(AB96)-ROW($A$2)+1)),\"\")","v":""},{"$f":"IFERROR(INDEX(Отделения[отделение],SMALL(IF(Отделения[Город]=$BB$1,ROW(Отделения[Город])-1),ROW(AB96)-ROW($A$2)+1)),\"\")","v":""},{"$f":"IFERROR(INDEX(Отделения[отделение],SMALL(IF(Отделения[Город]=$BC$1,ROW(Отделения[Город])-1),ROW(AC96)-ROW($A$2)+1)),\"\")","v":""},{"$f":"IFERROR(INDEX(Отделения[отделение],SMALL(IF(Отделения[Город]=$BD$1,ROW(Отделения[Город])-1),ROW(AD96)-ROW($A$2)+1)),\"\")","v":""},{"$f":"IFERROR(INDEX(Отделения[отделение],SMALL(IF(Отделения[Город]=$BE$1,ROW(Отделения[Город])-1),ROW(AE96)-ROW($A$2)+1)),\"\")","v":""},{"$f":"IFERROR(INDEX(Отделения[отделение],SMALL(IF(Отделения[Город]=$BF$1,ROW(Отделения[Город])-1),ROW(AF96)-ROW($A$2)+1)),\"\")","v":""},{"$f":"IFERROR(INDEX(Отделения[отделение],SMALL(IF(Отделения[Город]=$BG$1,ROW(Отделения[Город])-1),ROW(AG96)-ROW($A$2)+1)),\"\")","v":""},{"$f":"IFERROR(INDEX(Отделения[отделение],SMALL(IF(Отделения[Город]=$BH$1,ROW(Отделения[Город])-1),ROW(AH96)-ROW($A$2)+1)),\"\")","v":""},{"$f":"IFERROR(INDEX(Отделения[отделение],SMALL(IF(Отделения[Город]=$BI$1,ROW(Отделения[Город])-1),ROW(AI96)-ROW($A$2)+1)),\"\")","v":""},{"$f":"IFERROR(INDEX(Отделения[отделение],SMALL(IF(Отделения[Город]=$BJ$1,ROW(Отделения[Город])-1),ROW(AJ96)-ROW($A$2)+1)),\"\")","v":""},{"$f":"IFERROR(INDEX(Отделения[отделение],SMALL(IF(Отделения[Город]=$BK$1,ROW(Отделения[Город])-1),ROW(AK96)-ROW($A$2)+1)),\"\")","v":""},{"$f":"IFERROR(INDEX(Отделения[отделение],SMALL(IF(Отделения[Город]=$BL$1,ROW(Отделения[Город])-1),ROW(AL96)-ROW($A$2)+1)),\"\")","v":""},{"$f":"IFERROR(INDEX(Отделения[отделение],SMALL(IF(Отделения[Город]=$BM$1,ROW(Отделения[Город])-1),ROW(AM96)-ROW($A$2)+1)),\"\")","v":""},{"$f":"IFERROR(INDEX(Отделения[отделение],SMALL(IF(Отделения[Город]=$BN$1,ROW(Отделения[Город])-1),ROW(AN96)-ROW($A$2)+1)),\"\")","v":""},{"$f":"IFERROR(INDEX(Отделения[отделение],SMALL(IF(Отделения[Город]=$BO$1,ROW(Отделения[Город])-1),ROW(AO96)-ROW($A$2)+1)),\"\")","v":""},{"$f":"IFERROR(INDEX(Отделения[отделение],SMALL(IF(Отделения[Город]=$BP$1,ROW(Отделения[Город])-1),ROW(AP96)-ROW($A$2)+1)),\"\")","v":""},{"$f":"IFERROR(INDEX(Отделения[отделение],SMALL(IF(Отделения[Город]=$BQ$1,ROW(Отделения[Город])-1),ROW(AQ96)-ROW($A$2)+1)),\"\")","v":""},{"$f":"IFERROR(INDEX(Отделения[отделение],SMALL(IF(Отделения[Город]=$BR$1,ROW(Отделения[Город])-1),ROW(AR96)-ROW($A$2)+1)),\"\")","v":""},{"$f":"IFERROR(INDEX(Отделения[отделение],SMALL(IF(Отделения[Город]=$BS$1,ROW(Отделения[Город])-1),ROW(AS96)-ROW($A$2)+1)),\"\")","v":""},{"$f":"IFERROR(INDEX(Отделения[отделение],SMALL(IF(Отделения[Город]=$BT$1,ROW(Отделения[Город])-1),ROW(AT96)-ROW($A$2)+1)),\"\")","v":""},{"$f":"IFERROR(INDEX(Отделения[отделение],SMALL(IF(Отделения[Город]=$BU$1,ROW(Отделения[Город])-1),ROW(AU96)-ROW($A$2)+1)),\"\")","v":""},{"$f":"IFERROR(INDEX(Отделения[отделение],SMALL(IF(Отделения[Город]=$BV$1,ROW(Отделения[Город])-1),ROW(AV96)-ROW($A$2)+1)),\"\")","v":""},{"$f":"IFERROR(INDEX(Отделения[отделение],SMALL(IF(Отделения[Город]=$BW$1,ROW(Отделения[Город])-1),ROW(AV96)-ROW($A$2)+1)),\"\")","v":""},{"$f":"IFERROR(INDEX(Отделения[отделение],SMALL(IF(Отделения[Город]=$BX$1,ROW(Отделения[Город])-1),ROW(AV96)-ROW($A$2)+1)),\"\")","v":""},{"$f":"IFERROR(INDEX(Отделения[отделение],SMALL(IF(Отделения[Город]=$BY$1,ROW(Отделения[Город])-1),ROW(AV96)-ROW($A$2)+1)),\"\")","v":""},{"$f":"IFERROR(INDEX(Отделения[отделение],SMALL(IF(Отделения[Город]=$BZ$1,ROW(Отделения[Город])-1),ROW(AV96)-ROW($A$2)+1)),\"\")","v":""},{"$f":"IFERROR(INDEX(Отделения[отделение],SMALL(IF(Отделения[Город]=$CA$1,ROW(Отделения[Город])-1),ROW(AV96)-ROW($A$2)+1)),\"\")","v":""},{"$f":"IFERROR(INDEX(Отделения[отделение],SMALL(IF(Отделения[Город]=$CB$1,ROW(Отделения[Город])-1),ROW(AV96)-ROW($A$2)+1)),\"\")","v":""},{"$f":"IFERROR(INDEX(Отделения[отделение],SMALL(IF(Отделения[Город]=$CC$1,ROW(Отделения[Город])-1),ROW(AV96)-ROW($A$2)+1)),\"\")","v":""},{"$f":"IFERROR(INDEX(Отделения[отделение],SMALL(IF(Отделения[Город]=$CD$1,ROW(Отделения[Город])-1),ROW(AV96)-ROW($A$2)+1)),\"\")","v":""},{"$f":"IFERROR(INDEX(Отделения[отделение],SMALL(IF(Отделения[Город]=$CE$1,ROW(Отделения[Город])-1),ROW(AV96)-ROW($A$2)+1)),\"\")","v":""},{"$f":"IFERROR(INDEX(Отделения[отделение],SMALL(IF(Отделения[Город]=$CF$1,ROW(Отделения[Город])-1),ROW(AV96)-ROW($A$2)+1)),\"\")","v":""},{"$f":"IFERROR(INDEX(Отделения[отделение],SMALL(IF(Отделения[Город]=$CG$1,ROW(Отделения[Город])-1),ROW(AV96)-ROW($A$2)+1)),\"\")","v":""},{"$f":"IFERROR(INDEX(Отделения[отделение],SMALL(IF(Отделения[Город]=$CH$1,ROW(Отделения[Город])-1),ROW(AW96)-ROW($A$2)+1)),\"\")","v":""},{"$f":"IFERROR(INDEX(Отделения[отделение],SMALL(IF(Отделения[Город]=$CI$1,ROW(Отделения[Город])-1),ROW(AX96)-ROW($A$2)+1)),\"\")","v":""},{"$f":"IFERROR(INDEX(Отделения[отделение],SMALL(IF(Отделения[Город]=$CJ$1,ROW(Отделения[Город])-1),ROW(AY96)-ROW($A$2)+1)),\"\")","v":""},{"$f":"IFERROR(INDEX(Отделения[отделение],SMALL(IF(Отделения[Город]=$CK$1,ROW(Отделения[Город])-1),ROW(AZ96)-ROW($A$2)+1)),\"\")","v":""},{"$f":"IFERROR(INDEX(Отделения[отделение],SMALL(IF(Отделения[Город]=$CL$1,ROW(Отделения[Город])-1),ROW(BA96)-ROW($A$2)+1)),\"\")","v":""},{"$f":"IFERROR(INDEX(Отделения[отделение],SMALL(IF(Отделения[Город]=$CM$1,ROW(Отделения[Город])-1),ROW(BB96)-ROW($A$2)+1)),\"\")","v":""},{"$f":"IFERROR(INDEX(Отделения[отделение],SMALL(IF(Отделения[Город]=$CN$1,ROW(Отделения[Город])-1),ROW(BC96)-ROW($A$2)+1)),\"\")","v":""},{"$f":"IFERROR(INDEX(Отделения[отделение],SMALL(IF(Отделения[Город]=$CO$1,ROW(Отделения[Город])-1),ROW(BD96)-ROW($A$2)+1)),\"\")","v":""},{"$f":"IFERROR(INDEX(Отделения[отделение],SMALL(IF(Отделения[Город]=$CP$1,ROW(Отделения[Город])-1),ROW(BE96)-ROW($A$2)+1)),\"\")","v":""},{"$f":"IFERROR(INDEX(Отделения[отделение],SMALL(IF(Отделения[Город]=$CQ$1,ROW(Отделения[Город])-1),ROW(BF96)-ROW($A$2)+1)),\"\")","v":""},{"$f":"IFERROR(INDEX(Отделения[отделение],SMALL(IF(Отделения[Город]=$CR$1,ROW(Отделения[Город])-1),ROW(BG96)-ROW($A$2)+1)),\"\")","v":""},{"$f":"IFERROR(INDEX(Отделения[отделение],SMALL(IF(Отделения[Город]=$CS$1,ROW(Отделения[Город])-1),ROW(BH96)-ROW($A$2)+1)),\"\")","v":""},{"$f":"IFERROR(INDEX(Отделения[отделение],SMALL(IF(Отделения[Город]=$CT$1,ROW(Отделения[Город])-1),ROW(BI96)-ROW($A$2)+1)),\"\")","v":""},{"$f":"IFERROR(INDEX(Отделения[отделение],SMALL(IF(Отделения[Город]=$CU$1,ROW(Отделения[Город])-1),ROW(BJ96)-ROW($A$2)+1)),\"\")","v":""},{"$f":"IFERROR(INDEX(Отделения[отделение],SMALL(IF(Отделения[Город]=$CV$1,ROW(Отделения[Город])-1),ROW(BK96)-ROW($A$2)+1)),\"\")","v":""},{"$f":"IFERROR(INDEX(Отделения[отделение],SMALL(IF(Отделения[Город]=$CW$1,ROW(Отделения[Город])-1),ROW(BL96)-ROW($A$2)+1)),\"\")","v":""},{"$f":"IFERROR(INDEX(Отделения[отделение],SMALL(IF(Отделения[Город]=$CX$1,ROW(Отделения[Город])-1),ROW(BM96)-ROW($A$2)+1)),\"\")","v":""},{"$f":"IFERROR(INDEX(Отделения[отделение],SMALL(IF(Отделения[Город]=$CY$1,ROW(Отделения[Город])-1),ROW(BM96)-ROW($A$2)+1)),\"\")","v":""},{"$f":"IFERROR(INDEX(Отделения[отделение],SMALL(IF(Отделения[Город]=$CZ$1,ROW(Отделения[Город])-1),ROW(BM96)-ROW($A$2)+1)),\"\")","v":""},{"$f":"IFERROR(INDEX(Отделения[отделение],SMALL(IF(Отделения[Город]=$DA$1,ROW(Отделения[Город])-1),ROW(BM96)-ROW($A$2)+1)),\"\")","v":""},{"$f":"IFERROR(INDEX(Отделения[отделение],SMALL(IF(Отделения[Город]=$DB$1,ROW(Отделения[Город])-1),ROW(BM96)-ROW($A$2)+1)),\"\")","v":""}]
["Комсомольск-на-Амуре","ДО \"Комсомольск нА-пр-т Ленина\" , 681013, Хабаровский край, г. Комсомольск-на-Амуре, проспект. Ленина, д. 13, пом. 1002","0690","MOXI",null,null,{"$f":"IFERROR(INDEX(Отделения[отделение],SMALL(IF(Отделения[Город]=$G$1,ROW(Отделения[Город])-1),ROW(A97)-ROW($A$2)+1)),\"\")","v":""},{"$f":"IFERROR(INDEX(Отделения[отделение],SMALL(IF(Отделения[Город]=$H$1,ROW(Отделения[Город])-1),ROW(A97)-ROW($A$2)+1)),\"\")","v":""},{"$f":"IFERROR(INDEX(Отделения[отделение],SMALL(IF(Отделения[Город]=$I$1,ROW(Отделения[Город])-1),ROW(A97)-ROW($A$2)+1)),\"\")","v":""},{"$f":"IFERROR(INDEX(Отделения[отделение],SMALL(IF(Отделения[Город]=$J$1,ROW(Отделения[Город])-1),ROW(A97)-ROW($A$2)+1)),\"\")","v":""},{"$f":"IFERROR(INDEX(Отделения[отделение],SMALL(IF(Отделения[Город]=$K$1,ROW(Отделения[Город])-1),ROW(A97)-ROW($A$2)+1)),\"\")","v":""},{"$f":"IFERROR(INDEX(Отделения[отделение],SMALL(IF(Отделения[Город]=$L$1,ROW(Отделения[Город])-1),ROW(A97)-ROW($A$2)+1)),\"\")","v":""},{"$f":"IFERROR(INDEX(Отделения[отделение],SMALL(IF(Отделения[Город]=$M$1,ROW(Отделения[Город])-1),ROW(B97)-ROW($A$2)+1)),\"\")","v":""},{"$f":"IFERROR(INDEX(Отделения[отделение],SMALL(IF(Отделения[Город]=$N$1,ROW(Отделения[Город])-1),ROW(#REF!)-ROW($A$2)+1)),\"\")","v":""},{"$f":"IFERROR(INDEX(Отделения[отделение],SMALL(IF(Отделения[Город]=$O$1,ROW(Отделения[Город])-1),ROW(C97)-ROW($A$2)+1)),\"\")","v":""},{"$f":"IFERROR(INDEX(Отделения[отделение],SMALL(IF(Отделения[Город]=$P$1,ROW(Отделения[Город])-1),ROW(D97)-ROW($A$2)+1)),\"\")","v":""},{"$f":"IFERROR(INDEX(Отделения[отделение],SMALL(IF(Отделения[Город]=$Q$1,ROW(Отделения[Город])-1),ROW(F97)-ROW($A$2)+1)),\"\")","v":""},{"$f":"IFERROR(INDEX(Отделения[отделение],SMALL(IF(Отделения[Город]=$R$1,ROW(Отделения[Город])-1),ROW(#REF!)-ROW($A$2)+1)),\"\")","v":""},{"$f":"IFERROR(INDEX(Отделения[отделение],SMALL(IF(Отделения[Город]=$S$1,ROW(Отделения[Город])-1),ROW(G97)-ROW($A$2)+1)),\"\")","v":""},{"$f":"IFERROR(INDEX(Отделения[отделение],SMALL(IF(Отделения[Город]=$T$1,ROW(Отделения[Город])-1),ROW(H97)-ROW($A$2)+1)),\"\")","v":""},{"$f":"IFERROR(INDEX(Отделения[отделение],SMALL(IF(Отделения[Город]=$U$1,ROW(Отделения[Город])-1),ROW(I97)-ROW($A$2)+1)),\"\")","v":""},{"$f":"IFERROR(INDEX(Отделения[отделение],SMALL(IF(Отделения[Город]=$V$1,ROW(Отделения[Город])-1),ROW(J97)-ROW($A$2)+1)),\"\")","v":""},{"$f":"IFERROR(INDEX(Отделения[отделение],SMALL(IF(Отделения[Город]=$W$1,ROW(Отделения[Город])-1),ROW(K97)-ROW($A$2)+1)),\"\")","v":""},{"$f":"IFERROR(INDEX(Отделения[отделение],SMALL(IF(Отделения[Город]=$X$1,ROW(Отделения[Город])-1),ROW(L97)-ROW($A$2)+1)),\"\")","v":""},{"$f":"IFERROR(INDEX(Отделения[отделение],SMALL(IF(Отделения[Город]=$Y$1,ROW(Отделения[Город])-1),ROW(M97)-ROW($A$2)+1)),\"\")","v":""},{"$f":"IFERROR(INDEX(Отделения[отделение],SMALL(IF(Отделения[Город]=$Z$1,ROW(Отделения[Город])-1),ROW(N97)-ROW($A$2)+1)),\"\")","v":""},{"$f":"IFERROR(INDEX(Отделения[отделение],SMALL(IF(Отделения[Город]=$AA$1,ROW(Отделения[Город])-1),ROW(O97)-ROW($A$2)+1)),\"\")","v":""},{"$f":"IFERROR(INDEX(Отделения[отделение],SMALL(IF(Отделения[Город]=$AB$1,ROW(Отделения[Город])-1),ROW(P97)-ROW($A$2)+1)),\"\")","v":""},{"$f":"IFERROR(INDEX(Отделения[отделение],SMALL(IF(Отделения[Город]=$AC$1,ROW(Отделения[Город])-1),ROW(Q97)-ROW($A$2)+1)),\"\")","v":""},{"$f":"IFERROR(INDEX(Отделения[отделение],SMALL(IF(Отделения[Город]=$AD$1,ROW(Отделения[Город])-1),ROW(R97)-ROW($A$2)+1)),\"\")","v":""},{"$f":"IFERROR(INDEX(Отделения[отделение],SMALL(IF(Отделения[Город]=$AE$1,ROW(Отделения[Город])-1),ROW(S97)-ROW($A$2)+1)),\"\")","v":""},{"$f":"IFERROR(INDEX(Отделения[отделение],SMALL(IF(Отделения[Город]=$AF$1,ROW(Отделения[Город])-1),ROW(T97)-ROW($A$2)+1)),\"\")","v":""},{"$f":"IFERROR(INDEX(Отделения[отделение],SMALL(IF(Отделения[Город]=$AG$1,ROW(Отделения[Город])-1),ROW(U97)-ROW($A$2)+1)),\"\")","v":""},{"$f":"IFERROR(INDEX(Отделения[отделение],SMALL(IF(Отделения[Город]=$AH$1,ROW(Отделения[Город])-1),ROW(V97)-ROW($A$2)+1)),\"\")","v":""},{"$f":"IFERROR(INDEX(Отделения[отделение],SMALL(IF(Отделения[Город]=$AI$1,ROW(Отделения[Город])-1),ROW(AB97)-ROW($A$2)+1)),\"\")","v":""},{"$f":"IFERROR(INDEX(Отделения[отделение],SMALL(IF(Отделения[Город]=$AJ$1,ROW(Отделения[Город])-1),ROW(AB97)-ROW($A$2)+1)),\"\")","v":""},{"$f":"IFERROR(INDEX(Отделения[отделение],SMALL(IF(Отделения[Город]=$AK$1,ROW(Отделения[Город])-1),ROW(AB97)-ROW($A$2)+1)),\"\")","v":""},{"$f":"IFERROR(INDEX(Отделения[отделение],SMALL(IF(Отделения[Город]=$AL$1,ROW(Отделения[Город])-1),ROW(AB97)-ROW($A$2)+1)),\"\")","v":""},{"$f":"IFERROR(INDEX(Отделения[отделение],SMALL(IF(Отделения[Город]=$AM$1,ROW(Отделения[Город])-1),ROW(AB97)-ROW($A$2)+1)),\"\")","v":""},{"$f":"IFERROR(INDEX(Отделения[отделение],SMALL(IF(Отделения[Город]=$AN$1,ROW(Отделения[Город])-1),ROW(AB97)-ROW($A$2)+1)),\"\")","v":""},{"$f":"IFERROR(INDEX(Отделения[отделение],SMALL(IF(Отделения[Город]=$AO$1,ROW(Отделения[Город])-1),ROW(AB97)-ROW($A$2)+1)),\"\")","v":""},{"$f":"IFERROR(INDEX(Отделения[отделение],SMALL(IF(Отделения[Город]=$AP$1,ROW(Отделения[Город])-1),ROW(AB97)-ROW($A$2)+1)),\"\")","v":""},{"$f":"IFERROR(INDEX(Отделения[отделение],SMALL(IF(Отделения[Город]=$AQ$1,ROW(Отделения[Город])-1),ROW(AB97)-ROW($A$2)+1)),\"\")","v":""},{"$f":"IFERROR(INDEX(Отделения[отделение],SMALL(IF(Отделения[Город]=$AR$1,ROW(Отделения[Город])-1),ROW(AB97)-ROW($A$2)+1)),\"\")","v":""},{"$f":"IFERROR(INDEX(Отделения[отделение],SMALL(IF(Отделения[Город]=$AS$1,ROW(Отделения[Город])-1),ROW(AB97)-ROW($A$2)+1)),\"\")","v":""},{"$f":"IFERROR(INDEX(Отделения[отделение],SMALL(IF(Отделения[Город]=$AT$1,ROW(Отделения[Город])-1),ROW(AB97)-ROW($A$2)+1)),\"\")","v":""},{"$f":"IFERROR(INDEX(Отделения[отделение],SMALL(IF(Отделения[Город]=$AU$1,ROW(Отделения[Город])-1),ROW(AB97)-ROW($A$2)+1)),\"\")","v":""},{"$f":"IFERROR(INDEX(Отделения[отделение],SMALL(IF(Отделения[Город]=$AV$1,ROW(Отделения[Город])-1),ROW(AB97)-ROW($A$2)+1)),\"\")","v":""},{"$f":"IFERROR(INDEX(Отделения[отделение],SMALL(IF(Отделения[Город]=$AW$1,ROW(Отделения[Город])-1),ROW(AB97)-ROW($A$2)+1)),\"\")","v":""},{"$f":"IFERROR(INDEX(Отделения[отделение],SMALL(IF(Отделения[Город]=$AX$1,ROW(Отделения[Город])-1),ROW(AB97)-ROW($A$2)+1)),\"\")","v":""},{"$f":"IFERROR(INDEX(Отделения[отделение],SMALL(IF(Отделения[Город]=$AY$1,ROW(Отделения[Город])-1),ROW(AB97)-ROW($A$2)+1)),\"\")","v":""},{"$f":"IFERROR(INDEX(Отделения[отделение],SMALL(IF(Отделения[Город]=$AZ$1,ROW(Отделения[Город])-1),ROW(AB97)-ROW($A$2)+1)),\"\")","v":""},{"$f":"IFERROR(INDEX(Отделения[отделение],SMALL(IF(Отделения[Город]=$BA$1,ROW(Отделения[Город])-1),ROW(AB97)-ROW($A$2)+1)),\"\")","v":""},{"$f":"IFERROR(INDEX(Отделения[отделение],SMALL(IF(Отделения[Город]=$BB$1,ROW(Отделения[Город])-1),ROW(AB97)-ROW($A$2)+1)),\"\")","v":""},{"$f":"IFERROR(INDEX(Отделения[отделение],SMALL(IF(Отделения[Город]=$BC$1,ROW(Отделения[Город])-1),ROW(AC97)-ROW($A$2)+1)),\"\")","v":""},{"$f":"IFERROR(INDEX(Отделения[отделение],SMALL(IF(Отделения[Город]=$BD$1,ROW(Отделения[Город])-1),ROW(AD97)-ROW($A$2)+1)),\"\")","v":""},{"$f":"IFERROR(INDEX(Отделения[отделение],SMALL(IF(Отделения[Город]=$BE$1,ROW(Отделения[Город])-1),ROW(AE97)-ROW($A$2)+1)),\"\")","v":""},{"$f":"IFERROR(INDEX(Отделения[отделение],SMALL(IF(Отделения[Город]=$BF$1,ROW(Отделения[Город])-1),ROW(AF97)-ROW($A$2)+1)),\"\")","v":""},{"$f":"IFERROR(INDEX(Отделения[отделение],SMALL(IF(Отделения[Город]=$BG$1,ROW(Отделения[Город])-1),ROW(AG97)-ROW($A$2)+1)),\"\")","v":""},{"$f":"IFERROR(INDEX(Отделения[отделение],SMALL(IF(Отделения[Город]=$BH$1,ROW(Отделения[Город])-1),ROW(AH97)-ROW($A$2)+1)),\"\")","v":""},{"$f":"IFERROR(INDEX(Отделения[отделение],SMALL(IF(Отделения[Город]=$BI$1,ROW(Отделения[Город])-1),ROW(AI97)-ROW($A$2)+1)),\"\")","v":""},{"$f":"IFERROR(INDEX(Отделения[отделение],SMALL(IF(Отделения[Город]=$BJ$1,ROW(Отделения[Город])-1),ROW(AJ97)-ROW($A$2)+1)),\"\")","v":""},{"$f":"IFERROR(INDEX(Отделения[отделение],SMALL(IF(Отделения[Город]=$BK$1,ROW(Отделения[Город])-1),ROW(AK97)-ROW($A$2)+1)),\"\")","v":""},{"$f":"IFERROR(INDEX(Отделения[отделение],SMALL(IF(Отделения[Город]=$BL$1,ROW(Отделения[Город])-1),ROW(AL97)-ROW($A$2)+1)),\"\")","v":""},{"$f":"IFERROR(INDEX(Отделения[отделение],SMALL(IF(Отделения[Город]=$BM$1,ROW(Отделения[Город])-1),ROW(AM97)-ROW($A$2)+1)),\"\")","v":""},{"$f":"IFERROR(INDEX(Отделения[отделение],SMALL(IF(Отделения[Город]=$BN$1,ROW(Отделения[Город])-1),ROW(AN97)-ROW($A$2)+1)),\"\")","v":""},{"$f":"IFERROR(INDEX(Отделения[отделение],SMALL(IF(Отделения[Город]=$BO$1,ROW(Отделения[Город])-1),ROW(AO97)-ROW($A$2)+1)),\"\")","v":""},{"$f":"IFERROR(INDEX(Отделения[отделение],SMALL(IF(Отделения[Город]=$BP$1,ROW(Отделения[Город])-1),ROW(AP97)-ROW($A$2)+1)),\"\")","v":""},{"$f":"IFERROR(INDEX(Отделения[отделение],SMALL(IF(Отделения[Город]=$BQ$1,ROW(Отделения[Город])-1),ROW(AQ97)-ROW($A$2)+1)),\"\")","v":""},{"$f":"IFERROR(INDEX(Отделения[отделение],SMALL(IF(Отделения[Город]=$BR$1,ROW(Отделения[Город])-1),ROW(AR97)-ROW($A$2)+1)),\"\")","v":""},{"$f":"IFERROR(INDEX(Отделения[отделение],SMALL(IF(Отделения[Город]=$BS$1,ROW(Отделения[Город])-1),ROW(AS97)-ROW($A$2)+1)),\"\")","v":""},{"$f":"IFERROR(INDEX(Отделения[отделение],SMALL(IF(Отделения[Город]=$BT$1,ROW(Отделения[Город])-1),ROW(AT97)-ROW($A$2)+1)),\"\")","v":""},{"$f":"IFERROR(INDEX(Отделения[отделение],SMALL(IF(Отделения[Город]=$BU$1,ROW(Отделения[Город])-1),ROW(AU97)-ROW($A$2)+1)),\"\")","v":""},{"$f":"IFERROR(INDEX(Отделения[отделение],SMALL(IF(Отделения[Город]=$BV$1,ROW(Отделения[Город])-1),ROW(AV97)-ROW($A$2)+1)),\"\")","v":""},{"$f":"IFERROR(INDEX(Отделения[отделение],SMALL(IF(Отделения[Город]=$BW$1,ROW(Отделения[Город])-1),ROW(AV97)-ROW($A$2)+1)),\"\")","v":""},{"$f":"IFERROR(INDEX(Отделения[отделение],SMALL(IF(Отделения[Город]=$BX$1,ROW(Отделения[Город])-1),ROW(AV97)-ROW($A$2)+1)),\"\")","v":""},{"$f":"IFERROR(INDEX(Отделения[отделение],SMALL(IF(Отделения[Город]=$BY$1,ROW(Отделения[Город])-1),ROW(AV97)-ROW($A$2)+1)),\"\")","v":""},{"$f":"IFERROR(INDEX(Отделения[отделение],SMALL(IF(Отделения[Город]=$BZ$1,ROW(Отделения[Город])-1),ROW(AV97)-ROW($A$2)+1)),\"\")","v":""},{"$f":"IFERROR(INDEX(Отделения[отделение],SMALL(IF(Отделения[Город]=$CA$1,ROW(Отделения[Город])-1),ROW(AV97)-ROW($A$2)+1)),\"\")","v":""},{"$f":"IFERROR(INDEX(Отделения[отделение],SMALL(IF(Отделения[Город]=$CB$1,ROW(Отделения[Город])-1),ROW(AV97)-ROW($A$2)+1)),\"\")","v":""},{"$f":"IFERROR(INDEX(Отделения[отделение],SMALL(IF(Отделения[Город]=$CC$1,ROW(Отделения[Город])-1),ROW(AV97)-ROW($A$2)+1)),\"\")","v":""},{"$f":"IFERROR(INDEX(Отделения[отделение],SMALL(IF(Отделения[Город]=$CD$1,ROW(Отделения[Город])-1),ROW(AV97)-ROW($A$2)+1)),\"\")","v":""},{"$f":"IFERROR(INDEX(Отделения[отделение],SMALL(IF(Отделения[Город]=$CE$1,ROW(Отделения[Город])-1),ROW(AV97)-ROW($A$2)+1)),\"\")","v":""},{"$f":"IFERROR(INDEX(Отделения[отделение],SMALL(IF(Отделения[Город]=$CF$1,ROW(Отделения[Город])-1),ROW(AV97)-ROW($A$2)+1)),\"\")","v":""},{"$f":"IFERROR(INDEX(Отделения[отделение],SMALL(IF(Отделения[Город]=$CG$1,ROW(Отделения[Город])-1),ROW(AV97)-ROW($A$2)+1)),\"\")","v":""},{"$f":"IFERROR(INDEX(Отделения[отделение],SMALL(IF(Отделения[Город]=$CH$1,ROW(Отделения[Город])-1),ROW(AW97)-ROW($A$2)+1)),\"\")","v":""},{"$f":"IFERROR(INDEX(Отделения[отделение],SMALL(IF(Отделения[Город]=$CI$1,ROW(Отделения[Город])-1),ROW(AX97)-ROW($A$2)+1)),\"\")","v":""},{"$f":"IFERROR(INDEX(Отделения[отделение],SMALL(IF(Отделения[Город]=$CJ$1,ROW(Отделения[Город])-1),ROW(AY97)-ROW($A$2)+1)),\"\")","v":""},{"$f":"IFERROR(INDEX(Отделения[отделение],SMALL(IF(Отделения[Город]=$CK$1,ROW(Отделения[Город])-1),ROW(AZ97)-ROW($A$2)+1)),\"\")","v":""},{"$f":"IFERROR(INDEX(Отделения[отделение],SMALL(IF(Отделения[Город]=$CL$1,ROW(Отделения[Город])-1),ROW(BA97)-ROW($A$2)+1)),\"\")","v":""},{"$f":"IFERROR(INDEX(Отделения[отделение],SMALL(IF(Отделения[Город]=$CM$1,ROW(Отделения[Город])-1),ROW(BB97)-ROW($A$2)+1)),\"\")","v":""},{"$f":"IFERROR(INDEX(Отделения[отделение],SMALL(IF(Отделения[Город]=$CN$1,ROW(Отделения[Город])-1),ROW(BC97)-ROW($A$2)+1)),\"\")","v":""},{"$f":"IFERROR(INDEX(Отделения[отделение],SMALL(IF(Отделения[Город]=$CO$1,ROW(Отделения[Город])-1),ROW(BD97)-ROW($A$2)+1)),\"\")","v":""},{"$f":"IFERROR(INDEX(Отделения[отделение],SMALL(IF(Отделения[Город]=$CP$1,ROW(Отделения[Город])-1),ROW(BE97)-ROW($A$2)+1)),\"\")","v":""},{"$f":"IFERROR(INDEX(Отделения[отделение],SMALL(IF(Отделения[Город]=$CQ$1,ROW(Отделения[Город])-1),ROW(BF97)-ROW($A$2)+1)),\"\")","v":""},{"$f":"IFERROR(INDEX(Отделения[отделение],SMALL(IF(Отделения[Город]=$CR$1,ROW(Отделения[Город])-1),ROW(BG97)-ROW($A$2)+1)),\"\")","v":""},{"$f":"IFERROR(INDEX(Отделения[отделение],SMALL(IF(Отделения[Город]=$CS$1,ROW(Отделения[Город])-1),ROW(BH97)-ROW($A$2)+1)),\"\")","v":""},{"$f":"IFERROR(INDEX(Отделения[отделение],SMALL(IF(Отделения[Город]=$CT$1,ROW(Отделения[Город])-1),ROW(BI97)-ROW($A$2)+1)),\"\")","v":""},{"$f":"IFERROR(INDEX(Отделения[отделение],SMALL(IF(Отделения[Город]=$CU$1,ROW(Отделения[Город])-1),ROW(BJ97)-ROW($A$2)+1)),\"\")","v":""},{"$f":"IFERROR(INDEX(Отделения[отделение],SMALL(IF(Отделения[Город]=$CV$1,ROW(Отделения[Город])-1),ROW(BK97)-ROW($A$2)+1)),\"\")","v":""},{"$f":"IFERROR(INDEX(Отделения[отделение],SMALL(IF(Отделения[Город]=$CW$1,ROW(Отделения[Город])-1),ROW(BL97)-ROW($A$2)+1)),\"\")","v":""},{"$f":"IFERROR(INDEX(Отделения[отделение],SMALL(IF(Отделения[Город]=$CX$1,ROW(Отделения[Город])-1),ROW(BM97)-ROW($A$2)+1)),\"\")","v":""},{"$f":"IFERROR(INDEX(Отделения[отделение],SMALL(IF(Отделения[Город]=$CY$1,ROW(Отделения[Город])-1),ROW(BM97)-ROW($A$2)+1)),\"\")","v":""},{"$f":"IFERROR(INDEX(Отделения[отделение],SMALL(IF(Отделения[Город]=$CZ$1,ROW(Отделения[Город])-1),ROW(BM97)-ROW($A$2)+1)),\"\")","v":""},{"$f":"IFERROR(INDEX(Отделения[отделение],SMALL(IF(Отделения[Город]=$DA$1,ROW(Отделения[Город])-1),ROW(BM97)-ROW($A$2)+1)),\"\")","v":""},{"$f":"IFERROR(INDEX(Отделения[отделение],SMALL(IF(Отделения[Город]=$DB$1,ROW(Отделения[Город])-1),ROW(BM97)-ROW($A$2)+1)),\"\")","v":""}]
["Барнаул","ДО \"Барнаул-проспект Ленина\" , 656011, Россия, Алтайский край, г.Барнаул, пр-кт Ленина, д. 106","0692","MOWC",null,null,{"$f":"IFERROR(INDEX(Отделения[отделение],SMALL(IF(Отделения[Город]=$G$1,ROW(Отделения[Город])-1),ROW(A98)-ROW($A$2)+1)),\"\")","v":""},{"$f":"IFERROR(INDEX(Отделения[отделение],SMALL(IF(Отделения[Город]=$H$1,ROW(Отделения[Город])-1),ROW(A98)-ROW($A$2)+1)),\"\")","v":""},{"$f":"IFERROR(INDEX(Отделения[отделение],SMALL(IF(Отделения[Город]=$I$1,ROW(Отделения[Город])-1),ROW(A98)-ROW($A$2)+1)),\"\")","v":""},{"$f":"IFERROR(INDEX(Отделения[отделение],SMALL(IF(Отделения[Город]=$J$1,ROW(Отделения[Город])-1),ROW(A98)-ROW($A$2)+1)),\"\")","v":""},{"$f":"IFERROR(INDEX(Отделения[отделение],SMALL(IF(Отделения[Город]=$K$1,ROW(Отделения[Город])-1),ROW(A98)-ROW($A$2)+1)),\"\")","v":""},{"$f":"IFERROR(INDEX(Отделения[отделение],SMALL(IF(Отделения[Город]=$L$1,ROW(Отделения[Город])-1),ROW(A98)-ROW($A$2)+1)),\"\")","v":""},{"$f":"IFERROR(INDEX(Отделения[отделение],SMALL(IF(Отделения[Город]=$M$1,ROW(Отделения[Город])-1),ROW(B98)-ROW($A$2)+1)),\"\")","v":""},{"$f":"IFERROR(INDEX(Отделения[отделение],SMALL(IF(Отделения[Город]=$N$1,ROW(Отделения[Город])-1),ROW(#REF!)-ROW($A$2)+1)),\"\")","v":""},{"$f":"IFERROR(INDEX(Отделения[отделение],SMALL(IF(Отделения[Город]=$O$1,ROW(Отделения[Город])-1),ROW(C98)-ROW($A$2)+1)),\"\")","v":""},{"$f":"IFERROR(INDEX(Отделения[отделение],SMALL(IF(Отделения[Город]=$P$1,ROW(Отделения[Город])-1),ROW(D98)-ROW($A$2)+1)),\"\")","v":""},{"$f":"IFERROR(INDEX(Отделения[отделение],SMALL(IF(Отделения[Город]=$Q$1,ROW(Отделения[Город])-1),ROW(F98)-ROW($A$2)+1)),\"\")","v":""},{"$f":"IFERROR(INDEX(Отделения[отделение],SMALL(IF(Отделения[Город]=$R$1,ROW(Отделения[Город])-1),ROW(#REF!)-ROW($A$2)+1)),\"\")","v":""},{"$f":"IFERROR(INDEX(Отделения[отделение],SMALL(IF(Отделения[Город]=$S$1,ROW(Отделения[Город])-1),ROW(G98)-ROW($A$2)+1)),\"\")","v":""},{"$f":"IFERROR(INDEX(Отделения[отделение],SMALL(IF(Отделения[Город]=$T$1,ROW(Отделения[Город])-1),ROW(H98)-ROW($A$2)+1)),\"\")","v":""},{"$f":"IFERROR(INDEX(Отделения[отделение],SMALL(IF(Отделения[Город]=$U$1,ROW(Отделения[Город])-1),ROW(I98)-ROW($A$2)+1)),\"\")","v":""},{"$f":"IFERROR(INDEX(Отделения[отделение],SMALL(IF(Отделения[Город]=$V$1,ROW(Отделения[Город])-1),ROW(J98)-ROW($A$2)+1)),\"\")","v":""},{"$f":"IFERROR(INDEX(Отделения[отделение],SMALL(IF(Отделения[Город]=$W$1,ROW(Отделения[Город])-1),ROW(K98)-ROW($A$2)+1)),\"\")","v":""},{"$f":"IFERROR(INDEX(Отделения[отделение],SMALL(IF(Отделения[Город]=$X$1,ROW(Отделения[Город])-1),ROW(L98)-ROW($A$2)+1)),\"\")","v":""},{"$f":"IFERROR(INDEX(Отделения[отделение],SMALL(IF(Отделения[Город]=$Y$1,ROW(Отделения[Город])-1),ROW(M98)-ROW($A$2)+1)),\"\")","v":""},{"$f":"IFERROR(INDEX(Отделения[отделение],SMALL(IF(Отделения[Город]=$Z$1,ROW(Отделения[Город])-1),ROW(N98)-ROW($A$2)+1)),\"\")","v":""},{"$f":"IFERROR(INDEX(Отделения[отделение],SMALL(IF(Отделения[Город]=$AA$1,ROW(Отделения[Город])-1),ROW(O98)-ROW($A$2)+1)),\"\")","v":""},{"$f":"IFERROR(INDEX(Отделения[отделение],SMALL(IF(Отделения[Город]=$AB$1,ROW(Отделения[Город])-1),ROW(P98)-ROW($A$2)+1)),\"\")","v":""},{"$f":"IFERROR(INDEX(Отделения[отделение],SMALL(IF(Отделения[Город]=$AC$1,ROW(Отделения[Город])-1),ROW(Q98)-ROW($A$2)+1)),\"\")","v":""},{"$f":"IFERROR(INDEX(Отделения[отделение],SMALL(IF(Отделения[Город]=$AD$1,ROW(Отделения[Город])-1),ROW(R98)-ROW($A$2)+1)),\"\")","v":""},{"$f":"IFERROR(INDEX(Отделения[отделение],SMALL(IF(Отделения[Город]=$AE$1,ROW(Отделения[Город])-1),ROW(S98)-ROW($A$2)+1)),\"\")","v":""},{"$f":"IFERROR(INDEX(Отделения[отделение],SMALL(IF(Отделения[Город]=$AF$1,ROW(Отделения[Город])-1),ROW(T98)-ROW($A$2)+1)),\"\")","v":""},{"$f":"IFERROR(INDEX(Отделения[отделение],SMALL(IF(Отделения[Город]=$AG$1,ROW(Отделения[Город])-1),ROW(U98)-ROW($A$2)+1)),\"\")","v":""},{"$f":"IFERROR(INDEX(Отделения[отделение],SMALL(IF(Отделения[Город]=$AH$1,ROW(Отделения[Город])-1),ROW(V98)-ROW($A$2)+1)),\"\")","v":""},{"$f":"IFERROR(INDEX(Отделения[отделение],SMALL(IF(Отделения[Город]=$AI$1,ROW(Отделения[Город])-1),ROW(AB98)-ROW($A$2)+1)),\"\")","v":""},{"$f":"IFERROR(INDEX(Отделения[отделение],SMALL(IF(Отделения[Город]=$AJ$1,ROW(Отделения[Город])-1),ROW(AB98)-ROW($A$2)+1)),\"\")","v":""},{"$f":"IFERROR(INDEX(Отделения[отделение],SMALL(IF(Отделения[Город]=$AK$1,ROW(Отделения[Город])-1),ROW(AB98)-ROW($A$2)+1)),\"\")","v":""},{"$f":"IFERROR(INDEX(Отделения[отделение],SMALL(IF(Отделения[Город]=$AL$1,ROW(Отделения[Город])-1),ROW(AB98)-ROW($A$2)+1)),\"\")","v":""},{"$f":"IFERROR(INDEX(Отделения[отделение],SMALL(IF(Отделения[Город]=$AM$1,ROW(Отделения[Город])-1),ROW(AB98)-ROW($A$2)+1)),\"\")","v":""},{"$f":"IFERROR(INDEX(Отделения[отделение],SMALL(IF(Отделения[Город]=$AN$1,ROW(Отделения[Город])-1),ROW(AB98)-ROW($A$2)+1)),\"\")","v":""},{"$f":"IFERROR(INDEX(Отделения[отделение],SMALL(IF(Отделения[Город]=$AO$1,ROW(Отделения[Город])-1),ROW(AB98)-ROW($A$2)+1)),\"\")","v":""},{"$f":"IFERROR(INDEX(Отделения[отделение],SMALL(IF(Отделения[Город]=$AP$1,ROW(Отделения[Город])-1),ROW(AB98)-ROW($A$2)+1)),\"\")","v":""},{"$f":"IFERROR(INDEX(Отделения[отделение],SMALL(IF(Отделения[Город]=$AQ$1,ROW(Отделения[Город])-1),ROW(AB98)-ROW($A$2)+1)),\"\")","v":""},{"$f":"IFERROR(INDEX(Отделения[отделение],SMALL(IF(Отделения[Город]=$AR$1,ROW(Отделения[Город])-1),ROW(AB98)-ROW($A$2)+1)),\"\")","v":""},{"$f":"IFERROR(INDEX(Отделения[отделение],SMALL(IF(Отделения[Город]=$AS$1,ROW(Отделения[Город])-1),ROW(AB98)-ROW($A$2)+1)),\"\")","v":""},{"$f":"IFERROR(INDEX(Отделения[отделение],SMALL(IF(Отделения[Город]=$AT$1,ROW(Отделения[Город])-1),ROW(AB98)-ROW($A$2)+1)),\"\")","v":""},{"$f":"IFERROR(INDEX(Отделения[отделение],SMALL(IF(Отделения[Город]=$AU$1,ROW(Отделения[Город])-1),ROW(AB98)-ROW($A$2)+1)),\"\")","v":""},{"$f":"IFERROR(INDEX(Отделения[отделение],SMALL(IF(Отделения[Город]=$AV$1,ROW(Отделения[Город])-1),ROW(AB98)-ROW($A$2)+1)),\"\")","v":""},{"$f":"IFERROR(INDEX(Отделения[отделение],SMALL(IF(Отделения[Город]=$AW$1,ROW(Отделения[Город])-1),ROW(AB98)-ROW($A$2)+1)),\"\")","v":""},{"$f":"IFERROR(INDEX(Отделения[отделение],SMALL(IF(Отделения[Город]=$AX$1,ROW(Отделения[Город])-1),ROW(AB98)-ROW($A$2)+1)),\"\")","v":""},{"$f":"IFERROR(INDEX(Отделения[отделение],SMALL(IF(Отделения[Город]=$AY$1,ROW(Отделения[Город])-1),ROW(AB98)-ROW($A$2)+1)),\"\")","v":""},{"$f":"IFERROR(INDEX(Отделения[отделение],SMALL(IF(Отделения[Город]=$AZ$1,ROW(Отделения[Город])-1),ROW(AB98)-ROW($A$2)+1)),\"\")","v":""},{"$f":"IFERROR(INDEX(Отделения[отделение],SMALL(IF(Отделения[Город]=$BA$1,ROW(Отделения[Город])-1),ROW(AB98)-ROW($A$2)+1)),\"\")","v":""},{"$f":"IFERROR(INDEX(Отделения[отделение],SMALL(IF(Отделения[Город]=$BB$1,ROW(Отделения[Город])-1),ROW(AB98)-ROW($A$2)+1)),\"\")","v":""},{"$f":"IFERROR(INDEX(Отделения[отделение],SMALL(IF(Отделения[Город]=$BC$1,ROW(Отделения[Город])-1),ROW(AC98)-ROW($A$2)+1)),\"\")","v":""},{"$f":"IFERROR(INDEX(Отделения[отделение],SMALL(IF(Отделения[Город]=$BD$1,ROW(Отделения[Город])-1),ROW(AD98)-ROW($A$2)+1)),\"\")","v":""},{"$f":"IFERROR(INDEX(Отделения[отделение],SMALL(IF(Отделения[Город]=$BE$1,ROW(Отделения[Город])-1),ROW(AE98)-ROW($A$2)+1)),\"\")","v":""},{"$f":"IFERROR(INDEX(Отделения[отделение],SMALL(IF(Отделения[Город]=$BF$1,ROW(Отделения[Город])-1),ROW(AF98)-ROW($A$2)+1)),\"\")","v":""},{"$f":"IFERROR(INDEX(Отделения[отделение],SMALL(IF(Отделения[Город]=$BG$1,ROW(Отделения[Город])-1),ROW(AG98)-ROW($A$2)+1)),\"\")","v":""},{"$f":"IFERROR(INDEX(Отделения[отделение],SMALL(IF(Отделения[Город]=$BH$1,ROW(Отделения[Город])-1),ROW(AH98)-ROW($A$2)+1)),\"\")","v":""},{"$f":"IFERROR(INDEX(Отделения[отделение],SMALL(IF(Отделения[Город]=$BI$1,ROW(Отделения[Город])-1),ROW(AI98)-ROW($A$2)+1)),\"\")","v":""},{"$f":"IFERROR(INDEX(Отделения[отделение],SMALL(IF(Отделения[Город]=$BJ$1,ROW(Отделения[Город])-1),ROW(AJ98)-ROW($A$2)+1)),\"\")","v":""},{"$f":"IFERROR(INDEX(Отделения[отделение],SMALL(IF(Отделения[Город]=$BK$1,ROW(Отделения[Город])-1),ROW(AK98)-ROW($A$2)+1)),\"\")","v":""},{"$f":"IFERROR(INDEX(Отделения[отделение],SMALL(IF(Отделения[Город]=$BL$1,ROW(Отделения[Город])-1),ROW(AL98)-ROW($A$2)+1)),\"\")","v":""},{"$f":"IFERROR(INDEX(Отделения[отделение],SMALL(IF(Отделения[Город]=$BM$1,ROW(Отделения[Город])-1),ROW(AM98)-ROW($A$2)+1)),\"\")","v":""},{"$f":"IFERROR(INDEX(Отделения[отделение],SMALL(IF(Отделения[Город]=$BN$1,ROW(Отделения[Город])-1),ROW(AN98)-ROW($A$2)+1)),\"\")","v":""},{"$f":"IFERROR(INDEX(Отделения[отделение],SMALL(IF(Отделения[Город]=$BO$1,ROW(Отделения[Город])-1),ROW(AO98)-ROW($A$2)+1)),\"\")","v":""},{"$f":"IFERROR(INDEX(Отделения[отделение],SMALL(IF(Отделения[Город]=$BP$1,ROW(Отделения[Город])-1),ROW(AP98)-ROW($A$2)+1)),\"\")","v":""},{"$f":"IFERROR(INDEX(Отделения[отделение],SMALL(IF(Отделения[Город]=$BQ$1,ROW(Отделения[Город])-1),ROW(AQ98)-ROW($A$2)+1)),\"\")","v":""},{"$f":"IFERROR(INDEX(Отделения[отделение],SMALL(IF(Отделения[Город]=$BR$1,ROW(Отделения[Город])-1),ROW(AR98)-ROW($A$2)+1)),\"\")","v":""},{"$f":"IFERROR(INDEX(Отделения[отделение],SMALL(IF(Отделения[Город]=$BS$1,ROW(Отделения[Город])-1),ROW(AS98)-ROW($A$2)+1)),\"\")","v":""},{"$f":"IFERROR(INDEX(Отделения[отделение],SMALL(IF(Отделения[Город]=$BT$1,ROW(Отделения[Город])-1),ROW(AT98)-ROW($A$2)+1)),\"\")","v":""},{"$f":"IFERROR(INDEX(Отделения[отделение],SMALL(IF(Отделения[Город]=$BU$1,ROW(Отделения[Город])-1),ROW(AU98)-ROW($A$2)+1)),\"\")","v":""},{"$f":"IFERROR(INDEX(Отделения[отделение],SMALL(IF(Отделения[Город]=$BV$1,ROW(Отделения[Город])-1),ROW(AV98)-ROW($A$2)+1)),\"\")","v":""},{"$f":"IFERROR(INDEX(Отделения[отделение],SMALL(IF(Отделения[Город]=$BW$1,ROW(Отделения[Город])-1),ROW(AV98)-ROW($A$2)+1)),\"\")","v":""},{"$f":"IFERROR(INDEX(Отделения[отделение],SMALL(IF(Отделения[Город]=$BX$1,ROW(Отделения[Город])-1),ROW(AV98)-ROW($A$2)+1)),\"\")","v":""},{"$f":"IFERROR(INDEX(Отделения[отделение],SMALL(IF(Отделения[Город]=$BY$1,ROW(Отделения[Город])-1),ROW(AV98)-ROW($A$2)+1)),\"\")","v":""},{"$f":"IFERROR(INDEX(Отделения[отделение],SMALL(IF(Отделения[Город]=$BZ$1,ROW(Отделения[Город])-1),ROW(AV98)-ROW($A$2)+1)),\"\")","v":""},{"$f":"IFERROR(INDEX(Отделения[отделение],SMALL(IF(Отделения[Город]=$CA$1,ROW(Отделения[Город])-1),ROW(AV98)-ROW($A$2)+1)),\"\")","v":""},{"$f":"IFERROR(INDEX(Отделения[отделение],SMALL(IF(Отделения[Город]=$CB$1,ROW(Отделения[Город])-1),ROW(AV98)-ROW($A$2)+1)),\"\")","v":""},{"$f":"IFERROR(INDEX(Отделения[отделение],SMALL(IF(Отделения[Город]=$CC$1,ROW(Отделения[Город])-1),ROW(AV98)-ROW($A$2)+1)),\"\")","v":""},{"$f":"IFERROR(INDEX(Отделения[отделение],SMALL(IF(Отделения[Город]=$CD$1,ROW(Отделения[Город])-1),ROW(AV98)-ROW($A$2)+1)),\"\")","v":""},{"$f":"IFERROR(INDEX(Отделения[отделение],SMALL(IF(Отделения[Город]=$CE$1,ROW(Отделения[Город])-1),ROW(AV98)-ROW($A$2)+1)),\"\")","v":""},{"$f":"IFERROR(INDEX(Отделения[отделение],SMALL(IF(Отделения[Город]=$CF$1,ROW(Отделения[Город])-1),ROW(AV98)-ROW($A$2)+1)),\"\")","v":""},{"$f":"IFERROR(INDEX(Отделения[отделение],SMALL(IF(Отделения[Город]=$CG$1,ROW(Отделения[Город])-1),ROW(AV98)-ROW($A$2)+1)),\"\")","v":""},{"$f":"IFERROR(INDEX(Отделения[отделение],SMALL(IF(Отделения[Город]=$CH$1,ROW(Отделения[Город])-1),ROW(AW98)-ROW($A$2)+1)),\"\")","v":""},{"$f":"IFERROR(INDEX(Отделения[отделение],SMALL(IF(Отделения[Город]=$CI$1,ROW(Отделения[Город])-1),ROW(AX98)-ROW($A$2)+1)),\"\")","v":""},{"$f":"IFERROR(INDEX(Отделения[отделение],SMALL(IF(Отделения[Город]=$CJ$1,ROW(Отделения[Город])-1),ROW(AY98)-ROW($A$2)+1)),\"\")","v":""},{"$f":"IFERROR(INDEX(Отделения[отделение],SMALL(IF(Отделения[Город]=$CK$1,ROW(Отделения[Город])-1),ROW(AZ98)-ROW($A$2)+1)),\"\")","v":""},{"$f":"IFERROR(INDEX(Отделения[отделение],SMALL(IF(Отделения[Город]=$CL$1,ROW(Отделения[Город])-1),ROW(BA98)-ROW($A$2)+1)),\"\")","v":""},{"$f":"IFERROR(INDEX(Отделения[отделение],SMALL(IF(Отделения[Город]=$CM$1,ROW(Отделения[Город])-1),ROW(BB98)-ROW($A$2)+1)),\"\")","v":""},{"$f":"IFERROR(INDEX(Отделения[отделение],SMALL(IF(Отделения[Город]=$CN$1,ROW(Отделения[Город])-1),ROW(BC98)-ROW($A$2)+1)),\"\")","v":""},{"$f":"IFERROR(INDEX(Отделения[отделение],SMALL(IF(Отделения[Город]=$CO$1,ROW(Отделения[Город])-1),ROW(BD98)-ROW($A$2)+1)),\"\")","v":""},{"$f":"IFERROR(INDEX(Отделения[отделение],SMALL(IF(Отделения[Город]=$CP$1,ROW(Отделения[Город])-1),ROW(BE98)-ROW($A$2)+1)),\"\")","v":""},{"$f":"IFERROR(INDEX(Отделения[отделение],SMALL(IF(Отделения[Город]=$CQ$1,ROW(Отделения[Город])-1),ROW(BF98)-ROW($A$2)+1)),\"\")","v":""},{"$f":"IFERROR(INDEX(Отделения[отделение],SMALL(IF(Отделения[Город]=$CR$1,ROW(Отделения[Город])-1),ROW(BG98)-ROW($A$2)+1)),\"\")","v":""},{"$f":"IFERROR(INDEX(Отделения[отделение],SMALL(IF(Отделения[Город]=$CS$1,ROW(Отделения[Город])-1),ROW(BH98)-ROW($A$2)+1)),\"\")","v":""},{"$f":"IFERROR(INDEX(Отделения[отделение],SMALL(IF(Отделения[Город]=$CT$1,ROW(Отделения[Город])-1),ROW(BI98)-ROW($A$2)+1)),\"\")","v":""},{"$f":"IFERROR(INDEX(Отделения[отделение],SMALL(IF(Отделения[Город]=$CU$1,ROW(Отделения[Город])-1),ROW(BJ98)-ROW($A$2)+1)),\"\")","v":""},{"$f":"IFERROR(INDEX(Отделения[отделение],SMALL(IF(Отделения[Город]=$CV$1,ROW(Отделения[Город])-1),ROW(BK98)-ROW($A$2)+1)),\"\")","v":""},{"$f":"IFERROR(INDEX(Отделения[отделение],SMALL(IF(Отделения[Город]=$CW$1,ROW(Отделения[Город])-1),ROW(BL98)-ROW($A$2)+1)),\"\")","v":""},{"$f":"IFERROR(INDEX(Отделения[отделение],SMALL(IF(Отделения[Город]=$CX$1,ROW(Отделения[Город])-1),ROW(BM98)-ROW($A$2)+1)),\"\")","v":""},{"$f":"IFERROR(INDEX(Отделения[отделение],SMALL(IF(Отделения[Город]=$CY$1,ROW(Отделения[Город])-1),ROW(BM98)-ROW($A$2)+1)),\"\")","v":""},{"$f":"IFERROR(INDEX(Отделения[отделение],SMALL(IF(Отделения[Город]=$CZ$1,ROW(Отделения[Город])-1),ROW(BM98)-ROW($A$2)+1)),\"\")","v":""},{"$f":"IFERROR(INDEX(Отделения[отделение],SMALL(IF(Отделения[Город]=$DA$1,ROW(Отделения[Город])-1),ROW(BM98)-ROW($A$2)+1)),\"\")","v":""},{"$f":"IFERROR(INDEX(Отделения[отделение],SMALL(IF(Отделения[Город]=$DB$1,ROW(Отделения[Город])-1),ROW(BM98)-ROW($A$2)+1)),\"\")","v":""}]
["Новокузнецк","ДО \"Новокузнецк-пр-кт Металлургов\" , 654007, Кемеровская область –Кузбасс, г. Новокузнецк, проспектМеталлургов, 32","0693","MOXF",null,null,{"$f":"IFERROR(INDEX(Отделения[отделение],SMALL(IF(Отделения[Город]=$G$1,ROW(Отделения[Город])-1),ROW(A99)-ROW($A$2)+1)),\"\")","v":""},{"$f":"IFERROR(INDEX(Отделения[отделение],SMALL(IF(Отделения[Город]=$H$1,ROW(Отделения[Город])-1),ROW(A99)-ROW($A$2)+1)),\"\")","v":""},{"$f":"IFERROR(INDEX(Отделения[отделение],SMALL(IF(Отделения[Город]=$I$1,ROW(Отделения[Город])-1),ROW(A99)-ROW($A$2)+1)),\"\")","v":""},{"$f":"IFERROR(INDEX(Отделения[отделение],SMALL(IF(Отделения[Город]=$J$1,ROW(Отделения[Город])-1),ROW(A99)-ROW($A$2)+1)),\"\")","v":""},{"$f":"IFERROR(INDEX(Отделения[отделение],SMALL(IF(Отделения[Город]=$K$1,ROW(Отделения[Город])-1),ROW(A99)-ROW($A$2)+1)),\"\")","v":""},{"$f":"IFERROR(INDEX(Отделения[отделение],SMALL(IF(Отделения[Город]=$L$1,ROW(Отделения[Город])-1),ROW(A99)-ROW($A$2)+1)),\"\")","v":""},{"$f":"IFERROR(INDEX(Отделения[отделение],SMALL(IF(Отделения[Город]=$M$1,ROW(Отделения[Город])-1),ROW(B99)-ROW($A$2)+1)),\"\")","v":""},{"$f":"IFERROR(INDEX(Отделения[отделение],SMALL(IF(Отделения[Город]=$N$1,ROW(Отделения[Город])-1),ROW(#REF!)-ROW($A$2)+1)),\"\")","v":""},{"$f":"IFERROR(INDEX(Отделения[отделение],SMALL(IF(Отделения[Город]=$O$1,ROW(Отделения[Город])-1),ROW(C99)-ROW($A$2)+1)),\"\")","v":""},{"$f":"IFERROR(INDEX(Отделения[отделение],SMALL(IF(Отделения[Город]=$P$1,ROW(Отделения[Город])-1),ROW(D99)-ROW($A$2)+1)),\"\")","v":""},{"$f":"IFERROR(INDEX(Отделения[отделение],SMALL(IF(Отделения[Город]=$Q$1,ROW(Отделения[Город])-1),ROW(F99)-ROW($A$2)+1)),\"\")","v":""},{"$f":"IFERROR(INDEX(Отделения[отделение],SMALL(IF(Отделения[Город]=$R$1,ROW(Отделения[Город])-1),ROW(#REF!)-ROW($A$2)+1)),\"\")","v":""},{"$f":"IFERROR(INDEX(Отделения[отделение],SMALL(IF(Отделения[Город]=$S$1,ROW(Отделения[Город])-1),ROW(G99)-ROW($A$2)+1)),\"\")","v":""},{"$f":"IFERROR(INDEX(Отделения[отделение],SMALL(IF(Отделения[Город]=$T$1,ROW(Отделения[Город])-1),ROW(H99)-ROW($A$2)+1)),\"\")","v":""},{"$f":"IFERROR(INDEX(Отделения[отделение],SMALL(IF(Отделения[Город]=$U$1,ROW(Отделения[Город])-1),ROW(I99)-ROW($A$2)+1)),\"\")","v":""},{"$f":"IFERROR(INDEX(Отделения[отделение],SMALL(IF(Отделения[Город]=$V$1,ROW(Отделения[Город])-1),ROW(J99)-ROW($A$2)+1)),\"\")","v":""},{"$f":"IFERROR(INDEX(Отделения[отделение],SMALL(IF(Отделения[Город]=$W$1,ROW(Отделения[Город])-1),ROW(K99)-ROW($A$2)+1)),\"\")","v":""},{"$f":"IFERROR(INDEX(Отделения[отделение],SMALL(IF(Отделения[Город]=$X$1,ROW(Отделения[Город])-1),ROW(L99)-ROW($A$2)+1)),\"\")","v":""},{"$f":"IFERROR(INDEX(Отделения[отделение],SMALL(IF(Отделения[Город]=$Y$1,ROW(Отделения[Город])-1),ROW(M99)-ROW($A$2)+1)),\"\")","v":""},{"$f":"IFERROR(INDEX(Отделения[отделение],SMALL(IF(Отделения[Город]=$Z$1,ROW(Отделения[Город])-1),ROW(N99)-ROW($A$2)+1)),\"\")","v":""},{"$f":"IFERROR(INDEX(Отделения[отделение],SMALL(IF(Отделения[Город]=$AA$1,ROW(Отделения[Город])-1),ROW(O99)-ROW($A$2)+1)),\"\")","v":""},{"$f":"IFERROR(INDEX(Отделения[отделение],SMALL(IF(Отделения[Город]=$AB$1,ROW(Отделения[Город])-1),ROW(P99)-ROW($A$2)+1)),\"\")","v":""},{"$f":"IFERROR(INDEX(Отделения[отделение],SMALL(IF(Отделения[Город]=$AC$1,ROW(Отделения[Город])-1),ROW(Q99)-ROW($A$2)+1)),\"\")","v":""},{"$f":"IFERROR(INDEX(Отделения[отделение],SMALL(IF(Отделения[Город]=$AD$1,ROW(Отделения[Город])-1),ROW(R99)-ROW($A$2)+1)),\"\")","v":""},{"$f":"IFERROR(INDEX(Отделения[отделение],SMALL(IF(Отделения[Город]=$AE$1,ROW(Отделения[Город])-1),ROW(S99)-ROW($A$2)+1)),\"\")","v":""},{"$f":"IFERROR(INDEX(Отделения[отделение],SMALL(IF(Отделения[Город]=$AF$1,ROW(Отделения[Город])-1),ROW(T99)-ROW($A$2)+1)),\"\")","v":""},{"$f":"IFERROR(INDEX(Отделения[отделение],SMALL(IF(Отделения[Город]=$AG$1,ROW(Отделения[Город])-1),ROW(U99)-ROW($A$2)+1)),\"\")","v":""},{"$f":"IFERROR(INDEX(Отделения[отделение],SMALL(IF(Отделения[Город]=$AH$1,ROW(Отделения[Город])-1),ROW(V99)-ROW($A$2)+1)),\"\")","v":""},{"$f":"IFERROR(INDEX(Отделения[отделение],SMALL(IF(Отделения[Город]=$AI$1,ROW(Отделения[Город])-1),ROW(AB99)-ROW($A$2)+1)),\"\")","v":""},{"$f":"IFERROR(INDEX(Отделения[отделение],SMALL(IF(Отделения[Город]=$AJ$1,ROW(Отделения[Город])-1),ROW(AB99)-ROW($A$2)+1)),\"\")","v":""},{"$f":"IFERROR(INDEX(Отделения[отделение],SMALL(IF(Отделения[Город]=$AK$1,ROW(Отделения[Город])-1),ROW(AB99)-ROW($A$2)+1)),\"\")","v":""},{"$f":"IFERROR(INDEX(Отделения[отделение],SMALL(IF(Отделения[Город]=$AL$1,ROW(Отделения[Город])-1),ROW(AB99)-ROW($A$2)+1)),\"\")","v":""},{"$f":"IFERROR(INDEX(Отделения[отделение],SMALL(IF(Отделения[Город]=$AM$1,ROW(Отделения[Город])-1),ROW(AB99)-ROW($A$2)+1)),\"\")","v":""},{"$f":"IFERROR(INDEX(Отделения[отделение],SMALL(IF(Отделения[Город]=$AN$1,ROW(Отделения[Город])-1),ROW(AB99)-ROW($A$2)+1)),\"\")","v":""},{"$f":"IFERROR(INDEX(Отделения[отделение],SMALL(IF(Отделения[Город]=$AO$1,ROW(Отделения[Город])-1),ROW(AB99)-ROW($A$2)+1)),\"\")","v":""},{"$f":"IFERROR(INDEX(Отделения[отделение],SMALL(IF(Отделения[Город]=$AP$1,ROW(Отделения[Город])-1),ROW(AB99)-ROW($A$2)+1)),\"\")","v":""},{"$f":"IFERROR(INDEX(Отделения[отделение],SMALL(IF(Отделения[Город]=$AQ$1,ROW(Отделения[Город])-1),ROW(AB99)-ROW($A$2)+1)),\"\")","v":""},{"$f":"IFERROR(INDEX(Отделения[отделение],SMALL(IF(Отделения[Город]=$AR$1,ROW(Отделения[Город])-1),ROW(AB99)-ROW($A$2)+1)),\"\")","v":""},{"$f":"IFERROR(INDEX(Отделения[отделение],SMALL(IF(Отделения[Город]=$AS$1,ROW(Отделения[Город])-1),ROW(AB99)-ROW($A$2)+1)),\"\")","v":""},{"$f":"IFERROR(INDEX(Отделения[отделение],SMALL(IF(Отделения[Город]=$AT$1,ROW(Отделения[Город])-1),ROW(AB99)-ROW($A$2)+1)),\"\")","v":""},{"$f":"IFERROR(INDEX(Отделения[отделение],SMALL(IF(Отделения[Город]=$AU$1,ROW(Отделения[Город])-1),ROW(AB99)-ROW($A$2)+1)),\"\")","v":""},{"$f":"IFERROR(INDEX(Отделения[отделение],SMALL(IF(Отделения[Город]=$AV$1,ROW(Отделения[Город])-1),ROW(AB99)-ROW($A$2)+1)),\"\")","v":""},{"$f":"IFERROR(INDEX(Отделения[отделение],SMALL(IF(Отделения[Город]=$AW$1,ROW(Отделения[Город])-1),ROW(AB99)-ROW($A$2)+1)),\"\")","v":""},{"$f":"IFERROR(INDEX(Отделения[отделение],SMALL(IF(Отделения[Город]=$AX$1,ROW(Отделения[Город])-1),ROW(AB99)-ROW($A$2)+1)),\"\")","v":""},{"$f":"IFERROR(INDEX(Отделения[отделение],SMALL(IF(Отделения[Город]=$AY$1,ROW(Отделения[Город])-1),ROW(AB99)-ROW($A$2)+1)),\"\")","v":""},{"$f":"IFERROR(INDEX(Отделения[отделение],SMALL(IF(Отделения[Город]=$AZ$1,ROW(Отделения[Город])-1),ROW(AB99)-ROW($A$2)+1)),\"\")","v":""},{"$f":"IFERROR(INDEX(Отделения[отделение],SMALL(IF(Отделения[Город]=$BA$1,ROW(Отделения[Город])-1),ROW(AB99)-ROW($A$2)+1)),\"\")","v":""},{"$f":"IFERROR(INDEX(Отделения[отделение],SMALL(IF(Отделения[Город]=$BB$1,ROW(Отделения[Город])-1),ROW(AB99)-ROW($A$2)+1)),\"\")","v":""},{"$f":"IFERROR(INDEX(Отделения[отделение],SMALL(IF(Отделения[Город]=$BC$1,ROW(Отделения[Город])-1),ROW(AC99)-ROW($A$2)+1)),\"\")","v":""},{"$f":"IFERROR(INDEX(Отделения[отделение],SMALL(IF(Отделения[Город]=$BD$1,ROW(Отделения[Город])-1),ROW(AD99)-ROW($A$2)+1)),\"\")","v":""},{"$f":"IFERROR(INDEX(Отделения[отделение],SMALL(IF(Отделения[Город]=$BE$1,ROW(Отделения[Город])-1),ROW(AE99)-ROW($A$2)+1)),\"\")","v":""},{"$f":"IFERROR(INDEX(Отделения[отделение],SMALL(IF(Отделения[Город]=$BF$1,ROW(Отделения[Город])-1),ROW(AF99)-ROW($A$2)+1)),\"\")","v":""},{"$f":"IFERROR(INDEX(Отделения[отделение],SMALL(IF(Отделения[Город]=$BG$1,ROW(Отделения[Город])-1),ROW(AG99)-ROW($A$2)+1)),\"\")","v":""},{"$f":"IFERROR(INDEX(Отделения[отделение],SMALL(IF(Отделения[Город]=$BH$1,ROW(Отделения[Город])-1),ROW(AH99)-ROW($A$2)+1)),\"\")","v":""},{"$f":"IFERROR(INDEX(Отделения[отделение],SMALL(IF(Отделения[Город]=$BI$1,ROW(Отделения[Город])-1),ROW(AI99)-ROW($A$2)+1)),\"\")","v":""},{"$f":"IFERROR(INDEX(Отделения[отделение],SMALL(IF(Отделения[Город]=$BJ$1,ROW(Отделения[Город])-1),ROW(AJ99)-ROW($A$2)+1)),\"\")","v":""},{"$f":"IFERROR(INDEX(Отделения[отделение],SMALL(IF(Отделения[Город]=$BK$1,ROW(Отделения[Город])-1),ROW(AK99)-ROW($A$2)+1)),\"\")","v":""},{"$f":"IFERROR(INDEX(Отделения[отделение],SMALL(IF(Отделения[Город]=$BL$1,ROW(Отделения[Город])-1),ROW(AL99)-ROW($A$2)+1)),\"\")","v":""},{"$f":"IFERROR(INDEX(Отделения[отделение],SMALL(IF(Отделения[Город]=$BM$1,ROW(Отделения[Город])-1),ROW(AM99)-ROW($A$2)+1)),\"\")","v":""},{"$f":"IFERROR(INDEX(Отделения[отделение],SMALL(IF(Отделения[Город]=$BN$1,ROW(Отделения[Город])-1),ROW(AN99)-ROW($A$2)+1)),\"\")","v":""},{"$f":"IFERROR(INDEX(Отделения[отделение],SMALL(IF(Отделения[Город]=$BO$1,ROW(Отделения[Город])-1),ROW(AO99)-ROW($A$2)+1)),\"\")","v":""},{"$f":"IFERROR(INDEX(Отделения[отделение],SMALL(IF(Отделения[Город]=$BP$1,ROW(Отделения[Город])-1),ROW(AP99)-ROW($A$2)+1)),\"\")","v":""},{"$f":"IFERROR(INDEX(Отделения[отделение],SMALL(IF(Отделения[Город]=$BQ$1,ROW(Отделения[Город])-1),ROW(AQ99)-ROW($A$2)+1)),\"\")","v":""},{"$f":"IFERROR(INDEX(Отделения[отделение],SMALL(IF(Отделения[Город]=$BR$1,ROW(Отделения[Город])-1),ROW(AR99)-ROW($A$2)+1)),\"\")","v":""},{"$f":"IFERROR(INDEX(Отделения[отделение],SMALL(IF(Отделения[Город]=$BS$1,ROW(Отделения[Город])-1),ROW(AS99)-ROW($A$2)+1)),\"\")","v":""},{"$f":"IFERROR(INDEX(Отделения[отделение],SMALL(IF(Отделения[Город]=$BT$1,ROW(Отделения[Город])-1),ROW(AT99)-ROW($A$2)+1)),\"\")","v":""},{"$f":"IFERROR(INDEX(Отделения[отделение],SMALL(IF(Отделения[Город]=$BU$1,ROW(Отделения[Город])-1),ROW(AU99)-ROW($A$2)+1)),\"\")","v":""},{"$f":"IFERROR(INDEX(Отделения[отделение],SMALL(IF(Отделения[Город]=$BV$1,ROW(Отделения[Город])-1),ROW(AV99)-ROW($A$2)+1)),\"\")","v":""},{"$f":"IFERROR(INDEX(Отделения[отделение],SMALL(IF(Отделения[Город]=$BW$1,ROW(Отделения[Город])-1),ROW(AV99)-ROW($A$2)+1)),\"\")","v":""},{"$f":"IFERROR(INDEX(Отделения[отделение],SMALL(IF(Отделения[Город]=$BX$1,ROW(Отделения[Город])-1),ROW(AV99)-ROW($A$2)+1)),\"\")","v":""},{"$f":"IFERROR(INDEX(Отделения[отделение],SMALL(IF(Отделения[Город]=$BY$1,ROW(Отделения[Город])-1),ROW(AV99)-ROW($A$2)+1)),\"\")","v":""},{"$f":"IFERROR(INDEX(Отделения[отделение],SMALL(IF(Отделения[Город]=$BZ$1,ROW(Отделения[Город])-1),ROW(AV99)-ROW($A$2)+1)),\"\")","v":""},{"$f":"IFERROR(INDEX(Отделения[отделение],SMALL(IF(Отделения[Город]=$CA$1,ROW(Отделения[Город])-1),ROW(AV99)-ROW($A$2)+1)),\"\")","v":""},{"$f":"IFERROR(INDEX(Отделения[отделение],SMALL(IF(Отделения[Город]=$CB$1,ROW(Отделения[Город])-1),ROW(AV99)-ROW($A$2)+1)),\"\")","v":""},{"$f":"IFERROR(INDEX(Отделения[отделение],SMALL(IF(Отделения[Город]=$CC$1,ROW(Отделения[Город])-1),ROW(AV99)-ROW($A$2)+1)),\"\")","v":""},{"$f":"IFERROR(INDEX(Отделения[отделение],SMALL(IF(Отделения[Город]=$CD$1,ROW(Отделения[Город])-1),ROW(AV99)-ROW($A$2)+1)),\"\")","v":""},{"$f":"IFERROR(INDEX(Отделения[отделение],SMALL(IF(Отделения[Город]=$CE$1,ROW(Отделения[Город])-1),ROW(AV99)-ROW($A$2)+1)),\"\")","v":""},{"$f":"IFERROR(INDEX(Отделения[отделение],SMALL(IF(Отделения[Город]=$CF$1,ROW(Отделения[Город])-1),ROW(AV99)-ROW($A$2)+1)),\"\")","v":""},{"$f":"IFERROR(INDEX(Отделения[отделение],SMALL(IF(Отделения[Город]=$CG$1,ROW(Отделения[Город])-1),ROW(AV99)-ROW($A$2)+1)),\"\")","v":""},{"$f":"IFERROR(INDEX(Отделения[отделение],SMALL(IF(Отделения[Город]=$CH$1,ROW(Отделения[Город])-1),ROW(AW99)-ROW($A$2)+1)),\"\")","v":""},{"$f":"IFERROR(INDEX(Отделения[отделение],SMALL(IF(Отделения[Город]=$CI$1,ROW(Отделения[Город])-1),ROW(AX99)-ROW($A$2)+1)),\"\")","v":""},{"$f":"IFERROR(INDEX(Отделения[отделение],SMALL(IF(Отделения[Город]=$CJ$1,ROW(Отделения[Город])-1),ROW(AY99)-ROW($A$2)+1)),\"\")","v":""},{"$f":"IFERROR(INDEX(Отделения[отделение],SMALL(IF(Отделения[Город]=$CK$1,ROW(Отделения[Город])-1),ROW(AZ99)-ROW($A$2)+1)),\"\")","v":""},{"$f":"IFERROR(INDEX(Отделения[отделение],SMALL(IF(Отделения[Город]=$CL$1,ROW(Отделения[Город])-1),ROW(BA99)-ROW($A$2)+1)),\"\")","v":""},{"$f":"IFERROR(INDEX(Отделения[отделение],SMALL(IF(Отделения[Город]=$CM$1,ROW(Отделения[Город])-1),ROW(BB99)-ROW($A$2)+1)),\"\")","v":""},{"$f":"IFERROR(INDEX(Отделения[отделение],SMALL(IF(Отделения[Город]=$CN$1,ROW(Отделения[Город])-1),ROW(BC99)-ROW($A$2)+1)),\"\")","v":""},{"$f":"IFERROR(INDEX(Отделения[отделение],SMALL(IF(Отделения[Город]=$CO$1,ROW(Отделения[Город])-1),ROW(BD99)-ROW($A$2)+1)),\"\")","v":""},{"$f":"IFERROR(INDEX(Отделения[отделение],SMALL(IF(Отделения[Город]=$CP$1,ROW(Отделения[Город])-1),ROW(BE99)-ROW($A$2)+1)),\"\")","v":""},{"$f":"IFERROR(INDEX(Отделения[отделение],SMALL(IF(Отделения[Город]=$CQ$1,ROW(Отделения[Город])-1),ROW(BF99)-ROW($A$2)+1)),\"\")","v":""},{"$f":"IFERROR(INDEX(Отделения[отделение],SMALL(IF(Отделения[Город]=$CR$1,ROW(Отделения[Город])-1),ROW(BG99)-ROW($A$2)+1)),\"\")","v":""},{"$f":"IFERROR(INDEX(Отделения[отделение],SMALL(IF(Отделения[Город]=$CS$1,ROW(Отделения[Город])-1),ROW(BH99)-ROW($A$2)+1)),\"\")","v":""},{"$f":"IFERROR(INDEX(Отделения[отделение],SMALL(IF(Отделения[Город]=$CT$1,ROW(Отделения[Город])-1),ROW(BI99)-ROW($A$2)+1)),\"\")","v":""},{"$f":"IFERROR(INDEX(Отделения[отделение],SMALL(IF(Отделения[Город]=$CU$1,ROW(Отделения[Город])-1),ROW(BJ99)-ROW($A$2)+1)),\"\")","v":""},{"$f":"IFERROR(INDEX(Отделения[отделение],SMALL(IF(Отделения[Город]=$CV$1,ROW(Отделения[Город])-1),ROW(BK99)-ROW($A$2)+1)),\"\")","v":""},{"$f":"IFERROR(INDEX(Отделения[отделение],SMALL(IF(Отделения[Город]=$CW$1,ROW(Отделения[Город])-1),ROW(BL99)-ROW($A$2)+1)),\"\")","v":""},{"$f":"IFERROR(INDEX(Отделения[отделение],SMALL(IF(Отделения[Город]=$CX$1,ROW(Отделения[Город])-1),ROW(BM99)-ROW($A$2)+1)),\"\")","v":""},{"$f":"IFERROR(INDEX(Отделения[отделение],SMALL(IF(Отделения[Город]=$CY$1,ROW(Отделения[Город])-1),ROW(BM99)-ROW($A$2)+1)),\"\")","v":""},{"$f":"IFERROR(INDEX(Отделения[отделение],SMALL(IF(Отделения[Город]=$CZ$1,ROW(Отделения[Город])-1),ROW(BM99)-ROW($A$2)+1)),\"\")","v":""},{"$f":"IFERROR(INDEX(Отделения[отделение],SMALL(IF(Отделения[Город]=$DA$1,ROW(Отделения[Город])-1),ROW(BM99)-ROW($A$2)+1)),\"\")","v":""},{"$f":"IFERROR(INDEX(Отделения[отделение],SMALL(IF(Отделения[Город]=$DB$1,ROW(Отделения[Город])-1),ROW(BM99)-ROW($A$2)+1)),\"\")","v":""}]
["Курган","ДО \"Курган-Выставочный центр\" , 640002, г.Курган, ул. Гоголя, д.17/1","0694","MOXC",null,null,{"$f":"IFERROR(INDEX(Отделения[отделение],SMALL(IF(Отделения[Город]=$G$1,ROW(Отделения[Город])-1),ROW(A100)-ROW($A$2)+1)),\"\")","v":""},{"$f":"IFERROR(INDEX(Отделения[отделение],SMALL(IF(Отделения[Город]=$H$1,ROW(Отделения[Город])-1),ROW(A100)-ROW($A$2)+1)),\"\")","v":""},{"$f":"IFERROR(INDEX(Отделения[отделение],SMALL(IF(Отделения[Город]=$I$1,ROW(Отделения[Город])-1),ROW(A100)-ROW($A$2)+1)),\"\")","v":""},{"$f":"IFERROR(INDEX(Отделения[отделение],SMALL(IF(Отделения[Город]=$J$1,ROW(Отделения[Город])-1),ROW(A100)-ROW($A$2)+1)),\"\")","v":""},{"$f":"IFERROR(INDEX(Отделения[отделение],SMALL(IF(Отделения[Город]=$K$1,ROW(Отделения[Город])-1),ROW(A100)-ROW($A$2)+1)),\"\")","v":""},{"$f":"IFERROR(INDEX(Отделения[отделение],SMALL(IF(Отделения[Город]=$L$1,ROW(Отделения[Город])-1),ROW(A100)-ROW($A$2)+1)),\"\")","v":""},{"$f":"IFERROR(INDEX(Отделения[отделение],SMALL(IF(Отделения[Город]=$M$1,ROW(Отделения[Город])-1),ROW(B100)-ROW($A$2)+1)),\"\")","v":""},{"$f":"IFERROR(INDEX(Отделения[отделение],SMALL(IF(Отделения[Город]=$N$1,ROW(Отделения[Город])-1),ROW(#REF!)-ROW($A$2)+1)),\"\")","v":""},{"$f":"IFERROR(INDEX(Отделения[отделение],SMALL(IF(Отделения[Город]=$O$1,ROW(Отделения[Город])-1),ROW(C100)-ROW($A$2)+1)),\"\")","v":""},{"$f":"IFERROR(INDEX(Отделения[отделение],SMALL(IF(Отделения[Город]=$P$1,ROW(Отделения[Город])-1),ROW(D100)-ROW($A$2)+1)),\"\")","v":""},{"$f":"IFERROR(INDEX(Отделения[отделение],SMALL(IF(Отделения[Город]=$Q$1,ROW(Отделения[Город])-1),ROW(F100)-ROW($A$2)+1)),\"\")","v":""},{"$f":"IFERROR(INDEX(Отделения[отделение],SMALL(IF(Отделения[Город]=$R$1,ROW(Отделения[Город])-1),ROW(#REF!)-ROW($A$2)+1)),\"\")","v":""},{"$f":"IFERROR(INDEX(Отделения[отделение],SMALL(IF(Отделения[Город]=$S$1,ROW(Отделения[Город])-1),ROW(G100)-ROW($A$2)+1)),\"\")","v":""},{"$f":"IFERROR(INDEX(Отделения[отделение],SMALL(IF(Отделения[Город]=$T$1,ROW(Отделения[Город])-1),ROW(H100)-ROW($A$2)+1)),\"\")","v":""},{"$f":"IFERROR(INDEX(Отделения[отделение],SMALL(IF(Отделения[Город]=$U$1,ROW(Отделения[Город])-1),ROW(I100)-ROW($A$2)+1)),\"\")","v":""},{"$f":"IFERROR(INDEX(Отделения[отделение],SMALL(IF(Отделения[Город]=$V$1,ROW(Отделения[Город])-1),ROW(J100)-ROW($A$2)+1)),\"\")","v":""},{"$f":"IFERROR(INDEX(Отделения[отделение],SMALL(IF(Отделения[Город]=$W$1,ROW(Отделения[Город])-1),ROW(K100)-ROW($A$2)+1)),\"\")","v":""},{"$f":"IFERROR(INDEX(Отделения[отделение],SMALL(IF(Отделения[Город]=$X$1,ROW(Отделения[Город])-1),ROW(L100)-ROW($A$2)+1)),\"\")","v":""},{"$f":"IFERROR(INDEX(Отделения[отделение],SMALL(IF(Отделения[Город]=$Y$1,ROW(Отделения[Город])-1),ROW(M100)-ROW($A$2)+1)),\"\")","v":""},{"$f":"IFERROR(INDEX(Отделения[отделение],SMALL(IF(Отделения[Город]=$Z$1,ROW(Отделения[Город])-1),ROW(N100)-ROW($A$2)+1)),\"\")","v":""},{"$f":"IFERROR(INDEX(Отделения[отделение],SMALL(IF(Отделения[Город]=$AA$1,ROW(Отделения[Город])-1),ROW(O100)-ROW($A$2)+1)),\"\")","v":""},{"$f":"IFERROR(INDEX(Отделения[отделение],SMALL(IF(Отделения[Город]=$AB$1,ROW(Отделения[Город])-1),ROW(P100)-ROW($A$2)+1)),\"\")","v":""},{"$f":"IFERROR(INDEX(Отделения[отделение],SMALL(IF(Отделения[Город]=$AC$1,ROW(Отделения[Город])-1),ROW(Q100)-ROW($A$2)+1)),\"\")","v":""},{"$f":"IFERROR(INDEX(Отделения[отделение],SMALL(IF(Отделения[Город]=$AD$1,ROW(Отделения[Город])-1),ROW(R100)-ROW($A$2)+1)),\"\")","v":""},{"$f":"IFERROR(INDEX(Отделения[отделение],SMALL(IF(Отделения[Город]=$AE$1,ROW(Отделения[Город])-1),ROW(S100)-ROW($A$2)+1)),\"\")","v":""},{"$f":"IFERROR(INDEX(Отделения[отделение],SMALL(IF(Отделения[Город]=$AF$1,ROW(Отделения[Город])-1),ROW(T100)-ROW($A$2)+1)),\"\")","v":""},{"$f":"IFERROR(INDEX(Отделения[отделение],SMALL(IF(Отделения[Город]=$AG$1,ROW(Отделения[Город])-1),ROW(U100)-ROW($A$2)+1)),\"\")","v":""},{"$f":"IFERROR(INDEX(Отделения[отделение],SMALL(IF(Отделения[Город]=$AH$1,ROW(Отделения[Город])-1),ROW(V100)-ROW($A$2)+1)),\"\")","v":""},{"$f":"IFERROR(INDEX(Отделения[отделение],SMALL(IF(Отделения[Город]=$AI$1,ROW(Отделения[Город])-1),ROW(AB100)-ROW($A$2)+1)),\"\")","v":""},{"$f":"IFERROR(INDEX(Отделения[отделение],SMALL(IF(Отделения[Город]=$AJ$1,ROW(Отделения[Город])-1),ROW(AB100)-ROW($A$2)+1)),\"\")","v":""},{"$f":"IFERROR(INDEX(Отделения[отделение],SMALL(IF(Отделения[Город]=$AK$1,ROW(Отделения[Город])-1),ROW(AB100)-ROW($A$2)+1)),\"\")","v":""},{"$f":"IFERROR(INDEX(Отделения[отделение],SMALL(IF(Отделения[Город]=$AL$1,ROW(Отделения[Город])-1),ROW(AB100)-ROW($A$2)+1)),\"\")","v":""},{"$f":"IFERROR(INDEX(Отделения[отделение],SMALL(IF(Отделения[Город]=$AM$1,ROW(Отделения[Город])-1),ROW(AB100)-ROW($A$2)+1)),\"\")","v":""},{"$f":"IFERROR(INDEX(Отделения[отделение],SMALL(IF(Отделения[Город]=$AN$1,ROW(Отделения[Город])-1),ROW(AB100)-ROW($A$2)+1)),\"\")","v":""},{"$f":"IFERROR(INDEX(Отделения[отделение],SMALL(IF(Отделения[Город]=$AO$1,ROW(Отделения[Город])-1),ROW(AB100)-ROW($A$2)+1)),\"\")","v":""},{"$f":"IFERROR(INDEX(Отделения[отделение],SMALL(IF(Отделения[Город]=$AP$1,ROW(Отделения[Город])-1),ROW(AB100)-ROW($A$2)+1)),\"\")","v":""},{"$f":"IFERROR(INDEX(Отделения[отделение],SMALL(IF(Отделения[Город]=$AQ$1,ROW(Отделения[Город])-1),ROW(AB100)-ROW($A$2)+1)),\"\")","v":""},{"$f":"IFERROR(INDEX(Отделения[отделение],SMALL(IF(Отделения[Город]=$AR$1,ROW(Отделения[Город])-1),ROW(AB100)-ROW($A$2)+1)),\"\")","v":""},{"$f":"IFERROR(INDEX(Отделения[отделение],SMALL(IF(Отделения[Город]=$AS$1,ROW(Отделения[Город])-1),ROW(AB100)-ROW($A$2)+1)),\"\")","v":""},{"$f":"IFERROR(INDEX(Отделения[отделение],SMALL(IF(Отделения[Город]=$AT$1,ROW(Отделения[Город])-1),ROW(AB100)-ROW($A$2)+1)),\"\")","v":""},{"$f":"IFERROR(INDEX(Отделения[отделение],SMALL(IF(Отделения[Город]=$AU$1,ROW(Отделения[Город])-1),ROW(AB100)-ROW($A$2)+1)),\"\")","v":""},{"$f":"IFERROR(INDEX(Отделения[отделение],SMALL(IF(Отделения[Город]=$AV$1,ROW(Отделения[Город])-1),ROW(AB100)-ROW($A$2)+1)),\"\")","v":""},{"$f":"IFERROR(INDEX(Отделения[отделение],SMALL(IF(Отделения[Город]=$AW$1,ROW(Отделения[Город])-1),ROW(AB100)-ROW($A$2)+1)),\"\")","v":""},{"$f":"IFERROR(INDEX(Отделения[отделение],SMALL(IF(Отделения[Город]=$AX$1,ROW(Отделения[Город])-1),ROW(AB100)-ROW($A$2)+1)),\"\")","v":""},{"$f":"IFERROR(INDEX(Отделения[отделение],SMALL(IF(Отделения[Город]=$AY$1,ROW(Отделения[Город])-1),ROW(AB100)-ROW($A$2)+1)),\"\")","v":""},{"$f":"IFERROR(INDEX(Отделения[отделение],SMALL(IF(Отделения[Город]=$AZ$1,ROW(Отделения[Город])-1),ROW(AB100)-ROW($A$2)+1)),\"\")","v":""},{"$f":"IFERROR(INDEX(Отделения[отделение],SMALL(IF(Отделения[Город]=$BA$1,ROW(Отделения[Город])-1),ROW(AB100)-ROW($A$2)+1)),\"\")","v":""},{"$f":"IFERROR(INDEX(Отделения[отделение],SMALL(IF(Отделения[Город]=$BB$1,ROW(Отделения[Город])-1),ROW(AB100)-ROW($A$2)+1)),\"\")","v":""},{"$f":"IFERROR(INDEX(Отделения[отделение],SMALL(IF(Отделения[Город]=$BC$1,ROW(Отделения[Город])-1),ROW(AC100)-ROW($A$2)+1)),\"\")","v":""},{"$f":"IFERROR(INDEX(Отделения[отделение],SMALL(IF(Отделения[Город]=$BD$1,ROW(Отделения[Город])-1),ROW(AD100)-ROW($A$2)+1)),\"\")","v":""},{"$f":"IFERROR(INDEX(Отделения[отделение],SMALL(IF(Отделения[Город]=$BE$1,ROW(Отделения[Город])-1),ROW(AE100)-ROW($A$2)+1)),\"\")","v":""},{"$f":"IFERROR(INDEX(Отделения[отделение],SMALL(IF(Отделения[Город]=$BF$1,ROW(Отделения[Город])-1),ROW(AF100)-ROW($A$2)+1)),\"\")","v":""},{"$f":"IFERROR(INDEX(Отделения[отделение],SMALL(IF(Отделения[Город]=$BG$1,ROW(Отделения[Город])-1),ROW(AG100)-ROW($A$2)+1)),\"\")","v":""},{"$f":"IFERROR(INDEX(Отделения[отделение],SMALL(IF(Отделения[Город]=$BH$1,ROW(Отделения[Город])-1),ROW(AH100)-ROW($A$2)+1)),\"\")","v":""},{"$f":"IFERROR(INDEX(Отделения[отделение],SMALL(IF(Отделения[Город]=$BI$1,ROW(Отделения[Город])-1),ROW(AI100)-ROW($A$2)+1)),\"\")","v":""},{"$f":"IFERROR(INDEX(Отделения[отделение],SMALL(IF(Отделения[Город]=$BJ$1,ROW(Отделения[Город])-1),ROW(AJ100)-ROW($A$2)+1)),\"\")","v":""},{"$f":"IFERROR(INDEX(Отделения[отделение],SMALL(IF(Отделения[Город]=$BK$1,ROW(Отделения[Город])-1),ROW(AK100)-ROW($A$2)+1)),\"\")","v":""},{"$f":"IFERROR(INDEX(Отделения[отделение],SMALL(IF(Отделения[Город]=$BL$1,ROW(Отделения[Город])-1),ROW(AL100)-ROW($A$2)+1)),\"\")","v":""},{"$f":"IFERROR(INDEX(Отделения[отделение],SMALL(IF(Отделения[Город]=$BM$1,ROW(Отделения[Город])-1),ROW(AM100)-ROW($A$2)+1)),\"\")","v":""},{"$f":"IFERROR(INDEX(Отделения[отделение],SMALL(IF(Отделения[Город]=$BN$1,ROW(Отделения[Город])-1),ROW(AN100)-ROW($A$2)+1)),\"\")","v":""},{"$f":"IFERROR(INDEX(Отделения[отделение],SMALL(IF(Отделения[Город]=$BO$1,ROW(Отделения[Город])-1),ROW(AO100)-ROW($A$2)+1)),\"\")","v":""},{"$f":"IFERROR(INDEX(Отделения[отделение],SMALL(IF(Отделения[Город]=$BP$1,ROW(Отделения[Город])-1),ROW(AP100)-ROW($A$2)+1)),\"\")","v":""},{"$f":"IFERROR(INDEX(Отделения[отделение],SMALL(IF(Отделения[Город]=$BQ$1,ROW(Отделения[Город])-1),ROW(AQ100)-ROW($A$2)+1)),\"\")","v":""},{"$f":"IFERROR(INDEX(Отделения[отделение],SMALL(IF(Отделения[Город]=$BR$1,ROW(Отделения[Город])-1),ROW(AR100)-ROW($A$2)+1)),\"\")","v":""},{"$f":"IFERROR(INDEX(Отделения[отделение],SMALL(IF(Отделения[Город]=$BS$1,ROW(Отделения[Город])-1),ROW(AS100)-ROW($A$2)+1)),\"\")","v":""},{"$f":"IFERROR(INDEX(Отделения[отделение],SMALL(IF(Отделения[Город]=$BT$1,ROW(Отделения[Город])-1),ROW(AT100)-ROW($A$2)+1)),\"\")","v":""},{"$f":"IFERROR(INDEX(Отделения[отделение],SMALL(IF(Отделения[Город]=$BU$1,ROW(Отделения[Город])-1),ROW(AU100)-ROW($A$2)+1)),\"\")","v":""},{"$f":"IFERROR(INDEX(Отделения[отделение],SMALL(IF(Отделения[Город]=$BV$1,ROW(Отделения[Город])-1),ROW(AV100)-ROW($A$2)+1)),\"\")","v":""},{"$f":"IFERROR(INDEX(Отделения[отделение],SMALL(IF(Отделения[Город]=$BW$1,ROW(Отделения[Город])-1),ROW(AV100)-ROW($A$2)+1)),\"\")","v":""},{"$f":"IFERROR(INDEX(Отделения[отделение],SMALL(IF(Отделения[Город]=$BX$1,ROW(Отделения[Город])-1),ROW(AV100)-ROW($A$2)+1)),\"\")","v":""},{"$f":"IFERROR(INDEX(Отделения[отделение],SMALL(IF(Отделения[Город]=$BY$1,ROW(Отделения[Город])-1),ROW(AV100)-ROW($A$2)+1)),\"\")","v":""},{"$f":"IFERROR(INDEX(Отделения[отделение],SMALL(IF(Отделения[Город]=$BZ$1,ROW(Отделения[Город])-1),ROW(AV100)-ROW($A$2)+1)),\"\")","v":""},{"$f":"IFERROR(INDEX(Отделения[отделение],SMALL(IF(Отделения[Город]=$CA$1,ROW(Отделения[Город])-1),ROW(AV100)-ROW($A$2)+1)),\"\")","v":""},{"$f":"IFERROR(INDEX(Отделения[отделение],SMALL(IF(Отделения[Город]=$CB$1,ROW(Отделения[Город])-1),ROW(AV100)-ROW($A$2)+1)),\"\")","v":""},{"$f":"IFERROR(INDEX(Отделения[отделение],SMALL(IF(Отделения[Город]=$CC$1,ROW(Отделения[Город])-1),ROW(AV100)-ROW($A$2)+1)),\"\")","v":""},{"$f":"IFERROR(INDEX(Отделения[отделение],SMALL(IF(Отделения[Город]=$CD$1,ROW(Отделения[Город])-1),ROW(AV100)-ROW($A$2)+1)),\"\")","v":""},{"$f":"IFERROR(INDEX(Отделения[отделение],SMALL(IF(Отделения[Город]=$CE$1,ROW(Отделения[Город])-1),ROW(AV100)-ROW($A$2)+1)),\"\")","v":""},{"$f":"IFERROR(INDEX(Отделения[отделение],SMALL(IF(Отделения[Город]=$CF$1,ROW(Отделения[Город])-1),ROW(AV100)-ROW($A$2)+1)),\"\")","v":""},{"$f":"IFERROR(INDEX(Отделения[отделение],SMALL(IF(Отделения[Город]=$CG$1,ROW(Отделения[Город])-1),ROW(AV100)-ROW($A$2)+1)),\"\")","v":""},{"$f":"IFERROR(INDEX(Отделения[отделение],SMALL(IF(Отделения[Город]=$CH$1,ROW(Отделения[Город])-1),ROW(AW100)-ROW($A$2)+1)),\"\")","v":""},{"$f":"IFERROR(INDEX(Отделения[отделение],SMALL(IF(Отделения[Город]=$CI$1,ROW(Отделения[Город])-1),ROW(AX100)-ROW($A$2)+1)),\"\")","v":""},{"$f":"IFERROR(INDEX(Отделения[отделение],SMALL(IF(Отделения[Город]=$CJ$1,ROW(Отделения[Город])-1),ROW(AY100)-ROW($A$2)+1)),\"\")","v":""},{"$f":"IFERROR(INDEX(Отделения[отделение],SMALL(IF(Отделения[Город]=$CK$1,ROW(Отделения[Город])-1),ROW(AZ100)-ROW($A$2)+1)),\"\")","v":""},{"$f":"IFERROR(INDEX(Отделения[отделение],SMALL(IF(Отделения[Город]=$CL$1,ROW(Отделения[Город])-1),ROW(BA100)-ROW($A$2)+1)),\"\")","v":""},{"$f":"IFERROR(INDEX(Отделения[отделение],SMALL(IF(Отделения[Город]=$CM$1,ROW(Отделения[Город])-1),ROW(BB100)-ROW($A$2)+1)),\"\")","v":""},{"$f":"IFERROR(INDEX(Отделения[отделение],SMALL(IF(Отделения[Город]=$CN$1,ROW(Отделения[Город])-1),ROW(BC100)-ROW($A$2)+1)),\"\")","v":""},{"$f":"IFERROR(INDEX(Отделения[отделение],SMALL(IF(Отделения[Город]=$CO$1,ROW(Отделения[Город])-1),ROW(BD100)-ROW($A$2)+1)),\"\")","v":""},{"$f":"IFERROR(INDEX(Отделения[отделение],SMALL(IF(Отделения[Город]=$CP$1,ROW(Отделения[Город])-1),ROW(BE100)-ROW($A$2)+1)),\"\")","v":""},{"$f":"IFERROR(INDEX(Отделения[отделение],SMALL(IF(Отделения[Город]=$CQ$1,ROW(Отделения[Город])-1),ROW(BF100)-ROW($A$2)+1)),\"\")","v":""},{"$f":"IFERROR(INDEX(Отделения[отделение],SMALL(IF(Отделения[Город]=$CR$1,ROW(Отделения[Город])-1),ROW(BG100)-ROW($A$2)+1)),\"\")","v":""},{"$f":"IFERROR(INDEX(Отделения[отделение],SMALL(IF(Отделения[Город]=$CS$1,ROW(Отделения[Город])-1),ROW(BH100)-ROW($A$2)+1)),\"\")","v":""},{"$f":"IFERROR(INDEX(Отделения[отделение],SMALL(IF(Отделения[Город]=$CT$1,ROW(Отделения[Город])-1),ROW(BI100)-ROW($A$2)+1)),\"\")","v":""},{"$f":"IFERROR(INDEX(Отделения[отделение],SMALL(IF(Отделения[Город]=$CU$1,ROW(Отделения[Город])-1),ROW(BJ100)-ROW($A$2)+1)),\"\")","v":""},{"$f":"IFERROR(INDEX(Отделения[отделение],SMALL(IF(Отделения[Город]=$CV$1,ROW(Отделения[Город])-1),ROW(BK100)-ROW($A$2)+1)),\"\")","v":""},{"$f":"IFERROR(INDEX(Отделения[отделение],SMALL(IF(Отделения[Город]=$CW$1,ROW(Отделения[Город])-1),ROW(BL100)-ROW($A$2)+1)),\"\")","v":""},{"$f":"IFERROR(INDEX(Отделения[отделение],SMALL(IF(Отделения[Город]=$CX$1,ROW(Отделения[Город])-1),ROW(BM100)-ROW($A$2)+1)),\"\")","v":""},{"$f":"IFERROR(INDEX(Отделения[отделение],SMALL(IF(Отделения[Город]=$CY$1,ROW(Отделения[Город])-1),ROW(BM100)-ROW($A$2)+1)),\"\")","v":""},{"$f":"IFERROR(INDEX(Отделения[отделение],SMALL(IF(Отделения[Город]=$CZ$1,ROW(Отделения[Город])-1),ROW(BM100)-ROW($A$2)+1)),\"\")","v":""},{"$f":"IFERROR(INDEX(Отделения[отделение],SMALL(IF(Отделения[Город]=$DA$1,ROW(Отделения[Город])-1),ROW(BM100)-ROW($A$2)+1)),\"\")","v":""},{"$f":"IFERROR(INDEX(Отделения[отделение],SMALL(IF(Отделения[Город]=$DB$1,ROW(Отделения[Город])-1),ROW(BM100)-ROW($A$2)+1)),\"\")","v":""}]
["Миасс","ДО \"Миасс-пр-кт Автозаводцев\" , 456300, Челябинская область, г. Миасс, пр. Автозаводцев, дом 61 Б","0696","MOXB"]
["Ясный","ДО \"Ясный-Горный лен\" , 462781, Оренбургская обл. г. Ясный,ул. Ленина д. 9","0698","MOXA"]
["Ярославль","ДО \"Ярославль-площадь Юности\" , 150000, г. Ярославль, ул. Свободы,29","0702","MOCU"]
["Хабаровск","ДО \"Хабаровск-Амур\" , 680000, г. Хабаровск, ул. Муравьева- Амурского, дом 36","0703","MOCW"]
["Казань","ДО \"Казань-улица Ершова\" , 420061, Российская Федерация, Республика Татарстан, г. Казань, ул. Николая Ершова, д. 29 \"Б\"","0705","MODA"]
["Нижневартовск","ДО \"Нижневартовск-Космос\" , 628611, Ханты-Мансийский автономныйокруг, Югра, г. Нижневартовск, ул.Ленина, д.17а","0708","MODE"]
["Санкт-Петербург","ДО \"СПБ-Международный\" , 192238, город Санкт-Петербург, ул.Бухарестская, д. 74, кор. 3, лит. А","0710","MOQO"]
["Ульяновск","ДО \"Ульяновск-улица Гончарова\" , 432011, Ульяновская область, г. Ульяновск, ул. Гончарова, д. 25","0711","MOWZ"]
["Петрозаводск","ДО \"Петрозаводск-проспект Ленина\" , 185035, Россия, Республика Карелия,г. Петрозаводск, пр-т Ленина, д. 26","0712","MOWX"]
["Санкт-Петербург","ДО \"СПБ-Таврический сад\" , 191123 г.Санкт-Петербург, ул.Фурштатская, д. 40","0713","MOWW"]
["Таганрог","ДО \"Таганрог-площадь Восстания\" , 347904, Ростовская область, г. Таганрог, ул.Дзержинского/ул.Фрунзе, д.1/100","0714","MOQK"]
["Санкт-Петербург","ДО \"СПБ-Ленинский проспект\" , 198216, г. Санкт-Петербург, пр-т Ленинский, д. 130/6, литер А","0715","MOWV"]
["Томск","ДО \"Томск-Магистрат\" , 634009, Томская область, г. Томск,пер. 1905 года, д. 14а","0716","MOWU"]
["Чебоксары","ДО \"Чебоксары-улица К. Маркса\" , 428000, Российская Федерация, Чувашская республика, г. Чебоксары, улица Карла Маркса, 51","0718","MOWQ"]
["Новочеркасск","ДО \"Новочеркасск-площадь Платова\" , 346400, Ростовская область,г.Новочеркасск, ул.Московская, 1/пр. Платовский, 90","0719","MOWT"]
["Омск","ДО \"Омск-Парк культуры\" , 644021, г.Омск, ул. БогданаХмельницкого, 162","0720","MOWP"]
["Бердск","ДО \"Бердск-Парковый\" , 633010, Новосибирская область, г. Бердск, улица Ленина, 42","0722","MOQG"]
["Пермь","ДО \"Пермь-Балатовский\" , 614066, Пермский край, город Пермь,улица Мира, дом 70","0724","MOGB"]
["Краснодар","ДО \"Краснодар-Центр города\" , 350015, Россия, Краснодарский край,г. Краснодар, ул. Красная, д. 176/1","0725","MOZY"]
["Новосибирск","ДО \"Новосибирск-площадь Калинина\" , 630082, г. Новосибирск, улица ДусиКовальчук, 179/4","0727","MOYJ"]
["Сочи","ДО \"Сочи-Центральный\" , 354000, Краснодарский край, г.Сочи, ул. Конституции СССР, д.18","0729","MOYD"]
["Ярославль","ДО \"Ярославль-Рождественский\" , 150000, Ярославская область, г. Ярославль, ул. Свободы, д. 2","0730","MOYC"]
["Санкт-Петербург","ДО \"СПБ-Проспект Большевиков\" , 193231, Санкт-Петербург, пр-т Большевиков д.2","0731","MOQA"]
["Калининград","ДО \"Калининград-Южный\" , 236044, Калининградская обл., г. Калининград, б-р Л.Шевцовой, д. 1А","0732","MOOX"]
["Воронеж","ДО \"Воронеж-улица Кирова\" , 394006, г. Воронеж, ул. Кирова, д.11","0733","MOJZ"]
["Самара","ДО \"Самара-Стара Загора\" , 443087, Самарская область, г. Самара, пр-кт Кирова, д. 228, ул. Стара-Загора, д. 126","0734","MOJY"]
["Санкт-Петербург","ДО \"СПБ-Ломоносовский\" , 192171, г. Санкт-Петербург, улица Полярников, дом 6, литера А, помещение 10-Н","0735","MOJX"]
["Ижевск","ДО \"Ижевск-улица Пушкинская\" , 426008, Удмуртская республика, г. Ижевск, ул. Пушкинская д. 216","0736","MOJT"]
["Абакан","ДО \"Абакан-Черногорский парк\" , 655017, Республика Хакасия, г. Абакан, ул. Щетинкина, д. 63","0739","MOJG"]
["Нижний Новгород","ДО \"Нижний Новгород-Мещерский\" , 603002, Нижегородская область, г. Нижний Новгород, ул. Фильченкова, д.10","0740","MOHQ"]
["Иркутск","ДО \"Иркутск-Лермонтовский\" , 664074, Иркутская область, г. Иркутск ул. Лермонтова, д. 63","0741","MOHK"]
["Самара","ДО \"Самара-улица Победы\" , 443009, Самарская область, г.Самара, ул. Победы д.101","0742","MOUJ"]
["Омск","ДО \"Омск-Левобережный\" , 644074, г.Омск, ул. 70 лет Октября,13/3","0743","MOOJ"]
["Ростов-на-Дону","ДО \"Ростов нД-Нахичевань\" , 344116, г.Ростов-на-Дону, Пролетарский р-н,ул. 20-я линия, д. 4/3/13","0744","MOHT"]
["Пенза","ДО \"Пенза-Центральный\" , 440000, г. Пенза, ул. Московская, д. 73","0746","MOZB"]
["Энгельс","ДО \"Энгельс-улица Тельмана\" , 413100, Саратовская область, г. Энгельс, ул. Тельмана, д. 23","0747","MONF"]
["Рязань","ДО \"Рязань-Театральная площадь\" , 390023, г.Рязань, ул.Ленина, д.9","0748","MOHO"]
["Набережные Челны","ДО \"НАБЕРЕЖНЫЕ ЧЕЛНЫ-БОРОВЕЦКИЙ\" , Республика Татарстан, г. НабережныеЧелны, просп. Хасана Туфана, д. 29б","0749","MONH"]
["Северодвинск","ДО \"Северодвинск-ул. Ломоносова\" , 164504, Архангельская область, г. Северодвинск, ул. Ломоносова, д. 64","0751","MOHS"]
["Якутск","ДО \"Якутск-Центральный\" , 677000, Республика Саха (Якутия), г. Якутск, пр-кт Ленина, д. 24","0752","MOHY"]
["Дзержинск","ДО \"Дзержинск-улица Гайдара\" , 606029, Нижегородская область, г. Дзержинск, ул. Гайдара, д. 61","0753","MOHL"]
["Стерлитамак","ДО \"Стерлитамак-Центральный\" , 453100, Республика Башкортостан, г.Стерлитамак, ул. Коммунистическая,д. 96","0756","MOLW"]
["Сосновый Бор","ДО \"Сосновый Бор-улица Солнечная\" , 188541, Ленинградская обл., г. Сосновый Бор, ул. Солнечная, д. 12","0758","MOHR"]
["Киров","ДО \"Киров-улица Карла Маркса\" , 610027, Кировская обл., г. Киров,ул. Карла Маркса, д. 99","0763","MOB6"]
["Хабаровск","ДО \"Хабаровск-Площадь Блюхера\" , 680030, Хабаровский край, г. Хабаровск ул. Ленина, 43","0773","MOHP"]
["Санкт-Петербург","ДО \"СПБ-Пионерский\" , 197348, г. Санкт-Петербург, Коломяжский проспект, дом 15, корпус 2, лит. А","0774","MOPW"]
["Красноярск","ДО \"Красноярск-Красный Яр\" , 660049, г. Красноярск, ул. Мира,дом 10","0776","MORR"]
["Бийск","ДО \"Бийск-улица Васильева\" , 659305, Алтайский край г.Бийск ул.Васильева дом, 57","0777","MOJC"]
["Омск","ДО \"Омск-Красный путь\" , 644043, г. Омск, ул. Красный Путь,д. 61","0778","MOUK"]
["Ставрополь","ДО \"Ставрополь-улица Ленина\" , 355029, Ставропольский край, г.Ставрополь, ул.Ленина, д.299","0779","MOTH"]
["Санкт-Петербург","ДО \"СПБ-Купчино\" , 192281, Российская Федерация, г.Санкт-Петербург, Дунайскийпроспект, д.31, корп. 1, литер А,","0789","MOPQ"]
["Нижний Новгород","ДО \"Нижний Новгород-Заречье\" , 603135, Нижегородская область, г. Нижний Новгород, Ленинский район, просп. Ленина, д. 45","0790","MONA"]
["Оренбург","ДО \"Оренбург-улица Чкалова\" , 460058, Оренбургская область, г. Оренбург, ул. Чкалова, дом 35/1","0791","MOOP"]
["Владимир","ДО \"Владимир-Золотые ворота\" , 600015, Владимирская обл.,г. Владимир, ул. Ленина, д. 26, 26А","0792","MOVY"]
["Санкт-Петербург","ДО \"СПБ-Проспект Просвещения\" , 194356, Россия, г. Санкт-Петербург,пр. Энгельса, д. 139/21, лит. А","0795","MOPH"]
["Новосибирск","ДО \"Новосибирск-Горский\" , 630073, г.Новосибирск, Ленинскийрайон, проспект Карла Маркса, дом55","0797","MONQ"]
["Липецк","ДО \"Липецк-Петровский\" , 398059, г.Липецк, ул. Барышева д. 7","0798","MOZM"]
["Санкт-Петербург","ДО \"СПБ-Московский\" , 196066, г. Санкт-Петербург,Московский пр., д. 193, пом. 14Н,лит. А","0799","MOSE"]
["Самара","ДО \"Самара-улица Агибалова\" , 443041,г. Самара, ул. Агибалова, д.76","0800","MOCS"]
["Пермь","ДО \"Пермь-Кама\" , 614000, Пермский край, город Пермь,ул. Ленина, дом 66","0803","MODG"]
["Ижевск","ДО \"Ижевск-Центральный\" , 426004, Удмуртская республика, г. Ижевск, ул. Ленина, 21","0804","MODH"]
["Волгоград","ДО \"Волгоград-Царицынский\" , 400066, Россия, Волгоградскаяобласть, г. Волгоград, пр-кт им.В.И. Ленина, 2а","0805","MOIK"]
["Краснодар","ДО \"Краснодар-улица Тургенева\" , 350049 г. Краснодар, Прикубанскийокруг, ул. Тургенева, 107 лит А","0807","MOIP"]
["Краснодар","ДО \"Краснодар-Вешняки\" , 350001, Российская Федерация, Краснодарскийкрай, г. Краснодар, Центральный округ, ул. Ставропольская, дом","0808","MOIR"]
["Уфа","ДО \"Уфа-Центральный\" , 450077, Республика Башкортостан, г.Уфа, ул. Ленина, дом 32/1","0810","MOJM"]
["Новосибирск","ДО \"Новосибирск-Мичуринский\" , 630099, г. Новосибирск, ул. Мичурина, д. 23.","0811","MOJN"]
["Тюмень","ДО \"Тюмень-улица Ленина\" , 625000, г. Тюмень, ул. Ленина д. 57/2","0812","MOJO"]
["Омск","ДО \"Омск-проспект Мира\" , 644029, Омская область, г. Омск, проспект Мира, д. 54","0815","MOJR"]
["Тольятти","ДО \"Тольятти-ул. Революционная\" , 445026, Самарская обл.,г. Тольятти,Автозаводской р-н, ул.Революционная, д.32","0817","MOQT"]
["Екатеринбург","ДО \"Екатеринбург-улица Южная\" , 620144 г. Екатеринбург, ул. 8 марта, 194","0818","MOQV"]
["Санкт-Петербург","ДО \"СПБ-Гражданский проспект\" , 195267, г. Санкт-Петербург,проспект Просвещения, д. 84 корпус1, Литер А, пом. 50Н","0819","MOQW"]
["Челябинск","ДО \"Челябинск-проспект Ленина\" , 454080, Россия, Челябинская область, г. Челябинск, пр-т Ленина, д. 73-а","0821","MOQS"]
["Челябинск","ДО \"Челябинск-Курчатовский\" , 454014, г.Челябинск, ул.Молодогвардейцев, д.32 А","0822","MOEV"]
["Мурманск","ДО \"Мурманск-проспект Ленина\" , 183038 г. Мурманск, проспектЛенина, д. 19А","0823","MOMU"]
["Волгоград","ДО \"Волгоград-Красноармейский\" , 400112, Волгоградская обл., г. Волгоград, проспект им. Героев Сталинграда, д. 49","0824","MOKV"]
["Казань","ДО \"Казань-улица Островского\" , 420107, Республика Татарстан, г. Казань, ул. Островского, д. 103","0825","MOUN"]
["Уфа","ДО \"Уфа-Сипайловский\" , 450099 г. Уфа, ул. Жукова, 29","0826","MOPR"]
["Новотроицк","ДО \"Новотроицк-Металлург\" , 462353 Оренбургская обл., г.Новотроицк, ул. Советская, 52","0828","MONO"]
["Саратов","ДО \"Саратов-Мирный переулок\" , 410012, г. Саратов, ул. им. ВасилияЛюкшина, здание № 5","0829","MOIL"]
["Нижний Новгород","ДО \"Нижний Новгород-Сормовский\" , 603003, Нижегородская область, г.Нижний Новгород, Сормовский район, ул. Коминтерна, д. 164, пом. П5.","0831","MOSM"]
["Ростов-на-Дону","ДО \"Ростов нД-ул. Красноармейская\" , 344010 Ростовская областьг.Ростов-на-Дону ул.Красноармейскаяд.170","0832","MOYU"]
["Пермь","ДО \"Пермь-Парма\" , 614051 г. Пермь, ул. Уинская, 9","0834","MOPA"]
["Нижний Новгород","ДО \"Нижний Новгород-Горьковский\" , 603035, Российская Федерация, Нижегородская область, г. Нижний Новгород, Нижегородский район, ул. Горьког","0835","MOGO"]
["Калининград","ДО \"Калининград-Плаза\" , 236006, Калининградская обл, г Калининград, ул Шевченко, д. 11а","0836","MOPZ"]
["Ростов-на-Дону","ДО \"Ростов нД-Западный\" , 344091, Ростовская область, г. Ростов-на-Дону, пр. Коммунистический,д.27","0837","MOSD"]
["Кемерово","ДО \"Кемерово-Кузбасс\" , 650991, Кемеровская обл., г.Кемерово, пр-кт Советский, д. 32","0838","MOAA"]
["Липецк","ДО \"Липецк-проспект Победы\" , 398024, г. Липецк, проспект Победы,д. 20","0841","MOLS"]
["Казань","ДО \"Казань-Савиново\" , 420126, Республика Татарстан, г. Казань, пр-т Ямашева, д. 82","0843","MOAF"]
["Уфа","ДО \"Уфа-Черниковский\" , 450044, Республика Башкортостан, г.Уфа, ул. Первомайская, д. 24","0844","MOAG"]
["Пермь","ДО \"Пермь-Кристалл\" , 614039, Пермский край, г. Пермь, Комсомольский проспект, 49","0845","MOAH"]
["Южно-Сахалинск","ДО \"Южно-Сахалинск-Океанский\" , 693020, Сахалинская область, г. Южно-Сахалинск, ул. Ленина, д. 218","0846","MOAI"]
["Тольятти","ДО \"Тольятти-Гагаринский\" , 445017, г. Тольятти, ул. Гагарина,14","0847","MOAJ"]
["Казань","ДО \"Казань-улица Зорге\" , 420110, Российская Федерация,Республика Татарстан, г. Казань,ул. Рихарда Зорге, д. 75","0848","MOAK"]
["Орск","ДО \"Орск-проспект Ленина\" , 462431, Оренбургская область, г. Орск, пр-кт Ленина, д. 78","0850","MOOS"]
["Курган","ДО \"Курган-Зауралье\" , 640002, Российская Федерация, Курганская область, г. Курган, ул. Гоголя, дом №60, помещение 60/2","0851","MOAQ"]
["Набережные Челны","ДО \"Набережные Челны-Центральный\" , 423812, респ. Татарстан, г.Набережные Челны, пр-кт Мира, д.24М","0853","MONC"]
["Барнаул","ДО \"Барнаул-площадь Победы\" , 656015 г. Барнаул, пр-тСоциалистический, д. 130","0859","MOBD"]
["Владивосток","ДО \"Владивосток-Приморский\" , 690091 г. Владивосток, ул АдмиралаФокина, д. 19","0860","MOAS"]
["Волгоград","ДО \"Волгоград-Комсомольский\" , 400066, Россия, Волгоградскаяобласть, г.Волгоград, ул.Комсомольская, 10","0861","MOAU"]
["Красноярск","ДО \"Красноярск-Бирюса\" , 660037, Красноярск, проспект именигазеты \"Красноярский рабочий\", д.35","0862","MOAW"]
["Волжский","ДО \"Волжский-улица Мира\" , 404105 Волгоградская область, г.Волжский, ул. Мира, д. 74 А","0863","MOVM"]
["Волгоград","ДО \"Волгоград-Спартановка\" , 400121 Волгоградская область, г.Волгоград, ул. Николая Отрады, д. 6","0864","MOAX"]
["Иркутск","ДО \"Иркутск-Амурские ворота\" , 664003, г. Иркутск ул. Ленина дом,25","0865","MOAY"]
["Санкт-Петербург","ДО \"СПБ-Комендантский проспект\" , 197371, г. Санкт-Петербург, проспект Комендантский, д. 13, корп. 1, лит. А","0866","MOPP"]
["Ростов-на-Дону","ДО \"Ростов нД-парк Горького\" , 344002, Российская Федерация, Ростовская область, г. Ростов-на-Дону, пр. Буденновский, д.42/50","0868","MOBU"]
["Ижевск","ДО \"Ижевск-Устиновский\" , 426073 г. Ижевск, ул. Молодежная,д. 87","0869","MOIJ"]
["Самара","ДО \"Самара-улица Гагарина\" , 443045, Россия, Самарская область,г. Самара, ул. Гагарина, д. 64","0870","MOAZ"]
["Омск","ДО \"Омск-проспект Маркса\" , 644010, г. Омск, проспект Маркса,д. 10","0873","MOOU"]
["Глазов","ДО \"Глазов-Чепецкий\" , 427620 Удмуртская респ., г. Глазов,ул. Кирова, д. 13","0874","MOGC"]
["Архангельск","ДО \"Архангельск-Воскресенский\" , 163060 , г. Архангельск, ул.Воскресенская, д. 108","0876","MOBF"]
["Находка","ДО \"Находка-Северный проспект\" , 692914, Российская Федерация, Приморский край, г. Находка, проспект Северный, д.2, корпус 1","0877","MONR"]
["Железногорск","ДО \"Железногорск-Саяны\" , 662971, Красноярский край, ЗАТО Железногорск, г. Железногорск, ул. Свердлова, дом 21","0880","MOBI"]
["Челябинск","ДО \"Челябинск-Энергия\" , 454048, г.Челябинскул. Доватора, 35","0881","MOBW"]
["Красноярск","ДО \"Красноярск-Октябрьский\" , 660041, Красноярский край, г. Красноярск ул. Высотная, д.1","0882","MOBZ"]
["Новороссийск","ДО \"Новороссийск-улица Толстого\" , 353905, Краснодарский край, г. Новороссийск, ул. Толстого, д. 2Г","0883","MOCA"]
["Мегион","ДО \"Мегион-улица Нефтеразведочная\" , 628681, ХМАО, г. Мегион, ул.Нефтеразведочная, дом 2","0884","MOMN"]
["Казань","ДО \"Казань-улица Декабристов\" , 420080 г. Казань, ул. Декабристовд.129","0885","MOVS"]
["Ангарск","ДО \"Ангарск-Ленинградский проспект\" , 665824, Российская Федерация, Иркутская область, г. Ангарск, квартал 212, д. 15","0886","MOCB"]
["Красноярск","ДО \"Красноярск-Монолит\" , г. Красноярск, ул. Взлётная, 18","0887","MOBO"]
["Красноярск","ДО \"Красноярск-Правобережный\" , 660077 г. Красноярск, пр.Красноярский рабочий дом,199","0889","MOCG"]
["Санкт-Петербург","ДО \"СПБ-Василеостровский\" , 199004, г. Санкт-Петербург, В.О. 7-ая линия, д.54, Лит. А, пом. 3Н","0890","MOCV"]
["Иркутск","ДО \"Иркутск-Байкал\" , 664003,Иркутская область, г. Иркутск, ул. Литвинова д. 2","0891","MODV"]
["Владивосток","ДО \"Владивосток-пр-кт Столетия\" , 690048 , Владивосток ,пр-кт 100 летВладивостока, 51","0893","MOEI"]
["Барнаул","ДО \"Барнаул-площадь Советов\" , 656038, г. Барнаул, пр-т Ленина, д.58","0896","MOEQ"]
["Усолье-Сибирское","ДО \"Усолье-Сибирское-Центральный\" , 665462, Иркутская область, г. Усолье-Сибирское, ул. Орджоникидзе, зд.40","0897","MOER"]
["Туапсе","ДО \"Туапсе-Площадь Ленина\" , 352800, Краснодарский край,Туапсинский район, г. Туапсе, ул.С. Перовской, д. 2, пом. 21, 28-30","0898","MOTG"]
["Чебоксары","ДО \"Чебоксары-Центральный\" , 428003, Российская Федерация,Чувашская Республика, г. Чебоксары,ул. Ярославская, д. 27","0899","MOEU"]
["Сургут","ДО \"Сургут-Центральный\" , 628406 г. Сургут, ул. Каролинского, д. 13","0937","MOSU"]
["Альметьевск","ДО \"Альметьевск-улица Ленина\" , 423452, Республика Татарстан, г. Альметьевск, ул. Ленина, 29","0953","MOLM"]
["Белгород","ДО \"Белгород-проспект Славы\" , 308000, г.Белгород, пр.Славы, д.68","0957","MOEX"]
["Бузулук","ДО \"Бузулук-ул. Комсомольская\" , 461040, Оренбургская область, г. Бузулук, ул. Комсомольская, зд. 81","0958","MOEY"]
["Уфа","ДО \"Уфа-проспект Октября\" , 450009, Республика Башкортостан, г.Уфа, проспект Октября, д.6","0959","MOEZ"]
["Кемерово","ДО \"Кемерово-Бульвар Строителей\" , 650003, Российская Федерация,Кемеровская область, г. Кемерово,Ленинский район, бр. Строителей,","0960","MORU"]
["Магнитогорск","ДО \"Магнитогорск-Металлург\" , 455000, г. Магнитогорск, пр-ктЛенина, д. 51","0961","MOFA"]
["Новокузнецк","ДО \"Новокузнецк-улица Тольятти\" , 654080, г. Новокузнецк, ул.Тольятти, д 44","0962","MOFC"]
["Юрга","ДО \"Юрга-улица Московская\" , 652050, Кемеровская обл г. Юрга,ул. Московская, д 37","0963","MOFD"]
["Нижний Тагил","ДО \"Нижний Тагил-проспект Ленина\" , 622034, Свердловская обл., г.Нижний Тагил, пр-кт Ленина, д. 69","0964","MONT"]
["Тюмень","ДО \"Тюмень-ул. 50 лет Октября\" , 625048, Российская Федерация,Тюменская область, городской округТюмень, г. Тюмень, ул. 50 лет","0966","MOTN"]
["Челябинск","ДО \"Челябинск-улица Чичерина\" , Российская Федерация, Челябинская обл., г. Челябинск, ул. Чичерина, д.38 В","0968","MOFG"]
["Нижний Тагил","ДО \"Нижний Тагил-Вагоностроительный\" , 622007, Свердловская обл., г.Нижний Тагил, пр-ктВагоностроителей, д. 13","0969","MOFH"]
["Первоуральск","ДО \"Первоуральск-улица Ватутина\" , 623104, Свердловская область, г.Первоуральск, ул. Ватутина, д. 37","0970","MOFI"]
["Челябинск","ДО \"Челябинск-Комсомольский\" , 454008 г. Челябинск, Комсомольскийпр-т, д. 2а","0974","MOFM"]
["Екатеринбург","ДО \"Екатеринбург-ул. Белореченская\" , 620086, г. Екатеринбург ул. Белореченская дом, 12а","0978","MOFP"]
["Екатеринбург","ДО \"Екатеринбург-улица Кузнецова\" , 620000 , г. Екатеринбург, ул. Кузнецова , д. 2","0981","MOFS"]
["Екатеринбург","ДО \"Екатеринбург-проспект Ленина\" , 620062, г. Екатеринбург, проспект Ленина, д. 60","0982","MOFU"]
["Екатеринбург","ДО \"Екатеринбург-Уралмаш\" , 620012 Свердловская обл.,г.Екатеринбург, ул.Машиностроителей, д. 19","0983","MORM"]
["Екатеринбург","ДО \"Екатеринбург-улица Родонитовая\" , 620089, Российская Федерация, г. Екатеринбург, ул. Родонитовая, д. 4","0984","MORI"]
["Екатеринбург","ДО \"Екатеринбург-Морозовский\" , 620000, г. Екатеринбург ул. Сони Морозовой дом, 190","0986","MOFW"]
["Магнитогорск","ДО \"Магнитогорск-Центральный\" , 455037 Челябинская область, г. Магнитогорск, пр-т Ленина, д. 90","0989","MOFY"]
["Каменск-Уральский","ДО \"Каменск-Уральский-пр.Победы\" , 623400, Свердловская обл., г. Каменск-Уральский, пр-кт Победы, д. 39а","0990","MOFZ"]
["Иркутск","ДО \"Иркутск-Ангара\" , 664022, Иркутская область, г. Иркутск, ул. Кожова, д. 20","0991","MORK"]
["Пермь","ДО \"Пермь-Дягилевский\" , 614000, г.Пермь, ул.Советская, д.45","0994","MOGE"]
["Санкт-Петербург","ДО \"СПБ-Лесной проспект\" , 195009 г. Санкт-Петербург, ул.Академика Лебедева, д.31, корп. 2,лит. А","0995","MOGF"]
["Тюмень","ДО \"Тюмень-Центральный\" , 625000 Тюмень ул. 8 марта, д. 2/13","0996","MOGG"]
["Челябинск","ДО \"Челябинск-улица Свободы\" , 454091, г.Челябинск, ул.Свободы,д.82","0997","MOLO"]
["Екатеринбург","ДО \"Екатеринбург-улица Горького\" , 620000, Свердловская область, г. Екатеринбург, ул. Горького, стр. 7-а","0998","MORO"]
["Кемерово","ДО \"Кемерово-Центральный\" , 650066, Кемеровская область - Кузбасс, г. Кемерово, пр-кт Ленина, д. 64а","0999","MONB"]
["Златоуст","ДО \"Златоуст-проспект Гагарина\" , 456228, Челябинская область, г. Златоуст, пр. им. Ю.А. Гагарина, 3 м/р-н, д. 14-в","1005","MOD2"]
["Йошкар-Ола","ДО \"Йошкар-Ола-Новопокровская\" , 424008, Республика Марий Эл, г. Йошкар-Ола, ул. Первомайская, д. 164","1006","MOD3"]
["Санкт-Петербург","ДО \"СПБ-Беговой\" , 197374, Санкт-Петербург, ул. Савушкина, дом127","1009","MOD8"]
["Саранск","ДО \"Саранск-Ушаковский\" , 430005, Республика Мордовия, г. Саранск, ул. Коммунистическая, дом 52","1010","MOD9"]
["Сызрань","ДО \"Сызрань-улица Советская\" , 446001, Самарская область, г. Сызрань, ул. Советская, д. 51","1011","MOE2"]
["Хабаровск","ДО \"Хабаровск-Площадь Ленина\" , 680000, Хабаровский край, г. Хабаровск, ул. Карла Маркса, д. 41, пом.1","1019","MOF9"]
["Курск","ДО \"Курск-улица Никитская\" , 305029, Россия, Курская область, г.Курск, ул. Никитская, д. 1-в","1042","MOJ3"]
["Уссурийск","ДО \"Уссурийск-улица Пушкина\" , 692525, Россия, Приморский край, г.Уссурийск, ул. Пушкина д.27","1048","MOK5"]
["Воронеж","ДО \"Воронеж-улица Лизюкова\" , 394088, Россия, Воронежская область, г. Воронеж, ул. Генерала Лизюкова, д. 50","1050","MOL2"]
["Пермь","ДО \"Пермь-Закамск\" , 614113, Российская Федерация, Пермский край, г. Пермь, ул. Автозаводская, д. 44а","1051","MOL9"]
["Краснодар","ДО \"Краснодар-улица 1 Мая\" , 350901,Краснодарский край, г. Краснодар, ул. 1 Мая, д. 158","1052","MON7"]
["Тверь","ДО \"Тверь-улица Желябова\" , 170100, Российская Федерация, г. Тверь, ул. Желябова, д. 3","1054","MON9"]
["Санкт-Петербург","ДО \"СПБ-Дачный проспект\" , 197110, Санкт-Петербург, пр-кт Дачный, д.17, к. 3","1056","MOO3"]
["Архангельск","ДО \"Архангельск-Поморский\" , 163000, Архангельская область, г. Архангельск, ул. Воскресенская, д. 6","1058","MOO5"]
["Белгород","ДО \"Белгород-проспект Ватутина\" , 308000, Российская Федерация. г.Белгород, проспект Ватутина, д. 9б","1061","MOV0"]
["Псков","ДО \"Псков-Рижский проспект\" , 180007, Псковская область, г.Псков,пр-т Рижский, д.16","1065","MOP7"]
["Мурманск","ДО \"Мурманск-Кольский проспект\" , 183052, Мурманская область, город Мурманск, проспект Кольский, дом 158","1066","MOP8"]
["Санкт-Петербург","ДО \"СПБ-Академический\" , 195256, г. Санкт-Петербург, пр-кт Науки, д. 14к1","1067","MOQ3"]
["Петрозаводск","ДО \"Петрозаводск-улица Ровио\" , 185026, Российская Федерация,Республика Карелия, г.Петрозаводск, ул. Ровио, д. 18","1073","MOM4"]
["Краснодар","ДО \"Краснодар-улица Красных Партизан\" , 350051, Российская Федерация,Краснодарский край, г. Краснодар,ул. Красных Партизан, д. 525","1080","MOW4"]
["Сургут","ДО \"Сургут-проспект Ленина\" , 628416, Российская Федерация,Ханты-Мансийский Автономный округ -Югра АО, г.Сургут, пр-т Ленина д.38","1094","MO2G"]
["Екатеринбург","ДО \"Екатеринбург-улица Крауля\" , 620109, г. Екатеринбург, ул. Крауля, 44","1097","MO2P"]
["Новосибирск","ДО \"Новосибирск-площадь Ленина\" , 630099, Российская Федерация, г.Новосибирск, ул. Орджоникидзе, дом23","1099","MO2X"]
["Новосибирск","ДО \"Новосибирск-площадь Маркса\" , 630078, Новосибирская область, г. Новосибирск, пл. Карла Маркса, д. 5.","1102","MO36"]
["Саратов","ДО \"Саратов-пр-кт Строителей\" , 410041, Саратовская область, г. Саратов, пр-кт Строителей, д. 19","1108","MO44"]
["Новороссийск","ДО \"Новороссийск-Южный парк\" , 353915, Краснодарский край, г. Новороссийск, просп. Дзержинского, д. 205 А","1110","MO53"]
["Уфа","ДО \"Уфа-улица Менделеева\" , 450106, Республика Башкортостан, г.Уфа, ул. Менделеева, д.130","1111","MO55"]
["Казань","ДО \"Казань-улица Закиева\" , 420100, Республика Татарстан, г. Казань, ул. Закиева, д. 1","1115","MO3S"]
["Нижний Новгород","ДО \"Нижний Новгород-ул.Веденяпина\" , 603004, Нижегородская обл., г. Нижний Новгород, Автозаводский район, пр-кт Ленина, д. 100Д, пом. П8","1117","MO3U"]
["Ульяновск","ДО \"Ульяновск-Заволжский\" , 432067, Ульяновская область, г. Ульяновск, Ульяновский пр-т д.6","1118","MO3V"]
["Оренбург","ДО \"Оренбург-улица Салмышская\" , 460052, Оренбургская область, г.Оренбург, ул. Салмышская, д.37","1119","MO3W"]
["Барнаул","ДО \"Барнаул-Огни\" , 656039, Алтайский край, г. Барнаул,ул. Антона Петрова, д. 219 Б","1120","MO3X"]
["Волгоград","ДО \"Волгоград-Семь Ветров\" , 400117, Волгоградская область, г. Волгоград, ул. 8-й Воздушной Армии,д. 47а","1121","MO3Z"]
["Рязань","ДО \"Рязань-Первомайский пр-кт\" , 390013, Рязанская область, г. Рязань, Первомайский пр-кт, д. 39/2","1122","MO4D"]
["Белгород","ДО \"Белгород-улица Щорса\" , 308027, Белгородская область г. Белгород, ул. Щорса, 8","1123","MO61"]
["Ярославль","ДО \"Ярославль-Парк Победы\" , 150045, Ярославская область, г. Ярославль, Ленинградский пр-т, 52 А","1125","MO4F"]
["Ростов-на-Дону","ДО \"Ростов нД-пр. Королева\" , 344113, Ростовская область, г. Ростов-на-Дону, пр-кт Королева, д. 14а","1126","MO4G"]
["Липецк","ДО \"Липецк-Октябрьский\" , 398046, Липецкая область, г. Липецк, ул. Им. Генерала Меркулова, д. 10А, пом.1","1127","MO4O"]
["Владивосток","ДО \"Владивосток-Золотой Рог\" , 690035, Приморский край, г. Владивосток, ул. Харьковская, д. 8","1128","MO4S"]
["Тула","ДО \"Тула-проспект Ленина\" , 300041, Тульская область, г. Тула,просп. Ленина, д. 54а","1129","MO4T"]
["Курск","ДО \"Курск-улица Ленина\" , 305000, Курская область, г. Курск,ул. Ленина, д. 31, пом. 1б","1130","MO4U"]
["Новосибирск","ДО \"Новосибирск-Золотая Нива\" , 630089, Новосибирская область, г.Новосибирск, ул. Бориса Богаткова, д.201/1","1131","MO4V"]
["Магнитогорск","ДО \"Магнитогорск-проспект Маркса\" , 455045, Челябинская область, г. Магнитогорск, пр. Карла Маркса, д.179а","1132","MO4Y"]
["Ульяновск","ДО \"Ульяновск-улица Герасимова\" , 432045, Ульяновская область, г. Ульяновск, ул. Герасимова, д. 10","1133","MO5C"]
["Новосибирск","ДО \"Новосибирск-Академгородок\" , 630090, Россия, Новосибирская область, г. Новосибирск, ул. Ильича, д.6","1137","MO5V"]
["Ставрополь","ДО \"Ставрополь-Дзержинский\" , 355035, Ставропольский край, г. Ставрополь, ул. Дзержинского, д. 114","1138","MO5X"]
["Красноярск","ДО \"Красноярск-Западный\" , 660001, Красноярский край, г. Красноярск, ул. Копылова, д. 66","1139","MO5Y"]
["Калуга","ДО \"Калуга-улица Плеханова\" , 248001, Калужская область, г. Калуга, ул. Кирова, д. 14","1140","MO6A"]
["Тула","ДО \"Тула-улица Советская\" , 300041, Тульская область, г. Тула,ул. Советская, д. 10","1141","MO6B"]
["Сочи","ДО \"Сочи-улица Северная\" , 354000, Краснодарский край край, г.Сочи, ул. Северная, д. 6","1143","MO6K"]
["Пенза","ДО \"Пенза-Сура\" , 440008, Пензенская область, г. Пенза, ул. Суворова, д. 139","1144","MO6L"]
["Новосибирск","ДО \"Новосибирск-улица Кирова\" , 630102, г. Новосибирск, ул. Кирова,д. 46/1","1145","MO6N"]
["Иваново","ДО \"Иваново-Центральный\" , 153000, г. Иваново, проспект Ленина, 11","1146","MO6T"]
["Воронеж","ДО \"Воронеж-Олимпийский квартал\" , 394053, Воронежская область, г. Воронеж, ул. Загоровского, д. 1","1147","MO6W"]
["Старый Оскол","ДО \"Старый Оскол-улица Шухова\" , 309512, Белгородская область, г. Старый Оскол, мкр. Жукова, д. 48, помещение 6","1148","MO6Y"]
["Нижнекамск","ДО \"Нижнекамск-проспект Мира\" , 423571, Республика Татарстан, г. Нижнекамск, пр-кт Мира, д. 61Г","1149","MO75"]
["Шахты","ДО \"Шахты-площадь Победы\" , 346500,  Ростовская область, г. Шахты, проспект Победы Революции, д. 126","1150","MO78"]
["Армавир","ДО \"Армавир-улица Ленина\" , 352900, Краснодарский край, г. Армавир, ул. Ленина, д. 101а","1151","MO80"]
["Новомосковск","ДО \"Новомосковск-Городская пл\" , 301650, Тульская область, Новомосковский р-н, г. Новомосковск, ул. Комсомольская/ул. Трудовые резервы, д.","1152","MO81"]
["Тамбов","ДО \"Тамбов-улица Максима Горького\" , 392000, Тамбовская область, г. Тамбов, ул. Советская/Максима Горького,д. 104/14","1153","MO84"]
["Брянск","ДО \"Брянск-улица Красноармейская\" , 241050, Брянская область, г. Брянск, ул. Красноармейская, д. 41","1154","MO85"]
["Барнаул","ДО \"Барнаул-Лето\" , 656057, Алтайский край, г. Барнаул,тракт Павловский, д. 251А","1155","MO87"]
["Улан-Удэ","ДО \"Улан-Удэ-Селенга\" , 670000, Республика Бурятия, г. Улан-Удэ, ул. Ленина, д. 35","1156","MO88"]
["Великий Новгород","ДО \"Великий Новгород-Волхов\" , 173001, Новгородская область, г. Великий Новгород, ул. Большая Санкт-Петербургская, 13","1157","MO89"]
["Смоленск","ДО \"Смоленск-Днепровские ворота\" , 214004, Смоленская область область,г. Смоленск, ул. Николаева, д. 8","1158","MO90"]
["Нефтекамск","ДО \"Нефтекамск-улица Ленина\" , 452680, Россия, Республика Башкортостан, г. Нефтекамск, улица Ленина,д. 19Е","1159","MO92"]
["Октябрьский","ДО \"Октябрьский-пр-кт Ленина\" , 452614, Республика Башкортостан, г.Октябрьский, проспект Ленина, д. 5","1160","MO93"]
["Нефтеюганск","ДО \"Нефтеюганск-улица Нефтяников\" , 628306, Ханты-Мансийский Автономныйокруг-Югра, г. Нефтеюганск, 15 микрорайон, 8б","1161","MO94"]
["Вологда","ДО \"Вологда-площадь Возрождения\" , 160000, Россия, Вологодская область, г. Вологда, ул. Ленина, д. 5","1162","MO95"]
["Екатеринбург","ДО \"Екатеринбург-Академический\" , 620105, Свердловская область, г.Екатеринбург, ул. Вильгельма деГеннина, д. 31","1163","MO96"]
["Орёл","ДО \"Орел-Комсомольская площадь\" , 302026, Орловская область, г. Орел,ул. Комсомольская, д. 78","1164","MO97"]
["Кострома","ДО \"Кострома-Романовский\" , 156000, Костромская область, г. Кострома, ул. Советская, д. 30","1165","MO98"]
["Санкт-Петербург","ДО \"СПБ-Площадь Мужества\" , 194021, г. Санкт-Петербург, просп.Тореза, д. 9, литера А","1166","MO7G"]
["Череповец","ДО \"Череповец-улица Ленина\" , 162602, Вологодская область, г. Череповец, ул. Ленина, д. 68","1167","MO7H"]
["Тольятти","ДО \"Тольятти- Центральный\" , 445031, Россия, Самарская область,г. Тольятти, ул. Тополиная, д. 8а","1168","MO7J"]
["Воронеж","Дополнительный офис \"Воронеж-Димитрова\" , 394007, Воронежская область. г. Воронеж, Ленинский проспект, д. 116А","1169","MO7T"]
["Березники","ДО \"Березники-ул. Пятилетки\" , 618419, Пермский край, г. Березники, ул. Пятилетки, д. 50","1170","MO7O"]
["Видное","ДО \"ВИДНОЕ\" , 142703, Московская область, г. Видное, ул. Школьная, 23","1171","MO7W"]
["Пятигорск","ДО \"Пятигорск-улица Октябрьская\" , 357500, Ставропольский край, г. Пятигорск, ул. Октябрьская, д. 1","1172","MO8S"]
["Батайск","ДО \"Батайск-улица Энгельса\" , 346880, Ростовская область, г. Батайск, ул. Энгельса, д. 182","1173","MO8T"]
["Томск","ДО \"Томск-Дом Книги\" , 634061 г. Томск, пр. Комсомольскийд. 53","1174","MO8U"]
["Великие Луки","ДО \"Великие Луки\" , 182113, Псковская область, г. Великие Луки, проспект Ленина, д. 39","1175","MO8V"]
["Ханты-Мансийск","ДО \"Ханты-Мансийск-Югра\" , 628011, Ханты-Мансийский автономныйокруг-Югра, г. Ханты-Мансийск, ул.Энгельса, дом 3","1176","MO8Z"]
["Димитровград","ДО \"Димитровград-Черемшан\" , 433512, Ульяновская область, г. Димитровград, пр-кт. Ленина, зд. 39д","1177","MO9I"]
["Благовещенск","ДО \"Благовещенск-Островского\" , 675004, Амурская область, г. Благовещенск, ул. Островского, д. 12","1178","MO9L"]
["Сочи","ДО \"Адлер-Молокова\" , 354340, Краснодарский край, г. Сочи, ул. Молокова, д. 18/78","1179","MO9M"]
["Новочебоксарск","ДО \"Новочебоксарск-Восточный\" , 429965, Чувашская Республика, г. Новочебоксарск, ул. Советская, д. 15","1180","MO9W"]
["БАЛАШИХА","ДО \"БАЛАШИХА-ЖЕЛЕЗНОДОРОЖНЫЙ\" , 143980, Московская область, г. Балашиха, ул. Пролетарская, д. 2А","1181","MAAA"]
["Раменское","ДО \"РАМЕНСКОЕ\" , 140108, Московская область, г. Раменское, ул. Михалевича, д. 1а","1182","MAAC"]
["Хабаровск","ДО \"Хабаровск-микрорайон Южный\" , 680051, Хабаровский край, г. Хабаровск, ул. Суворова, д. 32","1183","MAAE"]
["Тобольск","ДО \"Тобольск-проспект Менделеева\" , 626158, Тюменская область, г. Тобольск, 9-й микрорайон, д. 1","1184","MAAH"]
["Анапа","ДО \"Анапа-улица Крымская\" , 353440, Краснодарский край, г.Анапа, ул. Крымская, д. 172","1186","MAAK"]
["Москва","ДО \"РАССКАЗОВКА\" , 108849, г. Москва, пос. Внуковское,ул. Корнея Чуковского, д. 2","1187","MAAL"]
["Ленинск-Кузнецкий","ДО \"Ленинск-Кузнецкий\" , 652500, Кемеровская область, г. Ленинск-Кузнецкий, проспект Кирова, д.49","1188","MAAN"]
["Муром","ДО \"Муром-Вознесенская площадь\" , 602267, Владимирская область, г. Муром, ул. Московская, д. 47","1189","MAAQ"]
["Серов","ДО \"Серов-улица Ленина\" , 624992, Свердловская область, г. Серов, ул. Ленина, д. 161","1190","MAAR"]
["Орехово-Зуево","ДО \"ОРЕХОВО-ЗУЕВО\" , 142600, Московская область, г. Орехово-Зуево, ул. Ленина, д. 53","1191","MAAS"]
["Елец","ДО \"Елец-улица Мира\" , 399770, Липецкая область, г. Елец,улица Мира, д. 133","1192","MAAV"]
["Салават","ДО \"Салават-б-р Космонавтов\" , 453260, Республика Башкортостан, г.Салават, б-р Космонавтов, 13","1193","MAAW"]
["Верхняя Пышма","ДО \"Верхняя Пышма-Успенский пр-кт\" , 624090, Свердловская область, г. Верхняя Пышма, пр-кт Успенский, д. 20","1194","MAAX"]
["Новокуйбышевск","ДО \"Новокуйбышевск-ул. Миронова\" , 446200, Самарская область, г. Новокуйбышевск, ул. Миронова, д. 3","1195","MAAY"]
["Волгодонск","ДО \"Волгодонск-пр-кт Строителей\" , 347382, Ростовская область, г. Волгодонск, пр-кт Строителей, д. 21","1196","MAAZ"]
["Клинцы","ДО \"Клинцы-проспект Ленина\" , 243140, Брянская область, г. Клинцы, пр-кт Ленина, д. 21","1197","MAA3"]
["Невинномысск","ДО \"Невинномысск-ул. Гагарина\" , 357100, Ставропольский край, г. Невинномысск, ул. Гагарина, д. 70Б","1198","MAA5"]
["Москва","ДО \"ЯСЕНЕВО\" , 117588, г. Москва, пр-кт Новоясеневский, д. 7","1504","MO2O"]
["Москва","ДО \"МОЛОДЕЖНЫЙ\" , 121552, г. Москва, ул. Ярцевская, д. 27, корп. 1","1512","MO52"]
["Москва","ДО \"НЕКРАСОВКА\" , 111674, г. Москва, ул. Покровская,д. 20","1513","MO3Y"]
["Москва","ДО \"ПЕРВОМАЙСКИЙ\" , 105043, г. Москва, ул. 9-я Парковая, д. 23","1515","MO4B"]
["Москва","ДО \"ВОРОТЫНСКИЙ\" , 125466, г. Москва, ул. Воротынская,д. 2","1516","MO4C"]
["Москва","ДО \"ДОМОДЕДОВСКИЙ\" , 115583, г. Москва, ул. Генерала Белова, д. 35","1520","MO4L"]
["Москва","ДО \"БАБУШКИНСКИЙ\" , 129327, г. Москва, ул. Менжинского,д. 23 корп.1","1521","MO4M"]
["Москва","ДО \"МАЛАЯ БРОННАЯ\" , 123104, г. Москва, ул. Малая Бронная д.15 Б","1523","MO5D"]
["Долгопрудный","ДО \"ДОЛГОПРУДНЫЙ\" , 141700, Московская область, г. Долгопрудный, Новый бульвар, д. 2","1525","MO76"]
["Сергиев Посад","ДО \"СЕРГИЕВ ПОСАД\" , 141310, Московская область, г. Сергиев Посад, просп. Красной Армии, д.180","1526","MO83"]
["Домодедово","ДО \"ДОМОДЕДОВО\" , 142000, Московская область, г. Домодедово, Каширское шоссе, д. 51","1527","MO86"]
["Ногинск","ДОПОЛНИТЕЛЬНЫЙ ОФИС \"НОГИНСК\" , 142400, Московская область, г. Ногинск, ул. 3-го Интернационала, дом 62","1528","MO7N"]
["Жуковский","ДО \"ЖУКОВСКИЙ\" , 140184, Московская область, г. Жуковский, ул. Гагарина, д. 24","1529","MO99"]
["Электросталь","ДО \"ЭЛЕКТРОСТАЛЬ\" , 144000, Московская область, г. Электросталь, ул. Советская, д. 14","1530","MO7P"]
["Серпухов","ДО \"СЕРПУХОВ\" , 142203, Московская область, г. Серпухов, ул. Ворошилова, д. 127","1531","MOC1"]
["Рыбинск","ДО \"Рыбинск-Авиационный\" , 152903, Ярославская область, г. Рыбинск, ул. Кирова, д. 18","1532","MOD1"]
["Калининград","ДО \"Калининград-Академический\" , 236041, Калининградская область, г.Калининград , ул. Куйбышева, д. 2","1533","MOE0"]
["Астрахань","ДО \"Астрахань-Каспийский\" , 414000, Астраханская область, г. Астрахань, ул. Кирова, д. 12/2","1534","MO7I"]
["Щелково","ДО \"ЩЕЛКОВО\" , 141100, Московская область, г. Щелково, Пролетарский пр-т, д.9","1536","MO7X"]
["Москва","ДО \"МАЯКОВСКАЯ\" , 125375, г. Москва, ул. Тверская, д.28, корп. 1","1537","MO7Y"]
["Пушкино","ДО \"ПУШКИНО\" , 141207, Московская область, г. Пушкино, Московский проспект, д. 9/2","1538","MO8L"]
["Балаково","ДО \"Балаково-улица Трнавская\" , 413860, Саратовская область, г.Балаково, ул. Трнавская, д. 23","1539","MO8B"]
["Кронштадт","ДО \"Кронштадт-проспект Ленина\" , 197760, г. Санкт-Петербург, г. Кронштадт, пр-кт Ленина, д. 16, лит. А","1540","MO8M"]
["Чехов","ДО \"ЧЕХОВ\" , 142300, Московская область, г. Чехов, ул. Московская, вл. 96","1541","MO8N"]
["Ковров","ДО \"Ковров-Дегтяревский\" , 601900, Владимирская область, г. Ковров, проспект Ленина, д. 38","1542","MO9H"]
["Москва","ДОПОЛНИТЕЛЬНЫЙ ОФИС \"АВИАПАРК\" , 125252, г. Москва, ул. Авиаконструктора Микояна, д. 12","1598","MO23"]
["Москва","ДО \"ПЛОЩАДЬ ИЛЬИЧА\" , 109544, г. Москва, б-р Энтузиастов,д. 2","1599","MO2L"]
["Ярославль","ДО \"Ярославль-пр-кт Московский\" , 150030, Ярославская область, г. Ярославль, Московский пр-кт, д. 125","1600","MAA4"]
["Кстово","ДО \"Кстово-ул. 40 лет Октября\" , 607651, Нижегородская область, г. Кстово, ул. 40 лет Октября, д. 4","1602","MABB"]
["Россошь","ДО \"Россошь-проспект Труда\" , 396658, Воронежская область, г. Россошь, пр-кт Труда, д. 4б","1604","MABI"]
["Биробиджан","ДО \"Биробиджан-Сквер Победы\" , 679016, Еврейская автономная область, г. Биробиджан, ул. Шолом-Алейхема, зд. 8","1606","MABK"]
["Ставрополь","ДО \"Ставрополь-парк Победы\" , 355040, Ставропольский край, г. Ставрополь, ул. 50-лет ВЛКСМ, д. 11, к. 1","1607","MABN"]
["Балашов","ДО \"Балашов-улица Ленина\" , 412309, Саратовская область, г. Балашов, ул. Ленина, д. 21Б","1608","MABO"]
["Москва","ДО \"МЕДВЕДКОВСКИЙ\" , 127282, г. Москва, ул. Грекова, д.3, корп. 3","1609","MABQ"]
["Кисловодск","ДО \"Кисловодск-улица Горького\" , 357700, Ставропольский край, г. Кисловодск, ул. Горького, д. 17Б","1612","MABV"]
["Кузнецк","ДО \"Кузнецк-улица Белинского\" , 442530, Пензенская область, г. Кузнецк, ул. Белинского, д. 127/1","1613","MABW"]
["Павлово","ДО \"Павлово-Центральный\" , 606100, Нижегородская область, г. Павлово, ул. Красноармейская, д. 33,стр. 1","1614","MAB3"]
["Белореченск","ДО \"Белореченск-улица Ленина\" , 352630, Краснодарский край, г. Белореченск, ул. Ленина, д. 145","1615","MAB7"]
["Горно-Алтайск","ДО \"Горно-Алтайск-Родник\" , 649000, Республика Алтай, г. Горно-Алтайск, пр-кт Коммунистический, д.27","1616","MAB9"]
["Асбест","ДО \"Асбест-проспект Ленина\" , 624272, Свердловская область, г. Асбест, пр-кт имени В.И. Ленина, д. 15","1617","MACA"]
["Ливны","ДО \"Ливны-улица Горького\" , 303850, Орловская область, г. Ливны, ул. Максима Горького, д. 2","1619","MACC"]
["Мичуринск","ДО \"Мичуринск-улица Советская\" , 393760, Тамбовская область, г. Мичуринск, ул. Советская, д. 323","1620","MACE"]
["Копейск","ДО \"Копейск-пр-кт Победы\" , 456618, Челябинская область, г. Копейск, пр-кт Коммунистический, д. 28","1621","MACF"]
["Коломна","ДО \"КОЛОМНА\" , 140408, Московская область, г. Коломна, пл. Восстания, д. 7","1622","MACG"]
["Краснокамск","ДО \"Краснокамск-пр-кт Мира\" , 617060, Пермский край, г. Краснокамск, пр-кт Мира, д. 6","1623","MACH"]
["Ессентуки","ДО \"Ессентуки-Привокзальная площадь\" , 357601, Ставропольский край, г. Ессентуки, Привокзальная пл.","1624","MACI"]
["Рубцовск","ДО \"Рубцовск-пр-кт Ленина\" , 658210, Алтайский край, г. Рубцовск, пр-кт Ленина, д. 46","1626","MACP"]
["Михайловка","ДО \"Михайловка-улица Обороны\" , 403343, Волгоградская область, г. Михайловка, ул. Обороны, д. 44/53","1628","MACT"]
["Щекино","ДО \"Щекино-улица Советская\" , 301245, Тульская область, г. Щекино, ул. Советская, д. 12Г","1629","MACU"]
["Темрюк","ДО \"Темрюк-улица Ленина\" , 353500, Краснодарский край, г. Темрюк, ул. Ленина, д. 68","1630","MACV"]
["Бор","ДО \"Бор-улица Ленина\" , 606440, Нижегородская область, г. Бор, ул. Ленина, д. 129","1631","MACW"]
["Наро-Фоминск","ДО \"НАРО-ФОМИНСК\" , 143300, Московская область, г. Наро-Фоминск, пл. Свободы, д. 2","1632","MACX"]
["Искитим","ДО \"Искитим-улица Пушкина\" , 633209, Новосибирская область, г. Искитим, ул. Пушкина, д. 40А","1633","MACY"]
["Котлас","ДО \"Котлас-улица Невского\" , 165313, Архангельская область, г. Котлас, ул. Невского, д. 20","1634","MACZ"]
["Кирово-Чепецк","ДО \"Кирово-Чепецк-проспект Мира\" , 613050, Кировская область, г. Кирово-Чепецк, пр-кт Мира, д. 74","1635","MAC3"]
["Междуреченск","ДО \"Междуреченск-улица Комарова\" , 652870, Кемеровская область, г. Междуреченск, Коммунистический пр-кт,д. 18","1636","MAC4"]
["Сызрань","ДО \"Сызрань-50 лет Октября\" , 446031, Самарская область, г. Сызрань, ул. 50 лет Октября, д. 54А","1637","MAC8"]
["Магадан","ДО \"Магадан-сквер Победы\" , 685000, Магаданская область, г. Магадан, пр-кт Карла Маркса, д. 36/20","1638","MAC9"]
["Лобня","ДО \"ЛОБНЯ-УЛИЦА ЛЕНИНА\" , 141730, Московская область, г. Лобня, ул. Ленина, д. 16","1639","MADA"]
["Тихорецк","ДО \"Тихорецк-улица Энгельса\" , 352120, Краснодарский край, г. Тихорецк, ул. Энгельса, д. 101","1641","MADC"]
["Вольск","ДО \"Вольск-пл. 10-летия Октября\" , 412906, Саратовская область, г. Вольск, пл. 10-летия Октября, д. 4/1","1642","MADD"]
["Троицк","ДО \"Троицк-сквер Памяти\" , 457100, Челябинская область, г. Троицк, ул. им. Ю.А. Гагарина, д. 41","1648","MADM"]
["Боровичи","ДО \"Боровичи-улица Подбельского\" , 174411, Новгородская область, г. Боровичи, ул. Подбельского, д. 36","1652","MADS"]
["Новоуральск","ДО \"Новоуральск-ул. Комсомольская\" , 624132, Свердловская область, г. Новоуральск, ул. Комсомольская, зд. 6А","1653","MADT"]
["Вязьма","ДО \"Вязьма-улица 25 Октября\" , 215110, Смоленская область, г. Вязьма, ул. 25 Октября, д. 4","1654","MADV"]
["Анжеро-Судженск","ДО \"Анжеро-Судженск-ул. Ленина\" , 652470, Кемеровская область, г. Анжеро-Судженск, ул. Ленина, д. 22","1656","MADY"]
["Камышин","ДО \"Камышин-улица Пролетарская\" , 403873, Волгоградская область, г. Камышин, ул. Пролетарская, д. 101","1657","MADZ"]
["Выкса","ДО \"Выкса-улица Островского\" , 607061, Нижегородская область, г. Выкса, ул. Островского, зд. 33","1658","MAD2"]
["Клин","ДО \"КЛИН\" , 141607, Московская область, г. Клин, ул. К. Маркса, д. 4","1659","MAD3"]
["Шадринск","ДО \"Шадринск-улица Февральская\" , 641870, Курганская область, г. Шадринск, ул. Февральская, д. 54","1661","MAD5"]
["Буденновск","ДО \"Буденновск-улица Октябрьская\" , 356800, Ставропольский край, г. Буденновск, ул. Октябрьская, д. 79","1662","MAD6"]
["Кинешма","ДО \"Кинешма-улица Ленина\" , 155800, Ивановская область, г. Кинешма, ул. им. Ленина, д. 6","1665","MAEA"]
["Алексин","ДО \"Алексин-улица Мира\" , 301361, Тульская область, г. Алексин, ул. Мира, 20","1666","MAEB"]
["Каменск-Шахтинский","ДО Каменск-Шахтинский-пр-кт Марксав Каменск-Шахтинский , 347810, Ростовская область, г. Каменск-Шахтинский, пр-кт Карла Маркса,д. 73","1667","MAEC"]
["Егорьевск","ДО \"ЕГОРЬЕВСК\" , 140301, Московская область, г. Егорьевск, ул. Советская, д. 82А","1669","MAEE"]
["Куйбышев","ДО \"Куйбышев-улица Краскома\" , 632382, Новосибирская область, г. Куйбышев, 11 кв-л, д. 9","1670","MAEF"]
["Большой Камень","ДО \"Большой Камень-Звезда\" , 692806, Приморский край, г. БольшойКамень, ул. Карла Маркса, д. 13","1671","MAEG"]
["Железногорск","ДО \"Железногорск-Юность\" , 307179, Курская область, г. Железногорск, ул. Воинов-интернационалистов, д. 6","1672","MAEI"]
["Павловский Посад","ДО \"ПАВЛОВСКИЙ ПОСАД\" , 142500, Московская область, г. Павловский Посад, ул. Большая Покровская, д. 10","1675","MAEK"]
["Кунгур","ДО \"Кунгур-улица Пугачева\" , 617470, Пермский край, г. Кунгур, ул. Пугачева, д. 25","1676","MAEL"]
["Солнечногорск","ДО \"СОЛНЕЧНОГОРСК\" , 141506, Московская область, г. Солнечногорск, ул. Почтовая, стр. 9/2","1678","MAEN"]
["Борисоглебск","ДО \"Борисоглебск-улица Свободы\" , 397160, Воронежская область, г. Борисоглебск, ул. Свободы, зд. 213/ул.Советская, д. 8","1680","MAEP"]
["Усть-Илимск","ДО \"Усть-Илимск-пр-кт Мира\" , Иркутская обл, г Усть-Илимск, пр-кт Мира, д.2","1681","MAEQ"]
["Елабуга","ДО \"Елабуга-пр-кт Нефтяников\" , 423603, Республика Татарстан, г. Елабуга, пр-кт Нефтяников, д. 17","1682","MAER"]
["Кумертау","ДО \"Кумертау-пл. Советов\" , 453300, Республика Башкортостан, г.Кумертау, ул. Карла Маркса, д. 11","1685","MAEV"]
["Черемхово","ДО \"Черемхово-ул. Первомайская\" , 665412, Иркутская область, г. Черемхово, ул. Первомайская, д. 160/Б","1686","MAEW"]
["Новошахтинск","ДО \"Новошахтинск-пр-кт Ленина\" , 346918, Ростовская область, г. Новошахтинск, пр-кт Ленина, д. 5а","1689","MAEZ"]
["Киселевск","ДО \"Киселевск-улица Ленина\" , 652700, Кемеровская область, г. Киселевск, ул. Ленина, д. 38","1692","MAE4"]
["Черняховск","ДО \"Черняховск-улица Ленина\" , 238150, Калининградская область, г.Черняховск, ул. Ленина, д. 39","1693","MAE5"]
["Тимашевск","ДО \"Тимашевск-улица Красная\" , 352700, Краснодарский край, г. Тимашевск, ул. Красная, д. 106","1694","MAE6"]
["Славянск-на-Кубани","ДО Славянск-на-Кубани-ул. Ковтюха , 353560, Краснодарский край, г. Славянск-на-Кубани, ул. Ковтюха, д. 17","1695","MAE7"]
["Зеленодольск","ДО \"Зеленодольск-улица Ленина\" , 422550, Республика Татарстан, г.Зеленодольск, ул. Ленина, д. 25","1696","MAE8"]
["Артем","ДО \"Артем-улица Фрунзе\" , 692760, Приморский край, г. Артем,ул. Фрунзе, д. 65","1700","MAFC"]
["Волжск","ДО \"Волжск-улица Ленина\" , 425000, Республика Марий Эл, г. Волжск, ул. Ленина, д. 56б","1702","MAFE"]
["Ишим","ДО \"Ишим-улица Карла Маркса\" , 627754, Тюменская область, г. Ишим,ул. Карла Маркса, д. 77А","1703","MAFF"]
["Краснокаменск","ДО \"Краснокаменск-пр-кт Шахтеров\" , 674676, Забайкальский край, г. Краснокаменск, пр-кт Шахтеров, д. 4а","1705","MAFI"]
["Петергоф","ДО \"Петергоф-Николаевский\" , 198510, г. Санкт-Петербург, г. Петергоф, пр-кт Санкт-Петербургский, д.29","1706","MAFJ"]
["Березовский","ДО \"Березовский-улица Восточная\" , 623700, Свердловская область, г. Березовский, ул. Восточная, д. 11а","1713","MAFQ"]
["Кропоткин","ДО \"Кропоткин-улица Красная\" , 352380, Краснодарский край, г. Кропоткин, ул. Красная, д. 96","1714","MAFR"]
["Лысьва","ДО \"Лысьва-улица Мира\" , 618900, Пермский край, г. Лысьва, ул. Мира, д. 11","1715","MAFS"]
["Белебей","ДО \"Белебей-ул. Красная\" , 452005, Республика Башкортостан, г.Белебей, ул. Красная, д. 134","1716","MAFT"]
["Сарапул","ДО \"Сарапул-улица Горького\" , 427960, Удмуртская Республика, г. Сарапул, ул. Горького, д. 15а, стр.1","1720","MAFX"]
["Крымск","ДО \"Крымск-улица Синева\" , 353380, Краснодарский край, г. Крымск, ул. Синева, д. 9Б","1723","MAF2"]
["Чайковский","ДО \"Чайковский-улица Мира\" , 617760, Пермский край, г. Чайковский, ул. Мира, д. 19","1724","MAF3"]
["Губкин","ДО \"Губкин-улица Кирова\" , 309181, Белгородская область, г. Губкин, ул. Кирова, д. 53","1725","MAF4"]
["Донской","ДО \"Донской-улица Октябрьская\" , 301764, Тульская область, г. Донской, ул. Октябрьская, д. 59а","1727","MAF9"]
["Воткинск","ДО \"Воткинск-улица 1 мая\" , 27433, Удмуртская Республика, г. Воткинск, ул. 1 Мая, д. 102","1728","MAGA"]
["Коммунарка","ДО \"КОММУНАРКА\" , 108801, г. Москва, пос. Коммунарка,ул. Липовый парк, д. 11","1729","MAGB"]
["Пушкин","ДО \"Пушкин-улица Ленинградская\" , 196608, г. Санкт-Петербург, г. Пушкин, ул. Ленинградская, д. 29","1733","MAGF"]
["Белово","ДО \"Белово-улица Юбилейная\" , 652600, Кемеровская область, г. Белово, ул. Юбилейная, д. 8","1734","MAGG"]
["Дмитров","ДО \"ДМИТРОВ\" , 141800, Московская область, г. Дмитров, ул. Загорская, д. 24","1739","MAGM"]
["Михайловск","ДО \"Михайловск-улица Войкова\" , 356240, Ставропольский край, г. Михайловск, ул. Войкова, д. 454/1","1740","MAGN"]
["Белогорск","ДО \"Белогорск-улица Кирова\" , 676805, Амурская область, г. Белогорск, ул. Кирова, д. 119","1744","MAGR"]
["Белорецк","ДО \"Белорецк-улица Карла Маркса\" , 453509, Республика Башкортостан, г.Белорецк, ул. Карла Маркса, д. 75","1745","MAGS"]
["Тихвин","ДО \"Тихвин-улица Карла Маркса\" , 187553, Ленинградская область, г. Тихвин, ул. Карла Маркса, д. 50","1751","MAGY"]
["Троицк","ДО \"ТРОИЦК\" , 108842, г. Москва, г. Троицк, пл. Академическая, д. 5","1752","MAGZ"]
["Гатчина","ДО \"Гатчина-проспект 25 Октября\" , 188300, Ленинградская область, г. Гатчина, пр-кт 25 Октября, д. 11/13","1754","MAG3"]
["Чистополь","ДО \"Чистополь-улица Ленина\" , 422981, Республика Татарстан, г. Чистополь, ул. Ленина, д. 42Д","1758","MAG7"]
["Северск","ДО \"Северск-Коммунистический пр-кт\" , 636000, Томская область, г. Северск, пр-кт Коммунистический, д. 63","1760","MAG9"]
["Гусь-Хрустальный","ДО \"Гусь-Хрустальный-ул. Калинина\" , 601501, Владимирская область, г.Гусь-Хрустальный, ул. Калинина, д.30","1762","MAHB"]
["Выборг","ДО \"Выборг-улица Вокзальная\" , 188800, Ленинградская область, г. Выборг, ул. Вокзальная, д. 7","1768","MAHJ"]
["Минеральные Воды","ДО \"Минеральные Воды-Вершина\" , 357207, Ставропольский край, г. Минеральные Воды, пр-кт 22 Партсъезда,влд. 94/1","1769","MAHK"]
["Минусинск","ДО \"Минусинск-ул. Абаканская\" , 662606, Красноярский край, г. Минусинск, ул. Абаканская, д. 48","1770","MAHL"]
["Новоалтайск","ДО \"Новоалтайск-ул. Октябрьская\" , 658087, Алтайский край, г.Новоалтайск, ул. Октябрьская, д. 13","1780","MAHV"]
["Шуя","ДО \"Шуя-улица Ленина\" , 155900, Ивановская область, г. Шуя,ул. Ленина, д. 7, стр. 1","1781","MAHW"]
["Североморск","ДО \"Североморск-улица Сафонова\" , 184604, Мурманская область, г. Североморск, ул. Сафонова, д. 13","1790","MAH7"]
["Аксай","ДО \"Аксай-проспект Ленина\" , 346720, Ростовская область, г. Аксай, пр-кт Ленина, д. 26","1791","MAH8"]
["Краснотурьинск","ДО \"Краснотурьинск-улица Ленина\" , 624440, Свердловская область, г. Краснотурьинск, ул. Ленина, д. 37","1792","MAH9"]
["Курчатов","ДО \"Курчатов-улица Садовая\" , 307250, Курская область, г. Курчатов, ул. Садовая, д. 11А","1793","MAIA"]
["Лабинск","ДО \"Лабинск-улица Халтурина\" , 352500, Краснодарский край, г. Лабинск, ул. Халтурина, д. 18","1794","MAIB"]
["Ревда","ДО \"Ревда-улица Горького\" , 623286, Свердловская область, г. Ревда, ул. Максима Горького, д. 30","1795","MAIC"]
["Ухта","ДО \"Ухта-проспект Ленина\" , 169313, Республика Коми, г. Ухта, пр-кт Ленина, д. 27","1796","MAIE"]
["Чапаевск","ДО \"Чапаевск-улица Запорожская\" , 446103, Самарская область, г. Чапаевск, ул. Запорожская, д. 18А","1797","MAIF"]
["Мурино","ДО \"Мурино-бульвар Менделеева\" , 188677, Ленинградская область, г. Мурино, б-р Менделеева, д. 11, корп.1","1800","MAA6"]
["Москва","ДО \"УЛ. НАРОДНОГО ОПОЛЧЕНИЯ\" , 123060, г. Москва, ул. Народного Ополчения, д. 45","1801","MABD"]
["Канск","ДО \"Канск-ул. 40 лет Октября\" , 663604, Красноярский край, г. Канск, ул. 40 лет Октября, зд. 62, стр.4","1802","MABF"]
["Ступино","ДО \"СТУПИНО\" , 142802, Московская область, г. Ступино, ул. Андропова, д. 63","1803","MABH"]
["Всеволожск","ДО \"Всеволожск-Всеволожский пр-кт\" , 188640, Ленинградская область, г. Всеволожск, Всеволожский пр-кт, д. 29","1804","MABL"]
["Соликамск","ДО \"Соликамск-площадь Революции\" , 618554, Пермский край, г. Соликамск, ул. 20-летия Победы, д. 119","1805","MABM"]
["Воскресенск","ДО \"ВОСКРЕСЕНСК\" , 140200, Московская область, г. Воскресенск, ул. Октябрьская, д. 2","1806","MABP"]
["Обнинск","ДО \"Обнинск-проспект Маркса\" , 249039, Калужская область, г. Обнинск, пр-кт Маркса, д. 50","1807","MABT"]
["Махачкала","ДО \"Махачкала-Центральный\" , 367026, Республика Дагестан, г. Махачкала, пр-кт Имама Шамиля, д. 36К","1808","MABX"]
["Салехард","ДО \"Салехард-улица Мира\" , 629004, Ямало-Ненецкий автономный округ, г. Салехард, ул. Мира, д. 2","1809","MAB2"]
["Лесосибирск","ДО \"Лесосибирск-улица Мира\" , 662547, Красноярский край, г. Лесосибирск, 5-й микрорайон, д. 26","1810","MAB4"]
["Апатиты","ДО \"Апатиты-улица Ленина\" , 184209, Мурманская область, г. Апатиты, ул. Ленина, д. 4","1811","MAB5"]
["Арсеньев","ДО \"Арсеньев-улица Калининская\" , 692342, Приморский край, г.Арсеньев, ул. Калининская, д. 24","1812","MAB6"]
["Вышний Волочек","ДО \"В.Волочек-Казанский проспект\" , 171163, Тверская область, г. ВышнийВолочек, пр-кт Казанский, д. 44","1813","MAB8"]
["Майкоп","ДО \"Майкоп-улица Жуковского\" , 385000, Республика Адыгея, г. Майкоп, ул. Жуковского, д. 20А/ ул. Советская, д. 199","1814","MACD"]
["Нягань","ДО \"Нягань-Парковый\" , 628181, Ханты-Мансийский автономныйокруг-Югра, г. Нягань, мкр. 1-й, д.1","1815","MACJ"]
["Черногорск","ДО \"Черногорск-улица Юбилейная\" , 655158, Республика Хакасия, г. Черногорск, ул. Юбилейная, д. 16","1816","MACK"]
["Арзамас","ДО \"Арзамас-проспект Ленина\" , 607228, Нижегородская область, г. Арзамас, пр-кт Ленина, д. 198","1817","MACM"]
["Дубна","ДО \"ДУБНА\" , 141986, Московская область, г. Дубна, пр-кт Боголюбова, д. 14А","1818","MACO"]
["Петропавловск-Камчатский","ДО \"П-Камчатский-Центральный\" , 683024, Камчатский край, г. Петропавловск-Камчатский, пр-кт 50 лет Октября, д. 24а","1819","MACR"]
["Колпино","ДО \"Колпино-улица Тверская\" , 96655, г. Санкт-Петербург, г. Колпино, ул. Тверская, д. 34, лит. А","1820","MACS"]
["Азов","ДО \"Азов-Центральный\" , 346787, Ростовская область, г. Азов, ул. Мира, д. 45/64","1821","MAC2"]
["Лениногорск","ДО \"Лениногорск-пр-кт 50 лет Победы\" , 423250, Республика Татарстан, г. Лениногорск, пр-кт 50 лет Победы, зд.11А","1822","MAC7"]
["Туймазы","ДО \"Туймазы-проспект Ленина\" , 452750, Республика Башкортостан, г.Туймазы, пр-кт Ленина, д. 10","1823","MADE"]
["Щербинка","ДО \"ЩЕРБИНКА-УЛ. 40 ЛЕТ ОКТЯБРЯ\" , 108851, г. Москва, г. Щербинка, ул.40 лет Октября, д. 15/1","1824","MADF"]
["Бугульма","ДО \"Бугульма-Дом техники\" , 423236, Республика Татарстан, г.Бугульма, ул. Газинура Гафиатуллина, д. 31","1825","MADN"]
["Когалым","ДО \"Когалым-улица Ленинградская\" , 628484, Ханты-Мансийский автономныйокруг-Югра, г. Когалым, ул. Ленинградская, д. 17","1826","MADU"]
["Ржев","ДО \"Ржев-улица Ленина\" , 172390, Тверская область, г. Ржев,ул. Ленина, д. 7","1827","MADX"]
["Сыктывкар","ДО \"Сыктывкар-ул. Коммунистическая\" , 167001, Республика Коми, г. Сыктывкар, ул. Коммунистическая, д. 46","1829","MAEH"]
["Владикавказ","ДО \"Владикавказ-Центральный\" , 362008, Республика Северная Осетия-Алания, г. Владикавказ, ул. Генерала Плиева, д. 10","1830","MAHF"]
["Братск","ДО \"Братск-улица Кирова\" , 665708, Иркутская область, г. Братск, ул. Кирова, д. 18","1831","MAID"]
["Чита","ДО \"Чита-улица Хабаровская\" , 672000, Забайкальский край, г. Чита, ул. Хабаровская, д. 6","1832","MAJ9"]
["Улан-Удэ","ДО \"Улан-Удэ-улица Терешковой\" , 670031, Республика Бурятия, г. Улан-Удэ, ул. Терешковой, д. 2","1833","MAKB"]
["Волоколамск","ДО \"ВОЛОКОЛАМСК\" , 143600, Московская область, г. Волоколамск, ул. Советская, д. 1/1","8001","MAIJ"]
["Усть-Лабинск","ДО \"Усть-Лабинск-улица Октябрьская\" , 352330, Краснодарский край, г. Усть-Лабинск, ул. Октябрьская, д. 99","8002","MAIK"]
["Братск","ДО \"Нерюнгри-проспект Ленина\" , 678967, Республика Саха (Якутия), г. Нерюнгри, пр-кт Ленина, д. 6","8003","MAIL"]
["Заречный","ДО \"Заречный-улица Ленина\" , 442963, Пензенская область, г. Заречный, ул. Ленина, д. 20А","8015","MAIZ"]
["Котельники","ДО \"КОТЕЛЬНИКИ\" , 140056, Московская область, г. Котельники, ул. Сосновая, д. 2, корп. 4","8018","MAI4"]
["Лиски","ДО \"Лиски-улица Коммунистическая\" , 397901, Воронежская область, г. Лиски, ул. Коммунистическая, д. 36","8019","MAI5"]
["Кудрово","ДО \"Кудрово-проспект Европейский\" , 188693, Ленинградская область, г. Кудрово, Европейский пр-кт, д. 8","8022","MAI8"]
["Георгиевск","ДО \"Георгиевск-улица Салогубова\" , 357821, Ставропольский край, г. Георгиевск, ул. Салогубова, д. 16","8028","MAJE"]
["Геленджик","ДО \"Геленджик-улица Херсонская\" , 353460, Краснодарский край, г. Геленджик, ул. Херсонская, д. 23","8034","MAJK"]
["Истра","ДО \"ИСТРА\" , 143500, Московская область, г. Истра, ул. Ленина, д. 75","8047","MAJX"]
["Донецк","ДО \"Донецк-улица Горького\" , 346330, Ростовская область, г. Донецк, ул. Максима Горького, д. 67","8067","MAKL"]
["Сибай","ДО \"Сибай-пр-кт Горняков\" , 453833, Республика Башкортостан, г.Сибай, пр-кт Горняков, д. 22","8069","MAKN"]
["Кириши","ДО \"Кириши-проспект Героев\" , 187112, Ленинградская область, г. Кириши, пр-кт Героев, д. 2","8074","MAKV"]
["Фрязино","ДО \"ФРЯЗИНО\" , 141195, Московская область, г. Фрязино, пр-кт Мира, д. 8","8076","MAKX"]